{"text_format":"1","workbook":"xlsx","n_sheets":15,"sheets":["F_Inputs","InpOverride","InpActive","F_Outputs","Cover","Change Log","Map & Key","Inputs","Time","Indexation","Calc","Profiling","FM Proportion Calc","Summary_Output","Checks"],"not_rendered":{"charts":0,"images":1,"macros":0,"external_links":0,"defined_names":0,"comments":0,"pivot_tables":0},"unopened":[],"bounds":{"document_bytes":16777216,"sheet_cells":100000,"rows_first":2000,"rows_last":500,"rows_between":2000,"halvings":0,"cell_chars":16384,"cell_head_chars":4096},"cells_cut":0,"cells_raw":0,"read":"whole","date_system":"1900"}

{"sheet":"F_Inputs","index":0,"n_rows":59,"n_cols":18,"rows_kept":59,"cut":false,"hidden":false,"merged":[]}
[null,null,"PR19PD011_IN"]
["Acronym","Reference","Item description","Unit","Model","Price Review 2019"]
[]
[null,null,null,null,null,"PR19 Run 8: Final Determinations"]
[null,null,null,null,null,"Latest"]
[null,null,null,null,null,"2011-12","2012-13","2013-14","2014-15","2015-16","2016-17","2017-18","2018-19","2019-20","2020-21","2015-20","2014-20","PR19 application"]
["SWT","BB3905AL","Consumer Price Index (with housing) for April","nr","Price Review 2019",93.3,95.9,98,99.6,99.9,100.6,103.2,105.5,107.6,109.8]
["SWT","BB3905MY","Consumer Price Index (with housing) for May","nr","Price Review 2019",93.5,95.9,98.2,99.6,100.1,100.8,103.5,105.9,108,110.2]
["SWT","BB3905JN","Consumer Price Index (with housing) for June","nr","Price Review 2019",93.5,95.6,98,99.8,100.1,101,103.5,105.9,108,110.2]
["SWT","BB3905JL","Consumer Price Index (with housing) for July","nr","Price Review 2019",93.5,95.7,98,99.6,100,100.9,103.5,105.9,108,110.2]
["SWT","BB3905AT","Consumer Price Index (with housing) for August","nr","Price Review 2019",93.9,96.1,98.4,99.9,100.3,101.2,104,106.5,108.6,110.8]
["SWT","BB3905SR","Consumer Price Index (with housing) for September","nr","Price Review 2019",94.5,96.4,98.7,100,100.2,101.5,104.3,106.8,108.9,111.1]
["SWT","BB3905OR","Consumer Price Index (with housing) for October","nr","Price Review 2019",94.5,96.8,98.8,100.1,100.3,101.6,104.4,106.9,109,111.2]
["SWT","BB3905NR","Consumer Price Index (with housing) for November","nr","Price Review 2019",94.7,97,98.8,99.9,100.3,101.8,104.7,107.1,109.2,111.4]
["SWT","BB3905DR","Consumer Price Index (with housing) for December","nr","Price Review 2019",95,97.3,99.2,99.9,100.4,102.2,105,107.5,109.7,111.9]
["SWT","BB3905JY","Consumer Price Index (with housing) for January","nr","Price Review 2019",94.7,97,98.7,99.2,99.9,101.8,104.5,107,109.1,111.3]
["SWT","BB3905FY","Consumer Price Index (with housing) for February","nr","Price Review 2019",95.2,97.5,99.1,99.5,100.1,102.4,104.9,107.3,109.4,111.6]
["SWT","BB3905MH","Consumer Price Index (with housing) for March","nr","Price Review 2019",95.4,97.8,99.3,99.6,100.4,102.7,105.1,107.4,109.5,111.7]
["SWT","BB3805AL","Retail Price Index for April","nr","Price Review 2019",234.4,242.5,249.5,255.7,258,261.39999999999998,270.60000000000002,279.7,288.2,297.39999999999998]
["SWT","BB3805MY","Retail Price Index for May","nr","Price Review 2019",235.2,242.4,250,255.9,258.5,262.10000000000002,271.7,280.7,289.2,298.10000000000002]
["SWT","BB3805JN","Retail Price Index for June","nr","Price Review 2019",235.2,241.8,249.7,256.3,258.89999999999998,263.10000000000002,272.3,281.5,289.2,298.89999999999998]
["SWT","BB3805JL","Retail Price Index for July","nr","Price Review 2019",234.7,242.1,249.7,256,258.60000000000002,263.39999999999998,272.89999999999998,281.7,288.8,300.10000000000002]
["SWT","BB3805AT","Retail Price Index for August","nr","Price Review 2019",236.1,243,251,257,259.8,264.39999999999998,274.7,284.2,292,301.8]
["SWT","BB3805SR","Retail Price Index for September","nr","Price Review 2019",237.9,244.2,251.9,257.60000000000002,259.60000000000002,264.89999999999998,275.10000000000002,284.10000000000002,291.89999999999998,302.2]
["SWT","BB3805OR","Retail Price Index for October","nr","Price Review 2019",238,245.6,251.9,257.7,259.5,264.8,275.3,284.5,292.3,302.2]
["SWT","BB3805NR","Retail Price Index for November","nr","Price Review 2019",238.5,245.6,252.1,257.10000000000002,259.8,265.5,275.8,284.60000000000002,292,302.60000000000002]
["SWT","BB3805DR","Retail Price Index for December","nr","Price Review 2019",239.4,246.8,253.4,257.5,260.60000000000002,267.10000000000002,278.10000000000002,285.60000000000002,293.39999999999998,305.10000000000002]
["SWT","BB3805JY","Retail Price Index for January","nr","Price Review 2019",238,245.8,252.6,255.4,258.8,265.5,276,283,290.7,302.8]
["SWT","BB3805FY","Retail Price Index for February","nr","Price Review 2019",239.9,247.6,254.2,256.7,260,268.39999999999998,278.10000000000002,285,292.8,305.10000000000002]
["SWT","BB3805MH","Retail Price Index for March","nr","Price Review 2019",240.8,248.7,254.8,257.10000000000002,261.10000000000002,269.3,278.3,285.10000000000002,292.8,304.7]
["SWT","C_APP27015_PD002","Net performance payment / (penalty) applied to revenue for in-period ODI adjustments ~ Water resources","£m","Price Review 2019",null,null,null,null,0,0,0,0,0,null,null,null,0]
["SWT","C_APP27022_PD002","Net performance payment / (penalty) applied to revenue for end of period ODI adjustments ~ Water resources","£m","Price Review 2019",null,null,null,null,0.16200000000000001,0.16200000000000001,0.16200000000000001,0.16200000000000001,0.16200000000000001,null,null,null,0.81]
["SWT","C_WS17013_PR19D007","Incentives to be paid at PR19 - Water resources control - Export incentives (2012-13 prices)","£m","Price Review 2019"]
["SWT","C_WS17025_PR19D007","Incentives to be paid at PR19 - Water resources control - Import incentives  (2012-13 prices)","£m","Price Review 2019"]
["SWT","C00578_L021","Water - Total Adjustment Revenue carry forward to PR19","£m","Price Review 2019",null,null,null,null,null,null,null,null,null,null,0.75248822405791504]
["SWT","C_APP27016_PD002","Net performance payment / (penalty) applied to revenue for in-period ODI adjustments ~ Water network plus","£m","Price Review 2019",null,null,null,null,0.14099999999999999,0.93500000000000005,0.51400000000000001,3.7999999999999999E-2,0.245,null,null,null,0.28299999999999997]
["SWT","C_APP27023_PD002","Net performance payment / (penalty) applied to revenue for end of period ODI adjustments ~ Water network plus","£m","Price Review 2019",null,null,null,null,1.462,1.462,1.462,1.462,1.462,null,null,null,7.31]
["SWT","C_WS15024_PR19PD006","Water: revenue adjustment from totex menu model","£m","Price Review 2019",null,null,null,null,null,null,null,null,null,null,null,null,-2.95032980775024]
["SWT","C_WS17014_PR19D007","Incentives to be paid at PR19 - Network plus water control - Export incentives (2012-13 prices)","£m","Price Review 2019"]
["SWT","C_WS17026_PR19D007","Incentives to be paid at PR19 - Network plus water control - Import incentives (2012-13 prices)","£m","Price Review 2019"]
["SWT","C_WS13026_PR19PD005","Total reward / (penalty) at the end of AMP6 - water","£m","Price Review 2019",null,null,null,null,null,null,null,null,-20.258925561502199,null,null,null,-20.258925561502199]
["SWT","C_APP27018_PD002","Net performance payment / (penalty) applied to revenue for in-period ODI adjustments ~ Bioresources","£m","Price Review 2019",null,null,null,null,0,0,0,0,0,null,null,null,0]
["SWT","C_APP27025_PD002","Net performance payment / (penalty) applied to revenue for end of period ODI adjustments ~ Bioresources","£m","Price Review 2019",null,null,null,null,0,0,0,0,0,null,null,null,0]
["SWT","C00585_L021","Wastewater - Total Adjustment Revenue carry forward to PR19","£m","Price Review 2019",null,null,null,null,null,null,null,null,null,null,1.27900113353895]
["SWT","C_APP27017_PD002","Net performance payment / (penalty) applied to revenue for in-period ODI adjustments ~ Wastewater network plus","£m","Price Review 2019",null,null,null,null,-1.873,-1.226,-0.78400000000000003,-0.88900000000000001,0,null,null,null,-0.88900000000000001]
["SWT","C_APP27024_PD002","Net performance payment / (penalty) applied to revenue for end of period ODI adjustments ~ Wastewater network plus","£m","Price Review 2019",null,null,null,null,0,0,0,0,0,null,null,null,0]
["SWT","C_WWS15019_PR19PD006","Wastewater: revenue adjustment from totex menu model","£m","Price Review 2019",null,null,null,null,null,null,null,null,null,null,null,null,1.60059810282559]
["SWT","C_WWS13026_PR19PD005","Total reward / (penalty) at the end of AMP6 - waste","£m","Price Review 2019",null,null,null,null,null,null,null,null,-21.160554390609001,null,null,null,-21.160554390609001]
["SWT","C_WWS15019_DMMY_PR19PD006","Wastewater: revenue adjustment from totex menu model (TTT)","£m","Price Review 2019"]
["SWT","C_WWS13026_DMMY_PR19PD005","Total reward / (penalty) at the end of AMP6 - dmmy","£m","Price Review 2019",null,null,null,null,null,null,null,null,0,null,null,null,0]
["SWT","C_APP27019_PD002","Net performance payment / (penalty) applied to revenue for in-period ODI adjustments ~ Residential retail","£m","Price Review 2019",null,null,null,null,0,0,0,0,0,null,null,null,0]
["SWT","C_APP27026_PD002","Net performance payment / (penalty) applied to revenue for end of period ODI adjustments ~ Residential retail","£m","Price Review 2019",null,null,null,null,0,0,0,0,0,null,null,null,0]
["SWT","C_R9045_PR19PD008","Total reward / (penalty) at the end of AMP6 - Residential retail revenue adjustment at the end of AMP6","£m","Price Review 2019",null,null,null,null,null,null,null,null,-4.7614027365753904,null,null,null,-4.7614027365753904]
["SWT","C_R10009_PR19PD009","SIM adjustment - Household retail £m","£m","Price Review 2019",null,null,null,null,null,null,null,null,null,-0.76801799999999998,null,null,-3.84009]
["SWT","C_APP27020_PD002","Net performance payment / (penalty) applied to revenue for in-period ODI adjustments ~ Business retail","£m","Price Review 2019",null,null,null,null,0,0,0,0,0,null,null,null,0]
["SWT","C_APP27027_PD002","Net performance payment / (penalty) applied to revenue for end of period ODI adjustments ~ Business retail","£m","Price Review 2019",null,null,null,null,0,0,0,0,0,null,null,null,0]
["SWT","C_004_PR19PD014","SIM adjustment - business retail £m","£m","Price Review 2019"]
["SWT","C003_PR19PD015","Other revenue adjustment total - water network plus (2012-13 FYA prices)","£m","Price Review 2019"]
["SWT","C006_PR19PD015","Other revenue adjustment total - wastewater network plus (2012-13 FYA prices)","£m","Price Review 2019"]

{"sheet":"InpOverride","index":1,"n_rows":59,"n_cols":19,"rows_kept":59,"cut":false,"hidden":false,"merged":[]}
[]
["Acronym","Reference","Item description","Unit","Model"]
[]
[]
[]
[null,null,null,null,null,"2011-12","2012-13","2013-14","2014-15","2015-16","2016-17","2017-18","2018-19","2019-20","2020-21","2015-20","2014-20","PR19 application","Action /\nIntervention\nreference"]
[{"$f":"F_Inputs!A7","v":"SWT"},"BB3905AL","Consumer Price Index (with housing) for April","nr","Price Review 2019"]
[{"$f":"F_Inputs!A8","v":"SWT"},"BB3905MY","Consumer Price Index (with housing) for May","nr","Price Review 2019"]
[{"$f":"F_Inputs!A9","v":"SWT"},"BB3905JN","Consumer Price Index (with housing) for June","nr","Price Review 2019"]
[{"$f":"F_Inputs!A10","v":"SWT"},"BB3905JL","Consumer Price Index (with housing) for July","nr","Price Review 2019"]
[{"$f":"F_Inputs!A11","v":"SWT"},"BB3905AT","Consumer Price Index (with housing) for August","nr","Price Review 2019"]
[{"$f":"F_Inputs!A12","v":"SWT"},"BB3905SR","Consumer Price Index (with housing) for September","nr","Price Review 2019"]
[{"$f":"F_Inputs!A13","v":"SWT"},"BB3905OR","Consumer Price Index (with housing) for October","nr","Price Review 2019"]
[{"$f":"F_Inputs!A14","v":"SWT"},"BB3905NR","Consumer Price Index (with housing) for November","nr","Price Review 2019"]
[{"$f":"F_Inputs!A15","v":"SWT"},"BB3905DR","Consumer Price Index (with housing) for December","nr","Price Review 2019"]
[{"$f":"F_Inputs!A16","v":"SWT"},"BB3905JY","Consumer Price Index (with housing) for January","nr","Price Review 2019"]
[{"$f":"F_Inputs!A17","v":"SWT"},"BB3905FY","Consumer Price Index (with housing) for February","nr","Price Review 2019"]
[{"$f":"F_Inputs!A18","v":"SWT"},"BB3905MH","Consumer Price Index (with housing) for March","nr","Price Review 2019"]
[{"$f":"F_Inputs!A19","v":"SWT"},"BB3805AL","Retail Price Index for April","nr","Price Review 2019"]
[{"$f":"F_Inputs!A20","v":"SWT"},"BB3805MY","Retail Price Index for May","nr","Price Review 2019"]
[{"$f":"F_Inputs!A21","v":"SWT"},"BB3805JN","Retail Price Index for June","nr","Price Review 2019"]
[{"$f":"F_Inputs!A22","v":"SWT"},"BB3805JL","Retail Price Index for July","nr","Price Review 2019"]
[{"$f":"F_Inputs!A23","v":"SWT"},"BB3805AT","Retail Price Index for August","nr","Price Review 2019"]
[{"$f":"F_Inputs!A24","v":"SWT"},"BB3805SR","Retail Price Index for September","nr","Price Review 2019"]
[{"$f":"F_Inputs!A25","v":"SWT"},"BB3805OR","Retail Price Index for October","nr","Price Review 2019"]
[{"$f":"F_Inputs!A26","v":"SWT"},"BB3805NR","Retail Price Index for November","nr","Price Review 2019"]
[{"$f":"F_Inputs!A27","v":"SWT"},"BB3805DR","Retail Price Index for December","nr","Price Review 2019"]
[{"$f":"F_Inputs!A28","v":"SWT"},"BB3805JY","Retail Price Index for January","nr","Price Review 2019"]
[{"$f":"F_Inputs!A29","v":"SWT"},"BB3805FY","Retail Price Index for February","nr","Price Review 2019"]
[{"$f":"F_Inputs!A30","v":"SWT"},"BB3805MH","Retail Price Index for March","nr","Price Review 2019"]
[{"$f":"F_Inputs!A31","v":"SWT"},"C_APP27015_PD002","Net performance payment / (penalty) applied to revenue for in-period ODI adjustments ~ Water resources","£m","Price Review 2019"]
[{"$f":"F_Inputs!A32","v":"SWT"},"C_APP27022_PD002","Net performance payment / (penalty) applied to revenue for end of period ODI adjustments ~ Water resources","£m","Price Review 2019"]
[{"$f":"F_Inputs!A33","v":"SWT"},"C_WS17013_PR19D007","Incentives to be paid at PR19 - Water resources control - Export incentives (2012-13 prices)","£m","Price Review 2019"]
[{"$f":"F_Inputs!A34","v":"SWT"},"C_WS17025_PR19D007","Incentives to be paid at PR19 - Water resources control - Import incentives  (2012-13 prices)","£m","Price Review 2019"]
[{"$f":"F_Inputs!A35","v":"SWT"},"C00578_L021","Water - Total Adjustment Revenue carry forward to PR19","£m","Price Review 2019"]
[{"$f":"F_Inputs!A36","v":"SWT"},"C_APP27016_PD002","Net performance payment / (penalty) applied to revenue for in-period ODI adjustments ~ Water network plus","£m","Price Review 2019"]
[{"$f":"F_Inputs!A37","v":"SWT"},"C_APP27023_PD002","Net performance payment / (penalty) applied to revenue for end of period ODI adjustments ~ Water network plus","£m","Price Review 2019"]
[{"$f":"F_Inputs!A38","v":"SWT"},"C_WS15024_PR19PD006","Water: revenue adjustment from totex menu model","£m","Price Review 2019"]
[{"$f":"F_Inputs!A39","v":"SWT"},"C_WS17014_PR19D007","Incentives to be paid at PR19 - Network plus water control - Export incentives (2012-13 prices)","£m","Price Review 2019"]
[{"$f":"F_Inputs!A40","v":"SWT"},"C_WS17026_PR19D007","Incentives to be paid at PR19 - Network plus water control - Import incentives (2012-13 prices)","£m","Price Review 2019"]
[{"$f":"F_Inputs!A41","v":"SWT"},"C_WS13026_PR19PD005","Total reward / (penalty) at the end of AMP6 - water","£m","Price Review 2019"]
[{"$f":"F_Inputs!A42","v":"SWT"},"C_APP27018_PD002","Net performance payment / (penalty) applied to revenue for in-period ODI adjustments ~ Bioresources","£m","Price Review 2019"]
[{"$f":"F_Inputs!A43","v":"SWT"},"C_APP27025_PD002","Net performance payment / (penalty) applied to revenue for end of period ODI adjustments ~ Bioresources","£m","Price Review 2019"]
[{"$f":"F_Inputs!A44","v":"SWT"},"C00585_L021","Wastewater - Total Adjustment Revenue carry forward to PR19","£m","Price Review 2019"]
[{"$f":"F_Inputs!A45","v":"SWT"},"C_APP27017_PD002","Net performance payment / (penalty) applied to revenue for in-period ODI adjustments ~ Wastewater network plus","£m","Price Review 2019"]
[{"$f":"F_Inputs!A46","v":"SWT"},"C_APP27024_PD002","Net performance payment / (penalty) applied to revenue for end of period ODI adjustments ~ Wastewater network plus","£m","Price Review 2019"]
[{"$f":"F_Inputs!A47","v":"SWT"},"C_WWS15019_PR19PD006","Wastewater: revenue adjustment from totex menu model","£m","Price Review 2019"]
[{"$f":"F_Inputs!A48","v":"SWT"},"C_WWS13026_PR19PD005","Total reward / (penalty) at the end of AMP6 - waste","£m","Price Review 2019"]
[{"$f":"F_Inputs!A49","v":"SWT"},"C_WWS15019_DMMY_PR19PD006","Wastewater: revenue adjustment from totex menu model (TTT)","£m","Price Review 2019"]
[{"$f":"F_Inputs!A50","v":"SWT"},"C_WWS13026_DMMY_PR19PD005","Total reward / (penalty) at the end of AMP6 - dmmy","£m","Price Review 2019"]
[{"$f":"F_Inputs!A51","v":"SWT"},"C_APP27019_PD002","Net performance payment / (penalty) applied to revenue for in-period ODI adjustments ~ Residential retail","£m","Price Review 2019"]
[{"$f":"F_Inputs!A52","v":"SWT"},"C_APP27026_PD002","Net performance payment / (penalty) applied to revenue for end of period ODI adjustments ~ Residential retail","£m","Price Review 2019"]
[{"$f":"F_Inputs!A53","v":"SWT"},"C_R9045_PR19PD008","Total reward / (penalty) at the end of AMP6 - Residential retail revenue adjustment at the end of AMP6","£m","Price Review 2019"]
[{"$f":"F_Inputs!A54","v":"SWT"},"C_R10009_PR19PD009","SIM adjustment - Household retail £m","£m","Price Review 2019"]
[{"$f":"F_Inputs!A55","v":"SWT"},"C_APP27020_PD002","Net performance payment / (penalty) applied to revenue for in-period ODI adjustments ~ Business retail","£m","Price Review 2019"]
[{"$f":"F_Inputs!A56","v":"SWT"},"C_APP27027_PD002","Net performance payment / (penalty) applied to revenue for end of period ODI adjustments ~ Business retail","£m","Price Review 2019"]
[{"$f":"F_Inputs!A57","v":"SWT"},"C_004_PR19PD014","Non-household SIM adjustment - business retail","£m","Price Review 2019"]
[{"$f":"F_Inputs!A58","v":"SWT"},{"$f":"F_Inputs!B58","v":"C003_PR19PD015"},"Other revenue adjustment - water network plus","£m","Price Review 2019"]
[{"$f":"F_Inputs!A59","v":"SWT"},{"$f":"F_Inputs!B59","v":"C006_PR19PD015"},"Other revenue adjustment - wastewater network plus","£m","Price Review 2019"]

{"sheet":"InpActive","index":2,"n_rows":59,"n_cols":18,"rows_kept":59,"cut":false,"hidden":false,"merged":[]}
[]
["Acronym","Reference","Item description","Unit","Model"]
[]
[]
[]
[null,null,null,null,null,"2011-12","2012-13","2013-14","2014-15","2015-16","2016-17","2017-18","2018-19","2019-20","2020-21","2015-20","2014-20","PR19 application"]
[{"$f":"F_Inputs!A7","v":"SWT"},"BB3905AL","Consumer Price Index (with housing) for April","nr","Price Review 2019",{"$f":"IF(InpOverride!F7=\"\",F_Inputs!F7,InpOverride!F7)","v":93.3},{"$f":"IF(InpOverride!G7=\"\",F_Inputs!G7,InpOverride!G7)","v":95.9},{"$f":"IF(InpOverride!H7=\"\",F_Inputs!H7,InpOverride!H7)","v":98},{"$f":"IF(InpOverride!I7=\"\",F_Inputs!I7,InpOverride!I7)","v":99.6},{"$f":"IF(InpOverride!J7=\"\",F_Inputs!J7,InpOverride!J7)","v":99.9},{"$f":"IF(InpOverride!K7=\"\",F_Inputs!K7,InpOverride!K7)","v":100.6},{"$f":"IF(InpOverride!L7=\"\",F_Inputs!L7,InpOverride!L7)","v":103.2},{"$f":"IF(InpOverride!M7=\"\",F_Inputs!M7,InpOverride!M7)","v":105.5},{"$f":"IF(InpOverride!N7=\"\",F_Inputs!N7,InpOverride!N7)","v":107.6},{"$f":"IF(InpOverride!O7=\"\",F_Inputs!O7,InpOverride!O7)","v":109.8}]
[{"$f":"F_Inputs!A8","v":"SWT"},"BB3905MY","Consumer Price Index (with housing) for May","nr","Price Review 2019",{"$f":"IF(InpOverride!F8=\"\",F_Inputs!F8,InpOverride!F8)","v":93.5},{"$f":"IF(InpOverride!G8=\"\",F_Inputs!G8,InpOverride!G8)","v":95.9},{"$f":"IF(InpOverride!H8=\"\",F_Inputs!H8,InpOverride!H8)","v":98.2},{"$f":"IF(InpOverride!I8=\"\",F_Inputs!I8,InpOverride!I8)","v":99.6},{"$f":"IF(InpOverride!J8=\"\",F_Inputs!J8,InpOverride!J8)","v":100.1},{"$f":"IF(InpOverride!K8=\"\",F_Inputs!K8,InpOverride!K8)","v":100.8},{"$f":"IF(InpOverride!L8=\"\",F_Inputs!L8,InpOverride!L8)","v":103.5},{"$f":"IF(InpOverride!M8=\"\",F_Inputs!M8,InpOverride!M8)","v":105.9},{"$f":"IF(InpOverride!N8=\"\",F_Inputs!N8,InpOverride!N8)","v":108},{"$f":"IF(InpOverride!O8=\"\",F_Inputs!O8,InpOverride!O8)","v":110.2}]
[{"$f":"F_Inputs!A9","v":"SWT"},"BB3905JN","Consumer Price Index (with housing) for June","nr","Price Review 2019",{"$f":"IF(InpOverride!F9=\"\",F_Inputs!F9,InpOverride!F9)","v":93.5},{"$f":"IF(InpOverride!G9=\"\",F_Inputs!G9,InpOverride!G9)","v":95.6},{"$f":"IF(InpOverride!H9=\"\",F_Inputs!H9,InpOverride!H9)","v":98},{"$f":"IF(InpOverride!I9=\"\",F_Inputs!I9,InpOverride!I9)","v":99.8},{"$f":"IF(InpOverride!J9=\"\",F_Inputs!J9,InpOverride!J9)","v":100.1},{"$f":"IF(InpOverride!K9=\"\",F_Inputs!K9,InpOverride!K9)","v":101},{"$f":"IF(InpOverride!L9=\"\",F_Inputs!L9,InpOverride!L9)","v":103.5},{"$f":"IF(InpOverride!M9=\"\",F_Inputs!M9,InpOverride!M9)","v":105.9},{"$f":"IF(InpOverride!N9=\"\",F_Inputs!N9,InpOverride!N9)","v":108},{"$f":"IF(InpOverride!O9=\"\",F_Inputs!O9,InpOverride!O9)","v":110.2}]
[{"$f":"F_Inputs!A10","v":"SWT"},"BB3905JL","Consumer Price Index (with housing) for July","nr","Price Review 2019",{"$f":"IF(InpOverride!F10=\"\",F_Inputs!F10,InpOverride!F10)","v":93.5},{"$f":"IF(InpOverride!G10=\"\",F_Inputs!G10,InpOverride!G10)","v":95.7},{"$f":"IF(InpOverride!H10=\"\",F_Inputs!H10,InpOverride!H10)","v":98},{"$f":"IF(InpOverride!I10=\"\",F_Inputs!I10,InpOverride!I10)","v":99.6},{"$f":"IF(InpOverride!J10=\"\",F_Inputs!J10,InpOverride!J10)","v":100},{"$f":"IF(InpOverride!K10=\"\",F_Inputs!K10,InpOverride!K10)","v":100.9},{"$f":"IF(InpOverride!L10=\"\",F_Inputs!L10,InpOverride!L10)","v":103.5},{"$f":"IF(InpOverride!M10=\"\",F_Inputs!M10,InpOverride!M10)","v":105.9},{"$f":"IF(InpOverride!N10=\"\",F_Inputs!N10,InpOverride!N10)","v":108},{"$f":"IF(InpOverride!O10=\"\",F_Inputs!O10,InpOverride!O10)","v":110.2}]
[{"$f":"F_Inputs!A11","v":"SWT"},"BB3905AT","Consumer Price Index (with housing) for August","nr","Price Review 2019",{"$f":"IF(InpOverride!F11=\"\",F_Inputs!F11,InpOverride!F11)","v":93.9},{"$f":"IF(InpOverride!G11=\"\",F_Inputs!G11,InpOverride!G11)","v":96.1},{"$f":"IF(InpOverride!H11=\"\",F_Inputs!H11,InpOverride!H11)","v":98.4},{"$f":"IF(InpOverride!I11=\"\",F_Inputs!I11,InpOverride!I11)","v":99.9},{"$f":"IF(InpOverride!J11=\"\",F_Inputs!J11,InpOverride!J11)","v":100.3},{"$f":"IF(InpOverride!K11=\"\",F_Inputs!K11,InpOverride!K11)","v":101.2},{"$f":"IF(InpOverride!L11=\"\",F_Inputs!L11,InpOverride!L11)","v":104},{"$f":"IF(InpOverride!M11=\"\",F_Inputs!M11,InpOverride!M11)","v":106.5},{"$f":"IF(InpOverride!N11=\"\",F_Inputs!N11,InpOverride!N11)","v":108.6},{"$f":"IF(InpOverride!O11=\"\",F_Inputs!O11,InpOverride!O11)","v":110.8}]
[{"$f":"F_Inputs!A12","v":"SWT"},"BB3905SR","Consumer Price Index (with housing) for September","nr","Price Review 2019",{"$f":"IF(InpOverride!F12=\"\",F_Inputs!F12,InpOverride!F12)","v":94.5},{"$f":"IF(InpOverride!G12=\"\",F_Inputs!G12,InpOverride!G12)","v":96.4},{"$f":"IF(InpOverride!H12=\"\",F_Inputs!H12,InpOverride!H12)","v":98.7},{"$f":"IF(InpOverride!I12=\"\",F_Inputs!I12,InpOverride!I12)","v":100},{"$f":"IF(InpOverride!J12=\"\",F_Inputs!J12,InpOverride!J12)","v":100.2},{"$f":"IF(InpOverride!K12=\"\",F_Inputs!K12,InpOverride!K12)","v":101.5},{"$f":"IF(InpOverride!L12=\"\",F_Inputs!L12,InpOverride!L12)","v":104.3},{"$f":"IF(InpOverride!M12=\"\",F_Inputs!M12,InpOverride!M12)","v":106.8},{"$f":"IF(InpOverride!N12=\"\",F_Inputs!N12,InpOverride!N12)","v":108.9},{"$f":"IF(InpOverride!O12=\"\",F_Inputs!O12,InpOverride!O12)","v":111.1}]
[{"$f":"F_Inputs!A13","v":"SWT"},"BB3905OR","Consumer Price Index (with housing) for October","nr","Price Review 2019",{"$f":"IF(InpOverride!F13=\"\",F_Inputs!F13,InpOverride!F13)","v":94.5},{"$f":"IF(InpOverride!G13=\"\",F_Inputs!G13,InpOverride!G13)","v":96.8},{"$f":"IF(InpOverride!H13=\"\",F_Inputs!H13,InpOverride!H13)","v":98.8},{"$f":"IF(InpOverride!I13=\"\",F_Inputs!I13,InpOverride!I13)","v":100.1},{"$f":"IF(InpOverride!J13=\"\",F_Inputs!J13,InpOverride!J13)","v":100.3},{"$f":"IF(InpOverride!K13=\"\",F_Inputs!K13,InpOverride!K13)","v":101.6},{"$f":"IF(InpOverride!L13=\"\",F_Inputs!L13,InpOverride!L13)","v":104.4},{"$f":"IF(InpOverride!M13=\"\",F_Inputs!M13,InpOverride!M13)","v":106.9},{"$f":"IF(InpOverride!N13=\"\",F_Inputs!N13,InpOverride!N13)","v":109},{"$f":"IF(InpOverride!O13=\"\",F_Inputs!O13,InpOverride!O13)","v":111.2}]
[{"$f":"F_Inputs!A14","v":"SWT"},"BB3905NR","Consumer Price Index (with housing) for November","nr","Price Review 2019",{"$f":"IF(InpOverride!F14=\"\",F_Inputs!F14,InpOverride!F14)","v":94.7},{"$f":"IF(InpOverride!G14=\"\",F_Inputs!G14,InpOverride!G14)","v":97},{"$f":"IF(InpOverride!H14=\"\",F_Inputs!H14,InpOverride!H14)","v":98.8},{"$f":"IF(InpOverride!I14=\"\",F_Inputs!I14,InpOverride!I14)","v":99.9},{"$f":"IF(InpOverride!J14=\"\",F_Inputs!J14,InpOverride!J14)","v":100.3},{"$f":"IF(InpOverride!K14=\"\",F_Inputs!K14,InpOverride!K14)","v":101.8},{"$f":"IF(InpOverride!L14=\"\",F_Inputs!L14,InpOverride!L14)","v":104.7},{"$f":"IF(InpOverride!M14=\"\",F_Inputs!M14,InpOverride!M14)","v":107.1},{"$f":"IF(InpOverride!N14=\"\",F_Inputs!N14,InpOverride!N14)","v":109.2},{"$f":"IF(InpOverride!O14=\"\",F_Inputs!O14,InpOverride!O14)","v":111.4}]
[{"$f":"F_Inputs!A15","v":"SWT"},"BB3905DR","Consumer Price Index (with housing) for December","nr","Price Review 2019",{"$f":"IF(InpOverride!F15=\"\",F_Inputs!F15,InpOverride!F15)","v":95},{"$f":"IF(InpOverride!G15=\"\",F_Inputs!G15,InpOverride!G15)","v":97.3},{"$f":"IF(InpOverride!H15=\"\",F_Inputs!H15,InpOverride!H15)","v":99.2},{"$f":"IF(InpOverride!I15=\"\",F_Inputs!I15,InpOverride!I15)","v":99.9},{"$f":"IF(InpOverride!J15=\"\",F_Inputs!J15,InpOverride!J15)","v":100.4},{"$f":"IF(InpOverride!K15=\"\",F_Inputs!K15,InpOverride!K15)","v":102.2},{"$f":"IF(InpOverride!L15=\"\",F_Inputs!L15,InpOverride!L15)","v":105},{"$f":"IF(InpOverride!M15=\"\",F_Inputs!M15,InpOverride!M15)","v":107.5},{"$f":"IF(InpOverride!N15=\"\",F_Inputs!N15,InpOverride!N15)","v":109.7},{"$f":"IF(InpOverride!O15=\"\",F_Inputs!O15,InpOverride!O15)","v":111.9}]
[{"$f":"F_Inputs!A16","v":"SWT"},"BB3905JY","Consumer Price Index (with housing) for January","nr","Price Review 2019",{"$f":"IF(InpOverride!F16=\"\",F_Inputs!F16,InpOverride!F16)","v":94.7},{"$f":"IF(InpOverride!G16=\"\",F_Inputs!G16,InpOverride!G16)","v":97},{"$f":"IF(InpOverride!H16=\"\",F_Inputs!H16,InpOverride!H16)","v":98.7},{"$f":"IF(InpOverride!I16=\"\",F_Inputs!I16,InpOverride!I16)","v":99.2},{"$f":"IF(InpOverride!J16=\"\",F_Inputs!J16,InpOverride!J16)","v":99.9},{"$f":"IF(InpOverride!K16=\"\",F_Inputs!K16,InpOverride!K16)","v":101.8},{"$f":"IF(InpOverride!L16=\"\",F_Inputs!L16,InpOverride!L16)","v":104.5},{"$f":"IF(InpOverride!M16=\"\",F_Inputs!M16,InpOverride!M16)","v":107},{"$f":"IF(InpOverride!N16=\"\",F_Inputs!N16,InpOverride!N16)","v":109.1},{"$f":"IF(InpOverride!O16=\"\",F_Inputs!O16,InpOverride!O16)","v":111.3}]
[{"$f":"F_Inputs!A17","v":"SWT"},"BB3905FY","Consumer Price Index (with housing) for February","nr","Price Review 2019",{"$f":"IF(InpOverride!F17=\"\",F_Inputs!F17,InpOverride!F17)","v":95.2},{"$f":"IF(InpOverride!G17=\"\",F_Inputs!G17,InpOverride!G17)","v":97.5},{"$f":"IF(InpOverride!H17=\"\",F_Inputs!H17,InpOverride!H17)","v":99.1},{"$f":"IF(InpOverride!I17=\"\",F_Inputs!I17,InpOverride!I17)","v":99.5},{"$f":"IF(InpOverride!J17=\"\",F_Inputs!J17,InpOverride!J17)","v":100.1},{"$f":"IF(InpOverride!K17=\"\",F_Inputs!K17,InpOverride!K17)","v":102.4},{"$f":"IF(InpOverride!L17=\"\",F_Inputs!L17,InpOverride!L17)","v":104.9},{"$f":"IF(InpOverride!M17=\"\",F_Inputs!M17,InpOverride!M17)","v":107.3},{"$f":"IF(InpOverride!N17=\"\",F_Inputs!N17,InpOverride!N17)","v":109.4},{"$f":"IF(InpOverride!O17=\"\",F_Inputs!O17,InpOverride!O17)","v":111.6}]
[{"$f":"F_Inputs!A18","v":"SWT"},"BB3905MH","Consumer Price Index (with housing) for March","nr","Price Review 2019",{"$f":"IF(InpOverride!F18=\"\",F_Inputs!F18,InpOverride!F18)","v":95.4},{"$f":"IF(InpOverride!G18=\"\",F_Inputs!G18,InpOverride!G18)","v":97.8},{"$f":"IF(InpOverride!H18=\"\",F_Inputs!H18,InpOverride!H18)","v":99.3},{"$f":"IF(InpOverride!I18=\"\",F_Inputs!I18,InpOverride!I18)","v":99.6},{"$f":"IF(InpOverride!J18=\"\",F_Inputs!J18,InpOverride!J18)","v":100.4},{"$f":"IF(InpOverride!K18=\"\",F_Inputs!K18,InpOverride!K18)","v":102.7},{"$f":"IF(InpOverride!L18=\"\",F_Inputs!L18,InpOverride!L18)","v":105.1},{"$f":"IF(InpOverride!M18=\"\",F_Inputs!M18,InpOverride!M18)","v":107.4},{"$f":"IF(InpOverride!N18=\"\",F_Inputs!N18,InpOverride!N18)","v":109.5},{"$f":"IF(InpOverride!O18=\"\",F_Inputs!O18,InpOverride!O18)","v":111.7}]
[{"$f":"F_Inputs!A19","v":"SWT"},"BB3805AL","Retail Price Index for April","nr","Price Review 2019",{"$f":"IF(InpOverride!F19=\"\",F_Inputs!F19,InpOverride!F19)","v":234.4},{"$f":"IF(InpOverride!G19=\"\",F_Inputs!G19,InpOverride!G19)","v":242.5},{"$f":"IF(InpOverride!H19=\"\",F_Inputs!H19,InpOverride!H19)","v":249.5},{"$f":"IF(InpOverride!I19=\"\",F_Inputs!I19,InpOverride!I19)","v":255.7},{"$f":"IF(InpOverride!J19=\"\",F_Inputs!J19,InpOverride!J19)","v":258},{"$f":"IF(InpOverride!K19=\"\",F_Inputs!K19,InpOverride!K19)","v":261.39999999999998},{"$f":"IF(InpOverride!L19=\"\",F_Inputs!L19,InpOverride!L19)","v":270.60000000000002},{"$f":"IF(InpOverride!M19=\"\",F_Inputs!M19,InpOverride!M19)","v":279.7},{"$f":"IF(InpOverride!N19=\"\",F_Inputs!N19,InpOverride!N19)","v":288.2},{"$f":"IF(InpOverride!O19=\"\",F_Inputs!O19,InpOverride!O19)","v":297.39999999999998}]
[{"$f":"F_Inputs!A20","v":"SWT"},"BB3805MY","Retail Price Index for May","nr","Price Review 2019",{"$f":"IF(InpOverride!F20=\"\",F_Inputs!F20,InpOverride!F20)","v":235.2},{"$f":"IF(InpOverride!G20=\"\",F_Inputs!G20,InpOverride!G20)","v":242.4},{"$f":"IF(InpOverride!H20=\"\",F_Inputs!H20,InpOverride!H20)","v":250},{"$f":"IF(InpOverride!I20=\"\",F_Inputs!I20,InpOverride!I20)","v":255.9},{"$f":"IF(InpOverride!J20=\"\",F_Inputs!J20,InpOverride!J20)","v":258.5},{"$f":"IF(InpOverride!K20=\"\",F_Inputs!K20,InpOverride!K20)","v":262.10000000000002},{"$f":"IF(InpOverride!L20=\"\",F_Inputs!L20,InpOverride!L20)","v":271.7},{"$f":"IF(InpOverride!M20=\"\",F_Inputs!M20,InpOverride!M20)","v":280.7},{"$f":"IF(InpOverride!N20=\"\",F_Inputs!N20,InpOverride!N20)","v":289.2},{"$f":"IF(InpOverride!O20=\"\",F_Inputs!O20,InpOverride!O20)","v":298.10000000000002}]
[{"$f":"F_Inputs!A21","v":"SWT"},"BB3805JN","Retail Price Index for June","nr","Price Review 2019",{"$f":"IF(InpOverride!F21=\"\",F_Inputs!F21,InpOverride!F21)","v":235.2},{"$f":"IF(InpOverride!G21=\"\",F_Inputs!G21,InpOverride!G21)","v":241.8},{"$f":"IF(InpOverride!H21=\"\",F_Inputs!H21,InpOverride!H21)","v":249.7},{"$f":"IF(InpOverride!I21=\"\",F_Inputs!I21,InpOverride!I21)","v":256.3},{"$f":"IF(InpOverride!J21=\"\",F_Inputs!J21,InpOverride!J21)","v":258.89999999999998},{"$f":"IF(InpOverride!K21=\"\",F_Inputs!K21,InpOverride!K21)","v":263.10000000000002},{"$f":"IF(InpOverride!L21=\"\",F_Inputs!L21,InpOverride!L21)","v":272.3},{"$f":"IF(InpOverride!M21=\"\",F_Inputs!M21,InpOverride!M21)","v":281.5},{"$f":"IF(InpOverride!N21=\"\",F_Inputs!N21,InpOverride!N21)","v":289.2},{"$f":"IF(InpOverride!O21=\"\",F_Inputs!O21,InpOverride!O21)","v":298.89999999999998}]
[{"$f":"F_Inputs!A22","v":"SWT"},"BB3805JL","Retail Price Index for July","nr","Price Review 2019",{"$f":"IF(InpOverride!F22=\"\",F_Inputs!F22,InpOverride!F22)","v":234.7},{"$f":"IF(InpOverride!G22=\"\",F_Inputs!G22,InpOverride!G22)","v":242.1},{"$f":"IF(InpOverride!H22=\"\",F_Inputs!H22,InpOverride!H22)","v":249.7},{"$f":"IF(InpOverride!I22=\"\",F_Inputs!I22,InpOverride!I22)","v":256},{"$f":"IF(InpOverride!J22=\"\",F_Inputs!J22,InpOverride!J22)","v":258.60000000000002},{"$f":"IF(InpOverride!K22=\"\",F_Inputs!K22,InpOverride!K22)","v":263.39999999999998},{"$f":"IF(InpOverride!L22=\"\",F_Inputs!L22,InpOverride!L22)","v":272.89999999999998},{"$f":"IF(InpOverride!M22=\"\",F_Inputs!M22,InpOverride!M22)","v":281.7},{"$f":"IF(InpOverride!N22=\"\",F_Inputs!N22,InpOverride!N22)","v":288.8},{"$f":"IF(InpOverride!O22=\"\",F_Inputs!O22,InpOverride!O22)","v":300.10000000000002}]
[{"$f":"F_Inputs!A23","v":"SWT"},"BB3805AT","Retail Price Index for August","nr","Price Review 2019",{"$f":"IF(InpOverride!F23=\"\",F_Inputs!F23,InpOverride!F23)","v":236.1},{"$f":"IF(InpOverride!G23=\"\",F_Inputs!G23,InpOverride!G23)","v":243},{"$f":"IF(InpOverride!H23=\"\",F_Inputs!H23,InpOverride!H23)","v":251},{"$f":"IF(InpOverride!I23=\"\",F_Inputs!I23,InpOverride!I23)","v":257},{"$f":"IF(InpOverride!J23=\"\",F_Inputs!J23,InpOverride!J23)","v":259.8},{"$f":"IF(InpOverride!K23=\"\",F_Inputs!K23,InpOverride!K23)","v":264.39999999999998},{"$f":"IF(InpOverride!L23=\"\",F_Inputs!L23,InpOverride!L23)","v":274.7},{"$f":"IF(InpOverride!M23=\"\",F_Inputs!M23,InpOverride!M23)","v":284.2},{"$f":"IF(InpOverride!N23=\"\",F_Inputs!N23,InpOverride!N23)","v":292},{"$f":"IF(InpOverride!O23=\"\",F_Inputs!O23,InpOverride!O23)","v":301.8}]
[{"$f":"F_Inputs!A24","v":"SWT"},"BB3805SR","Retail Price Index for September","nr","Price Review 2019",{"$f":"IF(InpOverride!F24=\"\",F_Inputs!F24,InpOverride!F24)","v":237.9},{"$f":"IF(InpOverride!G24=\"\",F_Inputs!G24,InpOverride!G24)","v":244.2},{"$f":"IF(InpOverride!H24=\"\",F_Inputs!H24,InpOverride!H24)","v":251.9},{"$f":"IF(InpOverride!I24=\"\",F_Inputs!I24,InpOverride!I24)","v":257.60000000000002},{"$f":"IF(InpOverride!J24=\"\",F_Inputs!J24,InpOverride!J24)","v":259.60000000000002},{"$f":"IF(InpOverride!K24=\"\",F_Inputs!K24,InpOverride!K24)","v":264.89999999999998},{"$f":"IF(InpOverride!L24=\"\",F_Inputs!L24,InpOverride!L24)","v":275.10000000000002},{"$f":"IF(InpOverride!M24=\"\",F_Inputs!M24,InpOverride!M24)","v":284.10000000000002},{"$f":"IF(InpOverride!N24=\"\",F_Inputs!N24,InpOverride!N24)","v":291.89999999999998},{"$f":"IF(InpOverride!O24=\"\",F_Inputs!O24,InpOverride!O24)","v":302.2}]
[{"$f":"F_Inputs!A25","v":"SWT"},"BB3805OR","Retail Price Index for October","nr","Price Review 2019",{"$f":"IF(InpOverride!F25=\"\",F_Inputs!F25,InpOverride!F25)","v":238},{"$f":"IF(InpOverride!G25=\"\",F_Inputs!G25,InpOverride!G25)","v":245.6},{"$f":"IF(InpOverride!H25=\"\",F_Inputs!H25,InpOverride!H25)","v":251.9},{"$f":"IF(InpOverride!I25=\"\",F_Inputs!I25,InpOverride!I25)","v":257.7},{"$f":"IF(InpOverride!J25=\"\",F_Inputs!J25,InpOverride!J25)","v":259.5},{"$f":"IF(InpOverride!K25=\"\",F_Inputs!K25,InpOverride!K25)","v":264.8},{"$f":"IF(InpOverride!L25=\"\",F_Inputs!L25,InpOverride!L25)","v":275.3},{"$f":"IF(InpOverride!M25=\"\",F_Inputs!M25,InpOverride!M25)","v":284.5},{"$f":"IF(InpOverride!N25=\"\",F_Inputs!N25,InpOverride!N25)","v":292.3},{"$f":"IF(InpOverride!O25=\"\",F_Inputs!O25,InpOverride!O25)","v":302.2}]
[{"$f":"F_Inputs!A26","v":"SWT"},"BB3805NR","Retail Price Index for November","nr","Price Review 2019",{"$f":"IF(InpOverride!F26=\"\",F_Inputs!F26,InpOverride!F26)","v":238.5},{"$f":"IF(InpOverride!G26=\"\",F_Inputs!G26,InpOverride!G26)","v":245.6},{"$f":"IF(InpOverride!H26=\"\",F_Inputs!H26,InpOverride!H26)","v":252.1},{"$f":"IF(InpOverride!I26=\"\",F_Inputs!I26,InpOverride!I26)","v":257.10000000000002},{"$f":"IF(InpOverride!J26=\"\",F_Inputs!J26,InpOverride!J26)","v":259.8},{"$f":"IF(InpOverride!K26=\"\",F_Inputs!K26,InpOverride!K26)","v":265.5},{"$f":"IF(InpOverride!L26=\"\",F_Inputs!L26,InpOverride!L26)","v":275.8},{"$f":"IF(InpOverride!M26=\"\",F_Inputs!M26,InpOverride!M26)","v":284.60000000000002},{"$f":"IF(InpOverride!N26=\"\",F_Inputs!N26,InpOverride!N26)","v":292},{"$f":"IF(InpOverride!O26=\"\",F_Inputs!O26,InpOverride!O26)","v":302.60000000000002}]
[{"$f":"F_Inputs!A27","v":"SWT"},"BB3805DR","Retail Price Index for December","nr","Price Review 2019",{"$f":"IF(InpOverride!F27=\"\",F_Inputs!F27,InpOverride!F27)","v":239.4},{"$f":"IF(InpOverride!G27=\"\",F_Inputs!G27,InpOverride!G27)","v":246.8},{"$f":"IF(InpOverride!H27=\"\",F_Inputs!H27,InpOverride!H27)","v":253.4},{"$f":"IF(InpOverride!I27=\"\",F_Inputs!I27,InpOverride!I27)","v":257.5},{"$f":"IF(InpOverride!J27=\"\",F_Inputs!J27,InpOverride!J27)","v":260.60000000000002},{"$f":"IF(InpOverride!K27=\"\",F_Inputs!K27,InpOverride!K27)","v":267.10000000000002},{"$f":"IF(InpOverride!L27=\"\",F_Inputs!L27,InpOverride!L27)","v":278.10000000000002},{"$f":"IF(InpOverride!M27=\"\",F_Inputs!M27,InpOverride!M27)","v":285.60000000000002},{"$f":"IF(InpOverride!N27=\"\",F_Inputs!N27,InpOverride!N27)","v":293.39999999999998},{"$f":"IF(InpOverride!O27=\"\",F_Inputs!O27,InpOverride!O27)","v":305.10000000000002}]
[{"$f":"F_Inputs!A28","v":"SWT"},"BB3805JY","Retail Price Index for January","nr","Price Review 2019",{"$f":"IF(InpOverride!F28=\"\",F_Inputs!F28,InpOverride!F28)","v":238},{"$f":"IF(InpOverride!G28=\"\",F_Inputs!G28,InpOverride!G28)","v":245.8},{"$f":"IF(InpOverride!H28=\"\",F_Inputs!H28,InpOverride!H28)","v":252.6},{"$f":"IF(InpOverride!I28=\"\",F_Inputs!I28,InpOverride!I28)","v":255.4},{"$f":"IF(InpOverride!J28=\"\",F_Inputs!J28,InpOverride!J28)","v":258.8},{"$f":"IF(InpOverride!K28=\"\",F_Inputs!K28,InpOverride!K28)","v":265.5},{"$f":"IF(InpOverride!L28=\"\",F_Inputs!L28,InpOverride!L28)","v":276},{"$f":"IF(InpOverride!M28=\"\",F_Inputs!M28,InpOverride!M28)","v":283},{"$f":"IF(InpOverride!N28=\"\",F_Inputs!N28,InpOverride!N28)","v":290.7},{"$f":"IF(InpOverride!O28=\"\",F_Inputs!O28,InpOverride!O28)","v":302.8}]
[{"$f":"F_Inputs!A29","v":"SWT"},"BB3805FY","Retail Price Index for February","nr","Price Review 2019",{"$f":"IF(InpOverride!F29=\"\",F_Inputs!F29,InpOverride!F29)","v":239.9},{"$f":"IF(InpOverride!G29=\"\",F_Inputs!G29,InpOverride!G29)","v":247.6},{"$f":"IF(InpOverride!H29=\"\",F_Inputs!H29,InpOverride!H29)","v":254.2},{"$f":"IF(InpOverride!I29=\"\",F_Inputs!I29,InpOverride!I29)","v":256.7},{"$f":"IF(InpOverride!J29=\"\",F_Inputs!J29,InpOverride!J29)","v":260},{"$f":"IF(InpOverride!K29=\"\",F_Inputs!K29,InpOverride!K29)","v":268.39999999999998},{"$f":"IF(InpOverride!L29=\"\",F_Inputs!L29,InpOverride!L29)","v":278.10000000000002},{"$f":"IF(InpOverride!M29=\"\",F_Inputs!M29,InpOverride!M29)","v":285},{"$f":"IF(InpOverride!N29=\"\",F_Inputs!N29,InpOverride!N29)","v":292.8},{"$f":"IF(InpOverride!O29=\"\",F_Inputs!O29,InpOverride!O29)","v":305.10000000000002}]
[{"$f":"F_Inputs!A30","v":"SWT"},"BB3805MH","Retail Price Index for March","nr","Price Review 2019",{"$f":"IF(InpOverride!F30=\"\",F_Inputs!F30,InpOverride!F30)","v":240.8},{"$f":"IF(InpOverride!G30=\"\",F_Inputs!G30,InpOverride!G30)","v":248.7},{"$f":"IF(InpOverride!H30=\"\",F_Inputs!H30,InpOverride!H30)","v":254.8},{"$f":"IF(InpOverride!I30=\"\",F_Inputs!I30,InpOverride!I30)","v":257.10000000000002},{"$f":"IF(InpOverride!J30=\"\",F_Inputs!J30,InpOverride!J30)","v":261.10000000000002},{"$f":"IF(InpOverride!K30=\"\",F_Inputs!K30,InpOverride!K30)","v":269.3},{"$f":"IF(InpOverride!L30=\"\",F_Inputs!L30,InpOverride!L30)","v":278.3},{"$f":"IF(InpOverride!M30=\"\",F_Inputs!M30,InpOverride!M30)","v":285.10000000000002},{"$f":"IF(InpOverride!N30=\"\",F_Inputs!N30,InpOverride!N30)","v":292.8},{"$f":"IF(InpOverride!O30=\"\",F_Inputs!O30,InpOverride!O30)","v":304.7}]
[{"$f":"F_Inputs!A31","v":"SWT"},"C_APP27015_PD002","Net performance payment / (penalty) applied to revenue for in-period ODI adjustments ~ Water resources","£m","Price Review 2019",null,null,null,null,{"$f":"IF(InpOverride!J31=\"\",F_Inputs!J31,InpOverride!J31)","v":0},{"$f":"IF(InpOverride!K31=\"\",F_Inputs!K31,InpOverride!K31)","v":0},{"$f":"IF(InpOverride!L31=\"\",F_Inputs!L31,InpOverride!L31)","v":0},{"$f":"IF(InpOverride!M31=\"\",F_Inputs!M31,InpOverride!M31)","v":0},{"$f":"IF(InpOverride!N31=\"\",F_Inputs!N31,InpOverride!N31)","v":0},null,null,null,{"$f":"IF(InpOverride!R31=\"\",F_Inputs!R31,InpOverride!R31)","v":0}]
[{"$f":"F_Inputs!A32","v":"SWT"},"C_APP27022_PD002","Net performance payment / (penalty) applied to revenue for end of period ODI adjustments ~ Water resources","£m","Price Review 2019",null,null,null,null,{"$f":"IF(InpOverride!J32=\"\",F_Inputs!J32,InpOverride!J32)","v":0.16200000000000001},{"$f":"IF(InpOverride!K32=\"\",F_Inputs!K32,InpOverride!K32)","v":0.16200000000000001},{"$f":"IF(InpOverride!L32=\"\",F_Inputs!L32,InpOverride!L32)","v":0.16200000000000001},{"$f":"IF(InpOverride!M32=\"\",F_Inputs!M32,InpOverride!M32)","v":0.16200000000000001},{"$f":"IF(InpOverride!N32=\"\",F_Inputs!N32,InpOverride!N32)","v":0.16200000000000001},null,null,null,{"$f":"IF(InpOverride!R32=\"\",F_Inputs!R32,InpOverride!R32)","v":0.81}]
[{"$f":"F_Inputs!A33","v":"SWT"},"C_WS17013_PR19D007","Incentives to be paid at PR19 - Water resources control - Export incentives (2012-13 prices)","£m","Price Review 2019",null,null,null,null,null,null,null,null,null,null,null,null,{"$f":"IF(InpOverride!R33=\"\",F_Inputs!R33,InpOverride!R33)","v":0}]
[{"$f":"F_Inputs!A34","v":"SWT"},"C_WS17025_PR19D007","Incentives to be paid at PR19 - Water resources control - Import incentives  (2012-13 prices)","£m","Price Review 2019",null,null,null,null,null,null,null,null,null,null,null,null,{"$f":"IF(InpOverride!R34=\"\",F_Inputs!R34,InpOverride!R34)","v":0}]
[{"$f":"F_Inputs!A35","v":"SWT"},"C00578_L021","Water - Total Adjustment Revenue carry forward to PR19","£m","Price Review 2019",null,null,null,null,null,null,null,null,null,null,{"$f":"IF(InpOverride!P35=\"\",F_Inputs!P35,InpOverride!P35)","v":0.75248822405791504}]
[{"$f":"F_Inputs!A36","v":"SWT"},"C_APP27016_PD002","Net performance payment / (penalty) applied to revenue for in-period ODI adjustments ~ Water network plus","£m","Price Review 2019",null,null,null,null,{"$f":"IF(InpOverride!J36=\"\",F_Inputs!J36,InpOverride!J36)","v":0.14099999999999999},{"$f":"IF(InpOverride!K36=\"\",F_Inputs!K36,InpOverride!K36)","v":0.93500000000000005},{"$f":"IF(InpOverride!L36=\"\",F_Inputs!L36,InpOverride!L36)","v":0.51400000000000001},{"$f":"IF(InpOverride!M36=\"\",F_Inputs!M36,InpOverride!M36)","v":3.7999999999999999E-2},{"$f":"IF(InpOverride!N36=\"\",F_Inputs!N36,InpOverride!N36)","v":0.245},null,null,null,{"$f":"IF(InpOverride!R36=\"\",F_Inputs!R36,InpOverride!R36)","v":0.28299999999999997}]
[{"$f":"F_Inputs!A37","v":"SWT"},"C_APP27023_PD002","Net performance payment / (penalty) applied to revenue for end of period ODI adjustments ~ Water network plus","£m","Price Review 2019",null,null,null,null,{"$f":"IF(InpOverride!J37=\"\",F_Inputs!J37,InpOverride!J37)","v":1.462},{"$f":"IF(InpOverride!K37=\"\",F_Inputs!K37,InpOverride!K37)","v":1.462},{"$f":"IF(InpOverride!L37=\"\",F_Inputs!L37,InpOverride!L37)","v":1.462},{"$f":"IF(InpOverride!M37=\"\",F_Inputs!M37,InpOverride!M37)","v":1.462},{"$f":"IF(InpOverride!N37=\"\",F_Inputs!N37,InpOverride!N37)","v":1.462},null,null,null,{"$f":"IF(InpOverride!R37=\"\",F_Inputs!R37,InpOverride!R37)","v":7.31}]
[{"$f":"F_Inputs!A38","v":"SWT"},"C_WS15024_PR19PD006","Water: revenue adjustment from totex menu model","£m","Price Review 2019",null,null,null,null,null,null,null,null,null,null,null,null,{"$f":"IF(InpOverride!R38=\"\",F_Inputs!R38,InpOverride!R38)","v":-2.95032980775024}]
[{"$f":"F_Inputs!A39","v":"SWT"},"C_WS17014_PR19D007","Incentives to be paid at PR19 - Network plus water control - Export incentives (2012-13 prices)","£m","Price Review 2019",null,null,null,null,null,null,null,null,null,null,null,null,{"$f":"IF(InpOverride!R39=\"\",F_Inputs!R39,InpOverride!R39)","v":0}]
[{"$f":"F_Inputs!A40","v":"SWT"},"C_WS17026_PR19D007","Incentives to be paid at PR19 - Network plus water control - Import incentives (2012-13 prices)","£m","Price Review 2019",null,null,null,null,null,null,null,null,null,null,null,null,{"$f":"IF(InpOverride!R40=\"\",F_Inputs!R40,InpOverride!R40)","v":0}]
[{"$f":"F_Inputs!A41","v":"SWT"},"C_WS13026_PR19PD005","Total reward / (penalty) at the end of AMP6 - water","£m","Price Review 2019",null,null,null,null,null,null,null,null,{"$f":"IF(InpOverride!N41=\"\",F_Inputs!N41,InpOverride!N41)","v":-20.258925561502199},null,null,null,{"$f":"IF(InpOverride!R41=\"\",F_Inputs!R41,InpOverride!R41)","v":-20.258925561502199}]
[{"$f":"F_Inputs!A42","v":"SWT"},"C_APP27018_PD002","Net performance payment / (penalty) applied to revenue for in-period ODI adjustments ~ Bioresources","£m","Price Review 2019",null,null,null,null,{"$f":"IF(InpOverride!J42=\"\",F_Inputs!J42,InpOverride!J42)","v":0},{"$f":"IF(InpOverride!K42=\"\",F_Inputs!K42,InpOverride!K42)","v":0},{"$f":"IF(InpOverride!L42=\"\",F_Inputs!L42,InpOverride!L42)","v":0},{"$f":"IF(InpOverride!M42=\"\",F_Inputs!M42,InpOverride!M42)","v":0},{"$f":"IF(InpOverride!N42=\"\",F_Inputs!N42,InpOverride!N42)","v":0},null,null,null,{"$f":"IF(InpOverride!R42=\"\",F_Inputs!R42,InpOverride!R42)","v":0}]
[{"$f":"F_Inputs!A43","v":"SWT"},"C_APP27025_PD002","Net performance payment / (penalty) applied to revenue for end of period ODI adjustments ~ Bioresources","£m","Price Review 2019",null,null,null,null,{"$f":"IF(InpOverride!J43=\"\",F_Inputs!J43,InpOverride!J43)","v":0},{"$f":"IF(InpOverride!K43=\"\",F_Inputs!K43,InpOverride!K43)","v":0},{"$f":"IF(InpOverride!L43=\"\",F_Inputs!L43,InpOverride!L43)","v":0},{"$f":"IF(InpOverride!M43=\"\",F_Inputs!M43,InpOverride!M43)","v":0},{"$f":"IF(InpOverride!N43=\"\",F_Inputs!N43,InpOverride!N43)","v":0},null,null,null,{"$f":"IF(InpOverride!R43=\"\",F_Inputs!R43,InpOverride!R43)","v":0}]
[{"$f":"F_Inputs!A44","v":"SWT"},"C00585_L021","Wastewater - Total Adjustment Revenue carry forward to PR19","£m","Price Review 2019",null,null,null,null,null,null,null,null,null,null,{"$f":"IF(InpOverride!P44=\"\",F_Inputs!P44,InpOverride!P44)","v":1.27900113353895}]
[{"$f":"F_Inputs!A45","v":"SWT"},"C_APP27017_PD002","Net performance payment / (penalty) applied to revenue for in-period ODI adjustments ~ Wastewater network plus","£m","Price Review 2019",null,null,null,null,{"$f":"IF(InpOverride!J45=\"\",F_Inputs!J45,InpOverride!J45)","v":-1.873},{"$f":"IF(InpOverride!K45=\"\",F_Inputs!K45,InpOverride!K45)","v":-1.226},{"$f":"IF(InpOverride!L45=\"\",F_Inputs!L45,InpOverride!L45)","v":-0.78400000000000003},{"$f":"IF(InpOverride!M45=\"\",F_Inputs!M45,InpOverride!M45)","v":-0.88900000000000001},{"$f":"IF(InpOverride!N45=\"\",F_Inputs!N45,InpOverride!N45)","v":0},null,null,null,{"$f":"IF(InpOverride!R45=\"\",F_Inputs!R45,InpOverride!R45)","v":-0.88900000000000001}]
[{"$f":"F_Inputs!A46","v":"SWT"},"C_APP27024_PD002","Net performance payment / (penalty) applied to revenue for end of period ODI adjustments ~ Wastewater network plus","£m","Price Review 2019",null,null,null,null,{"$f":"IF(InpOverride!J46=\"\",F_Inputs!J46,InpOverride!J46)","v":0},{"$f":"IF(InpOverride!K46=\"\",F_Inputs!K46,InpOverride!K46)","v":0},{"$f":"IF(InpOverride!L46=\"\",F_Inputs!L46,InpOverride!L46)","v":0},{"$f":"IF(InpOverride!M46=\"\",F_Inputs!M46,InpOverride!M46)","v":0},{"$f":"IF(InpOverride!N46=\"\",F_Inputs!N46,InpOverride!N46)","v":0},null,null,null,{"$f":"IF(InpOverride!R46=\"\",F_Inputs!R46,InpOverride!R46)","v":0}]
[{"$f":"F_Inputs!A47","v":"SWT"},"C_WWS15019_PR19PD006","Wastewater: revenue adjustment from totex menu model","£m","Price Review 2019",null,null,null,null,null,null,null,null,null,null,null,null,{"$f":"IF(InpOverride!R47=\"\",F_Inputs!R47,InpOverride!R47)","v":1.60059810282559}]
[{"$f":"F_Inputs!A48","v":"SWT"},"C_WWS13026_PR19PD005","Total reward / (penalty) at the end of AMP6 - waste","£m","Price Review 2019",null,null,null,null,null,null,null,null,{"$f":"IF(InpOverride!N48=\"\",F_Inputs!N48,InpOverride!N48)","v":-21.160554390609001},null,null,null,{"$f":"IF(InpOverride!R48=\"\",F_Inputs!R48,InpOverride!R48)","v":-21.160554390609001}]
[{"$f":"F_Inputs!A49","v":"SWT"},"C_WWS15019_DMMY_PR19PD006","Wastewater: revenue adjustment from totex menu model (TTT)","£m","Price Review 2019",null,null,null,null,null,null,null,null,null,null,null,null,{"$f":"IF(InpOverride!R49=\"\",F_Inputs!R49,InpOverride!R49)","v":0}]
[{"$f":"F_Inputs!A50","v":"SWT"},"C_WWS13026_DMMY_PR19PD005","Total reward / (penalty) at the end of AMP6 - dmmy","£m","Price Review 2019",null,null,null,null,null,null,null,null,{"$f":"IF(InpOverride!N50=\"\",F_Inputs!N50,InpOverride!N50)","v":0},null,null,null,{"$f":"IF(InpOverride!R50=\"\",F_Inputs!R50,InpOverride!R50)","v":0}]
[{"$f":"F_Inputs!A51","v":"SWT"},"C_APP27019_PD002","Net performance payment / (penalty) applied to revenue for in-period ODI adjustments ~ Residential retail","£m","Price Review 2019",null,null,null,null,{"$f":"IF(InpOverride!J51=\"\",F_Inputs!J51,InpOverride!J51)","v":0},{"$f":"IF(InpOverride!K51=\"\",F_Inputs!K51,InpOverride!K51)","v":0},{"$f":"IF(InpOverride!L51=\"\",F_Inputs!L51,InpOverride!L51)","v":0},{"$f":"IF(InpOverride!M51=\"\",F_Inputs!M51,InpOverride!M51)","v":0},{"$f":"IF(InpOverride!N51=\"\",F_Inputs!N51,InpOverride!N51)","v":0},null,null,null,{"$f":"IF(InpOverride!R51=\"\",F_Inputs!R51,InpOverride!R51)","v":0}]
[{"$f":"F_Inputs!A52","v":"SWT"},"C_APP27026_PD002","Net performance payment / (penalty) applied to revenue for end of period ODI adjustments ~ Residential retail","£m","Price Review 2019",null,null,null,null,{"$f":"IF(InpOverride!J52=\"\",F_Inputs!J52,InpOverride!J52)","v":0},{"$f":"IF(InpOverride!K52=\"\",F_Inputs!K52,InpOverride!K52)","v":0},{"$f":"IF(InpOverride!L52=\"\",F_Inputs!L52,InpOverride!L52)","v":0},{"$f":"IF(InpOverride!M52=\"\",F_Inputs!M52,InpOverride!M52)","v":0},{"$f":"IF(InpOverride!N52=\"\",F_Inputs!N52,InpOverride!N52)","v":0},null,null,null,{"$f":"IF(InpOverride!R52=\"\",F_Inputs!R52,InpOverride!R52)","v":0}]
[{"$f":"F_Inputs!A53","v":"SWT"},"C_R9045_PR19PD008","Total reward / (penalty) at the end of AMP6 - Residential retail revenue adjustment at the end of AMP6","£m","Price Review 2019",null,null,null,null,null,null,null,null,{"$f":"IF(InpOverride!N53=\"\",F_Inputs!N53,InpOverride!N53)","v":-4.7614027365753904},null,null,null,{"$f":"IF(InpOverride!R53=\"\",F_Inputs!R53,InpOverride!R53)","v":-4.7614027365753904}]
[{"$f":"F_Inputs!A54","v":"SWT"},"C_R10009_PR19PD009","SIM adjustment - Household retail £m","£m","Price Review 2019",null,null,null,null,null,null,null,null,null,null,null,null,{"$f":"IF(InpOverride!R54=\"\",F_Inputs!R54,InpOverride!R54)","v":-3.84009}]
[{"$f":"F_Inputs!A55","v":"SWT"},"C_APP27020_PD002","Net performance payment / (penalty) applied to revenue for in-period ODI adjustments ~ Business retail","£m","Price Review 2019",null,null,null,null,{"$f":"IF(InpOverride!J55=\"\",F_Inputs!J55,InpOverride!J55)","v":0},{"$f":"IF(InpOverride!K55=\"\",F_Inputs!K55,InpOverride!K55)","v":0},{"$f":"IF(InpOverride!L55=\"\",F_Inputs!L55,InpOverride!L55)","v":0},{"$f":"IF(InpOverride!M55=\"\",F_Inputs!M55,InpOverride!M55)","v":0},{"$f":"IF(InpOverride!N55=\"\",F_Inputs!N55,InpOverride!N55)","v":0},null,null,null,{"$f":"IF(InpOverride!R55=\"\",F_Inputs!R55,InpOverride!R55)","v":0}]
[{"$f":"F_Inputs!A56","v":"SWT"},"C_APP27027_PD002","Net performance payment / (penalty) applied to revenue for end of period ODI adjustments ~ Business retail","£m","Price Review 2019",null,null,null,null,{"$f":"IF(InpOverride!J56=\"\",F_Inputs!J56,InpOverride!J56)","v":0},{"$f":"IF(InpOverride!K56=\"\",F_Inputs!K56,InpOverride!K56)","v":0},{"$f":"IF(InpOverride!L56=\"\",F_Inputs!L56,InpOverride!L56)","v":0},{"$f":"IF(InpOverride!M56=\"\",F_Inputs!M56,InpOverride!M56)","v":0},{"$f":"IF(InpOverride!N56=\"\",F_Inputs!N56,InpOverride!N56)","v":0},null,null,null,{"$f":"IF(InpOverride!R56=\"\",F_Inputs!R56,InpOverride!R56)","v":0}]
[{"$f":"F_Inputs!A57","v":"SWT"},"C_004_PR19PD014","Non-household SIM adjustment - business retail £m","£m","Price Review 2019",null,null,null,null,null,null,null,null,null,null,null,null,{"$f":"IF(InpOverride!R57=\"\",F_Inputs!R57,InpOverride!R57)","v":0}]
[{"$f":"F_Inputs!A58","v":"SWT"},{"$f":"F_Inputs!B58","v":"C003_PR19PD015"},"Other revenue adjustment - water network plus","£m","Price Review 2019",null,null,null,null,null,null,null,null,null,null,null,null,{"$f":"IF(InpOverride!R58=\"\",F_Inputs!R58,InpOverride!R58)","v":0}]
[{"$f":"F_Inputs!A59","v":"SWT"},{"$f":"F_Inputs!B59","v":"C006_PR19PD015"},"Other revenue adjustment - wastewater network plus","£m","Price Review 2019",null,null,null,null,null,null,null,null,null,null,null,null,{"$f":"IF(InpOverride!R59=\"\",F_Inputs!R59,InpOverride!R59)","v":0}]

{"sheet":"F_Outputs","index":3,"n_rows":103,"n_cols":11,"rows_kept":103,"cut":false,"hidden":false,"merged":[]}
[null,null,"PR19PD011Run06outputs"]
["Acronym","Reference","Item description","Unit","Model","PR19 application","2020-21","2021-22","2022-23","2023-24","2024-25"]
[]
[null,"C001_PR19PD011","1st model column start date","nr","Price Review 2019",{"$f":"Inputs!$F$13","v":41000}]
[null,"C002_PR19PD011","First modelling column financial year#","nr","Price Review 2019",{"$f":"Inputs!$F$16","v":2013}]
[null,"C003_PR19PD011","Financial year end month number","nr","Price Review 2019",{"$f":"Inputs!$F$17","v":3}]
[null,"C004_PR19PD011","Pre - forecast period","Text","Price Review 2019",{"$f":"Inputs!$F$20","v":"Pre-Fcst"}]
[null,"C005_PR19PD011","Forecast period","Text","Price Review 2019",{"$f":"Inputs!$F$21","v":"Forecast"}]
[null,"C006_PR19PD011","Post - forecast period","Text","Price Review 2019",{"$f":"Inputs!$F$22","v":"Post-Fcst"}]
[null,"C007_PR19PD011","Forecast start date","nr","Price Review 2019",{"$f":"Inputs!$F$26","v":43922}]
[null,"C008_PR19PD011","Forecast duration","nr","Price Review 2019",{"$f":"Inputs!$F$27","v":5}]
[null,"C009_PR19PD011","Forecast duration (text)","Text","Price Review 2019",{"$f":"Inputs!$F$28","v":"2020-25"}]
[null,"C010_PR19PD011","Inflation: Year reference for FYA base price 1","nr","Price Review 2019",{"$f":"Inputs!F69","v":2013}]
[null,"C011_PR19PD011","Inflation: Year reference for FYA base price 2","nr","Price Review 2019",{"$f":"Inputs!F70","v":2018}]
[null,"C012_PR19PD011","Inflation: Year reference for FYE base price 1","nr","Price Review 2019",{"$f":"Inputs!F71","v":2020}]
[null,"C013_PR19PD011","Inflation: Year reference for FYE base price 2","nr","Price Review 2019",{"$f":"Inputs!F72","v":2019}]
[null,"C014_PR19PD011","Inflation: Year reference for FYE end price","nr","Price Review 2019",{"$f":"Inputs!F73","v":2020}]
[null,"C015_PR19PD011","Deflation: Year reference for FYE base price","nr","Price Review 2019",{"$f":"Inputs!F77","v":2020}]
[null,"C016_PR19PD011","Deflation: Year reference for FYA end price","nr","Price Review 2019",{"$f":"Inputs!F78","v":2018}]
[null,"C017_PR19PD011","Months per model period","nr","Price Review 2019",{"$f":"Inputs!F162","v":12}]
[null,"C018_PR19PD011","Months in a year","nr","Price Review 2019",{"$f":"Inputs!F164","v":12}]
[null,"C019_PR19PD011","Days in a year","nr","Price Review 2019",{"$f":"Inputs!F166","v":365}]
[null,"C020_PR19PD011","PV base date","Text","Price Review 2019",{"$f":"Inputs!F137","v":44286}]
[null,"C040_PR19PD011","Discount rate - Water resources","%","Price Review 2019",{"$f":"Inputs!F139","v":2.92E-2}]
[null,"C050_PR19PD011","Discount rate - Water network plus","%","Price Review 2019",{"$f":"Inputs!F140","v":2.92E-2}]
[null,"C060_PR19PD011","Discount rate - Bioresources","%","Price Review 2019",{"$f":"Inputs!F141","v":2.92E-2}]
[null,"C070_PR19PD011","Discount rate - Wastewater network plus","%","Price Review 2019",{"$f":"Inputs!F142","v":2.92E-2}]
[null,"C080_PR19PD011","Discount rate - Dummy control","%","Price Review 2019",{"$f":"Inputs!F143","v":2.92E-2}]
[null,"C090_PR19PD011","Discount rate - Residential retail","%","Price Review 2019",{"$f":"Inputs!F144","v":2.92E-2}]
[null,"C100_PR19PD011","Discount rate - Business retail","%","Price Review 2019",{"$f":"Inputs!F145","v":2.92E-2}]
[null,"C030_PR19PD011","Number of years to profile over","nr","Price Review 2019",{"$f":"Inputs!F147","v":5}]
[null,"C041_PR19PD011","Water resources revenue adjustment selector","nr","Price Review 2019",{"$f":"Inputs!F151","v":2}]
[null,"C051_PR19PD011","Water network plus revenue adjustment selector","nr","Price Review 2019",{"$f":"Inputs!F152","v":2}]
[null,"C061_PR19PD011","Bioesources revenue adjustment selector","nr","Price Review 2019",{"$f":"Inputs!F153","v":2}]
[null,"C071_PR19PD011","Wastewater network plus revenue adjustment selector","nr","Price Review 2019",{"$f":"Inputs!F154","v":2}]
[null,"C081_PR19PD011","Dummy control revenue adjustment selector","nr","Price Review 2019",{"$f":"Inputs!F155","v":0}]
[null,"C091_PR19PD011","Residential retail revenue adjustment selector","nr","Price Review 2019",{"$f":"Inputs!F156","v":2}]
[null,"C101_PR19PD011","Business retail revenue adjustment selector","nr","Price Review 2019",{"$f":"Inputs!F157","v":0}]
[null,"C_APP25004_PR19PD011","Further 2010-15 reconciliation total adjustment revenue carry forward to PR19 ~ Water network plus at 2017-18 FYA CPIH deflated price base","£m","Price Review 2019",{"$f":"Summary_Output!$F10","v":0.85704621726301244}]
[null,"C_APP25006_PR19PD011","Further 2010-15 reconciliation total adjustment revenue carry forward to PR19 ~ Wastewater network plus at 2017-18 FYA CPIH deflated price base","£m","Price Review 2019",{"$f":"Summary_Output!$F11","v":1.4567179237216823}]
[null,"C_APP27034_PR19PD011","ODI in-period revenue adjustment ~ Water resources at 2017-18 FYA CPIH deflated price base","£m","Price Review 2019",{"$f":"Summary_Output!$F14","v":0}]
[null,"C_APP27035_PR19PD011","ODI in-period revenue adjustment ~ Water network plus at 2017-18 FYA CPIH deflated price base","£m","Price Review 2019",{"$f":"Summary_Output!$F15","v":0.32232275766054402}]
[null,"C_APP27037_PR19PD011","ODI in-period revenue adjustment ~ Bioresources at 2017-18 FYA CPIH deflated price base","£m","Price Review 2019",{"$f":"Summary_Output!$F16","v":0}]
[null,"C_APP27036_PR19PD011","ODI in-period revenue adjustment ~ Wastewater network plus at 2017-18 FYA CPIH deflated price base","£m","Price Review 2019",{"$f":"Summary_Output!$F17","v":-1.012526259930119}]
[null,"C_APP27038_PR19PD011","ODI in-period revenue adjustment ~ Residential retail at 2017-18 FYA CPIH deflated price base","£m","Price Review 2019",{"$f":"Summary_Output!$F18","v":0}]
[null,"C_APP27039_PR19PD011","ODI in-period revenue adjustment ~ Business retail at 2017-18 FYA CPIH deflated price base","£m","Price Review 2019",{"$f":"Summary_Output!$F19","v":0}]
[null,"C_APP27041_PR19PD011","ODI end of period revenue adjustment ~ Water resources at 2017-18 FYA CPIH deflated price base","£m","Price Review 2019",{"$f":"Summary_Output!$F21","v":0.92254923570685765}]
[null,"C_APP27042_PR19PD011","ODI end of period revenue adjustment ~ Water network plus at 2017-18 FYA CPIH deflated price base","£m","Price Review 2019",{"$f":"Summary_Output!$F22","v":8.3257221148359601}]
[null,"C_APP27044_PR19PD011","ODI end of period revenue adjustment ~ Bioresources at 2017-18 FYA CPIH deflated price base","£m","Price Review 2019",{"$f":"Summary_Output!$F23","v":0}]
[null,"C_APP27043_PR19PD011","ODI end of period revenue adjustment ~ Wastewater network plus at 2017-18 FYA CPIH deflated price base","£m","Price Review 2019",{"$f":"Summary_Output!$F24","v":0}]
[null,"C_APP27045_PR19PD011","ODI end of period revenue adjustment ~ Residential retail at 2017-18 FYA CPIH deflated price base","£m","Price Review 2019",{"$f":"Summary_Output!$F25","v":0}]
[null,"C_APP27046_PR19PD011","ODI end of period revenue adjustment ~ Business retail at 2017-18 FYA CPIH deflated price base","£m","Price Review 2019",{"$f":"Summary_Output!$F26","v":0}]
[null,"C_WS13027_PR19PD011","WRFIM total reward / (penalty) at the end of AMP6 ~ Water network plus at 2017-18 FYA CPIH deflated price base","£m","Price Review 2019",{"$f":"Summary_Output!$F29","v":-19.836984064666176}]
[null,"C_WS15026_PR19PD011","Water: Totex menu revenue adjustment at 2017-18 FYA CPIH deflated price base","£m","Price Review 2019",{"$f":"Summary_Output!$F32","v":-3.3602771718804245}]
[null,"C_WS17027_PR19PD011","Water trading total value of export incentive ~ Water resources at 2017-18 FYA CPIH deflated price base","£m","Price Review 2019",{"$f":"Summary_Output!$F35","v":0}]
[null,"C_WS17028_PR19PD011","Water trading total value of export incentive ~ Water network plus at 2017-18 FYA CPIH deflated price base","£m","Price Review 2019",{"$f":"Summary_Output!$F36","v":0}]
[null,"C_WS17030_PR19PD011","Water trading total value of import incentive ~ Water resources  at 2017-18 FYA CPIH deflated price base","£m","Price Review 2019",{"$f":"Summary_Output!$F37","v":0}]
[null,"C_WS17031_PR19PD011","Water trading total value of import incentive ~ Water network plus at 2017-18 FYA CPIH deflated price base","£m","Price Review 2019",{"$f":"Summary_Output!$F38","v":0}]
[null,"C_WWS13027_PR19PD011","WRFIM total reward / (penalty) at the end of AMP6 ~ Wastewater network plus at 2017-18 FYA CPIH deflated price base","£m","Price Review 2019",{"$f":"Summary_Output!$F41","v":-20.719834276092151}]
[null,"C_WWS15021_PR19PD011","Wastewater: Totex menu revenue adjustment at 2017-18 FYA CPIH deflated price base","£m","Price Review 2019",{"$f":"Summary_Output!$F44","v":1.8230006869575237}]
[null,"C_WWS15021_DMMY_PR19PD011","Dummy: revenue adjustment from totex menu model at 2017-18 FYA CPIH deflated price base","£m","Price Review 2019",{"$f":"Summary_Output!$F47","v":0}]
[null,"C_WWS13027_DMMY_PR19PD011","WRFIM total reward / (penalty) at the end of AMP6 ~ Dummy at 2017-18 FYA CPIH deflated price base","£m","Price Review 2019",{"$f":"Summary_Output!$F50","v":0}]
[null,"C_R9046_PR19PD011","Residential retail revenue adjustment at 2017-18 FYA CPIH deflated price base","£m","Price Review 2019",{"$f":"Summary_Output!$F53","v":-4.5316668663327109}]
[null,"C_R10009_PR19PD011","SIM forecast revenue adjustment at 2017-18 FYA CPIH deflated price base","£m","Price Review 2019",{"$f":"Summary_Output!$F56","v":-3.8926703726514056}]
[null,"C052_PR19PD011","Other revenue adjustment - water network plus at 2017-18 FYA CPIH deflated price base","£m","Price Review 2019",{"$f":"Summary_Output!F$59","v":0}]
[null,"C072_PR19PD011","Other revenue adjustment - wastewater network plus at 2017-18 FYA CPIH deflated price base","£m","Price Review 2019",{"$f":"Summary_Output!F$60","v":0}]
[null,"C102_PR19PD011","Non-household SIM adjustment - business retail at 2017-18 FYA CPIH deflated price base","£m","Price Review 2019",{"$f":"Summary_Output!F$61","v":0}]
[null,"C048_PR19PD011","Water resources revenue adjustment","£m","Price Review 2019",{"$f":"Summary_Output!$F66","v":0.92254923570685765}]
[null,"C058_PR19PD011","Water network plus revenue adjustment","£m","Price Review 2019",{"$f":"Summary_Output!$F67","v":-13.692170146787083}]
[null,"C068_PR19PD011","Bioresources revenue adjustment","£m","Price Review 2019",{"$f":"Summary_Output!$F68","v":0}]
[null,"C078_PR19PD011","Wastewater network plus revenue adjustment","£m","Price Review 2019",{"$f":"Summary_Output!$F69","v":-18.452641925343062}]
[null,"C088_PR19PD011","Dummy control revenue adjustment","£m","Price Review 2019",{"$f":"Summary_Output!$F70","v":0}]
[null,"C098_PR19PD011","Residential retail revenue adjustment","£m","Price Review 2019",{"$f":"Summary_Output!$F71","v":-8.4243372389841156}]
[null,"C108_PR19PD011","Business retail revenue adjustment","£m","Price Review 2019",{"$f":"Summary_Output!$F72","v":0}]
[null,"C049_PR19PD011","Water resources revenue adjustment active","£m","Price Review 2019",null,{"$f":"Summary_Output!R77","v":0.18450984714137153},{"$f":"Summary_Output!S77","v":0.18989753467789955},{"$f":"Summary_Output!T77","v":0.19544254269049419},{"$f":"Summary_Output!U77","v":0.20116532705273821},{"$f":"Summary_Output!V77","v":0.20703935460267814}]
[null,"C059_PR19PD011","Water network revenue adjustment active","£m","Price Review 2019",null,{"$f":"Summary_Output!R78","v":-2.7384340293574168},{"$f":"Summary_Output!S78","v":-2.8183963030146528},{"$f":"Summary_Output!T78","v":-2.9006934750626807},{"$f":"Summary_Output!U78","v":-2.9856291448008707},{"$f":"Summary_Output!V78","v":-3.0728095158290558}]
[null,"C069_PR19PD011","Bioresources revenue adjustment active","£m","Price Review 2019",null,{"$f":"Summary_Output!R79","v":0},{"$f":"Summary_Output!S79","v":0},{"$f":"Summary_Output!T79","v":0},{"$f":"Summary_Output!U79","v":0},{"$f":"Summary_Output!V79","v":0}]
[null,"C079_PR19PD011","Wastewater network revenue adjustment active","£m","Price Review 2019",null,{"$f":"Summary_Output!R80","v":-3.6905283850686126},{"$f":"Summary_Output!S80","v":-3.7982918139126158},{"$f":"Summary_Output!T80","v":-3.9092019348788636},{"$f":"Summary_Output!U80","v":-4.0236679021846955},{"$f":"Summary_Output!V80","v":-4.1411590049284879}]
[null,"C089_PR19PD011","Dummy control revenue adjustment active","£m","Price Review 2019",null,{"$f":"Summary_Output!R81","v":0},{"$f":"Summary_Output!S81","v":0},{"$f":"Summary_Output!T81","v":0},{"$f":"Summary_Output!U81","v":0},{"$f":"Summary_Output!V81","v":0}]
[null,"C099_PR19PD011","Residential retail revenue adjustment active","£m","Price Review 2019",null,{"$f":"Summary_Output!R82","v":-1.6848674477968231},{"$f":"Summary_Output!S82","v":-1.7340655772724902},{"$f":"Summary_Output!T82","v":-1.7847002921288466},{"$f":"Summary_Output!U82","v":-1.8369583869248269},{"$f":"Summary_Output!V82","v":-1.8905975718230317}]
[null,"C109_PR19PD011","Business retail revenue adjustment active","£m","Price Review 2019",null,{"$f":"Summary_Output!R83","v":0},{"$f":"Summary_Output!S83","v":0},{"$f":"Summary_Output!T83","v":0},{"$f":"Summary_Output!U83","v":0},{"$f":"Summary_Output!V83","v":0}]
[null,"C201_PR19PD011","ODI in-period revenue adjustment ~ Water resources at 2017-18 FYA CPIH deflated price base","£m","Price Review 2019",null,{"$f":"Summary_Output!R88","v":0},{"$f":"Summary_Output!S88","v":0},{"$f":"Summary_Output!T88","v":0},{"$f":"Summary_Output!U88","v":0},{"$f":"Summary_Output!V88","v":0}]
[null,"C202_PR19PD011","ODI end of period revenue adjustment ~ Water resources at 2017-18 FYA CPIH deflated price base","£m","Price Review 2019",null,{"$f":"Summary_Output!R89","v":0.18450984714137153},{"$f":"Summary_Output!S89","v":0.18989753467789955},{"$f":"Summary_Output!T89","v":0.19544254269049419},{"$f":"Summary_Output!U89","v":0.20116532705273821},{"$f":"Summary_Output!V89","v":0.20703935460267814}]
[null,"C203_PR19PD011","Water trading total value of incentive ~ Water resources at 2017-18 FYA CPIH deflated price base","£m","Price Review 2019",null,{"$f":"Summary_Output!R90","v":0},{"$f":"Summary_Output!S90","v":0},{"$f":"Summary_Output!T90","v":0},{"$f":"Summary_Output!U90","v":0},{"$f":"Summary_Output!V90","v":0}]
[null,"C211_PR19PD011","ODI in-period revenue adjustment ~ Water network plus at 2017-18 FYA CPIH deflated price base","£m","Price Review 2019",null,{"$f":"Summary_Output!R91","v":6.446455153210881E-2},{"$f":"Summary_Output!S91","v":6.634691643684637E-2},{"$f":"Summary_Output!T91","v":6.8284246396802292E-2},{"$f":"Summary_Output!U91","v":7.0283688340648034E-2},{"$f":"Summary_Output!V91","v":7.2335972040194943E-2}]
[null,"C212_PR19PD011","ODI end of period revenue adjustment ~ Water network plus at 2017-18 FYA CPIH deflated price base","£m","Price Review 2019",null,{"$f":"Summary_Output!R92","v":1.6651444229671921},{"$f":"Summary_Output!S92","v":1.7137666401178338},{"$f":"Summary_Output!T92","v":1.7638086260092747},{"$f":"Summary_Output!U92","v":1.815454988587057},{"$f":"Summary_Output!V92","v":1.8684662742537985}]
[null,"C213_PR19PD011","WRFIM total reward / (penalty) at the end of AMP6 ~ Water network plus at 2017-18 FYA CPIH deflated price base","£m","Price Review 2019",null,{"$f":"Summary_Output!R93","v":-3.9673968129332353},{"$f":"Summary_Output!S93","v":-4.0832447998708847},{"$f":"Summary_Output!T93","v":-4.202475548027115},{"$f":"Summary_Output!U93","v":-4.3255289069216936},{"$f":"Summary_Output!V93","v":-4.4518343510038063}]
[null,"C214_PR19PD011","Water: Totex menu revenue adjustment at 2017-18 FYA CPIH deflated price base","£m","Price Review 2019",null,{"$f":"Summary_Output!R94","v":-0.67205543437608495},{"$f":"Summary_Output!S94","v":-0.69167945305986644},{"$f":"Summary_Output!T94","v":-0.71187649308921463},{"$f":"Summary_Output!U94","v":-0.73272106257965341},{"$f":"Summary_Output!V94","v":-0.75411651760697918}]
[null,"C215_PR19PD011","Further 2010-15 reconciliation total adjustment revenue carry forward to PR19 ~ Water network plus at 2017-18 FYA CPIH deflated price base","£m","Price Review 2019",null,{"$f":"Summary_Output!R95","v":0.1714092434526025},{"$f":"Summary_Output!S95","v":0.17641439336141845},{"$f":"Summary_Output!T95","v":0.18156569364757189},{"$f":"Summary_Output!U95","v":0.18688214777277115},{"$f":"Summary_Output!V95","v":0.19233910648773603}]
[null,"C216_PR19PD011","Water trading total value of incentive ~ Water network plus at 2017-18 FYA CPIH deflated price base","£m","Price Review 2019",null,{"$f":"Summary_Output!R96","v":0},{"$f":"Summary_Output!S96","v":0},{"$f":"Summary_Output!T96","v":0},{"$f":"Summary_Output!U96","v":0},{"$f":"Summary_Output!V96","v":0}]
[null,{"$f":"Summary_Output!A$97","v":"C217_PR19PD011"},{"$f":"Summary_Output!E$97","v":"Other revenue adjustment - water network plus at 2017-18 FYA CPIH deflated price base"},"£m","Price Review 2019",null,{"$f":"Summary_Output!R$97","v":0},{"$f":"Summary_Output!S$97","v":0},{"$f":"Summary_Output!T$97","v":0},{"$f":"Summary_Output!U$97","v":0},{"$f":"Summary_Output!V$97","v":0}]
[null,"C221_PR19PD011","ODI in-period revenue adjustment ~ Wastewater network at 2017-18 FYA CPIH deflated price base","£m","Price Review 2019",null,{"$f":"Summary_Output!R98","v":-0.20250525198602382},{"$f":"Summary_Output!S98","v":-0.20841840534401571},{"$f":"Summary_Output!T98","v":-0.2145042227800609},{"$f":"Summary_Output!U98","v":-0.2207851552467707},{"$f":"Summary_Output!V98","v":-0.22723208177997634}]
[null,"C222_PR19PD011","ODI end of period revenue adjustment ~ Wastewater network at 2017-18 FYA CPIH deflated price base","£m","Price Review 2019",null,{"$f":"Summary_Output!R99","v":0},{"$f":"Summary_Output!S99","v":0},{"$f":"Summary_Output!T99","v":0},{"$f":"Summary_Output!U99","v":0},{"$f":"Summary_Output!V99","v":0}]
[null,"C223_PR19PD011","WRFIM total reward / (penalty) at the end of AMP6 ~ Wastewater network at 2017-18 FYA CPIH deflated price base","£m","Price Review 2019",null,{"$f":"Summary_Output!R100","v":-4.1439668552184301},{"$f":"Summary_Output!S100","v":-4.2649706873908082},{"$f":"Summary_Output!T100","v":-4.3895078314626188},{"$f":"Summary_Output!U100","v":-4.5180377125726014},{"$f":"Summary_Output!V100","v":-4.6499644137797205}]
[null,"C224_PR19PD011","Wastewater: Totex menu revenue adjustment at 2017-18 FYA CPIH deflated price base","£m","Price Review 2019",null,{"$f":"Summary_Output!R101","v":0.36460013739150476},{"$f":"Summary_Output!S101","v":0.37524646140333667},{"$f":"Summary_Output!T101","v":0.38620365807631402},{"$f":"Summary_Output!U101","v":0.39751214917889144},{"$f":"Summary_Output!V101","v":0.40911950393491497}]
[null,"C225_PR19PD011","Further 2010-15 reconciliation total adjustment revenue carry forward to PR19 ~ Wastewater network at 2017-18 FYA CPIH deflated price base","£m","Price Review 2019",null,{"$f":"Summary_Output!R102","v":0.29134358474433647},{"$f":"Summary_Output!S102","v":0.2998508174188711},{"$f":"Summary_Output!T102","v":0.30860646128750208},{"$f":"Summary_Output!U102","v":0.31764281645578485},{"$f":"Summary_Output!V102","v":0.32691798669629368}]
[null,{"$f":"Summary_Output!A$103","v":"C226_PR19PD011"},{"$f":"Summary_Output!E$103","v":"Other revenue adjustment - wastewater network plus at 2017-18 FYA CPIH deflated price base"},"£m","Price Review 2019",null,{"$f":"Summary_Output!R$103","v":0},{"$f":"Summary_Output!S$103","v":0},{"$f":"Summary_Output!T$103","v":0},{"$f":"Summary_Output!U$103","v":0},{"$f":"Summary_Output!V$103","v":0}]
[null,"C231_PR19PD011","ODI in-period revenue adjustment ~ Bioresources at 2017-18 FYA CPIH deflated price base","£m","Price Review 2019",null,{"$f":"Summary_Output!R104","v":0},{"$f":"Summary_Output!S104","v":0},{"$f":"Summary_Output!T104","v":0},{"$f":"Summary_Output!U104","v":0},{"$f":"Summary_Output!V104","v":0}]
[null,"C232_PR19PD011","ODI end of period revenue adjustment ~ Bioresources at 2017-18 FYA CPIH deflated price base","£m","Price Review 2019",null,{"$f":"Summary_Output!R105","v":0},{"$f":"Summary_Output!S105","v":0},{"$f":"Summary_Output!T105","v":0},{"$f":"Summary_Output!U105","v":0},{"$f":"Summary_Output!V105","v":0}]
[null,"C241_PR19PD011","Dummy: revenue adjustment from totex menu model at 2017-18 FYA CPIH deflated price base","£m","Price Review 2019",null,{"$f":"Summary_Output!R106","v":0},{"$f":"Summary_Output!S106","v":0},{"$f":"Summary_Output!T106","v":0},{"$f":"Summary_Output!U106","v":0},{"$f":"Summary_Output!V106","v":0}]
[null,"C242_PR19PD011","WRFIM total reward / (penalty) at the end of AMP6 ~ Dummy at 2017-18 FYA CPIH deflated price base","£m","Price Review 2019",null,{"$f":"Summary_Output!R107","v":0},{"$f":"Summary_Output!S107","v":0},{"$f":"Summary_Output!T107","v":0},{"$f":"Summary_Output!U107","v":0},{"$f":"Summary_Output!V107","v":0}]
[null,"PR19QA_D0011_OUT_1","Date & Time for Model PR19D011 PR14 Revenue adjustments","Text","Price Review 2019",{"$f":"CONCATENATE(\"[…]\", TEXT(NOW(),\"dd/mm/yyy hh:mm:ss\"))","v":"[…]10/12/2019 14:15:55"},"[…]10/12/2019 14:15:55","[…]10/12/2019 14:15:55","[…]10/12/2019 14:15:55","[…]10/12/2019 14:15:55","[…]10/12/2019 14:15:55"]
[null,"PR19QA_D0011_OUT_2","Name & Path of Model PR19D011 PR14 Revenenue adjustments","Text","Price Review 2019",{"$f":"MID(CELL(\"filename\",F1),SEARCH(\"[\",CELL(\"filename\",F1))+1,SEARCH(\".\",CELL(\"filename\",F1))-1-SEARCH(\"[\",CELL(\"filename\",F1)))","v":"PR19PD011_SWT_ModelRun08_FD"},{"$f":"MID(CELL(\"filename\",F1),SEARCH(\"[\",CELL(\"filename\",F1))+1,SEARCH(\".\",CELL(\"filename\",F1))-1-SEARCH(\"[\",CELL(\"filename\",F1)))","v":"PR19PD011_SWT_ModelRun08_FD"},{"$f":"MID(CELL(\"filename\",F1),SEARCH(\"[\",CELL(\"filename\",F1))+1,SEARCH(\".\",CELL(\"filename\",F1))-1-SEARCH(\"[\",CELL(\"filename\",F1)))","v":"PR19PD011_SWT_ModelRun08_FD"},{"$f":"MID(CELL(\"filename\",F1),SEARCH(\"[\",CELL(\"filename\",F1))+1,SEARCH(\".\",CELL(\"filename\",F1))-1-SEARCH(\"[\",CELL(\"filename\",F1)))","v":"PR19PD011_SWT_ModelRun08_FD"},{"$f":"MID(CELL(\"filename\",F1),SEARCH(\"[\",CELL(\"filename\",F1))+1,SEARCH(\".\",CELL(\"filename\",F1))-1-SEARCH(\"[\",CELL(\"filename\",F1)))","v":"PR19PD011_SWT_ModelRun08_FD"},{"$f":"MID(CELL(\"filename\",F1),SEARCH(\"[\",CELL(\"filename\",F1))+1,SEARCH(\".\",CELL(\"filename\",F1))-1-SEARCH(\"[\",CELL(\"filename\",F1)))","v":"PR19PD011_SWT_ModelRun08_FD"}]

{"sheet":"Cover","index":4,"n_rows":22,"n_cols":5,"rows_kept":22,"cut":false,"hidden":false,"merged":[[7,3,7,4]]}
[{"$f":" RIGHT(CELL(\"filename\", $A$1), LEN(CELL(\"filename\", $A$1)) - SEARCH(\"]\", CELL(\"filename\", $A$1)))","v":"Cover"}]
[]
[null,null,"Model name:","PR19 Revenue adjustments feeder model"]
[null,null,"Version number:","01o"]
[null,null,"Filename:",{"$f":" \"PR19 Revenue adjustments feeder model \" & D4 & \".xlsm\"","v":"PR19 Revenue adjustments feeder model 01o.xlsm"}]
[null,null,"Date:","2019-07-29"]
[null,null,"Author:","Ofwat and F1F9 UK Ltd"]
[null,null,"Author contact information:","PR19@ofwat.gsi.gov.uk"]
[]
[]
[null,null,"Summary of model:","The model is designed to take the revenue adjustment outputs from the PR09 and PR14 reconciliations and convert them for use in the PR19 financial model in line"]
[null,null,null,"with Delivering Water 2020: PR19 methodology, chapter 12 (accounting for past delivery)."]
[]
[null,null,"Known limitations:","The model has been subject to internal Ofwat quality assurance."]
[]
[null,null,"Feedback:","We would welcome feedback on the PR19 revenue adjustments feeder model. Please send any feedback to the following email address"]
[null,null,null,"PR19@ofwat.gsi.gov.uk"]
[]
[null,null,null,{"$f":"Checks!F$11","v":0},{"$f":"Checks!G$11","v":"Checks"}]
[]
[]
["End of sheet"]

{"sheet":"Change Log","index":5,"n_rows":15,"n_cols":6,"rows_kept":15,"cut":false,"hidden":false,"merged":[]}
["Change log"]
[]
[null,"#","Issue","Change","Sheet","Row"]
[]
["2017-12-01",1,"Company noted that the Ofwat feeder model incorrectly deflates prices from 2020 year end prices to 2017-18 financial year average prices by referencing the RPI March index value in the numerator.","Corrected calculation of the deflation factor to reference CPIH March 2020 index value.","Indexation",109]
["2017-12-01",2,"Companies noted differences in item labels between the Ofwat feeder model and the business plan tables ","Item labels have been aligned with the business plan tables","Calc\nProfiling\nSummary_Output"]
["2018-06-01",3,"In response to a query a new business plan table has been created. The Ofwat feeder model has been updated to reflect the additional table Dmmy10.","Include the Dummy10 revenue adjustment.","Inputs\nCalc\nSummary_Output"]
["2018-06-01",4,"Change email address","Changed from water2020 mailbox to PR19 mailbox","Cover"]
["2018-07-01",5,"In response to a query a new business plan table has been created. The Ofwat feeder model has been updated to reflect the additional table Dmmy11.","Include the Dmmy11 revenue adjustment.","Inputs\nCalc\nSummary_Output"]
["2019-01-01",6,"The reprofiled adjustments were at a different level of granularity to the level needed by the PR19 Financial model (FM). ","A new sheet (FM Proportion Calc) has been added to apportion the profiled revenue adjustments to align with the FM.","FM Proportion Calc\nSummary_Output"]
["2019-03-01",7,"Company noted that the feeder model incorrectly treats the water trading adjustments as if they are received in 2017-18 prices when the water trading model outputs the values in 2012-13 prices. ","The water trading adjustments labelled as 2012-13 prices on the Inputs sheet and inflated from 2012-13 prices to 2020 FYE prices in on the Calc sheet.","Inputs\nCalc","Inputs rows 88,89, 96 and 97\nCalc \"Water services inputs inflation\" block"]
["2019-06-01",8,"The model has preset profiling options. It can not accommodate bespoke profiling.","Added new lines for bespoke adjustments to adjust the profile and included in revenue adjustment active.\nNote: The modeller must check the bespoke profile is NPV neutral.","Profiling\n","Rows 241 to 247\nBespoke items rows 251 to 257"]
["2019-07-29",9,"The model does not accommodate non-household SIM adjustments required for companies operating in Wales.","Included new inputs for non-household SIM adjustments.","Inputs\nCalc\nSummary_Output","Inputs row 130\nCalc row 123\nSummary_Output row 61"]
["2019-07-29",10,"To implement the adjustments arising from regulatory interventions other than the PR14 reconciliations the model should allow 'Other revenue adjustments' to be input.","Included new inputs applied to the network plus price controls. The new items are entered in 2012-13 FYA prices.","Inputs\nCalc\nFM Proportion Calc\nSummary_Output","Inputs rows 99 and 113\nCalc rows 39 and 72\nFM Proportion Calc rows 49, 59, 80 and 89\nSummary_Output rows 59-60, 97 and 103"]
[null,null,"Profiling inputs discount rates","Populated the discount rates for profiling with PR19 WACC values.","Inputs","139 to 145"]

{"sheet":"Map & Key","index":6,"n_rows":127,"n_cols":22,"rows_kept":127,"cut":false,"hidden":false,"merged":[]}
[{"$f":" RIGHT(CELL(\"filename\", $A$1), LEN(CELL(\"filename\", $A$1)) - SEARCH(\"]\", CELL(\"filename\", $A$1)))","v":"Map & Key"}]
[]
["GENERIC MODEL DESIGN"]
[]
[null,null,null,null,null,"ABOVE BONNET - USER INTERFACE"]
[]
[]
[null,null,null,null,null,null,null,"Inputs",null,null,null,null,null,null,null,"Output Summary"]
[]
[]
[]
[]
[null,null,null,null,null,"BELOW BONNET - CALCULATION ENGINE"]
[]
[]
[]
[]
[]
[null,null,null,null,null,null,null,"Input Transition",null,null,null,"Calculations",null,null,null,"Detailed Outputs"]
[]
[]
[]
[]
[]
[null,null,null,null,null,"Note: FAST strictly applicable below the bonnet"]
[]
[]
["MODEL MAP"]
[]
[null,null,null,null,null,"MODEL MAP"]
[]
[null,null,null,null,null,null,null,"INPUTS",null,null,null,"CALCULATIONS",null,null,null,null,null,null,null,null,null,"DOCUMENTATION"]
[]
[]
[]
[null,null,null,null,null,null,null,{"$f":"Inputs!$A$1","v":"Inputs"},null,null,null,{"$f":"Time!$A$1","v":"Time"},null,null,null,{"$f":"Summary_Output!$A$1","v":"Summary_Output"},null,null,null,null,null,{"$f":" $A$1","v":"Map & Key"}]
[null,null,null,null,null,null,null,"All the hardcoded inputs used in the model for calculation.",null,null,null,"The model timeline and flag calculations are done in this sheet.",null,null,null,"A summary of links of major output of this model.",null,null,null,null,null,"Sheet references and model flow; Sheet tabs colours, colour coding, abbreviations, range names are mentioned in this sheet."]
[]
[null,null,null,null,null,null,null,null,null,null,null,{"$f":"Indexation!$A$1","v":"Indexation"}]
[null,null,null,null,null,null,null,null,null,null,null,"All the indexation related calculations are done in this sheet."]
[]
[null,null,null,null,null,null,null,null,null,null,null,{"$f":"Calc!$A$1","v":"Calc"}]
[null,null,null,null,null,null,null,null,null,null,null,"All the price regulations related calculations are done in this sheet."]
[]
[null,null,null,null,null,null,null,null,null,null,null,{"$f":"Profiling!$A$1","v":"Profiling"}]
[null,null,null,null,null,null,null,null,null,null,null,"All the profiling of revenue inputs related calculations are done in this sheet."]
[]
[null,null,null,null,null,null,null,null,null,null,null,{"$f":"'FM Proportion Calc'!A1","v":"FM Proportion Calc"}]
[null,null,null,null,null,null,null,null,null,null,null,"The profiled revenue adjustments are apportioned to align with the FM."]
[]
[]
[]
[]
["SHEET TABS"]
[]
[null,null,null,null,null,null,null,"Light Yellow",null,"Input sheets"]
[]
[null,null,null,null,null,null,null,"No colour (default Excel tab colour)",null,"Calculation and documentation sheets"]
[]
[null,null,null,null,null,null,null,"Pale Blue",null,"Key output sheets"]
[]
[null,null,null,null,null,null,null,"Turquoise",null,"Quality control sheets"]
[]
[null,null,null,null,null,null,null,"Yellow",null,"To be completed, temporary, restructured, or deleted"]
[]
[]
["COLOUR"]
[]
[null,"Font colour only"]
[null,null,null,null,null,null,null,"Blue font",null,"Imported from another sheet"]
[]
[null,null,null,null,null,null,null,"Red font ",null,"Exported to another sheet (except from Input sheets)"]
[]
[null,null,null,null,null,null,null,"Black font",null,"Within sheet link or calculation"]
[]
[null,"Font + shade combinations"]
[null,null,null,null,null,null,null,"Black font + Light Yellow shade",null,"Inputs"]
[]
[null,null,null,null,null,null,null,"Black font + Light Grey shade on entire row",null,"Within-worksheet counter-flow "]
[]
[null,null,null,null,null,null,null,"Blue font + Light Grey shade on entire row",null,"Between-worksheet counter-flow "]
[]
[null,null,null,null,null,null,null,"Empty Cell with Light Grey shade",null,"Empty cells being deliberately referenced"]
[]
[null,"Other"]
[null,null,null,null,null,null,null,"Black font + Pale Blue shade on entire row",null,"Section separator"]
[]
[null,null,null,null,null,null,null,"Light Turquoise shade",null,"Stored/dead/hard coded outputs"]
[]
[null,null,null,null,null,null,null,"Tan shade",null,"Pre-model time line actuals"]
[]
[null,null,null,null,null,null,null,"Yellow shade",null,"Work in progress / temporary"]
[]
[null,null,null,null,null,null,null,"Lime shade",null,"Values or logic to be reviewed"]
[]
[null,"Error checks & alerts"]
[null,null,null,null,null,null,null,"Green shade",null,"OK"]
[]
[null,null,null,null,null,null,null,"Red shade",null,"Error"]
[]
[null,null,null,null,null,null,null,"Gold shade",null,"Alert"]
[]
[]
["ABBREVIATIONS"]
[]
[null,null,null,null,null,null,null,"BR","Bio resources"]
[null,null,null,null,null,null,null,"CPIH","Consumer price index housing"]
[null,null,null,null,null,null,null,"RCV","Regulatory capital value"]
[null,null,null,null,null,null,null,"RPI","Retail price index"]
[null,null,null,null,null,null,null,"WR","Water resources"]
[null,null,null,null,null,null,null,"WN","Water network"]
[null,null,null,null,null,null,null,"WWN","Wastewater network"]
[]
[]
["NAMES"]
[]
[null,null,null,null,null,null,null,"NO NAME RANGES PRESENT IN THE MODEL"]
[]
[]
["LIST OF FUNCTIONS USED"]
[]
[null,null,null,null,null,null,null,"SUMPRODUCT",null,"Multiplies corresponding components in the given arrays, and returns the sum of those products."]
[null,null,null,null,null,null,null,"MATCH",null,"The MATCH function searches for a specified item in a range of cells, and then returns the relative position of that item in the range."]
[null,null,null,null,null,null,null,"INDEX",null,"Returns a value or the reference to a value from within a table or range, selected by the row and column number indexes"]
[]
[]
["End of sheet"]

{"sheet":"Inputs","index":7,"n_rows":169,"n_cols":22,"rows_kept":169,"cut":false,"hidden":false,"merged":[]}
[{"$f":" RIGHT(CELL(\"FILENAME\", $A$1), LEN(CELL(\"FILENAME\", $A$1)) - SEARCH(\"]\", CELL(\"FILENAME\", $A$1)))","v":"Inputs"}]
[null,null,null,null,{"$f":" Time!E$25","v":"Model period ending"},{"$f":"Checks!F$11","v":0},{"$f":"Checks!G$11","v":"Checks"},null,null,{"$f":" Time!J$25","v":"2013-03-31"},{"$f":" Time!K$25","v":"2014-03-31"},{"$f":" Time!L$25","v":"2015-03-31"},{"$f":" Time!M$25","v":"2016-03-31"},{"$f":" Time!N$25","v":"2017-03-31"},{"$f":" Time!O$25","v":"2018-03-31"},{"$f":" Time!P$25","v":"2019-03-31"},{"$f":" Time!Q$25","v":"2020-03-31"},{"$f":" Time!R$25","v":"2021-03-31"},{"$f":" Time!S$25","v":"2022-03-31"},{"$f":" Time!T$25","v":"2023-03-31"},{"$f":" Time!U$25","v":"2024-03-31"},{"$f":" Time!V$25","v":"2025-03-31"}]
[null,null,null,null,{"$f":" Time!E$80","v":"Timeline label"},null,null,null,null,{"$f":" Time!J$80","v":"Pre-Fcst"},{"$f":" Time!K$80","v":"Pre-Fcst"},{"$f":" Time!L$80","v":"Pre-Fcst"},{"$f":" Time!M$80","v":"Pre-Fcst"},{"$f":" Time!N$80","v":"Pre-Fcst"},{"$f":" Time!O$80","v":"Pre-Fcst"},{"$f":" Time!P$80","v":"Pre-Fcst"},{"$f":" Time!Q$80","v":"Pre-Fcst"},{"$f":" Time!R$80","v":"Forecast"},{"$f":" Time!S$80","v":"Forecast"},{"$f":" Time!T$80","v":"Forecast"},{"$f":" Time!U$80","v":"Forecast"},{"$f":" Time!V$80","v":"Forecast"}]
[null,null,null,null,{"$f":" Time!E$103","v":"Financial year ending"},null,null,null,null,{"$f":" Time!J$103","v":2013},{"$f":" Time!K$103","v":2014},{"$f":" Time!L$103","v":2015},{"$f":" Time!M$103","v":2016},{"$f":" Time!N$103","v":2017},{"$f":" Time!O$103","v":2018},{"$f":" Time!P$103","v":2019},{"$f":" Time!Q$103","v":2020},{"$f":" Time!R$103","v":2021},{"$f":" Time!S$103","v":2022},{"$f":" Time!T$103","v":2023},{"$f":" Time!U$103","v":2024},{"$f":" Time!V$103","v":2025}]
[{"$f":" IF(COUNTIF(A6:A169,\"< 0\") + COUNTIF(A6:A169,\">0\") <> 0, 1, 0)","v":0},null,null,"Input references",{"$f":" Time!E$10","v":"Model column counter"},"Constant","Unit","Total",null,{"$f":" Time!J$10","v":1},{"$f":" Time!K$10","v":2},{"$f":" Time!L$10","v":3},{"$f":" Time!M$10","v":4},{"$f":" Time!N$10","v":5},{"$f":" Time!O$10","v":6},{"$f":" Time!P$10","v":7},{"$f":" Time!Q$10","v":8},{"$f":" Time!R$10","v":9},{"$f":" Time!S$10","v":10},{"$f":" Time!T$10","v":11},{"$f":" Time!U$10","v":12},{"$f":" Time!V$10","v":13}]
[null,null,null,null,"[Used in formula range - Do not delete]"]
[]
["A: TIME"]
[]
[null,"Timeline setup"]
[]
[null,null,"Timeline start dates"]
["C001",null,null,null,"1st model column start date","2012-04-01","date","Date should be the first date of the financial year"]
[]
[null,null,"Financial year inputs"]
["C002",null,null,null,"First modelling column financial year#",2013,"year #","Financial model start year"]
["C003",null,null,null,"Financial year end month number",3,"month #","Month of financial year end for financial model"]
[]
[null,null,"Timeline labels"]
["C004",null,null,null,"Pre - forecast period","Pre-Fcst","label"]
["C005",null,null,null,"Forecast period","Forecast","label"]
["C006",null,null,null,"Post - forecast period","Post-Fcst","label"]
[]
[null,"Project dates"]
[]
["C007",null,null,null,"Forecast start date","2020-04-01","date"]
["C008",null,null,null,"Forecast duration",5,"years"]
["C009",null,null,null,"Forecast duration (text)",{"$f":" YEAR(F26) & \"-\" & TEXT(DATE(YEAR(F26) + F27, 1, 1), \"yy\")","v":"2020-25"},"years #","For info. only"]
[]
[]
["B: INDEXATION"]
[]
[null,"CPIH INDEXATION"]
[]
["BB3905AL",null,null,null,"Consumer Price Index for April",null,"index",null,null,{"$f":"InpActive!G7","v":95.9},{"$f":"InpActive!H7","v":98},{"$f":"InpActive!I7","v":99.6},{"$f":"InpActive!J7","v":99.9},{"$f":"InpActive!K7","v":100.6},{"$f":"InpActive!L7","v":103.2},{"$f":"InpActive!M7","v":105.5},{"$f":"InpActive!N7","v":107.6}]
["BB3905MY",null,null,null,"Consumer Price Index for May",null,"index",null,null,{"$f":"InpActive!G8","v":95.9},{"$f":"InpActive!H8","v":98.2},{"$f":"InpActive!I8","v":99.6},{"$f":"InpActive!J8","v":100.1},{"$f":"InpActive!K8","v":100.8},{"$f":"InpActive!L8","v":103.5},{"$f":"InpActive!M8","v":105.9},{"$f":"InpActive!N8","v":108}]
["BB3905JN",null,null,null,"Consumer Price Index for June",null,"index",null,null,{"$f":"InpActive!G9","v":95.6},{"$f":"InpActive!H9","v":98},{"$f":"InpActive!I9","v":99.8},{"$f":"InpActive!J9","v":100.1},{"$f":"InpActive!K9","v":101},{"$f":"InpActive!L9","v":103.5},{"$f":"InpActive!M9","v":105.9},{"$f":"InpActive!N9","v":108}]
["BB3905JL",null,null,null,"Consumer Price Index for July",null,"index",null,null,{"$f":"InpActive!G10","v":95.7},{"$f":"InpActive!H10","v":98},{"$f":"InpActive!I10","v":99.6},{"$f":"InpActive!J10","v":100},{"$f":"InpActive!K10","v":100.9},{"$f":"InpActive!L10","v":103.5},{"$f":"InpActive!M10","v":105.9},{"$f":"InpActive!N10","v":108}]
["BB3905AT",null,null,null,"Consumer Price Index for August",null,"index",null,null,{"$f":"InpActive!G11","v":96.1},{"$f":"InpActive!H11","v":98.4},{"$f":"InpActive!I11","v":99.9},{"$f":"InpActive!J11","v":100.3},{"$f":"InpActive!K11","v":101.2},{"$f":"InpActive!L11","v":104},{"$f":"InpActive!M11","v":106.5},{"$f":"InpActive!N11","v":108.6}]
["BB3905SR",null,null,null,"Consumer Price Index for September",null,"index",null,null,{"$f":"InpActive!G12","v":96.4},{"$f":"InpActive!H12","v":98.7},{"$f":"InpActive!I12","v":100},{"$f":"InpActive!J12","v":100.2},{"$f":"InpActive!K12","v":101.5},{"$f":"InpActive!L12","v":104.3},{"$f":"InpActive!M12","v":106.8},{"$f":"InpActive!N12","v":108.9}]
["BB3905OR",null,null,null,"Consumer Price Index for October",null,"index",null,null,{"$f":"InpActive!G13","v":96.8},{"$f":"InpActive!H13","v":98.8},{"$f":"InpActive!I13","v":100.1},{"$f":"InpActive!J13","v":100.3},{"$f":"InpActive!K13","v":101.6},{"$f":"InpActive!L13","v":104.4},{"$f":"InpActive!M13","v":106.9},{"$f":"InpActive!N13","v":109}]
["BB3905NR",null,null,null,"Consumer Price Index for November",null,"index",null,null,{"$f":"InpActive!G14","v":97},{"$f":"InpActive!H14","v":98.8},{"$f":"InpActive!I14","v":99.9},{"$f":"InpActive!J14","v":100.3},{"$f":"InpActive!K14","v":101.8},{"$f":"InpActive!L14","v":104.7},{"$f":"InpActive!M14","v":107.1},{"$f":"InpActive!N14","v":109.2}]
["BB3905DR",null,null,null,"Consumer Price Index for December",null,"index",null,null,{"$f":"InpActive!G15","v":97.3},{"$f":"InpActive!H15","v":99.2},{"$f":"InpActive!I15","v":99.9},{"$f":"InpActive!J15","v":100.4},{"$f":"InpActive!K15","v":102.2},{"$f":"InpActive!L15","v":105},{"$f":"InpActive!M15","v":107.5},{"$f":"InpActive!N15","v":109.7}]
["BB3905JY",null,null,null,"Consumer Price Index for January",null,"index",null,null,{"$f":"InpActive!G16","v":97},{"$f":"InpActive!H16","v":98.7},{"$f":"InpActive!I16","v":99.2},{"$f":"InpActive!J16","v":99.9},{"$f":"InpActive!K16","v":101.8},{"$f":"InpActive!L16","v":104.5},{"$f":"InpActive!M16","v":107},{"$f":"InpActive!N16","v":109.1}]
["BB3905FY",null,null,null,"Consumer Price Index for February",null,"index",null,null,{"$f":"InpActive!G17","v":97.5},{"$f":"InpActive!H17","v":99.1},{"$f":"InpActive!I17","v":99.5},{"$f":"InpActive!J17","v":100.1},{"$f":"InpActive!K17","v":102.4},{"$f":"InpActive!L17","v":104.9},{"$f":"InpActive!M17","v":107.3},{"$f":"InpActive!N17","v":109.4}]
["BB3905MH",null,null,null,"Consumer Price Index for March",null,"index",null,null,{"$f":"InpActive!G18","v":97.8},{"$f":"InpActive!H18","v":99.3},{"$f":"InpActive!I18","v":99.6},{"$f":"InpActive!J18","v":100.4},{"$f":"InpActive!K18","v":102.7},{"$f":"InpActive!L18","v":105.1},{"$f":"InpActive!M18","v":107.4},{"$f":"InpActive!N18","v":109.5}]
[]
[null,null,null,null,"CPIH: Assumed percentage increase for unpopulated monthly values",null,"%"]
[]
[null,"RPI INDEXATION"]
[]
["BB3805AL",null,null,null,"Retail Price Index for April",null,"index",null,null,{"$f":"InpActive!G19","v":242.5},{"$f":"InpActive!H19","v":249.5},{"$f":"InpActive!I19","v":255.7},{"$f":"InpActive!J19","v":258},{"$f":"InpActive!K19","v":261.39999999999998},{"$f":"InpActive!L19","v":270.60000000000002},{"$f":"InpActive!M19","v":279.7},{"$f":"InpActive!N19","v":288.2}]
["BB3805MY",null,null,null,"Retail Price Index for May",null,"index",null,null,{"$f":"InpActive!G20","v":242.4},{"$f":"InpActive!H20","v":250},{"$f":"InpActive!I20","v":255.9},{"$f":"InpActive!J20","v":258.5},{"$f":"InpActive!K20","v":262.10000000000002},{"$f":"InpActive!L20","v":271.7},{"$f":"InpActive!M20","v":280.7},{"$f":"InpActive!N20","v":289.2}]
["BB3805JN",null,null,null,"Retail Price Index for June",null,"index",null,null,{"$f":"InpActive!G21","v":241.8},{"$f":"InpActive!H21","v":249.7},{"$f":"InpActive!I21","v":256.3},{"$f":"InpActive!J21","v":258.89999999999998},{"$f":"InpActive!K21","v":263.10000000000002},{"$f":"InpActive!L21","v":272.3},{"$f":"InpActive!M21","v":281.5},{"$f":"InpActive!N21","v":289.2}]
["BB3805JL",null,null,null,"Retail Price Index for July",null,"index",null,null,{"$f":"InpActive!G22","v":242.1},{"$f":"InpActive!H22","v":249.7},{"$f":"InpActive!I22","v":256},{"$f":"InpActive!J22","v":258.60000000000002},{"$f":"InpActive!K22","v":263.39999999999998},{"$f":"InpActive!L22","v":272.89999999999998},{"$f":"InpActive!M22","v":281.7},{"$f":"InpActive!N22","v":288.8}]
["BB3805AT",null,null,null,"Retail Price Index for August",null,"index",null,null,{"$f":"InpActive!G23","v":243},{"$f":"InpActive!H23","v":251},{"$f":"InpActive!I23","v":257},{"$f":"InpActive!J23","v":259.8},{"$f":"InpActive!K23","v":264.39999999999998},{"$f":"InpActive!L23","v":274.7},{"$f":"InpActive!M23","v":284.2},{"$f":"InpActive!N23","v":292}]
["BB3805SR",null,null,null,"Retail Price Index for September",null,"index",null,null,{"$f":"InpActive!G24","v":244.2},{"$f":"InpActive!H24","v":251.9},{"$f":"InpActive!I24","v":257.60000000000002},{"$f":"InpActive!J24","v":259.60000000000002},{"$f":"InpActive!K24","v":264.89999999999998},{"$f":"InpActive!L24","v":275.10000000000002},{"$f":"InpActive!M24","v":284.10000000000002},{"$f":"InpActive!N24","v":291.89999999999998}]
["BB3805OR",null,null,null,"Retail Price Index for October",null,"index",null,null,{"$f":"InpActive!G25","v":245.6},{"$f":"InpActive!H25","v":251.9},{"$f":"InpActive!I25","v":257.7},{"$f":"InpActive!J25","v":259.5},{"$f":"InpActive!K25","v":264.8},{"$f":"InpActive!L25","v":275.3},{"$f":"InpActive!M25","v":284.5},{"$f":"InpActive!N25","v":292.3}]
["BB3805NR",null,null,null,"Retail Price Index for November",null,"index",null,null,{"$f":"InpActive!G26","v":245.6},{"$f":"InpActive!H26","v":252.1},{"$f":"InpActive!I26","v":257.10000000000002},{"$f":"InpActive!J26","v":259.8},{"$f":"InpActive!K26","v":265.5},{"$f":"InpActive!L26","v":275.8},{"$f":"InpActive!M26","v":284.60000000000002},{"$f":"InpActive!N26","v":292}]
["BB3805DR",null,null,null,"Retail Price Index for December",null,"index",null,null,{"$f":"InpActive!G27","v":246.8},{"$f":"InpActive!H27","v":253.4},{"$f":"InpActive!I27","v":257.5},{"$f":"InpActive!J27","v":260.60000000000002},{"$f":"InpActive!K27","v":267.10000000000002},{"$f":"InpActive!L27","v":278.10000000000002},{"$f":"InpActive!M27","v":285.60000000000002},{"$f":"InpActive!N27","v":293.39999999999998}]
["BB3805JY",null,null,null,"Retail Price Index for January",null,"index",null,null,{"$f":"InpActive!G28","v":245.8},{"$f":"InpActive!H28","v":252.6},{"$f":"InpActive!I28","v":255.4},{"$f":"InpActive!J28","v":258.8},{"$f":"InpActive!K28","v":265.5},{"$f":"InpActive!L28","v":276},{"$f":"InpActive!M28","v":283},{"$f":"InpActive!N28","v":290.7}]
["BB3805FY",null,null,null,"Retail Price Index for February",null,"index",null,null,{"$f":"InpActive!G29","v":247.6},{"$f":"InpActive!H29","v":254.2},{"$f":"InpActive!I29","v":256.7},{"$f":"InpActive!J29","v":260},{"$f":"InpActive!K29","v":268.39999999999998},{"$f":"InpActive!L29","v":278.10000000000002},{"$f":"InpActive!M29","v":285},{"$f":"InpActive!N29","v":292.8}]
["BB3805MH",null,null,null,"Retail Price Index for March",null,"index",null,null,{"$f":"InpActive!G30","v":248.7},{"$f":"InpActive!H30","v":254.8},{"$f":"InpActive!I30","v":257.10000000000002},{"$f":"InpActive!J30","v":261.10000000000002},{"$f":"InpActive!K30","v":269.3},{"$f":"InpActive!L30","v":278.3},{"$f":"InpActive!M30","v":285.10000000000002},{"$f":"InpActive!N30","v":292.8}]
[]
[null,null,null,null,"RPI: Assumed percentage increase for unpopulated monthly values",null,"%"]
[]
[null,"Inflation"]
[]
["C010",null,null,null,"Year reference for FYA base price 1",2013,"year #"]
["C011",null,null,null,"Year reference for FYA base price 2",2018,"year #"]
["C012",null,null,null,"Year reference for FYE base price 1",2020,"year #"]
["C013",null,null,null,"Year reference for FYE base price 2",2019,"year #"]
["C014",null,null,null,"Year reference for FYE end price",2020,"year #"]
[]
[null,"Deflation"]
[]
["C015",null,null,null,"Year reference for FYE base price",2020,"year #"]
["C016",null,null,null,"Year reference for FYA end price",2018,"year #"]
[]
[]
["C: REVENUE INPUTS"]
[]
[null,"Water services"]
[]
[null,null,null,"Water resources"]
[{"$f":"InpActive!B31","v":"C_APP27015_PD002"},null,null,null,"Net performance payment / (penalty) applied to revenue for in-period ODI adjustments ~ Water resources",{"$f":"InpActive!R31","v":0},"£m","2012/13 FYA"]
[{"$f":"InpActive!B32","v":"C_APP27022_PD002"},null,null,null,"Net performance payment / (penalty) applied to revenue for end of period ODI adjustments ~ Water resources",{"$f":"InpActive!R32","v":0.81},"£m","2012/13 FYA"]
[{"$f":"InpActive!B33","v":"C_WS17013_PR19D007"},null,null,null,"Total value of export incentive to be paid to water resources at PR19",{"$f":"InpActive!R33","v":0},"£m","2012/13 FYA"]
[{"$f":"InpActive!B34","v":"C_WS17025_PR19D007"},null,null,null,"Total value of import incentive - water resources",{"$f":"InpActive!R34","v":0},"£m","2012/13 FYA"]
[]
[null,null,null,"Water network plus"]
[{"$f":"InpActive!B35","v":"C00578_L021"},null,null,null,"Further 2010-15 reconciliation total adjustment carry forward to PR19 ~ Water network plus",{"$f":"InpActive!P35","v":0.75248822405791504},"£m","2012/13 FYA"]
[{"$f":"InpActive!B36","v":"C_APP27016_PD002"},null,null,null,"Net performance payment / (penalty) applied to revenue for in-period ODI adjustments ~ Water network plus",{"$f":"InpActive!R36","v":0.28299999999999997},"£m","2012/13 FYA"]
[{"$f":"InpActive!B37","v":"C_APP27023_PD002"},null,null,null,"Net performance payment / (penalty) applied to revenue for end of period ODI adjustments ~ Water network plus",{"$f":"InpActive!R37","v":7.31},"£m","2012/13 FYA"]
[{"$f":"InpActive!B38","v":"C_WS15024_PR19PD006"},null,null,null,"Water: revenue adjustment from totex menu model",{"$f":"InpActive!R38","v":-2.95032980775024},"£m","2012/13 FYA"]
[{"$f":"InpActive!B39","v":"C_WS17014_PR19D007"},null,null,null,"Total value of export incentive to be paid to water network plus at PR19",{"$f":"InpActive!R39","v":0},"£m","2012/13 FYA"]
[{"$f":"InpActive!B40","v":"C_WS17026_PR19D007"},null,null,null,"Total value of import incentive - water network plus",{"$f":"InpActive!R40","v":0},"£m","2012/13 FYA"]
[{"$f":"InpActive!B41","v":"C_WS13026_PR19PD005"},null,null,null,"WRFIM total reward / (penalty) at end of AMP6 ~ Water",{"$f":"InpActive!R41","v":-20.258925561502199},"£m","November 2018/2019"]
[{"$f":"InpActive!B58","v":"C003_PR19PD015"},null,null,null,"Other revenue adjustment - water network plus",{"$f":"InpActive!R58","v":0},"£m","2012/13 FYA"]
[]
[null,"Wastewater services"]
[]
[null,null,null,"Bioresources"]
[{"$f":"InpActive!B42","v":"C_APP27018_PD002"},null,null,null,"Net performance payment / (penalty) applied to revenue for in-period ODI adjustments ~ Bioresources",{"$f":"InpActive!R42","v":0},"£m","2012/13 FYA"]
[{"$f":"InpActive!B43","v":"C_APP27025_PD002"},null,null,null,"Net performance payment / (penalty) applied to revenue for end of period ODI adjustments ~ Bioresources",{"$f":"InpActive!R43","v":0},"£m","2012/13 FYA"]
[]
[null,null,null,"Wastewater network plus"]
[{"$f":"InpActive!B44","v":"C00585_L021"},null,null,null,"Further 2010-15 reconciliation total adjustment carry forward to PR19 ~ Wastewater network plus",{"$f":"InpActive!P44","v":1.27900113353895},"£m","2012/13 FYA"]
[{"$f":"InpActive!B45","v":"C_APP27017_PD002"},null,null,null,"Net performance payment / (penalty) applied to revenue for in-period ODI adjustments ~ Wastewater network plus",{"$f":"InpActive!R45","v":-0.88900000000000001},"£m","2012/13 FYA"]
[{"$f":"InpActive!B46","v":"C_APP27024_PD002"},null,null,null,"Net performance payment / (penalty) applied to revenue for end of period ODI adjustments ~ Wastewater network plus",{"$f":"InpActive!R46","v":0},"£m","2012/13 FYA"]
[{"$f":"InpActive!B47","v":"C_WWS15019_PR19PD006"},null,null,null,"Wastewater: revenue adjustment from totex menu model",{"$f":"InpActive!R47","v":1.60059810282559},"£m","2012/13 FYA"]
[{"$f":"InpActive!B48","v":"C_WWS13026_PR19PD005"},null,null,null,"WRFIM total reward / (penalty) at the end of AMP6 ~ Wastewater",{"$f":"InpActive!R48","v":-21.160554390609001},"£m","November 2018/2019"]
[{"$f":"InpActive!B59","v":"C006_PR19PD015"},null,null,null,"Other revenue adjustment - wastewater network plus",{"$f":"InpActive!R59","v":0},"£m","2012/13 FYA"]
[]
[null,null,null,"Dummy control"]
[{"$f":"InpActive!B49","v":"C_WWS15019_DMMY_PR19PD006"},null,null,null,"Dummy: revenue adjustment from totex menu model",{"$f":"InpActive!R49","v":0},"£m","2012/13 FYA"]
[{"$f":"InpActive!B50","v":"C_WWS13026_DMMY_PR19PD005"},null,null,null,"Dummy: WRFIM total reward / (penalty) at the end of AMP6",{"$f":"InpActive!R50","v":0},"£m","November 2018/2019"]
[]
[null,"Residential retail"]
[]
[{"$f":"InpActive!B51","v":"C_APP27019_PD002"},null,null,null,"Net performance payment / (penalty) applied to revenue for in-period ODI adjustments ~ Residential retail",{"$f":"InpActive!R51","v":0},"£m","2012/13 FYA"]
[{"$f":"InpActive!B52","v":"C_APP27026_PD002"},null,null,null,"Net performance payment / (penalty) applied to revenue for end of period ODI adjustments ~ Residential retail",{"$f":"InpActive!R52","v":0},"£m","2012/13 FYA"]
[{"$f":"InpActive!B53","v":"C_R9045_PR19PD008"},null,null,null,"Residential retail revenue adjustment at end of AMP6",{"$f":"InpActive!R53","v":-4.7614027365753904},"£m","2019/20 FYE"]
[{"$f":"InpActive!B54","v":"C_R10009_PR19PD009"},null,null,null,"SIM forecast revenue adjustment",{"$f":"InpActive!R54","v":-3.84009},"£m","2017/18 FYA"]
[]
[null,"Business retail"]
[]
[{"$f":"InpActive!B55","v":"C_APP27020_PD002"},null,null,null,"Net performance payment / (penalty) applied to revenue for in-period ODI adjustments ~ Business retail",{"$f":"InpActive!R55","v":0},"£m","2012/13 FYA"]
[{"$f":"InpActive!B56","v":"C_APP27027_PD002"},null,null,null,"Net performance payment / (penalty) applied to revenue for end of period ODI adjustments ~ Business retail",{"$f":"InpActive!R56","v":0},"£m","2012/13 FYA"]
["C_004_PR19PD014",null,null,null,"Non-household SIM adjustment - business retail",{"$f":"InpActive!R57","v":0},"£m","2017/18 FYA"]
[]
[]
["D: PROFILING INPUTS"]
[]
[null,"Discounting"]
[]
["C020",null,null,null,"PV base date","2021-03-31","date"]
[]
["C040",null,null,null,"Discount rate - Water resources",2.92E-2,"%"]
["C050",null,null,null,"Discount rate - Water network plus",2.92E-2,"%"]
["C060",null,null,null,"Discount rate - Bioresources",2.92E-2,"%"]
["C070",null,null,null,"Discount rate - Wastewater network plus",2.92E-2,"%"]
["C080",null,null,null,"Discount rate - Dummy control",2.92E-2,"%"]
["C090",null,null,null,"Discount rate - Residential retail",2.92E-2,"%"]
["C100",null,null,null,"Discount rate - Business retail",2.92E-2,"%"]
[]
["C030",null,null,null,"Number of years to profile over",5,"#"]
[]
[null,"Profile selector"]
[]
["C041",null,null,null,"Water resources revenue adjustment selector",2,"0 = Apply in first year, 1 = Constant annuity 2020-25, 2 = Even allocation - NPV neutral"]
["C051",null,null,null,"Water network plus revenue adjustment selector",2,"0 = Apply in first year, 1 = Constant annuity 2020-25, 2 = Even allocation - NPV neutral"]
["C061",null,null,null,"Bioesources revenue adjustment selector",2,"0 = Apply in first year, 1 = Constant annuity 2020-25, 2 = Even allocation - NPV neutral"]
["C071",null,null,null,"Wastewater network plus revenue adjustment selector",2,"0 = Apply in first year, 1 = Constant annuity 2020-25, 2 = Even allocation - NPV neutral"]
["C081",null,null,null,"Dummy control revenue adjustment selector",0,"0 = Apply in first year, 1 = Constant annuity 2020-25, 2 = Even allocation - NPV neutral"]
["C091",null,null,null,"Residential retail revenue adjustment selector",2,"0 = Apply in first year, 1 = Constant annuity 2020-25, 2 = Even allocation - NPV neutral"]
["C101",null,null,null,"Business retail revenue adjustment selector",0,"0 = Apply in first year, 1 = Constant annuity 2020-25, 2 = Even allocation - NPV neutral"]
[]
[]
["E: NON CHANGEABLE MODEL TECHNICAL INPUTS"]
[]
["C017",null,null,null,"Months per model period",12,"months"]
[]
["C018",null,null,null,"Months in a year",12,"months"]
[]
["C019",null,null,null,"Days in a year",365,"days"]
[]
[]
[null,null,null,null,"[Used in formula range - Do not delete]"]

{"sheet":"Time","index":8,"n_rows":103,"n_cols":22,"rows_kept":103,"cut":false,"hidden":false,"merged":[]}
[{"$f":" RIGHT(CELL(\"FILENAME\", $A$1), LEN(CELL(\"FILENAME\", $A$1)) - SEARCH(\"]\", CELL(\"FILENAME\", $A$1)))","v":"Time"}]
[null,null,null,null,{"$f":" Time!E$25","v":"Model period ending"},{"$f":"Checks!F$11","v":0},{"$f":"Checks!G$11","v":"Checks"},null,null,{"$f":" Time!J$25","v":"2013-03-31"},{"$f":" Time!K$25","v":"2014-03-31"},{"$f":" Time!L$25","v":"2015-03-31"},{"$f":" Time!M$25","v":"2016-03-31"},{"$f":" Time!N$25","v":"2017-03-31"},{"$f":" Time!O$25","v":"2018-03-31"},{"$f":" Time!P$25","v":"2019-03-31"},{"$f":" Time!Q$25","v":"2020-03-31"},{"$f":" Time!R$25","v":"2021-03-31"},{"$f":" Time!S$25","v":"2022-03-31"},{"$f":" Time!T$25","v":"2023-03-31"},{"$f":" Time!U$25","v":"2024-03-31"},{"$f":" Time!V$25","v":"2025-03-31"}]
[null,null,null,null,{"$f":" Time!E$80","v":"Timeline label"},null,null,null,null,{"$f":" Time!J$80","v":"Pre-Fcst"},{"$f":" Time!K$80","v":"Pre-Fcst"},{"$f":" Time!L$80","v":"Pre-Fcst"},{"$f":" Time!M$80","v":"Pre-Fcst"},{"$f":" Time!N$80","v":"Pre-Fcst"},{"$f":" Time!O$80","v":"Pre-Fcst"},{"$f":" Time!P$80","v":"Pre-Fcst"},{"$f":" Time!Q$80","v":"Pre-Fcst"},{"$f":" Time!R$80","v":"Forecast"},{"$f":" Time!S$80","v":"Forecast"},{"$f":" Time!T$80","v":"Forecast"},{"$f":" Time!U$80","v":"Forecast"},{"$f":" Time!V$80","v":"Forecast"}]
[null,null,null,null,{"$f":" Time!E$103","v":"Financial year ending"},null,null,null,null,{"$f":" Time!J$103","v":2013},{"$f":" Time!K$103","v":2014},{"$f":" Time!L$103","v":2015},{"$f":" Time!M$103","v":2016},{"$f":" Time!N$103","v":2017},{"$f":" Time!O$103","v":2018},{"$f":" Time!P$103","v":2019},{"$f":" Time!Q$103","v":2020},{"$f":" Time!R$103","v":2021},{"$f":" Time!S$103","v":2022},{"$f":" Time!T$103","v":2023},{"$f":" Time!U$103","v":2024},{"$f":" Time!V$103","v":2025}]
[null,null,null,null,{"$f":" Time!E$10","v":"Model column counter"},"Constant","Unit","Total",null,{"$f":" Time!J$10","v":1},{"$f":" Time!K$10","v":2},{"$f":" Time!L$10","v":3},{"$f":" Time!M$10","v":4},{"$f":" Time!N$10","v":5},{"$f":" Time!O$10","v":6},{"$f":" Time!P$10","v":7},{"$f":" Time!Q$10","v":8},{"$f":" Time!R$10","v":9},{"$f":" Time!S$10","v":10},{"$f":" Time!T$10","v":11},{"$f":" Time!U$10","v":12},{"$f":" Time!V$10","v":13}]
[]
["MODEL PERIOD"]
[]
[null,"Model column counter "]
[null,null,null,null,"Model column counter",null,"counter",null,null,{"$f":" I10 + 1","v":1},2,3,4,5,6,7,{"$f":" P10 + 1","v":8},{"$f":" Q10 + 1","v":9},{"$f":" R10 + 1","v":10},{"$f":" S10 + 1","v":11},{"$f":" T10 + 1","v":12},{"$f":" U10 + 1","v":13}]
[null,null,null,null,"Model column total",{"$f":" MAX(J10:V10)","v":13},"columns"]
[]
[null,null,null,null,{"$f":" E$10","v":"Model column counter"},0,"counter",0,0,1,2,3,4,5,6,7,8,9,10,11,12,13]
[null,null,null,null,"1st model column flag",null,"flag",{"$f":" SUM(J14:V14)","v":1},null,{"$f":" IF(J13 = 1, 1, 0)","v":1},0,0,0,0,0,0,{"$f":" IF(Q13 = 1, 1, 0)","v":0},0,0,0,0,0]
[]
[null,"Model period beginning"]
[null,null,null,null,{"$f":" Inputs!E$13","v":"1st model column start date"},{"$f":" Inputs!F$13","v":"2012-04-01"},{"$f":" Inputs!G$13","v":"date"}]
[null,null,null,null,{"$f":" Inputs!E$162","v":"Months per model period"},{"$f":" Inputs!F$162","v":12},{"$f":" Inputs!G$162","v":"months"}]
[null,null,null,null,{"$f":" E$14","v":"1st model column flag"},0,"flag",1,0,1,0,0,0,0,0,0,0,0,0,0,0,0]
[null,null,null,null,"Model period beginning",null,"date",null,null,{"$f":" IF(J19 = 1, $F17, DATE(YEAR(I20), MONTH(I20) + $F18, DAY(1)))","v":"2012-04-01"},"2013-04-01","2014-04-01","2015-04-01","2016-04-01","2017-04-01","2018-04-01",{"$f":" IF(Q19 = 1, $F17, DATE(YEAR(P20), MONTH(P20) + $F18, DAY(1)))","v":"2019-04-01"},{"$f":" IF(R19 = 1, $F17, DATE(YEAR(Q20), MONTH(Q20) + $F18, DAY(1)))","v":"2020-04-01"},{"$f":" IF(S19 = 1, $F17, DATE(YEAR(R20), MONTH(R20) + $F18, DAY(1)))","v":"2021-04-01"},{"$f":" IF(T19 = 1, $F17, DATE(YEAR(S20), MONTH(S20) + $F18, DAY(1)))","v":"2022-04-01"},{"$f":" IF(U19 = 1, $F17, DATE(YEAR(T20), MONTH(T20) + $F18, DAY(1)))","v":"2023-04-01"},{"$f":" IF(V19 = 1, $F17, DATE(YEAR(U20), MONTH(U20) + $F18, DAY(1)))","v":"2024-04-01"}]
[]
[null,"Model period ending"]
[null,null,null,null,{"$f":" Inputs!E$162","v":"Months per model period"},{"$f":" Inputs!F$162","v":12},{"$f":" Inputs!G$162","v":"months"}]
[null,null,null,null,{"$f":" E$20","v":"Model period beginning"},"00:00:00","date","00:00:00","00:00:00","2012-04-01","2013-04-01","2014-04-01","2015-04-01","2016-04-01","2017-04-01","2018-04-01","2019-04-01","2020-04-01","2021-04-01","2022-04-01","2023-04-01","2024-04-01"]
[null,null,null,null,"Model period ending",null,"date",null,null,{"$f":" DATE(YEAR(J24), MONTH(J24) + $F23, DAY(J24) - 1)","v":"2013-03-31"},"2014-03-31","2015-03-31","2016-03-31","2017-03-31","2018-03-31","2019-03-31",{"$f":" DATE(YEAR(Q24), MONTH(Q24) + $F23, DAY(Q24) - 1)","v":"2020-03-31"},"2021-03-31","2022-03-31","2023-03-31","2024-03-31","2025-03-31"]
[]
[]
["FORECAST PERIOD"]
[]
[null,"Forecast start period flag"]
[null,null,null,null,{"$f":" Inputs!E$26","v":"Forecast start date"},{"$f":" Inputs!F$26","v":"2020-04-01"},{"$f":" Inputs!G$26","v":"date"}]
[null,null,null,null,{"$f":" E$20","v":"Model period beginning"},"00:00:00","date","00:00:00","00:00:00","2012-04-01","2013-04-01","2014-04-01","2015-04-01","2016-04-01","2017-04-01","2018-04-01","2019-04-01","2020-04-01","2021-04-01","2022-04-01","2023-04-01","2024-04-01"]
[null,null,null,null,{"$f":" E$25","v":"Model period ending"},"00:00:00","date","00:00:00","00:00:00","2013-03-31","2014-03-31","2015-03-31","2016-03-31","2017-03-31","2018-03-31","2019-03-31","2020-03-31","2021-03-31","2022-03-31","2023-03-31","2024-03-31","2025-03-31"]
[null,null,null,null,"Forecast start period flag",null,"flag",{"$f":" SUM(J34:V34)","v":1},null,{"$f":" IF(AND($F31 >= J32, $F31 <= J33), 1, 0)","v":0},{"$f":" IF(AND($F31 >= K32, $F31 <= K33), 1, 0)","v":0},0,0,0,0,0,{"$f":" IF(AND($F31 >= Q32, $F31 <= Q33), 1, 0)","v":0},1,0,0,0,0]
[]
[null,"Forecast end period flag"]
[null,null,null,null,{"$f":" Inputs!E$26","v":"Forecast start date"},{"$f":" Inputs!F$26","v":"2020-04-01"},{"$f":" Inputs!G$26","v":"date"}]
[null,null,null,null,{"$f":" Inputs!E$27","v":"Forecast duration"},{"$f":" Inputs!F$27","v":5},{"$f":" Inputs!G$27","v":"years"}]
[null,null,null,null,"Forecast end date",{"$f":" DATE(YEAR(F37) + F38, MONTH(F37), DAY(F37) - 1)","v":"2025-03-31"},"date"]
[]
[null,null,null,null,{"$f":" E$39","v":"Forecast end date"},{"$f":" F$39","v":"2025-03-31"},{"$f":" G$39","v":"date"}]
[null,null,null,null,{"$f":" E$20","v":"Model period beginning"},"00:00:00","date","00:00:00","00:00:00","2012-04-01","2013-04-01","2014-04-01","2015-04-01","2016-04-01","2017-04-01","2018-04-01","2019-04-01","2020-04-01","2021-04-01","2022-04-01","2023-04-01","2024-04-01"]
[null,null,null,null,{"$f":" E$25","v":"Model period ending"},"00:00:00","date","00:00:00","00:00:00","2013-03-31","2014-03-31","2015-03-31","2016-03-31","2017-03-31","2018-03-31","2019-03-31","2020-03-31","2021-03-31","2022-03-31","2023-03-31","2024-03-31","2025-03-31"]
[null,null,null,null,"Forecast end period flag",null,"flag",{"$f":" SUM(J44:V44)","v":1},null,{"$f":" IF(AND($F41 >= J42, $F41 <= J43), 1, 0)","v":0},0,0,0,0,0,0,{"$f":" IF(AND($F41 >= Q42, $F41 <= Q43), 1, 0)","v":0},0,0,0,0,1]
[]
[null,"Forecast period flag"]
[null,null,null,null,{"$f":" E$34","v":"Forecast start period flag"},{"$f":" F$34","v":0},"flag",1,0,0,0,0,0,0,0,0,0,1,0,0,0,0]
[null,null,null,null,{"$f":" E$44","v":"Forecast end period flag"},{"$f":" F$44","v":0},"flag",1,0,0,0,0,0,0,0,0,0,0,0,0,0,1]
[null,null,null,null,"Forecast period flag",null,"flag",{"$f":" SUM(J49:V49)","v":5},null,{"$f":" J47 + I49 - I48","v":0},{"$f":" K47 + J49 - J48","v":0},0,0,0,0,0,{"$f":" Q47 + P49 - P48","v":0},{"$f":" R47 + Q49 - Q48","v":1},{"$f":" S47 + R49 - R48","v":1},{"$f":" T47 + S49 - S48","v":1},{"$f":" U47 + T49 - T48","v":1},{"$f":" V47 + U49 - U48","v":1}]
[null,null,null,null,"Total number of forecast periods ",{"$f":" SUM(J49:V49)","v":5},"periods"]
[]
[null,"Pre-forecast period flag"]
[null,null,null,null,{"$f":" E$14","v":"1st model column flag"},{"$f":" F$14","v":0},"flag",1,0,1,0,0,0,0,0,0,0,0,0,0,0,0]
[null,null,null,null,{"$f":" E$34","v":"Forecast start period flag"},{"$f":" F$34","v":0},"flag",1,0,0,0,0,0,0,0,0,0,1,0,0,0,0]
[null,null,null,null,"Pre-forecast period flag",null,"flag",{"$f":" SUM(J55:V55)","v":8},null,{"$f":" J53 + I55 - J54","v":1},{"$f":" K53 + J55 - K54","v":1},1,1,1,1,1,{"$f":" Q53 + P55 - Q54","v":1},{"$f":" R53 + Q55 - R54","v":0},{"$f":" S53 + R55 - S54","v":0},{"$f":" T53 + S55 - T54","v":0},{"$f":" U53 + T55 - U54","v":0},{"$f":" V53 + U55 - V54","v":0}]
[null,null,null,null,"Pre-forecast period flag - total",{"$f":" SUM(J55:V55)","v":8},"periods"]
[]
[null,"First post-forecast period flag"]
[null,null,null,null,{"$f":" E$44","v":"Forecast end period flag"},{"$f":" F$44","v":0},"flag",1,0,0,0,0,0,0,0,0,0,0,0,0,0,1]
[null,null,null,null,"First post-forecast period flag",null,"flag",{"$f":" SUM(J60:V60)","v":0},null,{"$f":" I59","v":0},{"$f":" J59","v":0},0,0,0,0,0,{"$f":" P59","v":0},{"$f":" Q59","v":0},{"$f":" R59","v":0},{"$f":" S59","v":0},{"$f":" T59","v":0},{"$f":" U59","v":0}]
[]
[null,"Post-forecast period flag"]
[null,null,null,null,{"$f":" E$60","v":"First post-forecast period flag"},0,"flag",0,0,0,0,0,0,0,0,0,0,0,0,0,0,0]
[null,null,null,null,"Post-forecast period flag",null,"flag",{"$f":" SUM(J64:V64)","v":0},null,{"$f":" J63 + I64","v":0},{"$f":" K63 + J64","v":0},0,0,0,0,0,{"$f":" Q63 + P64","v":0},{"$f":" R63 + Q64","v":0},{"$f":" S63 + R64","v":0},{"$f":" T63 + S64","v":0},{"$f":" U63 + T64","v":0},{"$f":" V63 + U64","v":0}]
[null,null,null,null,"Post-forecast period - total",{"$f":" SUM(J64:V64)","v":0},"periods"]
[]
[]
["MODEL TIMELINE"]
[]
[null,"Timeline label"]
[null,null,null,null,{"$f":" E$14","v":"1st model column flag"},0,"flag",1,0,1,0,0,0,0,0,0,0,0,0,0,0,0]
[null,null,null,null,{"$f":" E$34","v":"Forecast start period flag"},{"$f":" F$34","v":0},"flag",1,0,0,0,0,0,0,0,0,0,1,0,0,0,0]
[null,null,null,null,{"$f":" E$60","v":"First post-forecast period flag"},0,"flag",0,0,0,0,0,0,0,0,0,0,0,0,0,0,0]
[null,null,null,null,"Timeline label counter",null,"counter",null,null,{"$f":" I74 + SUM(J71:J73)","v":1},1,1,1,1,1,1,{"$f":" P74 + SUM(Q71:Q73)","v":1},{"$f":" Q74 + SUM(R71:R73)","v":2},{"$f":" R74 + SUM(S71:S73)","v":2},{"$f":" S74 + SUM(T71:T73)","v":2},{"$f":" T74 + SUM(U71:U73)","v":2},{"$f":" U74 + SUM(V71:V73)","v":2}]
[]
[null,null,null,null,{"$f":" Inputs!E$20","v":"Pre - forecast period"},{"$f":" Inputs!F$20","v":"Pre-Fcst"},{"$f":" Inputs!G$20","v":"label"}]
[null,null,null,null,{"$f":" Inputs!E$21","v":"Forecast period"},{"$f":" Inputs!F$21","v":"Forecast"},{"$f":" Inputs!G$21","v":"label"}]
[null,null,null,null,{"$f":" Inputs!E$22","v":"Post - forecast period"},{"$f":" Inputs!F$22","v":"Post-Fcst"},{"$f":" Inputs!G$22","v":"label"}]
[null,null,null,null,{"$f":" E$74","v":"Timeline label counter"},0,"counter",0,0,1,1,1,1,1,1,1,1,2,2,2,2,2]
[null,null,null,null,"Timeline label",null,"label",null,null,{"$f":" INDEX($F76:$F78, J79)","v":"Pre-Fcst"},"Pre-Fcst","Pre-Fcst","Pre-Fcst","Pre-Fcst","Pre-Fcst","Pre-Fcst",{"$f":" INDEX($F76:$F78, Q79)","v":"Pre-Fcst"},"Forecast","Forecast","Forecast","Forecast","Forecast"]
[]
[null,"Modelling period check"]
[null,null,null,null,{"$f":" E$55","v":"Pre-forecast period flag"},{"$f":" F$55","v":0},"flag",8,0,1,1,1,1,1,1,1,1,0,0,0,0,0]
[null,null,null,null,{"$f":" E$49","v":"Forecast period flag"},{"$f":" F$49","v":0},"flag",5,0,0,0,0,0,0,0,0,0,1,1,1,1,1]
[null,null,null,null,{"$f":" E$64","v":"Post-forecast period flag"},0,"flag",0,0,0,0,0,0,0,0,0,0,0,0,0,0,0]
[null,null,null,null,"No. of overlapping in flags",null,"#",{"$f":" SUM(J86:V86)","v":0},null,{"$f":" MAX(0, SUM(J83:J85) - 1)","v":0},0,0,0,0,0,0,{"$f":" MAX(0, SUM(Q83:Q85) - 1)","v":0},0,0,0,0,0]
[null,null,null,null,"Overlapping in periods - total",{"$f":" SUM(J86:V86)","v":0},"periods"]
[]
[null,null,null,null,{"$f":" E$11","v":"Model column total"},{"$f":" F$11","v":13},{"$f":" G$11","v":"columns"}]
[null,null,null,null,{"$f":" E$87","v":"Overlapping in periods - total"},{"$f":" F$87","v":0},{"$f":" G$87","v":"periods"}]
[null,null,null,null,{"$f":" E$56","v":"Pre-forecast period flag - total"},{"$f":" F$56","v":8},{"$f":" G$56","v":"periods"}]
[null,null,null,null,{"$f":" E$50","v":"Total number of forecast periods "},{"$f":" F$50","v":5},{"$f":" G$50","v":"periods"}]
[null,null,null,null,{"$f":" E$65","v":"Post-forecast period - total"},{"$f":" F$65","v":0},{"$f":" G$65","v":"periods"}]
[null,null,null,null,"Modelling period check",{"$f":" IF(SUM(F89:F90) - SUM(F91:F93) <> 0, 1, 0)","v":0},"check"]
[]
[]
["FINANCIAL YEAR"]
[]
[null,null,null,null,{"$f":" Inputs!E$16","v":"First modelling column financial year#"},{"$f":" Inputs!F$16","v":2013},{"$f":" Inputs!G$16","v":"year #"}]
[null,null,null,null,{"$f":" Inputs!E$17","v":"Financial year end month number"},{"$f":" Inputs!F$17","v":3},{"$f":" Inputs!G$17","v":"month #"}]
[null,null,null,null,{"$f":" E$25","v":"Model period ending"},"00:00:00","date","00:00:00","00:00:00","2013-03-31","2014-03-31","2015-03-31","2016-03-31","2017-03-31","2018-03-31","2019-03-31","2020-03-31","2021-03-31","2022-03-31","2023-03-31","2024-03-31","2025-03-31"]
[null,null,null,null,{"$f":" E$14","v":"1st model column flag"},0,"flag",1,0,1,0,0,0,0,0,0,0,0,0,0,0,0]
[null,null,null,null,"Financial year ending",null,"year #",null,null,{"$f":" IF(J102 = 1, $F99, IF(J101 > (DATE(I103, $F100 + 1, 1) - 1), I103 + 1, I103))","v":2013},2014,2015,2016,2017,2018,2019,{"$f":" IF(Q102 = 1, $F99, IF(Q101 > (DATE(P103, $F100 + 1, 1) - 1), P103 + 1, P103))","v":2020},{"$f":" IF(R102 = 1, $F99, IF(R101 > (DATE(Q103, $F100 + 1, 1) - 1), Q103 + 1, Q103))","v":2021},{"$f":" IF(S102 = 1, $F99, IF(S101 > (DATE(R103, $F100 + 1, 1) - 1), R103 + 1, R103))","v":2022},{"$f":" IF(T102 = 1, $F99, IF(T101 > (DATE(S103, $F100 + 1, 1) - 1), S103 + 1, S103))","v":2023},{"$f":" IF(U102 = 1, $F99, IF(U101 > (DATE(T103, $F100 + 1, 1) - 1), T103 + 1, T103))","v":2024},{"$f":" IF(V102 = 1, $F99, IF(V101 > (DATE(U103, $F100 + 1, 1) - 1), U103 + 1, U103))","v":2025}]

{"sheet":"Indexation","index":9,"n_rows":111,"n_cols":22,"rows_kept":111,"cut":false,"hidden":false,"merged":[]}
[{"$f":" RIGHT(CELL(\"filename\", $A$1), LEN(CELL(\"filename\", $A$1)) - SEARCH(\"]\", CELL(\"filename\", $A$1)))","v":"Indexation"}]
[null,null,null,null,{"$f":" Time!E$25","v":"Model period ending"},{"$f":"Checks!F$11","v":0},{"$f":"Checks!G$11","v":"Checks"},null,null,{"$f":" Time!J$25","v":"2013-03-31"},{"$f":" Time!K$25","v":"2014-03-31"},{"$f":" Time!L$25","v":"2015-03-31"},{"$f":" Time!M$25","v":"2016-03-31"},{"$f":" Time!N$25","v":"2017-03-31"},{"$f":" Time!O$25","v":"2018-03-31"},{"$f":" Time!P$25","v":"2019-03-31"},{"$f":" Time!Q$25","v":"2020-03-31"},{"$f":" Time!R$25","v":"2021-03-31"},{"$f":" Time!S$25","v":"2022-03-31"},{"$f":" Time!T$25","v":"2023-03-31"},{"$f":" Time!U$25","v":"2024-03-31"},{"$f":" Time!V$25","v":"2025-03-31"}]
[null,null,null,null,{"$f":" Time!E$80","v":"Timeline label"},null,null,null,null,{"$f":" Time!J$80","v":"Pre-Fcst"},{"$f":" Time!K$80","v":"Pre-Fcst"},{"$f":" Time!L$80","v":"Pre-Fcst"},{"$f":" Time!M$80","v":"Pre-Fcst"},{"$f":" Time!N$80","v":"Pre-Fcst"},{"$f":" Time!O$80","v":"Pre-Fcst"},{"$f":" Time!P$80","v":"Pre-Fcst"},{"$f":" Time!Q$80","v":"Pre-Fcst"},{"$f":" Time!R$80","v":"Forecast"},{"$f":" Time!S$80","v":"Forecast"},{"$f":" Time!T$80","v":"Forecast"},{"$f":" Time!U$80","v":"Forecast"},{"$f":" Time!V$80","v":"Forecast"}]
[null,null,null,null,{"$f":" Time!E$103","v":"Financial year ending"},null,null,null,null,{"$f":" Time!J$103","v":2013},{"$f":" Time!K$103","v":2014},{"$f":" Time!L$103","v":2015},{"$f":" Time!M$103","v":2016},{"$f":" Time!N$103","v":2017},{"$f":" Time!O$103","v":2018},{"$f":" Time!P$103","v":2019},{"$f":" Time!Q$103","v":2020},{"$f":" Time!R$103","v":2021},{"$f":" Time!S$103","v":2022},{"$f":" Time!T$103","v":2023},{"$f":" Time!U$103","v":2024},{"$f":" Time!V$103","v":2025}]
[null,null,null,null,{"$f":" Time!E$10","v":"Model column counter"},"Constant","Unit","Total",null,{"$f":" Time!J$10","v":1},{"$f":" Time!K$10","v":2},{"$f":" Time!L$10","v":3},{"$f":" Time!M$10","v":4},{"$f":" Time!N$10","v":5},{"$f":" Time!O$10","v":6},{"$f":" Time!P$10","v":7},{"$f":" Time!Q$10","v":8},{"$f":" Time!R$10","v":9},{"$f":" Time!S$10","v":10},{"$f":" Time!T$10","v":11},{"$f":" Time!U$10","v":12},{"$f":" Time!V$10","v":13}]
[]
["CPIH INDEXATION"]
[]
[null,"CPIH: Index value series"]
[null,null,null,null,{"$f":" Inputs!E$35","v":"Consumer Price Index for April"},{"$f":" Inputs!F$35","v":0},{"$f":" Inputs!G$35","v":"index"},{"$f":" Inputs!H$35","v":0},{"$f":" Inputs!I$35","v":0},{"$f":" Inputs!J$35","v":95.9},{"$f":" Inputs!K$35","v":98},{"$f":" Inputs!L$35","v":99.6},{"$f":" Inputs!M$35","v":99.9},{"$f":" Inputs!N$35","v":100.6},{"$f":" Inputs!O$35","v":103.2},{"$f":" Inputs!P$35","v":105.5},{"$f":" Inputs!Q$35","v":107.6},{"$f":" Inputs!R$35","v":0},{"$f":" Inputs!S$35","v":0},{"$f":" Inputs!T$35","v":0},{"$f":" Inputs!U$35","v":0},{"$f":" Inputs!V$35","v":0}]
[null,null,null,null,{"$f":" Inputs!E$36","v":"Consumer Price Index for May"},{"$f":" Inputs!F$36","v":0},{"$f":" Inputs!G$36","v":"index"},{"$f":" Inputs!H$36","v":0},{"$f":" Inputs!I$36","v":0},{"$f":" Inputs!J$36","v":95.9},{"$f":" Inputs!K$36","v":98.2},{"$f":" Inputs!L$36","v":99.6},{"$f":" Inputs!M$36","v":100.1},{"$f":" Inputs!N$36","v":100.8},{"$f":" Inputs!O$36","v":103.5},{"$f":" Inputs!P$36","v":105.9},{"$f":" Inputs!Q$36","v":108},{"$f":" Inputs!R$36","v":0},{"$f":" Inputs!S$36","v":0},{"$f":" Inputs!T$36","v":0},{"$f":" Inputs!U$36","v":0},{"$f":" Inputs!V$36","v":0}]
[null,null,null,null,{"$f":" Inputs!E$37","v":"Consumer Price Index for June"},{"$f":" Inputs!F$37","v":0},{"$f":" Inputs!G$37","v":"index"},{"$f":" Inputs!H$37","v":0},{"$f":" Inputs!I$37","v":0},{"$f":" Inputs!J$37","v":95.6},{"$f":" Inputs!K$37","v":98},{"$f":" Inputs!L$37","v":99.8},{"$f":" Inputs!M$37","v":100.1},{"$f":" Inputs!N$37","v":101},{"$f":" Inputs!O$37","v":103.5},{"$f":" Inputs!P$37","v":105.9},{"$f":" Inputs!Q$37","v":108},{"$f":" Inputs!R$37","v":0},{"$f":" Inputs!S$37","v":0},{"$f":" Inputs!T$37","v":0},{"$f":" Inputs!U$37","v":0},{"$f":" Inputs!V$37","v":0}]
[null,null,null,null,{"$f":" Inputs!E$38","v":"Consumer Price Index for July"},{"$f":" Inputs!F$38","v":0},{"$f":" Inputs!G$38","v":"index"},{"$f":" Inputs!H$38","v":0},{"$f":" Inputs!I$38","v":0},{"$f":" Inputs!J$38","v":95.7},{"$f":" Inputs!K$38","v":98},{"$f":" Inputs!L$38","v":99.6},{"$f":" Inputs!M$38","v":100},{"$f":" Inputs!N$38","v":100.9},{"$f":" Inputs!O$38","v":103.5},{"$f":" Inputs!P$38","v":105.9},{"$f":" Inputs!Q$38","v":108},{"$f":" Inputs!R$38","v":0},{"$f":" Inputs!S$38","v":0},{"$f":" Inputs!T$38","v":0},{"$f":" Inputs!U$38","v":0},{"$f":" Inputs!V$38","v":0}]
[null,null,null,null,{"$f":" Inputs!E$39","v":"Consumer Price Index for August"},{"$f":" Inputs!F$39","v":0},{"$f":" Inputs!G$39","v":"index"},{"$f":" Inputs!H$39","v":0},{"$f":" Inputs!I$39","v":0},{"$f":" Inputs!J$39","v":96.1},{"$f":" Inputs!K$39","v":98.4},{"$f":" Inputs!L$39","v":99.9},{"$f":" Inputs!M$39","v":100.3},{"$f":" Inputs!N$39","v":101.2},{"$f":" Inputs!O$39","v":104},{"$f":" Inputs!P$39","v":106.5},{"$f":" Inputs!Q$39","v":108.6},{"$f":" Inputs!R$39","v":0},{"$f":" Inputs!S$39","v":0},{"$f":" Inputs!T$39","v":0},{"$f":" Inputs!U$39","v":0},{"$f":" Inputs!V$39","v":0}]
[null,null,null,null,{"$f":" Inputs!E$40","v":"Consumer Price Index for September"},{"$f":" Inputs!F$40","v":0},{"$f":" Inputs!G$40","v":"index"},{"$f":" Inputs!H$40","v":0},{"$f":" Inputs!I$40","v":0},{"$f":" Inputs!J$40","v":96.4},{"$f":" Inputs!K$40","v":98.7},{"$f":" Inputs!L$40","v":100},{"$f":" Inputs!M$40","v":100.2},{"$f":" Inputs!N$40","v":101.5},{"$f":" Inputs!O$40","v":104.3},{"$f":" Inputs!P$40","v":106.8},{"$f":" Inputs!Q$40","v":108.9},{"$f":" Inputs!R$40","v":0},{"$f":" Inputs!S$40","v":0},{"$f":" Inputs!T$40","v":0},{"$f":" Inputs!U$40","v":0},{"$f":" Inputs!V$40","v":0}]
[null,null,null,null,{"$f":" Inputs!E$41","v":"Consumer Price Index for October"},{"$f":" Inputs!F$41","v":0},{"$f":" Inputs!G$41","v":"index"},{"$f":" Inputs!H$41","v":0},{"$f":" Inputs!I$41","v":0},{"$f":" Inputs!J$41","v":96.8},{"$f":" Inputs!K$41","v":98.8},{"$f":" Inputs!L$41","v":100.1},{"$f":" Inputs!M$41","v":100.3},{"$f":" Inputs!N$41","v":101.6},{"$f":" Inputs!O$41","v":104.4},{"$f":" Inputs!P$41","v":106.9},{"$f":" Inputs!Q$41","v":109},{"$f":" Inputs!R$41","v":0},{"$f":" Inputs!S$41","v":0},{"$f":" Inputs!T$41","v":0},{"$f":" Inputs!U$41","v":0},{"$f":" Inputs!V$41","v":0}]
[null,null,null,null,{"$f":" Inputs!E$42","v":"Consumer Price Index for November"},{"$f":" Inputs!F$42","v":0},{"$f":" Inputs!G$42","v":"index"},{"$f":" Inputs!H$42","v":0},{"$f":" Inputs!I$42","v":0},{"$f":" Inputs!J$42","v":97},{"$f":" Inputs!K$42","v":98.8},{"$f":" Inputs!L$42","v":99.9},{"$f":" Inputs!M$42","v":100.3},{"$f":" Inputs!N$42","v":101.8},{"$f":" Inputs!O$42","v":104.7},{"$f":" Inputs!P$42","v":107.1},{"$f":" Inputs!Q$42","v":109.2},{"$f":" Inputs!R$42","v":0},{"$f":" Inputs!S$42","v":0},{"$f":" Inputs!T$42","v":0},{"$f":" Inputs!U$42","v":0},{"$f":" Inputs!V$42","v":0}]
[null,null,null,null,{"$f":" Inputs!E$43","v":"Consumer Price Index for December"},{"$f":" Inputs!F$43","v":0},{"$f":" Inputs!G$43","v":"index"},{"$f":" Inputs!H$43","v":0},{"$f":" Inputs!I$43","v":0},{"$f":" Inputs!J$43","v":97.3},{"$f":" Inputs!K$43","v":99.2},{"$f":" Inputs!L$43","v":99.9},{"$f":" Inputs!M$43","v":100.4},{"$f":" Inputs!N$43","v":102.2},{"$f":" Inputs!O$43","v":105},{"$f":" Inputs!P$43","v":107.5},{"$f":" Inputs!Q$43","v":109.7},{"$f":" Inputs!R$43","v":0},{"$f":" Inputs!S$43","v":0},{"$f":" Inputs!T$43","v":0},{"$f":" Inputs!U$43","v":0},{"$f":" Inputs!V$43","v":0}]
[null,null,null,null,{"$f":" Inputs!E$44","v":"Consumer Price Index for January"},{"$f":" Inputs!F$44","v":0},{"$f":" Inputs!G$44","v":"index"},{"$f":" Inputs!H$44","v":0},{"$f":" Inputs!I$44","v":0},{"$f":" Inputs!J$44","v":97},{"$f":" Inputs!K$44","v":98.7},{"$f":" Inputs!L$44","v":99.2},{"$f":" Inputs!M$44","v":99.9},{"$f":" Inputs!N$44","v":101.8},{"$f":" Inputs!O$44","v":104.5},{"$f":" Inputs!P$44","v":107},{"$f":" Inputs!Q$44","v":109.1},{"$f":" Inputs!R$44","v":0},{"$f":" Inputs!S$44","v":0},{"$f":" Inputs!T$44","v":0},{"$f":" Inputs!U$44","v":0},{"$f":" Inputs!V$44","v":0}]
[null,null,null,null,{"$f":" Inputs!E$45","v":"Consumer Price Index for February"},{"$f":" Inputs!F$45","v":0},{"$f":" Inputs!G$45","v":"index"},{"$f":" Inputs!H$45","v":0},{"$f":" Inputs!I$45","v":0},{"$f":" Inputs!J$45","v":97.5},{"$f":" Inputs!K$45","v":99.1},{"$f":" Inputs!L$45","v":99.5},{"$f":" Inputs!M$45","v":100.1},{"$f":" Inputs!N$45","v":102.4},{"$f":" Inputs!O$45","v":104.9},{"$f":" Inputs!P$45","v":107.3},{"$f":" Inputs!Q$45","v":109.4},{"$f":" Inputs!R$45","v":0},{"$f":" Inputs!S$45","v":0},{"$f":" Inputs!T$45","v":0},{"$f":" Inputs!U$45","v":0},{"$f":" Inputs!V$45","v":0}]
[null,null,null,null,{"$f":" Inputs!E$46","v":"Consumer Price Index for March"},{"$f":" Inputs!F$46","v":0},{"$f":" Inputs!G$46","v":"index"},{"$f":" Inputs!H$46","v":0},{"$f":" Inputs!I$46","v":0},{"$f":" Inputs!J$46","v":97.8},{"$f":" Inputs!K$46","v":99.3},{"$f":" Inputs!L$46","v":99.6},{"$f":" Inputs!M$46","v":100.4},{"$f":" Inputs!N$46","v":102.7},{"$f":" Inputs!O$46","v":105.1},{"$f":" Inputs!P$46","v":107.4},{"$f":" Inputs!Q$46","v":109.5},{"$f":" Inputs!R$46","v":0},{"$f":" Inputs!S$46","v":0},{"$f":" Inputs!T$46","v":0},{"$f":" Inputs!U$46","v":0},{"$f":" Inputs!V$46","v":0}]
[]
[null,null,null,null,{"$f":" Inputs!E$48","v":"CPIH: Assumed percentage increase for unpopulated monthly values"},{"$f":" Inputs!F$48","v":0},{"$f":" Inputs!G$48","v":"%"},{"$f":" Inputs!H$48","v":0},{"$f":" Inputs!I$48","v":0},{"$f":" Inputs!J$48","v":0},{"$f":" Inputs!K$48","v":0},{"$f":" Inputs!L$48","v":0},{"$f":" Inputs!M$48","v":0},{"$f":" Inputs!N$48","v":0},{"$f":" Inputs!O$48","v":0},{"$f":" Inputs!P$48","v":0},{"$f":" Inputs!Q$48","v":0},{"$f":" Inputs!R$48","v":0},{"$f":" Inputs!S$48","v":0},{"$f":" Inputs!T$48","v":0},{"$f":" Inputs!U$48","v":0},{"$f":" Inputs!V$48","v":0}]
[]
[null,null,null,null,"CPIH: April - index",null,"index",null,null,{"$f":" IF(J10 > 0, J10, I25 * (1 + J$23))","v":95.9},{"$f":" IF(K10 > 0, K10, J25 * (1 + K$23))","v":98},99.6,99.9,100.6,103.2,105.5,{"$f":" IF(Q10 > 0, Q10, P25 * (1 + Q$23))","v":107.6},{"$f":" IF(R10 > 0, R10, Q25 * (1 + R$23))","v":107.6},{"$f":" IF(S10 > 0, S10, R25 * (1 + S$23))","v":107.6},{"$f":" IF(T10 > 0, T10, S25 * (1 + T$23))","v":107.6},{"$f":" IF(U10 > 0, U10, T25 * (1 + U$23))","v":107.6},{"$f":" IF(V10 > 0, V10, U25 * (1 + V$23))","v":107.6}]
[null,null,null,null,"CPIH: May - index",null,"index",null,null,{"$f":" IF(J11 > 0, J11, I26 * (1 + J$23))","v":95.9},98.2,99.6,100.1,100.8,103.5,105.9,108,108,108,108,108,108]
[null,null,null,null,"CPIH: June - index",null,"index",null,null,95.6,98,99.8,100.1,101,103.5,105.9,108,108,108,108,108,108]
[null,null,null,null,"CPIH: July - index",null,"index",null,null,95.7,98,99.6,100,100.9,103.5,105.9,108,108,108,108,108,108]
[null,null,null,null,"CPIH: August - index",null,"index",null,null,96.1,98.4,99.9,100.3,101.2,104,106.5,108.6,108.6,108.6,108.6,108.6,108.6]
[null,null,null,null,"CPIH: September- index",null,"index",null,null,96.4,98.7,100,100.2,101.5,104.3,106.8,108.9,108.9,108.9,108.9,108.9,108.9]
[null,null,null,null,"CPIH: October - index",null,"index",null,null,96.8,98.8,100.1,100.3,101.6,104.4,106.9,109,109,109,109,109,109]
[null,null,null,null,"CPIH: November - index",null,"index",null,null,97,98.8,99.9,100.3,101.8,104.7,107.1,109.2,109.2,109.2,109.2,109.2,109.2]
[null,null,null,null,"CPIH: December - index",null,"index",null,null,97.3,99.2,99.9,100.4,102.2,105,107.5,109.7,109.7,109.7,109.7,109.7,109.7]
[null,null,null,null,"CPIH: January - index",null,"index",null,null,97,98.7,99.2,99.9,101.8,104.5,107,109.1,109.1,109.1,109.1,109.1,109.1]
[null,null,null,null,"CPIH: February - index",null,"index",null,null,97.5,99.1,99.5,100.1,102.4,104.9,107.3,109.4,109.4,109.4,109.4,109.4,109.4]
[null,null,null,null,"CPIH: March - index",null,"index",null,null,97.8,99.3,99.6,100.4,102.7,105.1,107.4,109.5,109.5,109.5,109.5,109.5,109.5]
[]
[null,null,null,null,"CPIH: Financial year average - index",null,"index",null,null,{"$f":" AVERAGE(J25:J36)","v":96.583333333333314},98.600000000000009,99.72499999999998,100.16666666666667,101.54166666666667,104.21666666666665,106.64166666666667,{"$f":" AVERAGE(Q25:Q36)","v":108.75000000000001},108.75000000000001,108.75000000000001,108.75000000000001,108.75000000000001,108.75000000000001]
[]
[]
["RPI INDEXATION"]
[]
[null,"RPI: Index value series"]
[null,null,null,null,{"$f":" Inputs!E$52","v":"Retail Price Index for April"},{"$f":" Inputs!F$52","v":0},{"$f":" Inputs!G$52","v":"index"},{"$f":" Inputs!H$52","v":0},{"$f":" Inputs!I$52","v":0},{"$f":" Inputs!J$52","v":242.5},{"$f":" Inputs!K$52","v":249.5},{"$f":" Inputs!L$52","v":255.7},{"$f":" Inputs!M$52","v":258},{"$f":" Inputs!N$52","v":261.39999999999998},{"$f":" Inputs!O$52","v":270.60000000000002},{"$f":" Inputs!P$52","v":279.7},{"$f":" Inputs!Q$52","v":288.2},{"$f":" Inputs!R$52","v":0},{"$f":" Inputs!S$52","v":0},{"$f":" Inputs!T$52","v":0},{"$f":" Inputs!U$52","v":0},{"$f":" Inputs!V$52","v":0}]
[null,null,null,null,{"$f":" Inputs!E$53","v":"Retail Price Index for May"},{"$f":" Inputs!F$53","v":0},{"$f":" Inputs!G$53","v":"index"},{"$f":" Inputs!H$53","v":0},{"$f":" Inputs!I$53","v":0},{"$f":" Inputs!J$53","v":242.4},{"$f":" Inputs!K$53","v":250},{"$f":" Inputs!L$53","v":255.9},{"$f":" Inputs!M$53","v":258.5},{"$f":" Inputs!N$53","v":262.10000000000002},{"$f":" Inputs!O$53","v":271.7},{"$f":" Inputs!P$53","v":280.7},{"$f":" Inputs!Q$53","v":289.2},{"$f":" Inputs!R$53","v":0},{"$f":" Inputs!S$53","v":0},{"$f":" Inputs!T$53","v":0},{"$f":" Inputs!U$53","v":0},{"$f":" Inputs!V$53","v":0}]
[null,null,null,null,{"$f":" Inputs!E$54","v":"Retail Price Index for June"},{"$f":" Inputs!F$54","v":0},{"$f":" Inputs!G$54","v":"index"},{"$f":" Inputs!H$54","v":0},{"$f":" Inputs!I$54","v":0},{"$f":" Inputs!J$54","v":241.8},{"$f":" Inputs!K$54","v":249.7},{"$f":" Inputs!L$54","v":256.3},{"$f":" Inputs!M$54","v":258.89999999999998},{"$f":" Inputs!N$54","v":263.10000000000002},{"$f":" Inputs!O$54","v":272.3},{"$f":" Inputs!P$54","v":281.5},{"$f":" Inputs!Q$54","v":289.2},{"$f":" Inputs!R$54","v":0},{"$f":" Inputs!S$54","v":0},{"$f":" Inputs!T$54","v":0},{"$f":" Inputs!U$54","v":0},{"$f":" Inputs!V$54","v":0}]
[null,null,null,null,{"$f":" Inputs!E$55","v":"Retail Price Index for July"},{"$f":" Inputs!F$55","v":0},{"$f":" Inputs!G$55","v":"index"},{"$f":" Inputs!H$55","v":0},{"$f":" Inputs!I$55","v":0},{"$f":" Inputs!J$55","v":242.1},{"$f":" Inputs!K$55","v":249.7},{"$f":" Inputs!L$55","v":256},{"$f":" Inputs!M$55","v":258.60000000000002},{"$f":" Inputs!N$55","v":263.39999999999998},{"$f":" Inputs!O$55","v":272.89999999999998},{"$f":" Inputs!P$55","v":281.7},{"$f":" Inputs!Q$55","v":288.8},{"$f":" Inputs!R$55","v":0},{"$f":" Inputs!S$55","v":0},{"$f":" Inputs!T$55","v":0},{"$f":" Inputs!U$55","v":0},{"$f":" Inputs!V$55","v":0}]
[null,null,null,null,{"$f":" Inputs!E$56","v":"Retail Price Index for August"},{"$f":" Inputs!F$56","v":0},{"$f":" Inputs!G$56","v":"index"},{"$f":" Inputs!H$56","v":0},{"$f":" Inputs!I$56","v":0},{"$f":" Inputs!J$56","v":243},{"$f":" Inputs!K$56","v":251},{"$f":" Inputs!L$56","v":257},{"$f":" Inputs!M$56","v":259.8},{"$f":" Inputs!N$56","v":264.39999999999998},{"$f":" Inputs!O$56","v":274.7},{"$f":" Inputs!P$56","v":284.2},{"$f":" Inputs!Q$56","v":292},{"$f":" Inputs!R$56","v":0},{"$f":" Inputs!S$56","v":0},{"$f":" Inputs!T$56","v":0},{"$f":" Inputs!U$56","v":0},{"$f":" Inputs!V$56","v":0}]
[null,null,null,null,{"$f":" Inputs!E$57","v":"Retail Price Index for September"},{"$f":" Inputs!F$57","v":0},{"$f":" Inputs!G$57","v":"index"},{"$f":" Inputs!H$57","v":0},{"$f":" Inputs!I$57","v":0},{"$f":" Inputs!J$57","v":244.2},{"$f":" Inputs!K$57","v":251.9},{"$f":" Inputs!L$57","v":257.60000000000002},{"$f":" Inputs!M$57","v":259.60000000000002},{"$f":" Inputs!N$57","v":264.89999999999998},{"$f":" Inputs!O$57","v":275.10000000000002},{"$f":" Inputs!P$57","v":284.10000000000002},{"$f":" Inputs!Q$57","v":291.89999999999998},{"$f":" Inputs!R$57","v":0},{"$f":" Inputs!S$57","v":0},{"$f":" Inputs!T$57","v":0},{"$f":" Inputs!U$57","v":0},{"$f":" Inputs!V$57","v":0}]
[null,null,null,null,{"$f":" Inputs!E$58","v":"Retail Price Index for October"},{"$f":" Inputs!F$58","v":0},{"$f":" Inputs!G$58","v":"index"},{"$f":" Inputs!H$58","v":0},{"$f":" Inputs!I$58","v":0},{"$f":" Inputs!J$58","v":245.6},{"$f":" Inputs!K$58","v":251.9},{"$f":" Inputs!L$58","v":257.7},{"$f":" Inputs!M$58","v":259.5},{"$f":" Inputs!N$58","v":264.8},{"$f":" Inputs!O$58","v":275.3},{"$f":" Inputs!P$58","v":284.5},{"$f":" Inputs!Q$58","v":292.3},{"$f":" Inputs!R$58","v":0},{"$f":" Inputs!S$58","v":0},{"$f":" Inputs!T$58","v":0},{"$f":" Inputs!U$58","v":0},{"$f":" Inputs!V$58","v":0}]
[null,null,null,null,{"$f":" Inputs!E$59","v":"Retail Price Index for November"},{"$f":" Inputs!F$59","v":0},{"$f":" Inputs!G$59","v":"index"},{"$f":" Inputs!H$59","v":0},{"$f":" Inputs!I$59","v":0},{"$f":" Inputs!J$59","v":245.6},{"$f":" Inputs!K$59","v":252.1},{"$f":" Inputs!L$59","v":257.10000000000002},{"$f":" Inputs!M$59","v":259.8},{"$f":" Inputs!N$59","v":265.5},{"$f":" Inputs!O$59","v":275.8},{"$f":" Inputs!P$59","v":284.60000000000002},{"$f":" Inputs!Q$59","v":292},{"$f":" Inputs!R$59","v":0},{"$f":" Inputs!S$59","v":0},{"$f":" Inputs!T$59","v":0},{"$f":" Inputs!U$59","v":0},{"$f":" Inputs!V$59","v":0}]
[null,null,null,null,{"$f":" Inputs!E$60","v":"Retail Price Index for December"},{"$f":" Inputs!F$60","v":0},{"$f":" Inputs!G$60","v":"index"},{"$f":" Inputs!H$60","v":0},{"$f":" Inputs!I$60","v":0},{"$f":" Inputs!J$60","v":246.8},{"$f":" Inputs!K$60","v":253.4},{"$f":" Inputs!L$60","v":257.5},{"$f":" Inputs!M$60","v":260.60000000000002},{"$f":" Inputs!N$60","v":267.10000000000002},{"$f":" Inputs!O$60","v":278.10000000000002},{"$f":" Inputs!P$60","v":285.60000000000002},{"$f":" Inputs!Q$60","v":293.39999999999998},{"$f":" Inputs!R$60","v":0},{"$f":" Inputs!S$60","v":0},{"$f":" Inputs!T$60","v":0},{"$f":" Inputs!U$60","v":0},{"$f":" Inputs!V$60","v":0}]
[null,null,null,null,{"$f":" Inputs!E$61","v":"Retail Price Index for January"},{"$f":" Inputs!F$61","v":0},{"$f":" Inputs!G$61","v":"index"},{"$f":" Inputs!H$61","v":0},{"$f":" Inputs!I$61","v":0},{"$f":" Inputs!J$61","v":245.8},{"$f":" Inputs!K$61","v":252.6},{"$f":" Inputs!L$61","v":255.4},{"$f":" Inputs!M$61","v":258.8},{"$f":" Inputs!N$61","v":265.5},{"$f":" Inputs!O$61","v":276},{"$f":" Inputs!P$61","v":283},{"$f":" Inputs!Q$61","v":290.7},{"$f":" Inputs!R$61","v":0},{"$f":" Inputs!S$61","v":0},{"$f":" Inputs!T$61","v":0},{"$f":" Inputs!U$61","v":0},{"$f":" Inputs!V$61","v":0}]
[null,null,null,null,{"$f":" Inputs!E$62","v":"Retail Price Index for February"},{"$f":" Inputs!F$62","v":0},{"$f":" Inputs!G$62","v":"index"},{"$f":" Inputs!H$62","v":0},{"$f":" Inputs!I$62","v":0},{"$f":" Inputs!J$62","v":247.6},{"$f":" Inputs!K$62","v":254.2},{"$f":" Inputs!L$62","v":256.7},{"$f":" Inputs!M$62","v":260},{"$f":" Inputs!N$62","v":268.39999999999998},{"$f":" Inputs!O$62","v":278.10000000000002},{"$f":" Inputs!P$62","v":285},{"$f":" Inputs!Q$62","v":292.8},{"$f":" Inputs!R$62","v":0},{"$f":" Inputs!S$62","v":0},{"$f":" Inputs!T$62","v":0},{"$f":" Inputs!U$62","v":0},{"$f":" Inputs!V$62","v":0}]
[null,null,null,null,{"$f":" Inputs!E$63","v":"Retail Price Index for March"},{"$f":" Inputs!F$63","v":0},{"$f":" Inputs!G$63","v":"index"},{"$f":" Inputs!H$63","v":0},{"$f":" Inputs!I$63","v":0},{"$f":" Inputs!J$63","v":248.7},{"$f":" Inputs!K$63","v":254.8},{"$f":" Inputs!L$63","v":257.10000000000002},{"$f":" Inputs!M$63","v":261.10000000000002},{"$f":" Inputs!N$63","v":269.3},{"$f":" Inputs!O$63","v":278.3},{"$f":" Inputs!P$63","v":285.10000000000002},{"$f":" Inputs!Q$63","v":292.8},{"$f":" Inputs!R$63","v":0},{"$f":" Inputs!S$63","v":0},{"$f":" Inputs!T$63","v":0},{"$f":" Inputs!U$63","v":0},{"$f":" Inputs!V$63","v":0}]
[]
[null,null,null,null,{"$f":" Inputs!E$65","v":"RPI: Assumed percentage increase for unpopulated monthly values"},{"$f":" Inputs!F$65","v":0},{"$f":" Inputs!G$65","v":"%"},{"$f":" Inputs!H$65","v":0},{"$f":" Inputs!I$65","v":0},{"$f":" Inputs!J$65","v":0},{"$f":" Inputs!K$65","v":0},{"$f":" Inputs!L$65","v":0},{"$f":" Inputs!M$65","v":0},{"$f":" Inputs!N$65","v":0},{"$f":" Inputs!O$65","v":0},{"$f":" Inputs!P$65","v":0},{"$f":" Inputs!Q$65","v":0},{"$f":" Inputs!R$65","v":0},{"$f":" Inputs!S$65","v":0},{"$f":" Inputs!T$65","v":0},{"$f":" Inputs!U$65","v":0},{"$f":" Inputs!V$65","v":0}]
[]
[null,null,null,null,"RPI: April - index",null,"index",null,null,{"$f":" IF(J44 > 0, J44, I59 * (1 + J$57))","v":242.5},{"$f":" IF(K44 > 0, K44, J59 * (1 + K$57))","v":249.5},255.7,258,261.39999999999998,270.60000000000002,279.7,{"$f":" IF(Q44 > 0, Q44, P59 * (1 + Q$57))","v":288.2},{"$f":" IF(R44 > 0, R44, Q59 * (1 + R$57))","v":288.2},{"$f":" IF(S44 > 0, S44, R59 * (1 + S$57))","v":288.2},{"$f":" IF(T44 > 0, T44, S59 * (1 + T$57))","v":288.2},{"$f":" IF(U44 > 0, U44, T59 * (1 + U$57))","v":288.2},{"$f":" IF(V44 > 0, V44, U59 * (1 + V$57))","v":288.2}]
[null,null,null,null,"RPI: May - index",null,"index",null,null,{"$f":" IF(J45 > 0, J45, I60 * (1 + J$57))","v":242.4},250,255.9,258.5,262.10000000000002,271.7,280.7,289.2,289.2,289.2,289.2,289.2,289.2]
[null,null,null,null,"RPI: June - index",null,"index",null,null,{"$f":" IF(J46 > 0, J46, I61 * (1 + J$57))","v":241.8},249.7,256.3,258.89999999999998,263.10000000000002,272.3,281.5,289.2,289.2,289.2,289.2,289.2,289.2]
[null,null,null,null,"RPI: July - index",null,"index",null,null,{"$f":" IF(J47 > 0, J47, I62 * (1 + J$57))","v":242.1},249.7,256,258.60000000000002,263.39999999999998,272.89999999999998,281.7,288.8,288.8,288.8,288.8,288.8,288.8]
[null,null,null,null,"RPI: August - index",null,"index",null,null,{"$f":" IF(J48 > 0, J48, I63 * (1 + J$57))","v":243},251,257,259.8,264.39999999999998,274.7,284.2,292,292,292,292,292,292]
[null,null,null,null,"RPI: September- index",null,"index",null,null,{"$f":" IF(J49 > 0, J49, I64 * (1 + J$57))","v":244.2},251.9,257.60000000000002,259.60000000000002,264.89999999999998,275.10000000000002,284.10000000000002,291.89999999999998,291.89999999999998,291.89999999999998,291.89999999999998,291.89999999999998,291.89999999999998]
[null,null,null,null,"RPI: October - index",null,"index",null,null,{"$f":" IF(J50 > 0, J50, I65 * (1 + J$57))","v":245.6},251.9,257.7,259.5,264.8,275.3,284.5,292.3,292.3,292.3,292.3,292.3,292.3]
[null,null,null,null,"RPI: November - index",null,"index",null,null,{"$f":" IF(J51 > 0, J51, I66 * (1 + J$57))","v":245.6},252.1,257.10000000000002,259.8,265.5,275.8,284.60000000000002,292,292,292,292,292,292]
[null,null,null,null,"RPI: December - index",null,"index",null,null,{"$f":" IF(J52 > 0, J52, I67 * (1 + J$57))","v":246.8},253.4,257.5,260.60000000000002,267.10000000000002,278.10000000000002,285.60000000000002,293.39999999999998,293.39999999999998,293.39999999999998,293.39999999999998,293.39999999999998,293.39999999999998]
[null,null,null,null,"RPI: January - index",null,"index",null,null,{"$f":" IF(J53 > 0, J53, I68 * (1 + J$57))","v":245.8},252.6,255.4,258.8,265.5,276,283,290.7,290.7,290.7,290.7,290.7,290.7]
[null,null,null,null,"RPI: February - index",null,"index",null,null,{"$f":" IF(J54 > 0, J54, I69 * (1 + J$57))","v":247.6},254.2,256.7,260,268.39999999999998,278.10000000000002,285,292.8,292.8,292.8,292.8,292.8,292.8]
[null,null,null,null,"RPI: March - index",null,"index",null,null,{"$f":" IF(J55 > 0, J55, I70 * (1 + J$57))","v":248.7},254.8,257.10000000000002,261.10000000000002,269.3,278.3,285.10000000000002,292.8,292.8,292.8,292.8,292.8,292.8]
[]
[null,null,null,null,"RPI: Financial year average - index",null,"index",null,null,{"$f":" AVERAGE(J59:J70)","v":244.67499999999998},251.73333333333335,256.66666666666669,259.43333333333334,264.99166666666673,274.90833333333336,283.30833333333334,{"$f":" AVERAGE(Q59:Q70)","v":291.10833333333329},291.10833333333329,291.10833333333329,291.10833333333329,291.10833333333329,291.10833333333329]
[]
[]
["INFLATION"]
[]
[null,{"$f":" \"Inflation from \" & F78 & \" FYA to \" & F79 & \" FYE - RPI\"","v":"Inflation from 2013 FYA to 2020 FYE - RPI"}]
[null,null,null,null,{"$f":" Inputs!E$69","v":"Year reference for FYA base price 1"},{"$f":" Inputs!F$69","v":2013},{"$f":" Inputs!G$69","v":"year #"}]
[null,null,null,null,{"$f":" Inputs!E$73","v":"Year reference for FYE end price"},{"$f":" Inputs!F$73","v":2020},{"$f":" Inputs!G$73","v":"year #"}]
[null,null,null,null,{"$f":" E$72","v":"RPI: Financial year average - index"},0,"index",0,0,244.67499999999998,251.73333333333335,256.66666666666669,259.43333333333334,264.99166666666673,274.90833333333336,283.30833333333334,291.10833333333329,291.10833333333329,291.10833333333329,291.10833333333329,291.10833333333329,291.10833333333329]
[null,null,null,null,{"$f":" E$70","v":"RPI: March - index"},0,"index",0,0,248.7,254.8,257.10000000000002,261.10000000000002,269.3,278.3,285.10000000000002,292.8,292.8,292.8,292.8,292.8,292.8]
[null,null,null,null,{"$f":" \"RPI inflate from \" & F78 & \" FYA to \" & F79 & \" FYE\"","v":"RPI inflate from 2013 FYA to 2020 FYE"},{"$f":" INDEX($J81:$V81, 1, MATCH($F79,$J$4:$V$4)) / INDEX($J80:$V80, 1, MATCH($F78,$J$4:$V$4))","v":1.1966894860529276},"factor"]
[]
[null,{"$f":" \"Inflation from \" & F85 & \" FYA to \" & F86 & \" FYE - RPI\"","v":"Inflation from 2018 FYA to 2020 FYE - RPI"}]
[null,null,null,null,{"$f":" Inputs!E$70","v":"Year reference for FYA base price 2"},{"$f":" Inputs!F$70","v":2018},{"$f":" Inputs!G$70","v":"year #"}]
[null,null,null,null,{"$f":" Inputs!E$73","v":"Year reference for FYE end price"},{"$f":" Inputs!F$73","v":2020},{"$f":" Inputs!G$73","v":"year #"}]
[null,null,null,null,{"$f":" E$72","v":"RPI: Financial year average - index"},0,"index",0,0,244.67499999999998,251.73333333333335,256.66666666666669,259.43333333333334,264.99166666666673,274.90833333333336,283.30833333333334,291.10833333333329,291.10833333333329,291.10833333333329,291.10833333333329,291.10833333333329,291.10833333333329]
[null,null,null,null,{"$f":" E$70","v":"RPI: March - index"},0,"index",0,0,248.7,254.8,257.10000000000002,261.10000000000002,269.3,278.3,285.10000000000002,292.8,292.8,292.8,292.8,292.8,292.8]
[null,null,null,null,{"$f":" \"RPI inflate from \" & F85 & \" FYA to \" & F86 & \" FYE\"","v":"RPI inflate from 2018 FYA to 2020 FYE"},{"$f":" INDEX($J88:$V88, 1, MATCH($F86,$J$4:$V$4)) / INDEX($J87:$V87, 1, MATCH($F85,$J$4:$V$4))","v":1.0650823001606595},"factor"]
[]
[null,{"$f":" \"Inflation from \" & F92 & \" FYE to \" & F93 & \" FYE - RPI\"","v":"Inflation from 2020 FYE to 2020 FYE - RPI"}]
[null,null,null,null,{"$f":" Inputs!E$71","v":"Year reference for FYE base price 1"},{"$f":" Inputs!F$71","v":2020},{"$f":" Inputs!G$71","v":"year #"}]
[null,null,null,null,{"$f":" Inputs!E$73","v":"Year reference for FYE end price"},{"$f":" Inputs!F$73","v":2020},{"$f":" Inputs!G$73","v":"year #"}]
[null,null,null,null,{"$f":" E$70","v":"RPI: March - index"},0,"index",0,0,248.7,254.8,257.10000000000002,261.10000000000002,269.3,278.3,285.10000000000002,292.8,292.8,292.8,292.8,292.8,292.8]
[null,null,null,null,{"$f":" \"RPI inflate from \" & F92 & \" FYE to \" & F93 & \" FYE\"","v":"RPI inflate from 2020 FYE to 2020 FYE"},{"$f":" INDEX($J94:$V94, 1, MATCH($F93,$J$4:$V$4)) / INDEX($J94:$V94, 1, MATCH($F92,$J$4:$V$4))","v":1},"factor"]
[]
[null,{"$f":" \"Inflation from November \" & F98 & \" FYE to \" & F99 & \" FYE - RPI\"","v":"Inflation from November 2019 FYE to 2020 FYE - RPI"}]
[null,null,null,null,{"$f":" Inputs!E$72","v":"Year reference for FYE base price 2"},{"$f":" Inputs!F$72","v":2019},{"$f":" Inputs!G$72","v":"year #"}]
[null,null,null,null,{"$f":" Inputs!E$73","v":"Year reference for FYE end price"},{"$f":" Inputs!F$73","v":2020},{"$f":" Inputs!G$73","v":"year #"}]
[null,null,null,null,{"$f":" E$66","v":"RPI: November - index"},0,"index",0,0,245.6,252.1,257.10000000000002,259.8,265.5,275.8,284.60000000000002,292,292,292,292,292,292]
[null,null,null,null,{"$f":" E$70","v":"RPI: March - index"},0,"index",0,0,248.7,254.8,257.10000000000002,261.10000000000002,269.3,278.3,285.10000000000002,292.8,292.8,292.8,292.8,292.8,292.8]
[null,null,null,null,{"$f":" \"RPI inflate from November \" & F98 & \" FYE to \" & F99 & \" FYE\"","v":"RPI inflate from November 2019 FYE to 2020 FYE"},{"$f":" INDEX($J101:$V101, 1, MATCH($F99,$J$4:$V$4)) / INDEX($J100:$V100, 1, MATCH($F98,$J$4:$V$4))","v":1.0288123682361208},"factor"]
[]
[]
["DEFLATION"]
[]
[null,null,null,null,{"$f":" Inputs!E$77","v":"Year reference for FYE base price"},{"$f":" Inputs!F$77","v":2020},{"$f":" Inputs!G$77","v":"year #"}]
[null,null,null,null,{"$f":" Inputs!E$78","v":"Year reference for FYA end price"},{"$f":" Inputs!F$78","v":2018},{"$f":" Inputs!G$78","v":"year #"}]
[null,null,null,null,{"$f":" E$36","v":"CPIH: March - index"},{"$f":" F$36","v":0},"index",0,0,97.8,99.3,99.6,100.4,102.7,105.1,107.4,109.5,109.5,109.5,109.5,109.5,109.5]
[null,null,null,null,{"$f":" E$38","v":"CPIH: Financial year average - index"},0,"index",0,0,96.583333333333314,98.600000000000009,99.72499999999998,100.16666666666667,101.54166666666667,104.21666666666665,106.64166666666667,108.75000000000001,108.75000000000001,108.75000000000001,108.75000000000001,108.75000000000001,108.75000000000001]
[null,null,null,null,{"$f":" \"CPIH deflate from \" & F107 & \" FYE to \" & F108 & \" FYA\"","v":"CPIH deflate from 2020 FYE to 2018 FYA"},{"$f":" INDEX($J110:$V110, 1, MATCH($F108,$J$4:$V$4)) / INDEX($J109:$V109, 1, MATCH($F107,$J$4:$V$4))","v":0.95175038051750371},"factor"]

{"sheet":"Calc","index":10,"n_rows":241,"n_cols":22,"rows_kept":241,"cut":false,"hidden":false,"merged":[]}
[{"$f":" RIGHT(CELL(\"filename\", $A$1), LEN(CELL(\"filename\", $A$1)) - SEARCH(\"]\", CELL(\"filename\", $A$1)))","v":"Calc"}]
[null,null,null,null,{"$f":" Time!E$25","v":"Model period ending"},{"$f":"Checks!F$11","v":0},{"$f":"Checks!G$11","v":"Checks"},null,null,{"$f":" Time!J$25","v":"2013-03-31"},{"$f":" Time!K$25","v":"2014-03-31"},{"$f":" Time!L$25","v":"2015-03-31"},{"$f":" Time!M$25","v":"2016-03-31"},{"$f":" Time!N$25","v":"2017-03-31"},{"$f":" Time!O$25","v":"2018-03-31"},{"$f":" Time!P$25","v":"2019-03-31"},{"$f":" Time!Q$25","v":"2020-03-31"},{"$f":" Time!R$25","v":"2021-03-31"},{"$f":" Time!S$25","v":"2022-03-31"},{"$f":" Time!T$25","v":"2023-03-31"},{"$f":" Time!U$25","v":"2024-03-31"},{"$f":" Time!V$25","v":"2025-03-31"}]
[null,null,null,null,{"$f":" Time!E$80","v":"Timeline label"},null,null,null,null,{"$f":" Time!J$80","v":"Pre-Fcst"},{"$f":" Time!K$80","v":"Pre-Fcst"},{"$f":" Time!L$80","v":"Pre-Fcst"},{"$f":" Time!M$80","v":"Pre-Fcst"},{"$f":" Time!N$80","v":"Pre-Fcst"},{"$f":" Time!O$80","v":"Pre-Fcst"},{"$f":" Time!P$80","v":"Pre-Fcst"},{"$f":" Time!Q$80","v":"Pre-Fcst"},{"$f":" Time!R$80","v":"Forecast"},{"$f":" Time!S$80","v":"Forecast"},{"$f":" Time!T$80","v":"Forecast"},{"$f":" Time!U$80","v":"Forecast"},{"$f":" Time!V$80","v":"Forecast"}]
[null,null,null,null,{"$f":" Time!E$103","v":"Financial year ending"},null,null,null,null,{"$f":" Time!J$103","v":2013},{"$f":" Time!K$103","v":2014},{"$f":" Time!L$103","v":2015},{"$f":" Time!M$103","v":2016},{"$f":" Time!N$103","v":2017},{"$f":" Time!O$103","v":2018},{"$f":" Time!P$103","v":2019},{"$f":" Time!Q$103","v":2020},{"$f":" Time!R$103","v":2021},{"$f":" Time!S$103","v":2022},{"$f":" Time!T$103","v":2023},{"$f":" Time!U$103","v":2024},{"$f":" Time!V$103","v":2025}]
[null,null,null,null,{"$f":" Time!E$10","v":"Model column counter"},"Constant","Unit","Total",null,{"$f":" Time!J$10","v":1},{"$f":" Time!K$10","v":2},{"$f":" Time!L$10","v":3},{"$f":" Time!M$10","v":4},{"$f":" Time!N$10","v":5},{"$f":" Time!O$10","v":6},{"$f":" Time!P$10","v":7},{"$f":" Time!Q$10","v":8},{"$f":" Time!R$10","v":9},{"$f":" Time!S$10","v":10},{"$f":" Time!T$10","v":11},{"$f":" Time!U$10","v":12},{"$f":" Time!V$10","v":13}]
[]
["WATER SERVICES INPUTS INFLATION"]
[]
[null,null,null,"Water resources"]
[{"$f":" Inputs!A$86","v":"C_APP27015_PD002"},null,null,null,{"$f":" Inputs!E$86","v":"Net performance payment / (penalty) applied to revenue for in-period ODI adjustments ~ Water resources"},{"$f":" Inputs!F$86","v":0},{"$f":" Inputs!G$86","v":"£m"}]
[{"$f":" Inputs!A$87","v":"C_APP27022_PD002"},null,null,null,{"$f":" Inputs!E$87","v":"Net performance payment / (penalty) applied to revenue for end of period ODI adjustments ~ Water resources"},{"$f":" Inputs!F$87","v":0.81},{"$f":" Inputs!G$87","v":"£m"}]
[{"$f":" Inputs!A$88","v":"C_WS17013_PR19D007"},null,null,null,{"$f":" Inputs!E$88","v":"Total value of export incentive to be paid to water resources at PR19"},{"$f":" Inputs!F$88","v":0},{"$f":" Inputs!G$88","v":"£m"}]
[{"$f":" Inputs!A$89","v":"C_WS17025_PR19D007"},null,null,null,{"$f":" Inputs!E$89","v":"Total value of import incentive - water resources"},{"$f":" Inputs!F$89","v":0},{"$f":" Inputs!G$89","v":"£m"}]
[]
[null,null,null,null,{"$f":" Indexation!E$82","v":"RPI inflate from 2013 FYA to 2020 FYE"},{"$f":" Indexation!F$82","v":1.1966894860529276},{"$f":" Indexation!G$82","v":"factor"}]
[]
["C_APP27015",null,null,null,{"$f":" E10 & \" at 2020 FYE price base\"","v":"Net performance payment / (penalty) applied to revenue for in-period ODI adjustments ~ Water resources at 2020 FYE price base"},{"$f":" F10 * F$15","v":0},"£m"]
["C_APP27022",null,null,null,{"$f":" E11 & \" at 2020 FYE price base\"","v":"Net performance payment / (penalty) applied to revenue for end of period ODI adjustments ~ Water resources at 2020 FYE price base"},{"$f":" F11 * F$15","v":0.96931848370287144},"£m"]
["C_WS17013",null,null,null,"Water trading total value of export incentive ~ Water resources at 2020 FYE price base",{"$f":" F12 * F$15","v":0},"£m"]
["C_WS17025",null,null,null,"Water trading total value of import incentive ~ Water resources  at 2020 FYE price base",{"$f":" F13 * F$15","v":0},"£m"]
[]
[null,"Water network plus"]
[{"$f":" Inputs!A$92","v":"C00578_L021"},null,null,null,{"$f":" Inputs!E$92","v":"Further 2010-15 reconciliation total adjustment carry forward to PR19 ~ Water network plus"},{"$f":" Inputs!F$92","v":0.75248822405791504},{"$f":" Inputs!G$92","v":"£m"}]
[{"$f":" Inputs!A$93","v":"C_APP27016_PD002"},null,null,null,{"$f":" Inputs!E$93","v":"Net performance payment / (penalty) applied to revenue for in-period ODI adjustments ~ Water network plus"},{"$f":" Inputs!F$93","v":0.28299999999999997},{"$f":" Inputs!G$93","v":"£m"}]
[{"$f":" Inputs!A$94","v":"C_APP27023_PD002"},null,null,null,{"$f":" Inputs!E$94","v":"Net performance payment / (penalty) applied to revenue for end of period ODI adjustments ~ Water network plus"},{"$f":" Inputs!F$94","v":7.31},{"$f":" Inputs!G$94","v":"£m"}]
[{"$f":" Inputs!A$95","v":"C_WS15024_PR19PD006"},null,null,null,{"$f":" Inputs!E$95","v":"Water: revenue adjustment from totex menu model"},{"$f":" Inputs!F$95","v":-2.95032980775024},{"$f":" Inputs!G$95","v":"£m"}]
[{"$f":" Inputs!A$96","v":"C_WS17014_PR19D007"},null,null,null,{"$f":" Inputs!E$96","v":"Total value of export incentive to be paid to water network plus at PR19"},{"$f":" Inputs!F$96","v":0},{"$f":" Inputs!G$96","v":"£m"}]
[{"$f":" Inputs!A$97","v":"C_WS17026_PR19D007"},null,null,null,{"$f":" Inputs!E$97","v":"Total value of import incentive - water network plus"},{"$f":" Inputs!F$97","v":0},{"$f":" Inputs!G$97","v":"£m"}]
[{"$f":"Inputs!A$99","v":"C003_PR19PD015"},{"$f":"Inputs!B$99","v":0},{"$f":"Inputs!C$99","v":0},{"$f":"Inputs!D$99","v":0},{"$f":"Inputs!E$99","v":"Other revenue adjustment - water network plus"},{"$f":"Inputs!F$99","v":0},{"$f":"Inputs!G$99","v":"£m"}]
[]
[null,null,null,null,{"$f":" Indexation!E$82","v":"RPI inflate from 2013 FYA to 2020 FYE"},{"$f":" Indexation!F$82","v":1.1966894860529276},{"$f":" Indexation!G$82","v":"factor"}]
[]
["C00578",null,null,null,{"$f":" E23 & \" at 2020 FYE price base\"","v":"Further 2010-15 reconciliation total adjustment carry forward to PR19 ~ Water network plus at 2020 FYE price base"},{"$f":" F23 * F$31","v":0.90049474610874658},"£m"]
["C_APP27016",null,null,null,{"$f":" E24 & \" at 2020 FYE price base\"","v":"Net performance payment / (penalty) applied to revenue for in-period ODI adjustments ~ Water network plus at 2020 FYE price base"},0.33866312455297848,"£m"]
["C_APP27023",null,null,null,{"$f":" E25 & \" at 2020 FYE price base\"","v":"Net performance payment / (penalty) applied to revenue for end of period ODI adjustments ~ Water network plus at 2020 FYE price base"},8.7478001430469003,"£m"]
["C_WS15024",null,null,null,{"$f":" \"Totex menu revenue adjustment ~ Water network plus \" & \" at 2020 FYE price base\"","v":"Totex menu revenue adjustment ~ Water network plus  at 2020 FYE price base"},-3.5306286613232674,"£m"]
["C_WS17014",null,null,null,"Water trading total value of export incentive - Water network plus at 2020 FYE price base",0,"£m"]
["C_WS17026",null,null,null,"Water trading total value of import incentive - Water network plus at 2020 FYE price base",0,"£m"]
[null,null,null,null,"Other revenue adjustment - water network plus at 2020 FYE price base",0,"£m"]
[]
[{"$f":" Inputs!A$98","v":"C_WS13026_PR19PD005"},null,null,null,{"$f":" Inputs!E$98","v":"WRFIM total reward / (penalty) at end of AMP6 ~ Water"},{"$f":" Inputs!F$98","v":-20.258925561502199},{"$f":" Inputs!G$98","v":"£m"}]
[]
[null,null,null,null,{"$f":" Indexation!E$102","v":"RPI inflate from November 2019 FYE to 2020 FYE"},{"$f":" Indexation!F$102","v":1.0288123682361208},{"$f":" Indexation!G$102","v":"factor"}]
[]
["C_WS13026",null,null,null,"WRFIM total reward / (penalty) at the end of AMP6 ~ Water network plus at 2020 FYE price base",{"$f":" F41 * F$43","v":-20.84263318484836},"£m"]
[]
[]
["WASTEWATER SERVICES INPUTS INFLATION"]
[]
[null,"Bioresources"]
[{"$f":" Inputs!A$104","v":"C_APP27018_PD002"},null,null,null,{"$f":" Inputs!E$104","v":"Net performance payment / (penalty) applied to revenue for in-period ODI adjustments ~ Bioresources"},{"$f":" Inputs!F$104","v":0},{"$f":" Inputs!G$104","v":"£m"}]
[{"$f":" Inputs!A$105","v":"C_APP27025_PD002"},null,null,null,{"$f":" Inputs!E$105","v":"Net performance payment / (penalty) applied to revenue for end of period ODI adjustments ~ Bioresources"},{"$f":" Inputs!F$105","v":0},{"$f":" Inputs!G$105","v":"£m"}]
[]
[null,null,null,null,{"$f":" Indexation!E$82","v":"RPI inflate from 2013 FYA to 2020 FYE"},{"$f":" Indexation!F$82","v":1.1966894860529276},{"$f":" Indexation!G$82","v":"factor"}]
[]
["C_APP27018",null,null,null,{"$f":" E51 & \" at 2020 FYE price base\"","v":"Net performance payment / (penalty) applied to revenue for in-period ODI adjustments ~ Bioresources at 2020 FYE price base"},{"$f":" F51 * F$54","v":0},"£m"]
["C_APP27025",null,null,null,{"$f":" E52 & \" at 2020 FYE price base\"","v":"Net performance payment / (penalty) applied to revenue for end of period ODI adjustments ~ Bioresources at 2020 FYE price base"},{"$f":" F52 * F$54","v":0},"£m"]
[]
[null,"Wastewater network plus"]
[{"$f":" Inputs!A$108","v":"C00585_L021"},null,null,null,{"$f":" Inputs!E$108","v":"Further 2010-15 reconciliation total adjustment carry forward to PR19 ~ Wastewater network plus"},{"$f":" Inputs!F$108","v":1.27900113353895},{"$f":" Inputs!G$108","v":"£m"}]
[{"$f":" Inputs!A$109","v":"C_APP27017_PD002"},null,null,null,{"$f":" Inputs!E$109","v":"Net performance payment / (penalty) applied to revenue for in-period ODI adjustments ~ Wastewater network plus"},{"$f":" Inputs!F$109","v":-0.88900000000000001},{"$f":" Inputs!G$109","v":"£m"}]
[{"$f":" Inputs!A$110","v":"C_APP27024_PD002"},null,null,null,{"$f":" Inputs!E$110","v":"Net performance payment / (penalty) applied to revenue for end of period ODI adjustments ~ Wastewater network plus"},{"$f":" Inputs!F$110","v":0},{"$f":" Inputs!G$110","v":"£m"}]
[{"$f":" Inputs!A$111","v":"C_WWS15019_PR19PD006"},null,null,null,{"$f":" Inputs!E$111","v":"Wastewater: revenue adjustment from totex menu model"},{"$f":" Inputs!F$111","v":1.60059810282559},{"$f":" Inputs!G$111","v":"£m"}]
[{"$f":"Inputs!A$113","v":"C006_PR19PD015"},{"$f":"Inputs!B$113","v":0},{"$f":"Inputs!C$113","v":0},{"$f":"Inputs!D$113","v":0},{"$f":"Inputs!E$113","v":"Other revenue adjustment - wastewater network plus"},{"$f":"Inputs!F$113","v":0},{"$f":"Inputs!G$113","v":"£m"}]
[]
[null,null,null,null,{"$f":" Indexation!E$82","v":"RPI inflate from 2013 FYA to 2020 FYE"},{"$f":" Indexation!F$82","v":1.1966894860529276},{"$f":" Indexation!G$82","v":"factor"}]
[]
["C00585",null,null,null,{"$f":" E60 & \" at 2020 FYE price base\"","v":"Further 2010-15 reconciliation total adjustment carry forward to PR19 ~ Wastewater network plus at 2020 FYE price base"},{"$f":" F60 * F$66","v":1.5305672091558378},"£m"]
["C_APP27017",null,null,null,{"$f":" E61 & \" at 2020 FYE price base\"","v":"Net performance payment / (penalty) applied to revenue for in-period ODI adjustments ~ Wastewater network plus at 2020 FYE price base"},{"$f":" F61 * F$66","v":-1.0638569531010527},"£m"]
["C_APP27024",null,null,null,{"$f":" E62 & \" at 2020 FYE price base\"","v":"Net performance payment / (penalty) applied to revenue for end of period ODI adjustments ~ Wastewater network plus at 2020 FYE price base"},{"$f":" F62 * F$66","v":0},"£m"]
["C_WWS15019",null,null,null,{"$f":" E63 & \" at 2020 FYE price base\"","v":"Wastewater: revenue adjustment from totex menu model at 2020 FYE price base"},{"$f":" F63 * F$66","v":1.9154189210476462},"£m"]
[null,null,null,null,"Other revenue adjustment - wastewater network plus at 2020 FYE price base",{"$f":" F64 *F$66","v":0},"£m"]
[]
[{"$f":" Inputs!A$112","v":"C_WWS13026_PR19PD005"},null,null,null,{"$f":" Inputs!E$112","v":"WRFIM total reward / (penalty) at the end of AMP6 ~ Wastewater"},{"$f":" Inputs!F$112","v":-21.160554390609001},{"$f":" Inputs!G$112","v":"£m"}]
[]
[null,null,null,null,{"$f":" Indexation!E$102","v":"RPI inflate from November 2019 FYE to 2020 FYE"},{"$f":" Indexation!F$102","v":1.0288123682361208},{"$f":" Indexation!G$102","v":"factor"}]
[]
["C_WWS13026",null,null,null,"WRFIM total reward / (penalty) at the end of AMP6 ~ Wastewater network plus at 2020 FYE price base",{"$f":" F74 * F76","v":-21.770240075791691},"£m"]
[]
[]
[null,"Dummy control"]
[{"$f":" Inputs!A$116","v":"C_WWS15019_DMMY_PR19PD006"},null,null,null,{"$f":" Inputs!E$116","v":"Dummy: revenue adjustment from totex menu model"},{"$f":" Inputs!F$116","v":0},{"$f":" Inputs!G$116","v":"£m"}]
[]
[null,null,null,null,{"$f":" Indexation!E$82","v":"RPI inflate from 2013 FYA to 2020 FYE"},{"$f":" Indexation!F$82","v":1.1966894860529276},{"$f":" Indexation!G$82","v":"factor"}]
[]
["C_WWS15019_DMMY",null,null,null,{"$f":" E82 & \" at 2020 FYE price base\"","v":"Dummy: revenue adjustment from totex menu model at 2020 FYE price base"},{"$f":" F82 * F$84","v":0},"£m"]
[]
[{"$f":"Inputs!A117","v":"C_WWS13026_DMMY_PR19PD005"},null,null,null,{"$f":"Inputs!E117","v":"Dummy: WRFIM total reward / (penalty) at the end of AMP6"},{"$f":"Inputs!F117","v":0},{"$f":"Inputs!G117","v":"£m"}]
[null,null,null,null,{"$f":" Indexation!E$102","v":"RPI inflate from November 2019 FYE to 2020 FYE"},{"$f":" Indexation!F$102","v":1.0288123682361208},{"$f":" Indexation!G$102","v":"factor"}]
[]
["C_WWS13026_DMMY",null,null,null,"Dummy: WRFIM total reward / (penalty) at the end of AMP6 at 2020 FYE price base",{"$f":" F88 * F89","v":0},"£m"]
[]
[]
[]
["RESIDENTIAL RETAIL INPUTS INFLATION"]
[]
[{"$f":" Inputs!A$121","v":"C_APP27019_PD002"},null,null,null,{"$f":" Inputs!E$121","v":"Net performance payment / (penalty) applied to revenue for in-period ODI adjustments ~ Residential retail"},{"$f":" Inputs!F$121","v":0},{"$f":" Inputs!G$121","v":"£m"}]
[{"$f":" Inputs!A$122","v":"C_APP27026_PD002"},null,null,null,{"$f":" Inputs!E$122","v":"Net performance payment / (penalty) applied to revenue for end of period ODI adjustments ~ Residential retail"},{"$f":" Inputs!F$122","v":0},{"$f":" Inputs!G$122","v":"£m"}]
[{"$f":" Inputs!A$123","v":"C_R9045_PR19PD008"},null,null,null,{"$f":" Inputs!E$123","v":"Residential retail revenue adjustment at end of AMP6"},{"$f":" Inputs!F$123","v":-4.7614027365753904},{"$f":" Inputs!G$123","v":"£m"}]
[{"$f":" Inputs!A$124","v":"C_R10009_PR19PD009"},null,null,null,{"$f":" Inputs!E$124","v":"SIM forecast revenue adjustment"},{"$f":" Inputs!F$124","v":-3.84009},{"$f":" Inputs!G$124","v":"£m"}]
[]
[null,null,null,null,{"$f":" Indexation!E$82","v":"RPI inflate from 2013 FYA to 2020 FYE"},{"$f":" Indexation!F$82","v":1.1966894860529276},{"$f":" Indexation!G$82","v":"factor"}]
[null,null,null,null,{"$f":" Indexation!E$95","v":"RPI inflate from 2020 FYE to 2020 FYE"},{"$f":" Indexation!F$95","v":1},{"$f":" Indexation!G$95","v":"factor"}]
[null,null,null,null,{"$f":" Indexation!E$89","v":"RPI inflate from 2018 FYA to 2020 FYE"},{"$f":" Indexation!F$89","v":1.0650823001606595},{"$f":" Indexation!G$89","v":"factor"}]
[]
["C_APP27019",null,null,null,{"$f":" E97 & \" at 2020 FYE price base\"","v":"Net performance payment / (penalty) applied to revenue for in-period ODI adjustments ~ Residential retail at 2020 FYE price base"},{"$f":" F97 * F$102","v":0},"£m"]
["C_APP27026",null,null,null,"Net performance payment / (penalty) applied to revenue for end of period ODI adjustments ~ Residential retail at 2020 FYE price base",{"$f":" F98 * F$102","v":0},"£m"]
["C_R9045",null,null,null,{"$f":" E99 & \" at 2020 FYE price base\"","v":"Residential retail revenue adjustment at end of AMP6 at 2020 FYE price base"},{"$f":" F99 * F103","v":-4.7614027365753904},"£m"]
["C_R10009",null,null,null,{"$f":" E100 & \" at 2020 FYE price base\"","v":"SIM forecast revenue adjustment at 2020 FYE price base"},{"$f":" F100 * F104","v":-4.0900118900239466},"£m"]
[]
[]
["BUSINESS RETAIL INPUTS INFLATION"]
[]
[{"$f":" Inputs!A$128","v":"C_APP27020_PD002"},null,null,null,{"$f":" Inputs!E$128","v":"Net performance payment / (penalty) applied to revenue for in-period ODI adjustments ~ Business retail"},{"$f":" Inputs!F$128","v":0},{"$f":" Inputs!G$128","v":"£m"}]
[{"$f":" Inputs!A$129","v":"C_APP27027_PD002"},null,null,null,{"$f":" Inputs!E$129","v":"Net performance payment / (penalty) applied to revenue for end of period ODI adjustments ~ Business retail"},{"$f":" Inputs!F$129","v":0},{"$f":" Inputs!G$129","v":"£m"}]
[{"$f":"Inputs!A$130","v":"C_004_PR19PD014"},{"$f":"Inputs!B$130","v":0},{"$f":"Inputs!C$130","v":0},{"$f":"Inputs!D$130","v":0},{"$f":"Inputs!E$130","v":"Non-household SIM adjustment - business retail"},{"$f":"Inputs!F$130","v":0},{"$f":"Inputs!G$130","v":"£m"}]
[]
[null,null,null,null,{"$f":" Indexation!E$82","v":"RPI inflate from 2013 FYA to 2020 FYE"},{"$f":" Indexation!F$82","v":1.1966894860529276},{"$f":" Indexation!G$82","v":"factor"}]
[null,null,null,null,{"$f":" Indexation!E$89","v":"RPI inflate from 2018 FYA to 2020 FYE"},{"$f":" Indexation!F$89","v":1.0650823001606595},{"$f":" Indexation!G$89","v":"factor"}]
[]
["C_APP27020",null,null,null,{"$f":" E114 & \" at 2020 FYE price base\"","v":"Net performance payment / (penalty) applied to revenue for in-period ODI adjustments ~ Business retail at 2020 FYE price base"},{"$f":" F114 * F$118","v":0},"£m"]
["C_APP27027",null,null,null,{"$f":" E115 & \" at 2020 FYE price base\"","v":"Net performance payment / (penalty) applied to revenue for end of period ODI adjustments ~ Business retail at 2020 FYE price base"},{"$f":" F115 * F$118","v":0},"£m"]
[null,null,null,null,"Non-household SIM adjustment - business retail at 2020 FYE price base",{"$f":" F116 * F119","v":0},"£m"]
[]
[]
["PR14 REVENUE RECONCILIATION ADJUSTMENTS EXPRESSED IN 2017-18 FYA CPIH DEFLATED PRICE BASE"]
[]
[{"$f":" A$17","v":"C_APP27015"},null,null,null,{"$f":" E$17","v":"Net performance payment / (penalty) applied to revenue for in-period ODI adjustments ~ Water resources at 2020 FYE price base"},{"$f":" F$17","v":0},"£m"]
[{"$f":" A$18","v":"C_APP27022"},null,null,null,{"$f":" E$18","v":"Net performance payment / (penalty) applied to revenue for end of period ODI adjustments ~ Water resources at 2020 FYE price base"},{"$f":" F$18","v":0.96931848370287144},"£m"]
[{"$f":" A$19","v":"C_WS17013"},null,null,null,{"$f":" E$19","v":"Water trading total value of export incentive ~ Water resources at 2020 FYE price base"},{"$f":" F$19","v":0},{"$f":" G$19","v":"£m"}]
[{"$f":" A$20","v":"C_WS17025"},null,null,null,{"$f":" E$20","v":"Water trading total value of import incentive ~ Water resources  at 2020 FYE price base"},{"$f":" F$20","v":0},{"$f":" G$20","v":"£m"}]
[{"$f":" A$33","v":"C00578"},null,null,null,{"$f":" E$33","v":"Further 2010-15 reconciliation total adjustment carry forward to PR19 ~ Water network plus at 2020 FYE price base"},{"$f":" F$33","v":0.90049474610874658},"£m"]
[{"$f":" A$34","v":"C_APP27016"},null,null,null,{"$f":" E$34","v":"Net performance payment / (penalty) applied to revenue for in-period ODI adjustments ~ Water network plus at 2020 FYE price base"},{"$f":" F$34","v":0.33866312455297848},"£m"]
[{"$f":" A$35","v":"C_APP27023"},null,null,null,{"$f":" E$35","v":"Net performance payment / (penalty) applied to revenue for end of period ODI adjustments ~ Water network plus at 2020 FYE price base"},{"$f":" F$35","v":8.7478001430469003},"£m"]
[{"$f":" A$36","v":"C_WS15024"},null,null,null,{"$f":" E$36","v":"Totex menu revenue adjustment ~ Water network plus  at 2020 FYE price base"},{"$f":" F$36","v":-3.5306286613232674},"£m"]
[{"$f":" A$37","v":"C_WS17014"},null,null,null,{"$f":" E$37","v":"Water trading total value of export incentive - Water network plus at 2020 FYE price base"},{"$f":" F$37","v":0},{"$f":" G$37","v":"£m"}]
[{"$f":" A$38","v":"C_WS17026"},null,null,null,{"$f":" E$38","v":"Water trading total value of import incentive - Water network plus at 2020 FYE price base"},{"$f":" F$38","v":0},{"$f":" G$38","v":"£m"}]
[{"$f":" A$45","v":"C_WS13026"},null,null,null,{"$f":" E$45","v":"WRFIM total reward / (penalty) at the end of AMP6 ~ Water network plus at 2020 FYE price base"},{"$f":" F$45","v":-20.84263318484836},"£m"]
[{"$f":"A$39","v":0},0,0,0,"Other revenue adjustment - water network plus at 2020 FYE price base",0,"£m"]
[{"$f":" A$56","v":"C_APP27018"},null,null,null,{"$f":" E$56","v":"Net performance payment / (penalty) applied to revenue for in-period ODI adjustments ~ Bioresources at 2020 FYE price base"},{"$f":" F$56","v":0},"£m"]
[{"$f":" A$57","v":"C_APP27025"},null,null,null,{"$f":" E$57","v":"Net performance payment / (penalty) applied to revenue for end of period ODI adjustments ~ Bioresources at 2020 FYE price base"},{"$f":" F$57","v":0},"£m"]
[{"$f":" A$68","v":"C00585"},null,null,null,{"$f":" E$68","v":"Further 2010-15 reconciliation total adjustment carry forward to PR19 ~ Wastewater network plus at 2020 FYE price base"},{"$f":" F$68","v":1.5305672091558378},"£m"]
[{"$f":" A$69","v":"C_APP27017"},null,null,null,{"$f":" E$69","v":"Net performance payment / (penalty) applied to revenue for in-period ODI adjustments ~ Wastewater network plus at 2020 FYE price base"},{"$f":" F$69","v":-1.0638569531010527},"£m"]
[{"$f":" A$70","v":"C_APP27024"},null,null,null,{"$f":" E$70","v":"Net performance payment / (penalty) applied to revenue for end of period ODI adjustments ~ Wastewater network plus at 2020 FYE price base"},{"$f":" F$70","v":0},"£m"]
[{"$f":" A$71","v":"C_WWS15019"},null,null,null,{"$f":" E$71","v":"Wastewater: revenue adjustment from totex menu model at 2020 FYE price base"},{"$f":" F$71","v":1.9154189210476462},"£m"]
[{"$f":" A$78","v":"C_WWS13026"},null,null,null,{"$f":" E$78","v":"WRFIM total reward / (penalty) at the end of AMP6 ~ Wastewater network plus at 2020 FYE price base"},{"$f":" F$78","v":-21.770240075791691},"£m"]
[{"$f":"A$72","v":0},0,0,0,"Other revenue adjustment - wastewater network plus at 2020 FYE price base",0,"£m"]
[{"$f":"A$86","v":"C_WWS15019_DMMY"},null,null,null,{"$f":"E$86","v":"Dummy: revenue adjustment from totex menu model at 2020 FYE price base"},{"$f":"F$86","v":0},"£m"]
[{"$f":"A$91","v":"C_WWS13026_DMMY"},null,null,null,{"$f":"E$91","v":"Dummy: WRFIM total reward / (penalty) at the end of AMP6 at 2020 FYE price base"},{"$f":"F$91","v":0},"£m"]
[{"$f":" A$106","v":"C_APP27019"},null,null,null,{"$f":" E$106","v":"Net performance payment / (penalty) applied to revenue for in-period ODI adjustments ~ Residential retail at 2020 FYE price base"},{"$f":" F$106","v":0},"£m"]
[{"$f":" A$107","v":"C_APP27026"},null,null,null,{"$f":" E$107","v":"Net performance payment / (penalty) applied to revenue for end of period ODI adjustments ~ Residential retail at 2020 FYE price base"},{"$f":" F$107","v":0},"£m"]
[{"$f":" A$108","v":"C_R9045"},null,null,null,{"$f":" E$108","v":"Residential retail revenue adjustment at end of AMP6 at 2020 FYE price base"},{"$f":" F$108","v":-4.7614027365753904},"£m"]
[{"$f":" A$109","v":"C_R10009"},null,null,null,{"$f":" E$109","v":"SIM forecast revenue adjustment at 2020 FYE price base"},{"$f":" F$109","v":-4.0900118900239466},"£m"]
[{"$f":" A$121","v":"C_APP27020"},null,null,null,{"$f":" E$121","v":"Net performance payment / (penalty) applied to revenue for in-period ODI adjustments ~ Business retail at 2020 FYE price base"},{"$f":" F$121","v":0},"£m"]
[{"$f":" A$122","v":"C_APP27027"},null,null,null,{"$f":" E$122","v":"Net performance payment / (penalty) applied to revenue for end of period ODI adjustments ~ Business retail at 2020 FYE price base"},{"$f":" F$122","v":0},"£m"]
[{"$f":"A$123","v":0},{"$f":"B$123","v":0},0,0,"Non-household SIM adjustment - business retail at 2020 FYE price base",0,"£m"]
[]
[null,null,null,null,{"$f":" Indexation!E$111","v":"CPIH deflate from 2020 FYE to 2018 FYA"},{"$f":" Indexation!F$111","v":0.95175038051750371},{"$f":" Indexation!G$111","v":"factor"}]
[]
["C_APP27034",null,null,null,"ODI in-period revenue adjustment ~ Water resources at 2017-18 FYA CPIH deflated price base",{"$f":" F128 * F$158","v":0},"£m"]
["C_APP27041",null,null,null,"ODI end of period revenue adjustment ~ Water resources at 2017-18 FYA CPIH deflated price base",0.92254923570685765,"£m"]
["C_WS17027",null,null,null,"Water trading total value of export incentive ~ Water resources at 2017-18 FYA CPIH deflated price base",0,"£m"]
["C_WS17030",null,null,null,"Water trading total value of import incentive ~ Water resources  at 2017-18 FYA CPIH deflated price base",0,"£m"]
["C_APP25004",null,null,null,"Further 2010-15 reconciliation total adjustment revenue carry forward to PR19 ~ Water network plus at 2017-18 FYA CPIH deflated price base",0.85704621726301244,"£m"]
["C_APP27035",null,null,null,"ODI in-period revenue adjustment ~ Water network plus at 2017-18 FYA CPIH deflated price base",0.32232275766054402,"£m"]
["C_APP27042",null,null,null,"ODI end of period revenue adjustment ~ Water network plus at 2017-18 FYA CPIH deflated price base",8.3257221148359601,"£m"]
["C_WS15026",null,null,null,"Water: Totex menu revenue adjustment at 2017-18 FYA CPIH deflated price base",-3.3602771718804245,"£m"]
["C_WS17028",null,null,null,"Water trading total value of export incentive ~ Water network plus at 2017-18 FYA CPIH deflated price base",0,"£m"]
["C_WS17031",null,null,null,"Water trading total value of import incentive ~ Water network plus at 2017-18 FYA CPIH deflated price base",0,"£m"]
["C_WS13027",null,null,null,"WRFIM total reward / (penalty) at the end of AMP6 ~ Water network plus at 2017-18 FYA CPIH deflated price base",-19.836984064666176,"£m"]
["C052",null,null,null,"Other revenue adjustment - water network plus at 2017-18 FYA CPIH deflated price base",0,"£m"]
["C_APP27037",null,null,null,"ODI in-period revenue adjustment ~ Bioresources at 2017-18 FYA CPIH deflated price base",0,"£m"]
["C_APP27044",null,null,null,"ODI end of period revenue adjustment ~ Bioresources at 2017-18 FYA CPIH deflated price base",0,"£m"]
["C_APP25006",null,null,null,"Further 2010-15 reconciliation total adjustment revenue carry forward to PR19 ~ Wastewater network plus at 2017-18 FYA CPIH deflated price base",1.4567179237216823,"£m"]
["C_APP27036",null,null,null,"ODI in-period revenue adjustment ~ Wastewater network plus at 2017-18 FYA CPIH deflated price base",-1.012526259930119,"£m"]
["C_APP27043",null,null,null,"ODI end of period revenue adjustment ~ Wastewater network plus at 2017-18 FYA CPIH deflated price base",0,"£m"]
["C_WWS15021",null,null,null,"Wastewater: Totex menu revenue adjustment at 2017-18 FYA CPIH deflated price base",1.8230006869575237,"£m"]
["C_WWS13027",null,null,null,"WRFIM total reward / (penalty) at the end of AMP6 ~ Wastewater network plus at 2017-18 FYA CPIH deflated price base",-20.719834276092151,"£m"]
["C072",null,null,null,"Other revenue adjustment - wastewater network plus at 2017-18 FYA CPIH deflated price base",0,"£m"]
["C_WWS15021_DMMY",null,null,null,"Dummy: revenue adjustment from totex menu model at 2017-18 FYA CPIH deflated price base",0,"£m"]
["C_WWS13027_DMMY",null,null,null,"WRFIM total reward / (penalty) at the end of AMP6 ~ Dummy at 2017-18 FYA CPIH deflated price base",0,"£m"]
["C_APP27038",null,null,null,"ODI in-period revenue adjustment ~ Residential retail at 2017-18 FYA CPIH deflated price base",0,"£m"]
["C_APP27045",null,null,null,"ODI end of period revenue adjustment ~ Residential retail at 2017-18 FYA CPIH deflated price base",0,"£m"]
["C_R9046",null,null,null,"Residential retail revenue adjustment at 2017-18 FYA CPIH deflated price base",-4.5316668663327109,"£m"]
["C_R10009",null,null,null,"SIM forecast revenue adjustment at 2017-18 FYA CPIH deflated price base",-3.8926703726514056,"£m"]
["C_APP27039",null,null,null,"ODI in-period revenue adjustment ~ Business retail at 2017-18 FYA CPIH deflated price base",0,"£m"]
["C_APP27046",null,null,null,"ODI end of period revenue adjustment ~ Business retail at 2017-18 FYA CPIH deflated price base",0,"£m"]
["C102",null,null,null,"Non-household SIM adjustment - business retail at 2017-18 FYA CPIH deflated price base",0,"£m"]
[]
[]
["SUBTOTALS AS PER PRICE CONTROL FOR REVENUE ADJUSTMENTS 2017-18 FYA CPIH DEFLATED PRICE BASE"]
[]
[null,"Water resources revenue adjustment"]
[{"$f":"A$160","v":"C_APP27034"},null,null,null,{"$f":"E$160","v":"ODI in-period revenue adjustment ~ Water resources at 2017-18 FYA CPIH deflated price base"},{"$f":"F$160","v":0},"£m"]
[{"$f":"A$161","v":"C_APP27041"},null,null,null,{"$f":"E$161","v":"ODI end of period revenue adjustment ~ Water resources at 2017-18 FYA CPIH deflated price base"},{"$f":"F$161","v":0.92254923570685765},"£m"]
[{"$f":"A$162","v":"C_WS17027"},null,null,null,{"$f":"E$162","v":"Water trading total value of export incentive ~ Water resources at 2017-18 FYA CPIH deflated price base"},{"$f":"F$162","v":0},"£m"]
[{"$f":"A$163","v":"C_WS17030"},null,null,null,{"$f":"E$163","v":"Water trading total value of import incentive ~ Water resources  at 2017-18 FYA CPIH deflated price base"},{"$f":"F$163","v":0},"£m"]
["C048",null,null,null,"Water resources revenue adjustment",{"$f":" SUM(F194:F197)","v":0.92254923570685765},"£m"]
[]
[null,"Water network plus revenue adjustment"]
[{"$f":" A$164","v":"C_APP25004"},null,null,null,{"$f":" E$164","v":"Further 2010-15 reconciliation total adjustment revenue carry forward to PR19 ~ Water network plus at 2017-18 FYA CPIH deflated price base"},{"$f":" F$164","v":0.85704621726301244},"£m"]
[{"$f":" A$165","v":"C_APP27035"},null,null,null,{"$f":" E$165","v":"ODI in-period revenue adjustment ~ Water network plus at 2017-18 FYA CPIH deflated price base"},{"$f":" F$165","v":0.32232275766054402},"£m"]
[{"$f":" A$166","v":"C_APP27042"},null,null,null,{"$f":" E$166","v":"ODI end of period revenue adjustment ~ Water network plus at 2017-18 FYA CPIH deflated price base"},{"$f":" F$166","v":8.3257221148359601},"£m"]
[{"$f":" A$167","v":"C_WS15026"},null,null,null,{"$f":" E$167","v":"Water: Totex menu revenue adjustment at 2017-18 FYA CPIH deflated price base"},{"$f":" F$167","v":-3.3602771718804245},"£m"]
[{"$f":" A$168","v":"C_WS17028"},null,null,null,{"$f":" E$168","v":"Water trading total value of export incentive ~ Water network plus at 2017-18 FYA CPIH deflated price base"},{"$f":" F$168","v":0},"£m"]
[{"$f":" A$169","v":"C_WS17031"},null,null,null,{"$f":" E$169","v":"Water trading total value of import incentive ~ Water network plus at 2017-18 FYA CPIH deflated price base"},{"$f":" F$169","v":0},"£m"]
[{"$f":" A$170","v":"C_WS13027"},null,null,null,{"$f":" E$170","v":"WRFIM total reward / (penalty) at the end of AMP6 ~ Water network plus at 2017-18 FYA CPIH deflated price base"},{"$f":" F$170","v":-19.836984064666176},"£m"]
[{"$f":" A$171","v":"C052"},0,0,0,"Other revenue adjustment - water network plus at 2017-18 FYA CPIH deflated price base",0,"£m"]
["C058",null,null,null,"Water network plus revenue adjustment",{"$f":" SUM(F201:F208)","v":-13.692170146787083},"£m"]
[]
[null,"Bioresources revenue adjustment"]
[{"$f":"A$172","v":"C_APP27037"},null,null,null,{"$f":"E$172","v":"ODI in-period revenue adjustment ~ Bioresources at 2017-18 FYA CPIH deflated price base"},{"$f":"F$172","v":0},"£m"]
[{"$f":"A$173","v":"C_APP27044"},null,null,null,{"$f":"E$173","v":"ODI end of period revenue adjustment ~ Bioresources at 2017-18 FYA CPIH deflated price base"},{"$f":"F$173","v":0},"£m"]
["C068",null,null,null,"Bioresources revenue adjustment",{"$f":" SUM(F212:F213)","v":0},"£m"]
[]
[null,"Wastewater network plus revenue adjustment"]
[{"$f":" A$174","v":"C_APP25006"},null,null,null,{"$f":" E$174","v":"Further 2010-15 reconciliation total adjustment revenue carry forward to PR19 ~ Wastewater network plus at 2017-18 FYA CPIH deflated price base"},{"$f":" F$174","v":1.4567179237216823},"£m"]
[{"$f":" A$177","v":"C_WWS15021"},null,null,null,{"$f":" E$177","v":"Wastewater: Totex menu revenue adjustment at 2017-18 FYA CPIH deflated price base"},{"$f":" F$177","v":1.8230006869575237},"£m"]
[{"$f":" A$175","v":"C_APP27036"},null,null,null,{"$f":" E$175","v":"ODI in-period revenue adjustment ~ Wastewater network plus at 2017-18 FYA CPIH deflated price base"},{"$f":" F$175","v":-1.012526259930119},"£m"]
[{"$f":" A$176","v":"C_APP27043"},null,null,null,{"$f":" E$176","v":"ODI end of period revenue adjustment ~ Wastewater network plus at 2017-18 FYA CPIH deflated price base"},{"$f":" F$176","v":0},"£m"]
[{"$f":" A$178","v":"C_WWS13027"},null,null,null,{"$f":" E$178","v":"WRFIM total reward / (penalty) at the end of AMP6 ~ Wastewater network plus at 2017-18 FYA CPIH deflated price base"},{"$f":" F$178","v":-20.719834276092151},"£m"]
[{"$f":"A$179","v":"C072"},0,0,0,"Other revenue adjustment - wastewater network plus at 2017-18 FYA CPIH deflated price base",0,"£m"]
["C078",null,null,null,"Wastewater network plus revenue adjustment",{"$f":" SUM(F217:F222)","v":-18.452641925343062},"£m"]
[]
[null,"Dummy revenue adjustment"]
[{"$f":"A$180","v":"C_WWS15021_DMMY"},null,null,null,{"$f":"E$180","v":"Dummy: revenue adjustment from totex menu model at 2017-18 FYA CPIH deflated price base"},{"$f":"F$180","v":0},{"$f":"G$180","v":"£m"}]
[{"$f":"A$181","v":"C_WWS13027_DMMY"},null,null,null,{"$f":"E$181","v":"WRFIM total reward / (penalty) at the end of AMP6 ~ Dummy at 2017-18 FYA CPIH deflated price base"},{"$f":"F$181","v":0},"£m"]
["C088",null,null,null,"Dummy control revenue adjustment",{"$f":" SUM(F226:F227)","v":0},"£m"]
[]
[null,"Residential retail revenue adjustment"]
[{"$f":" A$182","v":"C_APP27038"},null,null,null,{"$f":" E$182","v":"ODI in-period revenue adjustment ~ Residential retail at 2017-18 FYA CPIH deflated price base"},{"$f":" F$182","v":0},"£m"]
[{"$f":" A$183","v":"C_APP27045"},null,null,null,{"$f":" E$183","v":"ODI end of period revenue adjustment ~ Residential retail at 2017-18 FYA CPIH deflated price base"},{"$f":" F$183","v":0},"£m"]
[{"$f":" A$184","v":"C_R9046"},null,null,null,{"$f":" E$184","v":"Residential retail revenue adjustment at 2017-18 FYA CPIH deflated price base"},{"$f":" F$184","v":-4.5316668663327109},"£m"]
[{"$f":" A$185","v":"C_R10009"},null,null,null,{"$f":" E$185","v":"SIM forecast revenue adjustment at 2017-18 FYA CPIH deflated price base"},{"$f":" F$185","v":-3.8926703726514056},"£m"]
["C098",null,null,null,"Residential retail revenue adjustment",{"$f":" SUM(F231:F234)","v":-8.4243372389841156},"£m"]
[]
[null,"Business retail revenue adjustment"]
[{"$f":" A$186","v":"C_APP27039"},null,null,null,{"$f":" E$186","v":"ODI in-period revenue adjustment ~ Business retail at 2017-18 FYA CPIH deflated price base"},{"$f":" F$186","v":0},{"$f":" G$186","v":"£m"}]
[{"$f":" A$187","v":"C_APP27046"},null,null,null,{"$f":" E$187","v":"ODI end of period revenue adjustment ~ Business retail at 2017-18 FYA CPIH deflated price base"},{"$f":" F$187","v":0},{"$f":" G$187","v":"£m"}]
[{"$f":"A$188","v":"C102"},0,0,0,"Non-household SIM adjustment - business retail at 2017-18 FYA CPIH deflated price base",0,"£m"]
["C108",null,null,null,"Business retail revenue adjustment",{"$f":" SUM(F238:F240)","v":0},"£m"]

{"sheet":"Profiling","index":11,"n_rows":257,"n_cols":22,"rows_kept":257,"cut":false,"hidden":false,"merged":[]}
[{"$f":" RIGHT(CELL(\"filename\", $A$1), LEN(CELL(\"filename\", $A$1)) - SEARCH(\"]\", CELL(\"filename\", $A$1)))","v":"Profiling"}]
[null,null,null,null,{"$f":" Time!E$25","v":"Model period ending"},{"$f":"Checks!F$11","v":0},{"$f":"Checks!G$11","v":"Checks"},null,null,{"$f":" Time!J$25","v":"2013-03-31"},{"$f":" Time!K$25","v":"2014-03-31"},{"$f":" Time!L$25","v":"2015-03-31"},{"$f":" Time!M$25","v":"2016-03-31"},{"$f":" Time!N$25","v":"2017-03-31"},{"$f":" Time!O$25","v":"2018-03-31"},{"$f":" Time!P$25","v":"2019-03-31"},{"$f":" Time!Q$25","v":"2020-03-31"},{"$f":" Time!R$25","v":"2021-03-31"},{"$f":" Time!S$25","v":"2022-03-31"},{"$f":" Time!T$25","v":"2023-03-31"},{"$f":" Time!U$25","v":"2024-03-31"},{"$f":" Time!V$25","v":"2025-03-31"}]
[null,null,null,null,{"$f":" Time!E$80","v":"Timeline label"},null,null,null,null,{"$f":" Time!J$80","v":"Pre-Fcst"},{"$f":" Time!K$80","v":"Pre-Fcst"},{"$f":" Time!L$80","v":"Pre-Fcst"},{"$f":" Time!M$80","v":"Pre-Fcst"},{"$f":" Time!N$80","v":"Pre-Fcst"},{"$f":" Time!O$80","v":"Pre-Fcst"},{"$f":" Time!P$80","v":"Pre-Fcst"},{"$f":" Time!Q$80","v":"Pre-Fcst"},{"$f":" Time!R$80","v":"Forecast"},{"$f":" Time!S$80","v":"Forecast"},{"$f":" Time!T$80","v":"Forecast"},{"$f":" Time!U$80","v":"Forecast"},{"$f":" Time!V$80","v":"Forecast"}]
[null,null,null,null,{"$f":" Time!E$103","v":"Financial year ending"},null,null,null,null,{"$f":" Time!J$103","v":2013},{"$f":" Time!K$103","v":2014},{"$f":" Time!L$103","v":2015},{"$f":" Time!M$103","v":2016},{"$f":" Time!N$103","v":2017},{"$f":" Time!O$103","v":2018},{"$f":" Time!P$103","v":2019},{"$f":" Time!Q$103","v":2020},{"$f":" Time!R$103","v":2021},{"$f":" Time!S$103","v":2022},{"$f":" Time!T$103","v":2023},{"$f":" Time!U$103","v":2024},{"$f":" Time!V$103","v":2025}]
[null,null,null,null,{"$f":" Time!E$10","v":"Model column counter"},"Constant","Unit","Total",null,{"$f":" Time!J$10","v":1},{"$f":" Time!K$10","v":2},{"$f":" Time!L$10","v":3},{"$f":" Time!M$10","v":4},{"$f":" Time!N$10","v":5},{"$f":" Time!O$10","v":6},{"$f":" Time!P$10","v":7},{"$f":" Time!Q$10","v":8},{"$f":" Time!R$10","v":9},{"$f":" Time!S$10","v":10},{"$f":" Time!T$10","v":11},{"$f":" Time!U$10","v":12},{"$f":" Time!V$10","v":13}]
[]
["DISCOUNT RATE FOR 2021-25"]
[]
[{"$f":" Inputs!A$137","v":"C020"},null,null,null,{"$f":" Inputs!E$137","v":"PV base date"},{"$f":" Inputs!F$137","v":"2021-03-31"},{"$f":" Inputs!G$137","v":"date"}]
[{"$f":" Inputs!A$166","v":"C019"},null,null,null,{"$f":" Inputs!E$166","v":"Days in a year"},{"$f":" Inputs!F$166","v":365},{"$f":" Inputs!G$166","v":"days"}]
[{"$f":" Time!A$25","v":"00:00:00"},null,null,null,{"$f":" Time!E$25","v":"Model period ending"},{"$f":" Time!F$25","v":"00:00:00"},{"$f":" Time!G$25","v":"date"},{"$f":" Time!H$25","v":"00:00:00"},{"$f":" Time!I$25","v":"00:00:00"},{"$f":" Time!J$25","v":"2013-03-31"},{"$f":" Time!K$25","v":"2014-03-31"},{"$f":" Time!L$25","v":"2015-03-31"},{"$f":" Time!M$25","v":"2016-03-31"},{"$f":" Time!N$25","v":"2017-03-31"},{"$f":" Time!O$25","v":"2018-03-31"},{"$f":" Time!P$25","v":"2019-03-31"},{"$f":" Time!Q$25","v":"2020-03-31"},{"$f":" Time!R$25","v":"2021-03-31"},{"$f":" Time!S$25","v":"2022-03-31"},{"$f":" Time!T$25","v":"2023-03-31"},{"$f":" Time!U$25","v":"2024-03-31"},{"$f":" Time!V$25","v":"2025-03-31"}]
[{"$f":" Time!A$49","v":0},null,null,null,{"$f":" Time!E$49","v":"Forecast period flag"},{"$f":" Time!F$49","v":0},{"$f":" Time!G$49","v":"flag"},{"$f":" Time!H$49","v":5},{"$f":" Time!I$49","v":0},{"$f":" Time!J$49","v":0},{"$f":" Time!K$49","v":0},{"$f":" Time!L$49","v":0},{"$f":" Time!M$49","v":0},{"$f":" Time!N$49","v":0},{"$f":" Time!O$49","v":0},{"$f":" Time!P$49","v":0},{"$f":" Time!Q$49","v":0},{"$f":" Time!R$49","v":1},{"$f":" Time!S$49","v":1},{"$f":" Time!T$49","v":1},{"$f":" Time!U$49","v":1},{"$f":" Time!V$49","v":1}]
[null,null,null,null,"Years from valuation date",null,"years",null,null,{"$f":" IF(J11 < $F9, 0, (J11 - $F9) / $F10) * J12","v":0},0,0,0,0,0,0,{"$f":" IF(Q11 < $F9, 0, (Q11 - $F9) / $F10) * Q12","v":0},{"$f":" IF(R11 < $F9, 0, (R11 - $F9) / $F10) * R12","v":0},{"$f":" IF(S11 < $F9, 0, (S11 - $F9) / $F10) * S12","v":1},2,3.0027397260273974,4.0027397260273974]
[]
[{"$f":" Inputs!A$139","v":"C040"},null,null,null,{"$f":" Inputs!E$139","v":"Discount rate - Water resources"},{"$f":" Inputs!F$139","v":2.92E-2},{"$f":" Inputs!G$139","v":"%"}]
[{"$f":" Inputs!A$140","v":"C050"},null,null,null,{"$f":" Inputs!E$140","v":"Discount rate - Water network plus"},{"$f":" Inputs!F$140","v":2.92E-2},{"$f":" Inputs!G$140","v":"%"}]
[{"$f":" Inputs!A$141","v":"C060"},null,null,null,{"$f":" Inputs!E$141","v":"Discount rate - Bioresources"},{"$f":" Inputs!F$141","v":2.92E-2},{"$f":" Inputs!G$141","v":"%"}]
[{"$f":" Inputs!A$142","v":"C070"},null,null,null,{"$f":" Inputs!E$142","v":"Discount rate - Wastewater network plus"},{"$f":" Inputs!F$142","v":2.92E-2},{"$f":" Inputs!G$142","v":"%"}]
[{"$f":" Inputs!A$143","v":"C080"},null,null,null,{"$f":" Inputs!E$143","v":"Discount rate - Dummy control"},{"$f":" Inputs!F$143","v":2.92E-2},{"$f":" Inputs!G$143","v":"%"}]
[{"$f":" Inputs!A$144","v":"C090"},null,null,null,{"$f":" Inputs!E$144","v":"Discount rate - Residential retail"},{"$f":" Inputs!F$144","v":2.92E-2},{"$f":" Inputs!G$144","v":"%"}]
[{"$f":" Inputs!A$145","v":"C100"},null,null,null,{"$f":" Inputs!E$145","v":"Discount rate - Business retail"},{"$f":" Inputs!F$145","v":2.92E-2},{"$f":" Inputs!G$145","v":"%"}]
[]
[{"$f":" Inputs!A$137","v":"C020"},null,null,null,{"$f":" Inputs!E$137","v":"PV base date"},{"$f":" Inputs!F$137","v":"2021-03-31"},{"$f":" Inputs!G$137","v":"date"}]
[]
[null,null,null,null,{"$f":" Time!E$25","v":"Model period ending"},{"$f":" Time!F$25","v":"00:00:00"},{"$f":" Time!G$25","v":"date"},{"$f":" Time!H$25","v":"00:00:00"},{"$f":" Time!I$25","v":"00:00:00"},{"$f":" Time!J$25","v":"2013-03-31"},{"$f":" Time!K$25","v":"2014-03-31"},{"$f":" Time!L$25","v":"2015-03-31"},{"$f":" Time!M$25","v":"2016-03-31"},{"$f":" Time!N$25","v":"2017-03-31"},{"$f":" Time!O$25","v":"2018-03-31"},{"$f":" Time!P$25","v":"2019-03-31"},{"$f":" Time!Q$25","v":"2020-03-31"},{"$f":" Time!R$25","v":"2021-03-31"},{"$f":" Time!S$25","v":"2022-03-31"},{"$f":" Time!T$25","v":"2023-03-31"},{"$f":" Time!U$25","v":"2024-03-31"},{"$f":" Time!V$25","v":"2025-03-31"}]
[null,null,null,null,{"$f":" E$13","v":"Years from valuation date"},0,"years",0,0,0,0,0,0,0,0,0,0,0,1,2,3.0027397260273974,4.0027397260273974]
[]
[null,null,null,null,"PV discount factor - Water resources",null,"factor",{"$f":" SUM(J28:V28)","v":4.7240777973106756},null,{"$f":" IF(J$25 < $F$23, 0, 1 / ( 1 + $F15) ^ J$26)","v":0},{"$f":" IF(K$25 < $F$23, 0, 1 / ( 1 + $F15) ^ K$26)","v":0},0,0,0,0,0,0,{"$f":" IF(R$25 < $F$23, 0, 1 / ( 1 + $F15) ^ R$26)","v":1},0.97162844928099501,0.94406184345219124,0.91720501661302589,0.89118248796446364]
[null,null,null,null,"PV discount factor - Water network",null,"factor",{"$f":" SUM(J29:V29)","v":4.7240777973106756},null,{"$f":" IF(J$25 < $F$23, 0, 1 / ( 1 + $F16) ^ J$26)","v":0},{"$f":" IF(K$25 < $F$23, 0, 1 / ( 1 + $F16) ^ K$26)","v":0},0,0,0,0,0,0,1,0.97162844928099501,0.94406184345219124,0.91720501661302589,0.89118248796446364]
[null,null,null,null,"PV discount factor - Bioresources",null,"factor",4.7240777973106756,null,{"$f":" IF(J$25 < $F$23, 0, 1 / ( 1 + $F17) ^ J$26)","v":0},{"$f":" IF(K$25 < $F$23, 0, 1 / ( 1 + $F17) ^ K$26)","v":0},0,0,0,0,0,0,1,0.97162844928099501,0.94406184345219124,0.91720501661302589,0.89118248796446364]
[null,null,null,null,"PV discount factor - Wastewater network",null,"factor",4.7240777973106756,null,{"$f":" IF(J$25 < $F$23, 0, 1 / ( 1 + $F18) ^ J$26)","v":0},0,0,0,0,0,0,0,1,0.97162844928099501,0.94406184345219124,0.91720501661302589,0.89118248796446364]
[null,null,null,null,"PV discount factor - Dummy control",null,"factor",{"$f":" SUM(J32:V32)","v":4.7240777973106756},null,0,0,0,0,0,0,0,0,1,0.97162844928099501,0.94406184345219124,0.91720501661302589,0.89118248796446364]
[null,null,null,null,"PV discount factor - Residential retail",null,"factor",4.7240777973106756,null,{"$f":" IF(J$25 < $F$23, 0, 1 / ( 1 + $F20) ^ J$26)","v":0},0,0,0,0,0,0,0,1,0.97162844928099501,0.94406184345219124,0.91720501661302589,0.89118248796446364]
[null,null,null,null,"PV discount factor - Business retail",null,"factor",4.7240777973106756,null,{"$f":" IF(J$25 < $F$23, 0, 1 / ( 1 + $F21) ^ J$26)","v":0},0,0,0,0,0,0,0,1,0.97162844928099501,0.94406184345219124,0.91720501661302589,0.89118248796446364]
[]
[null,null,null,null,{"$f":" E$28","v":"PV discount factor - Water resources"},0,"factor",4.7240777973106756,0,0,0,0,0,0,0,0,0,1,0.97162844928099501,0.94406184345219124,0.91720501661302589,0.89118248796446364]
[null,null,null,null,{"$f":" E$29","v":"PV discount factor - Water network"},0,"factor",4.7240777973106756,0,0,0,0,0,0,0,0,0,1,0.97162844928099501,0.94406184345219124,0.91720501661302589,0.89118248796446364]
[null,null,null,null,{"$f":" E$30","v":"PV discount factor - Bioresources"},{"$f":" F$30","v":0},"factor",4.7240777973106756,0,0,0,0,0,0,0,0,0,1,0.97162844928099501,0.94406184345219124,0.91720501661302589,0.89118248796446364]
[null,null,null,null,{"$f":" E$31","v":"PV discount factor - Wastewater network"},0,"factor",4.7240777973106756,0,0,0,0,0,0,0,0,0,1,0.97162844928099501,0.94406184345219124,0.91720501661302589,0.89118248796446364]
[null,null,null,null,{"$f":" E$32","v":"PV discount factor - Dummy control"},0,"factor",4.7240777973106756,0,0,0,0,0,0,0,0,0,1,0.97162844928099501,0.94406184345219124,0.91720501661302589,0.89118248796446364]
[null,null,null,null,{"$f":" E$33","v":"PV discount factor - Residential retail"},0,"factor",4.7240777973106756,0,0,0,0,0,0,0,0,0,1,0.97162844928099501,0.94406184345219124,0.91720501661302589,0.89118248796446364]
[null,null,null,null,{"$f":" E$34","v":"PV discount factor - Business retail"},{"$f":" F$34","v":0},"factor",4.7240777973106756,0,0,0,0,0,0,0,0,0,1,0.97162844928099501,0.94406184345219124,0.91720501661302589,0.89118248796446364]
[]
[]
[null,null,null,null,"Equivalent Annual Cost (EAC) factor - Water resources",{"$f":" SUM(J36:V36)","v":4.7240777973106756},"factor"]
[null,null,null,null,"Equivalent Annual Cost (EAC) factor - Water network",4.7240777973106756,"factor"]
[null,null,null,null,"Equivalent Annual Cost (EAC) factor - Bioresources",4.7240777973106756,"factor"]
[null,null,null,null,"Equivalent Annual Cost (EAC) factor - Wastewater network",4.7240777973106756,"factor"]
[null,null,null,null,"Equivalent Annual Cost (EAC) factor - Dummy control",4.7240777973106756,"factor"]
[null,null,null,null,"Equivalent Annual Cost (EAC) factor - Residential retail",4.7240777973106756,"factor"]
[null,null,null,null,"Equivalent Annual Cost (EAC) factor - Business retail",4.7240777973106756,"factor"]
[]
[]
["PROFILES"]
[]
[null,"Profile 0 - Apply in first year"]
[{"$f":" Inputs!A$137","v":"C020"},null,null,null,{"$f":" Inputs!E$137","v":"PV base date"},{"$f":" Inputs!F$137","v":"2021-03-31"},{"$f":" Inputs!G$137","v":"date"}]
[]
[null,null,null,null,{"$f":" Time!E$25","v":"Model period ending"},{"$f":" Time!F$25","v":"00:00:00"},{"$f":" Time!G$25","v":"date"},{"$f":" Time!H$25","v":"00:00:00"},{"$f":" Time!I$25","v":"00:00:00"},{"$f":" Time!J$25","v":"2013-03-31"},{"$f":" Time!K$25","v":"2014-03-31"},{"$f":" Time!L$25","v":"2015-03-31"},{"$f":" Time!M$25","v":"2016-03-31"},{"$f":" Time!N$25","v":"2017-03-31"},{"$f":" Time!O$25","v":"2018-03-31"},{"$f":" Time!P$25","v":"2019-03-31"},{"$f":" Time!Q$25","v":"2020-03-31"},{"$f":" Time!R$25","v":"2021-03-31"},{"$f":" Time!S$25","v":"2022-03-31"},{"$f":" Time!T$25","v":"2023-03-31"},{"$f":" Time!U$25","v":"2024-03-31"},{"$f":" Time!V$25","v":"2025-03-31"}]
[]
[null,null,null,null,{"$f":" E$28","v":"PV discount factor - Water resources"},0,"factor",4.7240777973106756,0,0,0,0,0,0,0,0,0,1,0.97162844928099501,0.94406184345219124,0.91720501661302589,0.89118248796446364]
[null,null,null,null,{"$f":" E$29","v":"PV discount factor - Water network"},0,"factor",4.7240777973106756,0,0,0,0,0,0,0,0,0,1,0.97162844928099501,0.94406184345219124,0.91720501661302589,0.89118248796446364]
[null,null,null,null,{"$f":" E$30","v":"PV discount factor - Bioresources"},{"$f":" F$30","v":0},"factor",4.7240777973106756,0,0,0,0,0,0,0,0,0,1,0.97162844928099501,0.94406184345219124,0.91720501661302589,0.89118248796446364]
[null,null,null,null,{"$f":" E$31","v":"PV discount factor - Wastewater network"},0,"factor",4.7240777973106756,0,0,0,0,0,0,0,0,0,1,0.97162844928099501,0.94406184345219124,0.91720501661302589,0.89118248796446364]
[null,null,null,null,{"$f":" E$32","v":"PV discount factor - Dummy control"},0,"factor",4.7240777973106756,0,0,0,0,0,0,0,0,0,1,0.97162844928099501,0.94406184345219124,0.91720501661302589,0.89118248796446364]
[null,null,null,null,{"$f":" E$33","v":"PV discount factor - Residential retail"},0,"factor",4.7240777973106756,0,0,0,0,0,0,0,0,0,1,0.97162844928099501,0.94406184345219124,0.91720501661302589,0.89118248796446364]
[null,null,null,null,{"$f":" E$34","v":"PV discount factor - Business retail"},{"$f":" F$34","v":0},"factor",4.7240777973106756,0,0,0,0,0,0,0,0,0,1,0.97162844928099501,0.94406184345219124,0.91720501661302589,0.89118248796446364]
[]
[null,null,null,null,"PV discount factor at base date - Water resources",null,"factor",null,null,{"$f":" IF($F$57 = J$59, J61, 0)","v":0},0,0,0,0,0,0,0,1,0,0,0,0]
[null,null,null,null,"PV discount factor at base date - Water network",null,"factor",null,null,{"$f":" IF($F$57 = J$59, J62, 0)","v":0},0,0,0,0,0,0,0,1,0,0,0,0]
[null,null,null,null,"PV discount factor at base date - Bioresources",null,"factor",null,null,{"$f":" IF($F$57 = J$59, J63, 0)","v":0},0,0,0,0,0,0,0,1,0,0,0,0]
[null,null,null,null,"PV discount factor at base date - Wastewater network",null,"factor",null,null,{"$f":" IF($F$57 = J$59, J64, 0)","v":0},0,0,0,0,0,0,0,1,0,0,0,0]
[null,null,null,null,"PV discount factor at base date - Dummy control",null,"factor",null,null,0,0,0,0,0,0,0,0,1,0,0,0,0]
[null,null,null,null,"PV discount factor at base date - Residential retail",null,"factor",null,null,{"$f":" IF($F$57 = J$59, J66, 0)","v":0},0,0,0,0,0,0,0,1,0,0,0,0]
[null,null,null,null,"PV discount factor at base date - Business retail",null,"factor",null,null,{"$f":" IF($F$57 = J$59, J67, 0)","v":0},0,0,0,0,0,0,0,1,0,0,0,0]
[]
[{"$f":" Calc!A$198","v":"C048"},null,null,null,{"$f":" Calc!E$198","v":"Water resources revenue adjustment"},{"$f":" Calc!F$198","v":0.92254923570685765},{"$f":" Calc!G$198","v":"£m"}]
[{"$f":" Calc!A$209","v":"C058"},null,null,null,{"$f":" Calc!E$209","v":"Water network plus revenue adjustment"},{"$f":" Calc!F$209","v":-13.692170146787083},{"$f":" Calc!G$209","v":"£m"}]
[{"$f":" Calc!A$214","v":"C068"},null,null,null,{"$f":" Calc!E$214","v":"Bioresources revenue adjustment"},{"$f":" Calc!F$214","v":0},{"$f":" Calc!G$214","v":"£m"}]
[{"$f":" Calc!A$223","v":"C078"},null,null,null,{"$f":" Calc!E$223","v":"Wastewater network plus revenue adjustment"},{"$f":" Calc!F$223","v":-18.452641925343062},{"$f":" Calc!G$223","v":"£m"}]
[{"$f":"Calc!A$228","v":"C088"},null,null,null,{"$f":"Calc!E$228","v":"Dummy control revenue adjustment"},{"$f":"Calc!F$228","v":0},{"$f":"Calc!G$228","v":"£m"}]
[{"$f":" Calc!A$235","v":"C098"},null,null,null,{"$f":" Calc!E$235","v":"Residential retail revenue adjustment"},{"$f":" Calc!F$235","v":-8.4243372389841156},{"$f":" Calc!G$235","v":"£m"}]
[{"$f":" Calc!A$241","v":"C108"},null,null,null,{"$f":" Calc!E$241","v":"Business retail revenue adjustment"},{"$f":" Calc!F$241","v":0},{"$f":" Calc!G$241","v":"£m"}]
[]
[null,null,null,null,{"$f":" E$69","v":"PV discount factor at base date - Water resources"},0,{"$f":" G$69","v":"factor"},0,0,0,0,0,0,0,0,0,0,1,0,0,0,0]
[null,null,null,null,{"$f":" E$70","v":"PV discount factor at base date - Water network"},0,"factor",0,0,0,0,0,0,0,0,0,0,1,0,0,0,0]
[null,null,null,null,{"$f":" E$71","v":"PV discount factor at base date - Bioresources"},{"$f":" F$71","v":0},"factor",0,0,0,0,0,0,0,0,0,0,1,0,0,0,0]
[null,null,null,null,{"$f":" E$72","v":"PV discount factor at base date - Wastewater network"},0,"factor",0,0,0,0,0,0,0,0,0,0,1,0,0,0,0]
[null,null,null,null,{"$f":" E$73","v":"PV discount factor at base date - Dummy control"},0,"factor",0,0,0,0,0,0,0,0,0,0,1,0,0,0,0]
[null,null,null,null,{"$f":" E$74","v":"PV discount factor at base date - Residential retail"},0,"factor",0,0,0,0,0,0,0,0,0,0,1,0,0,0,0]
[null,null,null,null,{"$f":" E$75","v":"PV discount factor at base date - Business retail"},{"$f":" F$75","v":0},"factor",0,0,0,0,0,0,0,0,0,0,1,0,0,0,0]
[]
[null,null,null,null,"Water resources revenue adjustment applied in first year",null,"£m",{"$f":" SUM(J93:V93)","v":0.92254923570685765},null,{"$f":" $F77 * J85","v":0},{"$f":" $F77 * K85","v":0},0,0,0,0,0,0,0.92254923570685765,0,0,0,0]
[null,null,null,null,"Water network revenue adjustment applied in first year",null,"£m",-13.692170146787083,null,{"$f":" $F78 * J86","v":0},{"$f":" $F78 * K86","v":0},0,0,0,0,0,0,-13.692170146787083,0,0,0,0]
[null,null,null,null,"Bioresources revenue adjustment applied in first year",null,"£m",0,null,{"$f":" $F79 * J87","v":0},{"$f":" $F79 * K87","v":0},0,0,0,0,0,0,0,0,0,0,0]
[null,null,null,null,"Wastewater network revenue adjustment applied in first year",null,"£m",-18.452641925343062,null,{"$f":" $F80 * J88","v":0},0,0,0,0,0,0,0,-18.452641925343062,0,0,0,0]
[null,null,null,null,"Dummy control revenue adjustment applied in first year",null,"£m",{"$f":" SUM(J97:V97)","v":0},null,0,0,0,0,0,0,0,0,0,0,0,0,0]
[null,null,null,null,"Residential retail revenue adjustment applied in first year",null,"£m",-8.4243372389841156,null,{"$f":" $F82 * J90","v":0},0,0,0,0,0,0,0,-8.4243372389841156,0,0,0,0]
[null,null,null,null,"Business retail revenue adjustment applied in first year",null,"£m",0,null,{"$f":" $F83 * J91","v":0},{"$f":" $F83 * K91","v":0},0,0,0,0,0,0,0,0,0,0,0]
[]
[null,"Profile 1 - Constant annuity 2020-25"]
[{"$f":" Calc!A$198","v":"C048"},null,null,null,{"$f":" Calc!E$198","v":"Water resources revenue adjustment"},{"$f":" Calc!F$198","v":0.92254923570685765},{"$f":" Calc!G$198","v":"£m"}]
[{"$f":" Calc!A$209","v":"C058"},null,null,null,{"$f":" Calc!E$209","v":"Water network plus revenue adjustment"},{"$f":" Calc!F$209","v":-13.692170146787083},{"$f":" Calc!G$209","v":"£m"}]
[{"$f":" Calc!A$214","v":"C068"},null,null,null,{"$f":" Calc!E$214","v":"Bioresources revenue adjustment"},{"$f":" Calc!F$214","v":0},{"$f":" Calc!G$214","v":"£m"}]
[{"$f":" Calc!A$223","v":"C078"},null,null,null,{"$f":" Calc!E$223","v":"Wastewater network plus revenue adjustment"},{"$f":" Calc!F$223","v":-18.452641925343062},{"$f":" Calc!G$223","v":"£m"}]
[{"$f":"Calc!A$228","v":"C088"},null,null,null,{"$f":"Calc!E$228","v":"Dummy control revenue adjustment"},{"$f":"Calc!F$228","v":0},{"$f":"Calc!G$228","v":"£m"}]
[{"$f":" Calc!A$235","v":"C098"},null,null,null,{"$f":" Calc!E$235","v":"Residential retail revenue adjustment"},{"$f":" Calc!F$235","v":-8.4243372389841156},{"$f":" Calc!G$235","v":"£m"}]
[{"$f":" Calc!A$241","v":"C108"},null,null,null,{"$f":" Calc!E$241","v":"Business retail revenue adjustment"},{"$f":" Calc!F$241","v":0},{"$f":" Calc!G$241","v":"£m"}]
[]
[null,null,null,null,{"$f":" E$45","v":"Equivalent Annual Cost (EAC) factor - Water resources"},4.7240777973106756,"factor"]
[null,null,null,null,{"$f":" E$46","v":"Equivalent Annual Cost (EAC) factor - Water network"},4.7240777973106756,"factor"]
[null,null,null,null,{"$f":" E$47","v":"Equivalent Annual Cost (EAC) factor - Bioresources"},{"$f":" F$47","v":4.7240777973106756},"factor"]
[null,null,null,null,{"$f":" E$48","v":"Equivalent Annual Cost (EAC) factor - Wastewater network"},{"$f":" F$48","v":4.7240777973106756},{"$f":" G$48","v":"factor"}]
[null,null,null,null,{"$f":" E$49","v":"Equivalent Annual Cost (EAC) factor - Dummy control"},{"$f":" F$49","v":4.7240777973106756},"factor"]
[null,null,null,null,{"$f":" E$50","v":"Equivalent Annual Cost (EAC) factor - Residential retail"},4.7240777973106756,"factor"]
[null,null,null,null,{"$f":" E$51","v":"Equivalent Annual Cost (EAC) factor - Business retail"},{"$f":" F$51","v":4.7240777973106756},"factor"]
[]
[null,null,null,null,{"$f":" Time!E$49","v":"Forecast period flag"},{"$f":" Time!F$49","v":0},{"$f":" Time!G$49","v":"flag"},{"$f":" Time!H$49","v":5},{"$f":" Time!I$49","v":0},{"$f":" Time!J$49","v":0},{"$f":" Time!K$49","v":0},{"$f":" Time!L$49","v":0},{"$f":" Time!M$49","v":0},{"$f":" Time!N$49","v":0},{"$f":" Time!O$49","v":0},{"$f":" Time!P$49","v":0},{"$f":" Time!Q$49","v":0},{"$f":" Time!R$49","v":1},{"$f":" Time!S$49","v":1},{"$f":" Time!T$49","v":1},{"$f":" Time!U$49","v":1},{"$f":" Time!V$49","v":1}]
[]
[null,null,null,null,"Water resources revenue adjustment - EAC factor adjusted",null,"£m",{"$f":" SUM(J120:V120)","v":0.97643315297648858},null,{"$f":" ($F102 / $F110) * J$118","v":0},{"$f":" ($F102 / $F110) * K$118","v":0},0,0,0,0,0,0,0.19528663059529772,0.19528663059529772,0.19528663059529772,0.19528663059529772,0.19528663059529772]
[null,null,null,null,"Water network revenue adjustment - EAC factor adjusted",null,"£m",-14.491897396971073,null,{"$f":" ($F103 / $F111) * J$118","v":0},{"$f":" ($F103 / $F111) * K$118","v":0},0,0,0,0,0,0,-2.8983794793942144,-2.8983794793942144,-2.8983794793942144,-2.8983794793942144,-2.8983794793942144]
[null,null,null,null,"Bioresources revenue adjustment - EAC factor adjusted",null,"£m",0,null,{"$f":" ($F104 / $F112) * J$118","v":0},{"$f":" ($F104 / $F112) * K$118","v":0},0,0,0,0,0,0,0,0,0,0,0]
[null,null,null,null,"Wastewater network revenue adjustment - EAC factor adjusted",null,"£m",-19.530417064519753,null,{"$f":" ($F105 / $F113) * J$118","v":0},0,0,0,0,0,0,0,-3.9060834129039508,-3.9060834129039508,-3.9060834129039508,-3.9060834129039508,-3.9060834129039508]
[null,null,null,null,"Dummy control revenue adjustment - EAC factor adjusted",null,"£m",{"$f":" SUM(J124:V124)","v":0},null,0,0,0,0,0,0,0,0,0,0,0,0,0]
[null,null,null,null,"Residential retail revenue adjustment - EAC factor adjusted",null,"£m",-8.9163828374925629,null,{"$f":" ($F107 / $F115) * J$118","v":0},0,0,0,0,0,0,0,-1.7832765674985125,-1.7832765674985125,-1.7832765674985125,-1.7832765674985125,-1.7832765674985125]
[null,null,null,null,"Business retail revenue adjustment - EAC factor adjusted",null,"£m",0,null,{"$f":" ($F108 / $F116) * J$118","v":0},0,0,0,0,0,0,0,0,0,0,0,0]
[]
[null,null,null,null,{"$f":" E$120","v":"Water resources revenue adjustment - EAC factor adjusted"},0,{"$f":" G$120","v":"£m"},{"$f":" H$120","v":0.97643315297648858},{"$f":" I$120","v":0},{"$f":" J$120","v":0},{"$f":" K$120","v":0},{"$f":" L$120","v":0},{"$f":" M$120","v":0},{"$f":" N$120","v":0},{"$f":" O$120","v":0},{"$f":" P$120","v":0},{"$f":" Q$120","v":0},{"$f":" R$120","v":0.19528663059529772},{"$f":" S$120","v":0.19528663059529772},{"$f":" T$120","v":0.19528663059529772},{"$f":" U$120","v":0.19528663059529772},{"$f":" V$120","v":0.19528663059529772}]
[null,null,null,null,{"$f":" E$121","v":"Water network revenue adjustment - EAC factor adjusted"},0,{"$f":" G$121","v":"£m"},{"$f":" H$121","v":-14.491897396971073},{"$f":" I$121","v":0},{"$f":" J$121","v":0},{"$f":" K$121","v":0},{"$f":" L$121","v":0},{"$f":" M$121","v":0},{"$f":" N$121","v":0},{"$f":" O$121","v":0},{"$f":" P$121","v":0},{"$f":" Q$121","v":0},{"$f":" R$121","v":-2.8983794793942144},{"$f":" S$121","v":-2.8983794793942144},{"$f":" T$121","v":-2.8983794793942144},{"$f":" U$121","v":-2.8983794793942144},{"$f":" V$121","v":-2.8983794793942144}]
[null,null,null,null,{"$f":" E$122","v":"Bioresources revenue adjustment - EAC factor adjusted"},{"$f":" F$122","v":0},"£m",0,0,0,0,0,0,0,0,0,0,0,0,0,0,0]
[null,null,null,null,{"$f":" E$123","v":"Wastewater network revenue adjustment - EAC factor adjusted"},{"$f":" F$123","v":0},{"$f":" G$123","v":"£m"},{"$f":" H$123","v":-19.530417064519753},{"$f":" I$123","v":0},{"$f":" J$123","v":0},{"$f":" K$123","v":0},{"$f":" L$123","v":0},{"$f":" M$123","v":0},{"$f":" N$123","v":0},{"$f":" O$123","v":0},{"$f":" P$123","v":0},{"$f":" Q$123","v":0},{"$f":" R$123","v":-3.9060834129039508},{"$f":" S$123","v":-3.9060834129039508},{"$f":" T$123","v":-3.9060834129039508},{"$f":" U$123","v":-3.9060834129039508},{"$f":" V$123","v":-3.9060834129039508}]
[null,null,null,null,{"$f":" E$124","v":"Dummy control revenue adjustment - EAC factor adjusted"},{"$f":" F$124","v":0},{"$f":" G$124","v":"£m"},{"$f":" H$124","v":0},{"$f":" I$124","v":0},{"$f":" J$124","v":0},{"$f":" K$124","v":0},{"$f":" L$124","v":0},{"$f":" M$124","v":0},{"$f":" N$124","v":0},{"$f":" O$124","v":0},{"$f":" P$124","v":0},{"$f":" Q$124","v":0},{"$f":" R$124","v":0},{"$f":" S$124","v":0},{"$f":" T$124","v":0},{"$f":" U$124","v":0},{"$f":" V$124","v":0}]
[null,null,null,null,{"$f":" E$125","v":"Residential retail revenue adjustment - EAC factor adjusted"},0,{"$f":" G$125","v":"£m"},{"$f":" H$125","v":-8.9163828374925629},{"$f":" I$125","v":0},{"$f":" J$125","v":0},{"$f":" K$125","v":0},{"$f":" L$125","v":0},{"$f":" M$125","v":0},{"$f":" N$125","v":0},{"$f":" O$125","v":0},{"$f":" P$125","v":0},{"$f":" Q$125","v":0},{"$f":" R$125","v":-1.7832765674985125},{"$f":" S$125","v":-1.7832765674985125},{"$f":" T$125","v":-1.7832765674985125},{"$f":" U$125","v":-1.7832765674985125},{"$f":" V$125","v":-1.7832765674985125}]
[null,null,null,null,{"$f":" E$126","v":"Business retail revenue adjustment - EAC factor adjusted"},{"$f":" F$126","v":0},"£m",0,0,0,0,0,0,0,0,0,0,0,0,0,0,0]
[]
[null,null,null,null,{"$f":" E$28","v":"PV discount factor - Water resources"},0,"factor",4.7240777973106756,0,0,0,0,0,0,0,0,0,1,0.97162844928099501,0.94406184345219124,0.91720501661302589,0.89118248796446364]
[null,null,null,null,{"$f":" E$29","v":"PV discount factor - Water network"},0,"factor",4.7240777973106756,0,0,0,0,0,0,0,0,0,1,0.97162844928099501,0.94406184345219124,0.91720501661302589,0.89118248796446364]
[null,null,null,null,{"$f":" E$30","v":"PV discount factor - Bioresources"},{"$f":" F$30","v":0},"factor",4.7240777973106756,0,0,0,0,0,0,0,0,0,1,0.97162844928099501,0.94406184345219124,0.91720501661302589,0.89118248796446364]
[null,null,null,null,{"$f":" E$31","v":"PV discount factor - Wastewater network"},0,"factor",4.7240777973106756,0,0,0,0,0,0,0,0,0,1,0.97162844928099501,0.94406184345219124,0.91720501661302589,0.89118248796446364]
[null,null,null,null,{"$f":" E$32","v":"PV discount factor - Dummy control"},0,"factor",4.7240777973106756,0,0,0,0,0,0,0,0,0,1,0.97162844928099501,0.94406184345219124,0.91720501661302589,0.89118248796446364]
[null,null,null,null,{"$f":" E$33","v":"PV discount factor - Residential retail"},0,"factor",4.7240777973106756,0,0,0,0,0,0,0,0,0,1,0.97162844928099501,0.94406184345219124,0.91720501661302589,0.89118248796446364]
[null,null,null,null,{"$f":" E$34","v":"PV discount factor - Business retail"},{"$f":" F$34","v":0},"factor",4.7240777973106756,0,0,0,0,0,0,0,0,0,1,0.97162844928099501,0.94406184345219124,0.91720501661302589,0.89118248796446364]
[]
[null,null,null,null,"Water resources revenue adjustment - Constant annuity 2015-20",null,"£m",{"$f":" SUM(J144:V144)","v":0.92254923570685765},null,{"$f":" J128 * J136","v":0},0,0,0,0,0,0,0,0.19528663059529772,0.18974604605061965,0.18436265648136385,0.17911787725946191,0.17403602532011456]
[null,null,null,null,"Water network revenue adjustment - Constant annuity 2015-20",null,"£m",-13.692170146787085,null,{"$f":" J129 * J137","v":0},0,0,0,0,0,0,0,-2.8983794793942144,-2.816147958991658,-2.7362494743409043,-2.6584081985486239,-2.5829850355116828]
[null,null,null,null,"Bioresources revenue adjustment - Constant annuity 2015-20",null,"£m",0,null,{"$f":" J130 * J138","v":0},0,0,0,0,0,0,0,0,0,0,0,0]
[null,null,null,null,"Wastewater network revenue adjustment - Constant annuity 2015-20",null,"£m",-18.452641925343062,null,{"$f":" J131 * J139","v":0},0,0,0,0,0,0,0,-3.9060834129039508,-3.795261769242082,-3.6875843074641304,-3.5826793016244332,-3.4810331341084662]
[null,null,null,null,"Dummy control revenue adjustment - Constant annuity 2015-20",null,"£m",{"$f":" SUM(J148:V148)","v":0},null,0,0,0,0,0,0,0,0,0,0,0,0,0]
[null,null,null,null,"Residential retail revenue adjustment - Constant annuity 2015-20",null,"£m",-8.4243372389841156,null,{"$f":" J133 * J141","v":0},0,0,0,0,0,0,0,-1.7832765674985125,-1.7326822459177154,-1.6835233636977416,-1.6356302137180929,-1.5892248481520532]
[null,null,null,null,"Business retail revenue adjustment - Constant annuity 2015-20",null,"£m",0,null,{"$f":" J134 * J142","v":0},0,0,0,0,0,0,0,0,0,0,0,0]
[]
[null,"Profile 2 - Even allocation - NPV neutral"]
[{"$f":" Calc!A$198","v":"C048"},null,null,null,{"$f":" Calc!E$198","v":"Water resources revenue adjustment"},{"$f":" Calc!F$198","v":0.92254923570685765},{"$f":" Calc!G$198","v":"£m"}]
[{"$f":" Calc!A$209","v":"C058"},null,null,null,{"$f":" Calc!E$209","v":"Water network plus revenue adjustment"},{"$f":" Calc!F$209","v":-13.692170146787083},{"$f":" Calc!G$209","v":"£m"}]
[{"$f":" Calc!A$214","v":"C068"},null,null,null,{"$f":" Calc!E$214","v":"Bioresources revenue adjustment"},{"$f":" Calc!F$214","v":0},{"$f":" Calc!G$214","v":"£m"}]
[{"$f":" Calc!A$223","v":"C078"},null,null,null,{"$f":" Calc!E$223","v":"Wastewater network plus revenue adjustment"},{"$f":" Calc!F$223","v":-18.452641925343062},{"$f":" Calc!G$223","v":"£m"}]
[{"$f":" Calc!A$228","v":"C088"},null,null,null,{"$f":" Calc!E$228","v":"Dummy control revenue adjustment"},{"$f":" Calc!F$228","v":0},{"$f":" Calc!G$228","v":"£m"}]
[{"$f":" Calc!A$235","v":"C098"},null,null,null,{"$f":" Calc!E$235","v":"Residential retail revenue adjustment"},{"$f":" Calc!F$235","v":-8.4243372389841156},{"$f":" Calc!G$235","v":"£m"}]
[{"$f":" Calc!A$241","v":"C108"},null,null,null,{"$f":" Calc!E$241","v":"Business retail revenue adjustment"},{"$f":" Calc!F$241","v":0},{"$f":" Calc!G$241","v":"£m"}]
[]
[{"$f":" Inputs!A$139","v":"C040"},null,null,null,{"$f":" Inputs!E$139","v":"Discount rate - Water resources"},{"$f":" Inputs!F$139","v":2.92E-2},{"$f":" Inputs!G$139","v":"%"}]
[{"$f":" Inputs!A$140","v":"C050"},null,null,null,{"$f":" Inputs!E$140","v":"Discount rate - Water network plus"},{"$f":" Inputs!F$140","v":2.92E-2},{"$f":" Inputs!G$140","v":"%"}]
[{"$f":" Inputs!A$141","v":"C060"},null,null,null,{"$f":" Inputs!E$141","v":"Discount rate - Bioresources"},{"$f":" Inputs!F$141","v":2.92E-2},{"$f":" Inputs!G$141","v":"%"}]
[{"$f":" Inputs!A$142","v":"C070"},null,null,null,{"$f":" Inputs!E$142","v":"Discount rate - Wastewater network plus"},{"$f":" Inputs!F$142","v":2.92E-2},{"$f":" Inputs!G$142","v":"%"}]
[{"$f":" Inputs!A$143","v":"C080"},null,null,null,{"$f":" Inputs!E$143","v":"Discount rate - Dummy control"},{"$f":" Inputs!F$143","v":2.92E-2},{"$f":" Inputs!G$143","v":"%"}]
[{"$f":" Inputs!A$144","v":"C090"},null,null,null,{"$f":" Inputs!E$144","v":"Discount rate - Residential retail"},{"$f":" Inputs!F$144","v":2.92E-2},{"$f":" Inputs!G$144","v":"%"}]
[{"$f":" Inputs!A$145","v":"C100"},null,null,null,{"$f":" Inputs!E$145","v":"Discount rate - Business retail"},{"$f":" Inputs!F$145","v":2.92E-2},{"$f":" Inputs!G$145","v":"%"}]
[]
[{"$f":" Inputs!A$147","v":"C030"},null,null,null,{"$f":" Inputs!E$147","v":"Number of years to profile over"},{"$f":" Inputs!F$147","v":5},{"$f":" Inputs!G$147","v":"#"}]
[]
[null,null,null,null,{"$f":" E$13","v":"Years from valuation date"},0,{"$f":" G$13","v":"years"},0,0,0,0,0,0,0,0,0,0,0,1,2,3.0027397260273974,4.0027397260273974]
[null,null,null,null,{"$f":" Time!E$49","v":"Forecast period flag"},{"$f":" Time!F$49","v":0},{"$f":" Time!G$49","v":"flag"},{"$f":" Time!H$49","v":5},{"$f":" Time!I$49","v":0},{"$f":" Time!J$49","v":0},{"$f":" Time!K$49","v":0},{"$f":" Time!L$49","v":0},{"$f":" Time!M$49","v":0},{"$f":" Time!N$49","v":0},{"$f":" Time!O$49","v":0},{"$f":" Time!P$49","v":0},{"$f":" Time!Q$49","v":0},{"$f":" Time!R$49","v":1},{"$f":" Time!S$49","v":1},{"$f":" Time!T$49","v":1},{"$f":" Time!U$49","v":1},{"$f":" Time!V$49","v":1}]
[]
[null,null,null,null,"Water resources revenue adjustment - NPV adjusted",null,"£m",{"$f":" SUM(J174:V174)","v":0.97805460616518158},null,{"$f":" IF(J$171 + 1 <= $F$169 + 0.005, $F153 / $F$169, 0) * J$172 * (1 + $F161) ^ J$171","v":0},{"$f":" IF(K$171 + 1 <= $F$169 + 0.005, $F153 / $F$169, 0) * K$172 * (1 + $F161) ^ K$171","v":0},0,0,0,0,0,0,0.18450984714137153,0.18989753467789955,0.19544254269049419,0.20116532705273821,0.20703935460267814]
[null,null,null,null,"Water network revenue adjustment - NPV adjusted",null,"£m",-14.515962468064677,null,0,{"$f":" IF(K$171 + 1 <= $F$169 + 0.005, $F154 / $F$169, 0) * K$172 * (1 + $F162) ^ K$171","v":0},0,0,0,0,0,0,-2.7384340293574168,-2.8183963030146528,-2.9006934750626807,-2.9856291448008707,-3.0728095158290558]
[null,null,null,null,"Bioresources revenue adjustment - NPV adjusted",null,"£m",0,null,0,{"$f":" IF(K$171 + 1 <= $F$169 + 0.005, $F155 / $F$169, 0) * K$172 * (1 + $F163) ^ K$171","v":0},0,0,0,0,0,0,0,0,0,0,0]
[null,null,null,null,"Wastewater network revenue adjustment - NPV adjusted",null,"£m",-19.562849040973276,null,0,{"$f":" IF(K$171 + 1 <= $F$169 + 0.005, $F156 / $F$169, 0) * K$172 * (1 + $F164) ^ K$171","v":0},0,0,0,0,0,0,-3.6905283850686126,-3.7982918139126158,-3.9092019348788636,-4.0236679021846955,-4.1411590049284879]
[null,null,null,null,"Dummy control revenue adjustment - NPV adjusted",null,"£m",{"$f":" SUM(J178:V178)","v":0},null,0,{"$f":" IF(K$171 + 1 <= $F$169 + 0.005, $F157 / $F$169, 0) * K$172 * (1 + $F165) ^ K$171","v":0},0,0,0,0,0,0,0,0,0,0,0]
[null,null,null,null,"Residential retail revenue adjustment - NPV adjusted",null,"£m",-8.9311892759460179,null,0,{"$f":" IF(K$171 + 1 <= $F$169 + 0.005, $F158 / $F$169, 0) * K$172 * (1 + $F166) ^ K$171","v":0},0,0,0,0,0,0,-1.6848674477968231,-1.7340655772724902,-1.7847002921288466,-1.8369583869248269,-1.8905975718230317]
[null,null,null,null,"Business retail revenue adjustment - NPV adjusted",null,"£m",0,null,0,{"$f":" IF(K$171 + 1 <= $F$169 + 0.005, $F159 / $F$169, 0) * K$172 * (1 + $F167) ^ K$171","v":0},0,0,0,0,0,0,0,0,0,0,0]
[]
[null,null,null,null,{"$f":" E$174","v":"Water resources revenue adjustment - NPV adjusted"},0,{"$f":" G$174","v":"£m"},0.97805460616518158,0,0,0,0,0,0,0,0,0,0.18450984714137153,0.18989753467789955,0.19544254269049419,0.20116532705273821,0.20703935460267814]
[null,null,null,null,{"$f":" E$175","v":"Water network revenue adjustment - NPV adjusted"},0,{"$f":" G$175","v":"£m"},-14.515962468064677,0,0,0,0,0,0,0,0,0,-2.7384340293574168,-2.8183963030146528,-2.9006934750626807,-2.9856291448008707,-3.0728095158290558]
[null,null,null,null,{"$f":" E$176","v":"Bioresources revenue adjustment - NPV adjusted"},{"$f":" F$176","v":0},"£m",0,0,0,0,0,0,0,0,0,0,0,0,0,0,0]
[null,null,null,null,{"$f":" E$177","v":"Wastewater network revenue adjustment - NPV adjusted"},{"$f":" F$177","v":0},{"$f":" G$177","v":"£m"},-19.562849040973276,0,0,0,0,0,0,0,0,0,-3.6905283850686126,-3.7982918139126158,-3.9092019348788636,-4.0236679021846955,-4.1411590049284879]
[null,null,null,null,{"$f":" E$178","v":"Dummy control revenue adjustment - NPV adjusted"},0,"£m",0,0,0,0,0,0,0,0,0,0,0,0,0,0,0]
[null,null,null,null,{"$f":" E$179","v":"Residential retail revenue adjustment - NPV adjusted"},0,{"$f":" G$179","v":"£m"},-8.9311892759460179,0,0,0,0,0,0,0,0,0,-1.6848674477968231,-1.7340655772724902,-1.7847002921288466,-1.8369583869248269,-1.8905975718230317]
[null,null,null,null,{"$f":" E$180","v":"Business retail revenue adjustment - NPV adjusted"},{"$f":" F$180","v":0},"£m",0,0,0,0,0,0,0,0,0,0,0,0,0,0,0]
[]
[null,null,null,null,{"$f":" E$28","v":"PV discount factor - Water resources"},0,"factor",4.7240777973106756,0,0,0,0,0,0,0,0,0,1,0.97162844928099501,0.94406184345219124,0.91720501661302589,0.89118248796446364]
[null,null,null,null,{"$f":" E$29","v":"PV discount factor - Water network"},0,"factor",4.7240777973106756,0,0,0,0,0,0,0,0,0,1,0.97162844928099501,0.94406184345219124,0.91720501661302589,0.89118248796446364]
[null,null,null,null,{"$f":" E$30","v":"PV discount factor - Bioresources"},{"$f":" F$30","v":0},"factor",4.7240777973106756,0,0,0,0,0,0,0,0,0,1,0.97162844928099501,0.94406184345219124,0.91720501661302589,0.89118248796446364]
[null,null,null,null,{"$f":" E$31","v":"PV discount factor - Wastewater network"},0,"factor",4.7240777973106756,0,0,0,0,0,0,0,0,0,1,0.97162844928099501,0.94406184345219124,0.91720501661302589,0.89118248796446364]
[null,null,null,null,{"$f":" E$32","v":"PV discount factor - Dummy control"},0,"factor",4.7240777973106756,0,0,0,0,0,0,0,0,0,1,0.97162844928099501,0.94406184345219124,0.91720501661302589,0.89118248796446364]
[null,null,null,null,{"$f":" E$33","v":"PV discount factor - Residential retail"},0,"factor",4.7240777973106756,0,0,0,0,0,0,0,0,0,1,0.97162844928099501,0.94406184345219124,0.91720501661302589,0.89118248796446364]
[null,null,null,null,{"$f":" E$34","v":"PV discount factor - Business retail"},{"$f":" F$34","v":0},"factor",4.7240777973106756,0,0,0,0,0,0,0,0,0,1,0.97162844928099501,0.94406184345219124,0.91720501661302589,0.89118248796446364]
[]
[null,null,null,null,"Water resources revenue adjustment - Even allocation - NPV neutral",null,"£m",{"$f":" SUM(J198:V198)","v":0.92254923570685765},null,{"$f":" J182 * J190","v":0},0,0,0,0,0,0,0,0.18450984714137153,0.1845098471413715,0.18450984714137153,0.18450984714137153,0.18450984714137153]
[null,null,null,null,"Water network revenue adjustment - Even allocation - NPV neutral",null,"£m",-13.692170146787085,null,{"$f":" J183 * J191","v":0},0,0,0,0,0,0,0,-2.7384340293574168,-2.7384340293574163,-2.7384340293574172,-2.7384340293574168,-2.7384340293574168]
[null,null,null,null,"Bioresources revenue adjustment - Even allocation - NPV neutral",null,"£m",0,null,{"$f":" J184 * J192","v":0},0,0,0,0,0,0,0,0,0,0,0,0]
[null,null,null,null,"Wastewater network revenue adjustment - Even allocation - NPV neutral",null,"£m",-18.452641925343062,null,{"$f":" J185 * J193","v":0},0,0,0,0,0,0,0,-3.6905283850686126,-3.6905283850686126,-3.690528385068613,-3.6905283850686126,-3.6905283850686126]
[null,null,null,null,"Dummy control revenue adjustment - Even allocation - NPV neutral",null,"£m",{"$f":" SUM(J202:V202)","v":0},null,0,0,0,0,0,0,0,0,0,0,0,0,0]
[null,null,null,null,"Residential retail revenue adjustment - Even allocation - NPV neutral",null,"£m",-8.4243372389841156,null,{"$f":" J187 * J195","v":0},0,0,0,0,0,0,0,-1.6848674477968231,-1.6848674477968231,-1.6848674477968231,-1.6848674477968231,-1.6848674477968231]
[null,null,null,null,"Business retail revenue adjustment - Even allocation - NPV neutral",null,"£m",0,null,{"$f":" J188 * J196","v":0},0,0,0,0,0,0,0,0,0,0,0,0]
[]
[]
["PROFILES SELECTION"]
[]
[{"$f":" Inputs!A$151","v":"C041"},null,null,null,{"$f":" Inputs!E$151","v":"Water resources revenue adjustment selector"},{"$f":" Inputs!F$151","v":2},{"$f":" Inputs!G$151","v":"0 = Apply in first year, 1 = Constant annuity 2020-25, 2 = Even allocation - NPV neutral"}]
[{"$f":" Inputs!A$152","v":"C051"},null,null,null,{"$f":" Inputs!E$152","v":"Water network plus revenue adjustment selector"},{"$f":" Inputs!F$152","v":2},{"$f":" Inputs!G$152","v":"0 = Apply in first year, 1 = Constant annuity 2020-25, 2 = Even allocation - NPV neutral"}]
[{"$f":" Inputs!A$153","v":"C061"},null,null,null,{"$f":" Inputs!E$153","v":"Bioesources revenue adjustment selector"},{"$f":" Inputs!F$153","v":2},{"$f":" Inputs!G$153","v":"0 = Apply in first year, 1 = Constant annuity 2020-25, 2 = Even allocation - NPV neutral"}]
[{"$f":" Inputs!A$154","v":"C071"},null,null,null,{"$f":" Inputs!E$154","v":"Wastewater network plus revenue adjustment selector"},{"$f":" Inputs!F$154","v":2},{"$f":" Inputs!G$154","v":"0 = Apply in first year, 1 = Constant annuity 2020-25, 2 = Even allocation - NPV neutral"}]
[{"$f":" Inputs!A$155","v":"C081"},null,null,null,{"$f":" Inputs!E$155","v":"Dummy control revenue adjustment selector"},{"$f":" Inputs!F$155","v":0},{"$f":" Inputs!G$155","v":"0 = Apply in first year, 1 = Constant annuity 2020-25, 2 = Even allocation - NPV neutral"}]
[{"$f":" Inputs!A$156","v":"C091"},null,null,null,{"$f":" Inputs!E$156","v":"Residential retail revenue adjustment selector"},{"$f":" Inputs!F$156","v":2},{"$f":" Inputs!G$156","v":"0 = Apply in first year, 1 = Constant annuity 2020-25, 2 = Even allocation - NPV neutral"}]
[{"$f":" Inputs!A$157","v":"C101"},null,null,null,{"$f":" Inputs!E$157","v":"Business retail revenue adjustment selector"},{"$f":" Inputs!F$157","v":0},{"$f":" Inputs!G$157","v":"0 = Apply in first year, 1 = Constant annuity 2020-25, 2 = Even allocation - NPV neutral"}]
[]
[null,null,null,null,{"$f":" E$93","v":"Water resources revenue adjustment applied in first year"},0,{"$f":" G$93","v":"£m"},0.92254923570685765,0,0,0,0,0,0,0,0,0,0.92254923570685765,0,0,0,0]
[null,null,null,null,{"$f":" E$94","v":"Water network revenue adjustment applied in first year"},0,{"$f":" G$94","v":"£m"},-13.692170146787083,0,0,0,0,0,0,0,0,0,-13.692170146787083,0,0,0,0]
[null,null,null,null,{"$f":" E$95","v":"Bioresources revenue adjustment applied in first year"},{"$f":" F$95","v":0},"£m",0,0,0,0,0,0,0,0,0,0,0,0,0,0,0]
[null,null,null,null,{"$f":" E$96","v":"Wastewater network revenue adjustment applied in first year"},0,{"$f":" G$96","v":"£m"},-18.452641925343062,0,0,0,0,0,0,0,0,0,-18.452641925343062,0,0,0,0]
[null,null,null,null,{"$f":" E$97","v":"Dummy control revenue adjustment applied in first year"},0,"£m",0,0,0,0,0,0,0,0,0,0,0,0,0,0,0]
[null,null,null,null,{"$f":" E$98","v":"Residential retail revenue adjustment applied in first year"},0,{"$f":" G$98","v":"£m"},-8.4243372389841156,0,0,0,0,0,0,0,0,0,-8.4243372389841156,0,0,0,0]
[null,null,null,null,{"$f":" E$99","v":"Business retail revenue adjustment applied in first year"},{"$f":" F$99","v":0},"£m",0,0,0,0,0,0,0,0,0,0,0,0,0,0,0]
[]
[null,null,null,null,{"$f":" E$128","v":"Water resources revenue adjustment - EAC factor adjusted"},{"$f":" F$128","v":0},"£m",0.97643315297648858,0,0,0,0,0,0,0,0,0,0.19528663059529772,0.19528663059529772,0.19528663059529772,0.19528663059529772,0.19528663059529772]
[null,null,null,null,{"$f":" E$129","v":"Water network revenue adjustment - EAC factor adjusted"},{"$f":" F$129","v":0},"£m",-14.491897396971073,0,0,0,0,0,0,0,0,0,-2.8983794793942144,-2.8983794793942144,-2.8983794793942144,-2.8983794793942144,-2.8983794793942144]
[null,null,null,null,{"$f":" E$130","v":"Bioresources revenue adjustment - EAC factor adjusted"},{"$f":" F$130","v":0},"£m",0,0,0,0,0,0,0,0,0,0,0,0,0,0,0]
[null,null,null,null,{"$f":" E$131","v":"Wastewater network revenue adjustment - EAC factor adjusted"},{"$f":" F$131","v":0},"£m",-19.530417064519753,0,0,0,0,0,0,0,0,0,-3.9060834129039508,-3.9060834129039508,-3.9060834129039508,-3.9060834129039508,-3.9060834129039508]
[null,null,null,null,{"$f":" E$132","v":"Dummy control revenue adjustment - EAC factor adjusted"},0,"£m",0,0,0,0,0,0,0,0,0,0,0,0,0,0,0]
[null,null,null,null,{"$f":" E$133","v":"Residential retail revenue adjustment - EAC factor adjusted"},{"$f":" F$133","v":0},"£m",-8.9163828374925629,0,0,0,0,0,0,0,0,0,-1.7832765674985125,-1.7832765674985125,-1.7832765674985125,-1.7832765674985125,-1.7832765674985125]
[null,null,null,null,{"$f":" E$134","v":"Business retail revenue adjustment - EAC factor adjusted"},{"$f":" F$134","v":0},"£m",0,0,0,0,0,0,0,0,0,0,0,0,0,0,0]
[]
[null,null,null,null,{"$f":" E$182","v":"Water resources revenue adjustment - NPV adjusted"},{"$f":" F$182","v":0},"£m",0.97805460616518158,0,0,0,0,0,0,0,0,0,0.18450984714137153,0.18989753467789955,0.19544254269049419,0.20116532705273821,0.20703935460267814]
[null,null,null,null,{"$f":" E$183","v":"Water network revenue adjustment - NPV adjusted"},{"$f":" F$183","v":0},"£m",-14.515962468064677,0,0,0,0,0,0,0,0,0,-2.7384340293574168,-2.8183963030146528,-2.9006934750626807,-2.9856291448008707,-3.0728095158290558]
[null,null,null,null,{"$f":" E$184","v":"Bioresources revenue adjustment - NPV adjusted"},{"$f":" F$184","v":0},"£m",0,0,0,0,0,0,0,0,0,0,0,0,0,0,0]
[null,null,null,null,{"$f":" E$185","v":"Wastewater network revenue adjustment - NPV adjusted"},{"$f":" F$185","v":0},"£m",-19.562849040973276,0,0,0,0,0,0,0,0,0,-3.6905283850686126,-3.7982918139126158,-3.9092019348788636,-4.0236679021846955,-4.1411590049284879]
[null,null,null,null,{"$f":" E$186","v":"Dummy control revenue adjustment - NPV adjusted"},0,"£m",0,0,0,0,0,0,0,0,0,0,0,0,0,0,0]
[null,null,null,null,{"$f":" E$187","v":"Residential retail revenue adjustment - NPV adjusted"},{"$f":" F$187","v":0},"£m",-8.9311892759460179,0,0,0,0,0,0,0,0,0,-1.6848674477968231,-1.7340655772724902,-1.7847002921288466,-1.8369583869248269,-1.8905975718230317]
[null,null,null,null,{"$f":" E$188","v":"Business retail revenue adjustment - NPV adjusted"},{"$f":" F$188","v":0},"£m",0,0,0,0,0,0,0,0,0,0,0,0,0,0,0]
[]
["C049",null,null,null,"Water resources revenue adjustment active",null,"£m",{"$f":" SUM(J241:V241)","v":0.97805460616518158},null,{"$f":" IF($F209 = 0, J217, IF($F209 = 1, J225, J233)) + J251","v":0},{"$f":" IF($F209 = 0, K217, IF($F209 = 1, K225, K233)) + K251","v":0},0,0,0,0,0,0,0.18450984714137153,0.18989753467789955,0.19544254269049419,0.20116532705273821,0.20703935460267814]
["C059",null,null,null,"Water network revenue adjustment active",null,"£m",-14.515962468064677,null,{"$f":" IF($F210 = 0, J218, IF($F210 = 1, J226, J234)) + J252","v":0},0,0,0,0,0,0,0,-2.7384340293574168,-2.8183963030146528,-2.9006934750626807,-2.9856291448008707,-3.0728095158290558]
["C069",null,null,null,"Bioresources revenue adjustment active",null,"£m",0,null,0,0,0,0,0,0,0,0,0,0,0,0,0]
["C079",null,null,null,"Wastewater network revenue adjustment active",null,"£m",-19.562849040973276,null,0,0,0,0,0,0,0,0,-3.6905283850686126,-3.7982918139126158,-3.9092019348788636,-4.0236679021846955,-4.1411590049284879]
["C089",null,null,null,"Dummy control revenue adjustment active",null,"£m",{"$f":" SUM(J245:V245)","v":0},null,0,0,0,0,0,0,0,0,0,0,0,0,0]
["C099",null,null,null,"Residential retail revenue adjustment active",null,"£m",-8.9311892759460179,null,0,0,0,0,0,0,0,0,-1.6848674477968231,-1.7340655772724902,-1.7847002921288466,-1.8369583869248269,-1.8905975718230317]
["C109",null,null,null,"Business retail revenue adjustment active",null,"£m",0,null,0,0,0,0,0,0,0,0,0,0,0,0,0]
[]
[]
[null,"Bespoke adjustment to preset profiling options"]
[null,null,null,null,"Water resources NPV revenue adjustment - bespoke",null,{"$f":" G$188","v":"£m"}]
[null,null,null,null,"Water network NPV revenue adjustment - bespoke",null,"£m"]
[null,null,null,null,"Bioresources NPV revenue adjustment - bespoke",null,"£m"]
[null,null,null,null,"Wastewater network NPV revenue adjustment - bespoke",null,"£m"]
[null,null,null,null,"Dmmy control NPV revenue adjustment - bespoke",null,"£m"]
[null,null,null,null,"Residential retail NPV revenue adjustment - bespoke",null,"£m"]
[null,null,null,null,"Business retail NPV revenue adjustment - bespoke",null,"£m"]

{"sheet":"FM Proportion Calc","index":12,"n_rows":142,"n_cols":22,"rows_kept":142,"cut":false,"hidden":false,"merged":[]}
[{"$f":" RIGHT(CELL(\"filename\", $A$1), LEN(CELL(\"filename\", $A$1)) - SEARCH(\"]\", CELL(\"filename\", $A$1)))","v":"FM Proportion Calc"}]
[null,null,null,null,{"$f":" Time!E$25","v":"Model period ending"},{"$f":"Checks!F$11","v":0},{"$f":"Checks!G$11","v":"Checks"},null,null,{"$f":" Time!J$25","v":"2013-03-31"},{"$f":" Time!K$25","v":"2014-03-31"},{"$f":" Time!L$25","v":"2015-03-31"},{"$f":" Time!M$25","v":"2016-03-31"},{"$f":" Time!N$25","v":"2017-03-31"},{"$f":" Time!O$25","v":"2018-03-31"},{"$f":" Time!P$25","v":"2019-03-31"},{"$f":" Time!Q$25","v":"2020-03-31"},{"$f":" Time!R$25","v":"2021-03-31"},{"$f":" Time!S$25","v":"2022-03-31"},{"$f":" Time!T$25","v":"2023-03-31"},{"$f":" Time!U$25","v":"2024-03-31"},{"$f":" Time!V$25","v":"2025-03-31"}]
[null,null,null,null,{"$f":" Time!E$80","v":"Timeline label"},null,null,null,null,{"$f":" Time!J$80","v":"Pre-Fcst"},{"$f":" Time!K$80","v":"Pre-Fcst"},{"$f":" Time!L$80","v":"Pre-Fcst"},{"$f":" Time!M$80","v":"Pre-Fcst"},{"$f":" Time!N$80","v":"Pre-Fcst"},{"$f":" Time!O$80","v":"Pre-Fcst"},{"$f":" Time!P$80","v":"Pre-Fcst"},{"$f":" Time!Q$80","v":"Pre-Fcst"},{"$f":" Time!R$80","v":"Forecast"},{"$f":" Time!S$80","v":"Forecast"},{"$f":" Time!T$80","v":"Forecast"},{"$f":" Time!U$80","v":"Forecast"},{"$f":" Time!V$80","v":"Forecast"}]
[null,null,null,null,{"$f":" Time!E$103","v":"Financial year ending"},null,null,null,null,{"$f":" Time!J$103","v":2013},{"$f":" Time!K$103","v":2014},{"$f":" Time!L$103","v":2015},{"$f":" Time!M$103","v":2016},{"$f":" Time!N$103","v":2017},{"$f":" Time!O$103","v":2018},{"$f":" Time!P$103","v":2019},{"$f":" Time!Q$103","v":2020},{"$f":" Time!R$103","v":2021},{"$f":" Time!S$103","v":2022},{"$f":" Time!T$103","v":2023},{"$f":" Time!U$103","v":2024},{"$f":" Time!V$103","v":2025}]
[null,null,null,null,{"$f":" Time!E$10","v":"Model column counter"},"Constant","Unit",null,null,{"$f":" Time!J$10","v":1},{"$f":" Time!K$10","v":2},{"$f":" Time!L$10","v":3},{"$f":" Time!M$10","v":4},{"$f":" Time!N$10","v":5},{"$f":" Time!O$10","v":6},{"$f":" Time!P$10","v":7},{"$f":" Time!Q$10","v":8},{"$f":" Time!R$10","v":9},{"$f":" Time!S$10","v":10},{"$f":" Time!T$10","v":11},{"$f":" Time!U$10","v":12},{"$f":" Time!V$10","v":13}]
[]
["Water Resources"]
[]
[null,null,null,null,{"$f":" Calc!E$198","v":"Water resources revenue adjustment"},{"$f":" Calc!F$198","v":0.92254923570685765},{"$f":" Calc!G$198","v":"£m"},{"$f":" Calc!H$198","v":0},{"$f":" Calc!I$198","v":0},{"$f":" Calc!J$198","v":0},{"$f":" Calc!K$198","v":0},{"$f":" Calc!L$198","v":0},{"$f":" Calc!M$198","v":0},{"$f":" Calc!N$198","v":0},{"$f":" Calc!O$198","v":0},{"$f":" Calc!P$198","v":0},{"$f":" Calc!Q$198","v":0},{"$f":" Calc!R$198","v":0},{"$f":" Calc!S$198","v":0},{"$f":" Calc!T$198","v":0},{"$f":" Calc!U$198","v":0},{"$f":" Calc!V$198","v":0}]
[null,null,null,null,{"$f":" Profiling!E$241","v":"Water resources revenue adjustment active"},{"$f":" Profiling!F$241","v":0},{"$f":" Profiling!G$241","v":"£m"},{"$f":" Profiling!H$241","v":0.97805460616518158},{"$f":" Profiling!I$241","v":0},{"$f":" Profiling!J$241","v":0},{"$f":" Profiling!K$241","v":0},{"$f":" Profiling!L$241","v":0},{"$f":" Profiling!M$241","v":0},{"$f":" Profiling!N$241","v":0},{"$f":" Profiling!O$241","v":0},{"$f":" Profiling!P$241","v":0},{"$f":" Profiling!Q$241","v":0},{"$f":" Profiling!R$241","v":0.18450984714137153},{"$f":" Profiling!S$241","v":0.18989753467789955},{"$f":" Profiling!T$241","v":0.19544254269049419},{"$f":" Profiling!U$241","v":0.20116532705273821},{"$f":" Profiling!V$241","v":0.20703935460267814}]
[null,null,null,null,"Water resources profiling proportions",null,"%",null,null,{"$f":"IF(J10 = 0, 0, J10/$F9)","v":0},0,0,0,0,0,0,0,0.2,0.20583999999999997,0.21185052799999993,0.21805375720527831,0.22442092691567242]
[]
[null,null,null,null,{"$f":" Calc!E$162","v":"Water trading total value of export incentive ~ Water resources at 2017-18 FYA CPIH deflated price base"},{"$f":" Calc!F$162","v":0},{"$f":" Calc!G$162","v":"£m"},{"$f":" Calc!H$162","v":0},{"$f":" Calc!I$162","v":0},{"$f":" Calc!J$162","v":0},{"$f":" Calc!K$162","v":0},{"$f":" Calc!L$162","v":0},{"$f":" Calc!M$162","v":0},{"$f":" Calc!N$162","v":0},{"$f":" Calc!O$162","v":0},{"$f":" Calc!P$162","v":0},{"$f":" Calc!Q$162","v":0},{"$f":" Calc!R$162","v":0},{"$f":" Calc!S$162","v":0},{"$f":" Calc!T$162","v":0},{"$f":" Calc!U$162","v":0},{"$f":" Calc!V$162","v":0}]
[null,null,null,null,{"$f":" Calc!E$163","v":"Water trading total value of import incentive ~ Water resources  at 2017-18 FYA CPIH deflated price base"},{"$f":" Calc!F$163","v":0},{"$f":" Calc!G$163","v":"£m"},{"$f":" Calc!H$163","v":0},{"$f":" Calc!I$163","v":0},{"$f":" Calc!J$163","v":0},{"$f":" Calc!K$163","v":0},{"$f":" Calc!L$163","v":0},{"$f":" Calc!M$163","v":0},{"$f":" Calc!N$163","v":0},{"$f":" Calc!O$163","v":0},{"$f":" Calc!P$163","v":0},{"$f":" Calc!Q$163","v":0},{"$f":" Calc!R$163","v":0},{"$f":" Calc!S$163","v":0},{"$f":" Calc!T$163","v":0},{"$f":" Calc!U$163","v":0},{"$f":" Calc!V$163","v":0}]
[null,null,null,null,"Water trading total value of incentive ~ Water resources  at 2017-18 FYA CPIH deflated price base",{"$f":" SUM(F13:F14)","v":0},"£m",{"$f":" SUM(J15:V15)","v":0},null,{"$f":"SUM(J13:J14)","v":0},{"$f":"SUM(K13:K14)","v":0},{"$f":"SUM(L13:L14)","v":0},0,0,0,0,0,0,0,0,0,0]
[]
[null,null,null,null,{"$f":" Calc!E$160","v":"ODI in-period revenue adjustment ~ Water resources at 2017-18 FYA CPIH deflated price base"},{"$f":" Calc!F$160","v":0},{"$f":" Calc!G$160","v":"£m"},{"$f":" Calc!H$160","v":0},{"$f":" Calc!I$160","v":0},{"$f":" Calc!J$160","v":0},{"$f":" Calc!K$160","v":0},{"$f":" Calc!L$160","v":0},{"$f":" Calc!M$160","v":0},{"$f":" Calc!N$160","v":0},{"$f":" Calc!O$160","v":0},{"$f":" Calc!P$160","v":0},{"$f":" Calc!Q$160","v":0},{"$f":" Calc!R$160","v":0},{"$f":" Calc!S$160","v":0},{"$f":" Calc!T$160","v":0},{"$f":" Calc!U$160","v":0},{"$f":" Calc!V$160","v":0}]
[null,null,null,null,{"$f":" Calc!E$161","v":"ODI end of period revenue adjustment ~ Water resources at 2017-18 FYA CPIH deflated price base"},{"$f":" Calc!F$161","v":0.92254923570685765},{"$f":" Calc!G$161","v":"£m"},{"$f":" Calc!H$161","v":0},{"$f":" Calc!I$161","v":0},{"$f":" Calc!J$161","v":0},{"$f":" Calc!K$161","v":0},{"$f":" Calc!L$161","v":0},{"$f":" Calc!M$161","v":0},{"$f":" Calc!N$161","v":0},{"$f":" Calc!O$161","v":0},{"$f":" Calc!P$161","v":0},{"$f":" Calc!Q$161","v":0},{"$f":" Calc!R$161","v":0},{"$f":" Calc!S$161","v":0},{"$f":" Calc!T$161","v":0},{"$f":" Calc!U$161","v":0},{"$f":" Calc!V$161","v":0}]
[null,null,null,null,{"$f":" E$15","v":"Water trading total value of incentive ~ Water resources  at 2017-18 FYA CPIH deflated price base"},{"$f":" F$15","v":0},"£m",0,0,0,0,0,0,0,0,0,0,0,0,0,0,0]
[]
[null,null,null,null,{"$f":" E$11","v":"Water resources profiling proportions"},0,"%",0,0,0,0,0,0,0,0,0,0,0.2,0.20583999999999997,0.21185052799999993,0.21805375720527831,0.22442092691567242]
[]
[null,null,null,null,"ODI in-period revenue adjustment ~ Water resources at 2017-18 FYA CPIH deflated price base",null,"£m",{"$f":" SUM(J23:V23)","v":0},null,{"$f":" $F17 * J$21","v":0},0,0,0,0,0,0,0,0,0,0,0,0]
[null,null,null,null,"ODI end of period revenue adjustment ~ Water resources at 2017-18 FYA CPIH deflated price base",null,"£m",{"$f":" SUM(J24:V24)","v":0.97805460616518158},null,{"$f":" $F18 * J$21","v":0},0,0,0,0,0,0,0,0.18450984714137153,0.18989753467789955,0.19544254269049419,0.20116532705273821,0.20703935460267814]
[null,null,null,null,"Water trading total value of incentive ~ Water resources at 2017-18 FYA CPIH deflated price base",null,"£m",{"$f":" SUM(J25:V25)","v":0},null,{"$f":" $F19 * J$21","v":0},{"$f":" $F19 * K$21","v":0},{"$f":" $F19 * L$21","v":0},0,0,0,0,0,0,0,0,0,0]
[null,null,null,null,"Total water resources revenue adjustments",null,"£m",{"$f":" SUM(J26:V26)","v":0.97805460616518158},null,{"$f":" SUM(J23:J25)","v":0},0,0,0,0,0,0,0,0.18450984714137153,0.18989753467789955,0.19544254269049419,0.20116532705273821,0.20703935460267814]
[]
[null,null,null,null,{"$f":" E$10","v":"Water resources revenue adjustment active"},{"$f":" F$10","v":0},"£m",0.97805460616518158,0,0,0,0,0,0,0,0,0,0.18450984714137153,0.18989753467789955,0.19544254269049419,0.20116532705273821,0.20703935460267814]
[null,null,null,null,{"$f":" E$26","v":"Total water resources revenue adjustments"},{"$f":" F$26","v":0},"£m",0.97805460616518158,0,0,0,0,0,0,0,0,0,0.18450984714137153,0.18989753467789955,0.19544254269049419,0.20116532705273821,0.20703935460267814]
[null,null,null,null,"Water resources total profiling adjustment check",{"$f":" IF(SUM(J30:V30)<>0, 1, 0)","v":0},"Check",null,null,{"$f":" IF(J28 = J29, 0, 1)","v":0},0,0,0,0,0,0,0,0,0,0,0,0]
[]
[]
[]
["Water Network"]
[]
[null,null,null,null,{"$f":" Calc!E$209","v":"Water network plus revenue adjustment"},{"$f":" Calc!F$209","v":-13.692170146787083},{"$f":" Calc!G$209","v":"£m"},{"$f":" Calc!H$209","v":0},{"$f":" Calc!I$209","v":0},{"$f":" Calc!J$209","v":0},{"$f":" Calc!K$209","v":0},{"$f":" Calc!L$209","v":0},{"$f":" Calc!M$209","v":0},{"$f":" Calc!N$209","v":0},{"$f":" Calc!O$209","v":0},{"$f":" Calc!P$209","v":0},{"$f":" Calc!Q$209","v":0},{"$f":" Calc!R$209","v":0},{"$f":" Calc!S$209","v":0},{"$f":" Calc!T$209","v":0},{"$f":" Calc!U$209","v":0},{"$f":" Calc!V$209","v":0}]
[null,null,null,null,{"$f":" Profiling!E$242","v":"Water network revenue adjustment active"},{"$f":" Profiling!F$242","v":0},{"$f":" Profiling!G$242","v":"£m"},{"$f":" Profiling!H$242","v":-14.515962468064677},{"$f":" Profiling!I$242","v":0},{"$f":" Profiling!J$242","v":0},{"$f":" Profiling!K$242","v":0},{"$f":" Profiling!L$242","v":0},{"$f":" Profiling!M$242","v":0},{"$f":" Profiling!N$242","v":0},{"$f":" Profiling!O$242","v":0},{"$f":" Profiling!P$242","v":0},{"$f":" Profiling!Q$242","v":0},{"$f":" Profiling!R$242","v":-2.7384340293574168},{"$f":" Profiling!S$242","v":-2.8183963030146528},{"$f":" Profiling!T$242","v":-2.9006934750626807},{"$f":" Profiling!U$242","v":-2.9856291448008707},{"$f":" Profiling!V$242","v":-3.0728095158290558}]
[null,null,null,null,"Water network profiling proportions",null,"%",null,null,{"$f":"IF(J37 = 0, 0, J37/$F36)","v":0},0,0,0,0,0,0,0,0.2,0.20583999999999997,0.21185052799999998,0.21805375720527834,0.22442092691567242]
[]
[null,null,null,null,{"$f":" Calc!E$168","v":"Water trading total value of export incentive ~ Water network plus at 2017-18 FYA CPIH deflated price base"},{"$f":" Calc!F$168","v":0},{"$f":" Calc!G$168","v":"£m"},{"$f":" Calc!H$168","v":0},{"$f":" Calc!I$168","v":0},{"$f":" Calc!J$168","v":0},{"$f":" Calc!K$168","v":0},{"$f":" Calc!L$168","v":0},{"$f":" Calc!M$168","v":0},{"$f":" Calc!N$168","v":0},{"$f":" Calc!O$168","v":0},{"$f":" Calc!P$168","v":0},{"$f":" Calc!Q$168","v":0},{"$f":" Calc!R$168","v":0},{"$f":" Calc!S$168","v":0},{"$f":" Calc!T$168","v":0},{"$f":" Calc!U$168","v":0},{"$f":" Calc!V$168","v":0}]
[null,null,null,null,{"$f":" Calc!E$169","v":"Water trading total value of import incentive ~ Water network plus at 2017-18 FYA CPIH deflated price base"},{"$f":" Calc!F$169","v":0},{"$f":" Calc!G$169","v":"£m"},{"$f":" Calc!H$169","v":0},{"$f":" Calc!I$169","v":0},{"$f":" Calc!J$169","v":0},{"$f":" Calc!K$169","v":0},{"$f":" Calc!L$169","v":0},{"$f":" Calc!M$169","v":0},{"$f":" Calc!N$169","v":0},{"$f":" Calc!O$169","v":0},{"$f":" Calc!P$169","v":0},{"$f":" Calc!Q$169","v":0},{"$f":" Calc!R$169","v":0},{"$f":" Calc!S$169","v":0},{"$f":" Calc!T$169","v":0},{"$f":" Calc!U$169","v":0},{"$f":" Calc!V$169","v":0}]
[null,null,null,null,"Water trading total value of incentive ~ Water network at 2017-18 FYA CPIH deflated price base",{"$f":" SUM(F40:F41)","v":0},"£m",{"$f":" SUM(J42:V42)","v":0},null,{"$f":"SUM(J40:J41)","v":0},{"$f":"SUM(K40:K41)","v":0},{"$f":"SUM(L40:L41)","v":0},{"$f":"SUM(M40:M41)","v":0},{"$f":"SUM(N40:N41)","v":0},{"$f":"SUM(O40:O41)","v":0},{"$f":"SUM(P40:P41)","v":0},{"$f":"SUM(Q40:Q41)","v":0},{"$f":"SUM(R40:R41)","v":0},{"$f":"SUM(S40:S41)","v":0},{"$f":"SUM(T40:T41)","v":0},{"$f":"SUM(U40:U41)","v":0},{"$f":"SUM(V40:V41)","v":0}]
[]
[null,null,null,null,{"$f":" Calc!E$165","v":"ODI in-period revenue adjustment ~ Water network plus at 2017-18 FYA CPIH deflated price base"},{"$f":" Calc!F$165","v":0.32232275766054402},{"$f":" Calc!G$165","v":"£m"},{"$f":" Calc!H$165","v":0},{"$f":" Calc!I$165","v":0},{"$f":" Calc!J$165","v":0},{"$f":" Calc!K$165","v":0},{"$f":" Calc!L$165","v":0},{"$f":" Calc!M$165","v":0},{"$f":" Calc!N$165","v":0},{"$f":" Calc!O$165","v":0},{"$f":" Calc!P$165","v":0},{"$f":" Calc!Q$165","v":0},{"$f":" Calc!R$165","v":0},{"$f":" Calc!S$165","v":0},{"$f":" Calc!T$165","v":0},{"$f":" Calc!U$165","v":0},{"$f":" Calc!V$165","v":0}]
[null,null,null,null,{"$f":" Calc!E$166","v":"ODI end of period revenue adjustment ~ Water network plus at 2017-18 FYA CPIH deflated price base"},{"$f":" Calc!F$166","v":8.3257221148359601},{"$f":" Calc!G$166","v":"£m"},{"$f":" Calc!H$166","v":0},{"$f":" Calc!I$166","v":0},{"$f":" Calc!J$166","v":0},{"$f":" Calc!K$166","v":0},{"$f":" Calc!L$166","v":0},{"$f":" Calc!M$166","v":0},{"$f":" Calc!N$166","v":0},{"$f":" Calc!O$166","v":0},{"$f":" Calc!P$166","v":0},{"$f":" Calc!Q$166","v":0},{"$f":" Calc!R$166","v":0},{"$f":" Calc!S$166","v":0},{"$f":" Calc!T$166","v":0},{"$f":" Calc!U$166","v":0},{"$f":" Calc!V$166","v":0}]
[null,null,null,null,{"$f":" Calc!E$170","v":"WRFIM total reward / (penalty) at the end of AMP6 ~ Water network plus at 2017-18 FYA CPIH deflated price base"},{"$f":" Calc!F$170","v":-19.836984064666176},{"$f":" Calc!G$170","v":"£m"},{"$f":" Calc!H$170","v":0},{"$f":" Calc!I$170","v":0},{"$f":" Calc!J$170","v":0},{"$f":" Calc!K$170","v":0},{"$f":" Calc!L$170","v":0},{"$f":" Calc!M$170","v":0},{"$f":" Calc!N$170","v":0},{"$f":" Calc!O$170","v":0},{"$f":" Calc!P$170","v":0},{"$f":" Calc!Q$170","v":0},{"$f":" Calc!R$170","v":0},{"$f":" Calc!S$170","v":0},{"$f":" Calc!T$170","v":0},{"$f":" Calc!U$170","v":0},{"$f":" Calc!V$170","v":0}]
[null,null,null,null,{"$f":" Calc!E$167","v":"Water: Totex menu revenue adjustment at 2017-18 FYA CPIH deflated price base"},{"$f":" Calc!F$167","v":-3.3602771718804245},{"$f":" Calc!G$167","v":"£m"},{"$f":" Calc!H$167","v":0},{"$f":" Calc!I$167","v":0},{"$f":" Calc!J$167","v":0},{"$f":" Calc!K$167","v":0},{"$f":" Calc!L$167","v":0},{"$f":" Calc!M$167","v":0},{"$f":" Calc!N$167","v":0},{"$f":" Calc!O$167","v":0},{"$f":" Calc!P$167","v":0},{"$f":" Calc!Q$167","v":0},{"$f":" Calc!R$167","v":0},{"$f":" Calc!S$167","v":0},{"$f":" Calc!T$167","v":0},{"$f":" Calc!U$167","v":0},{"$f":" Calc!V$167","v":0}]
[null,null,null,null,{"$f":" Calc!E$164","v":"Further 2010-15 reconciliation total adjustment revenue carry forward to PR19 ~ Water network plus at 2017-18 FYA CPIH deflated price base"},{"$f":" Calc!F$164","v":0.85704621726301244},{"$f":" Calc!G$164","v":"£m"},{"$f":" Calc!H$164","v":0},{"$f":" Calc!I$164","v":0},{"$f":" Calc!J$164","v":0},{"$f":" Calc!K$164","v":0},{"$f":" Calc!L$164","v":0},{"$f":" Calc!M$164","v":0},{"$f":" Calc!N$164","v":0},{"$f":" Calc!O$164","v":0},{"$f":" Calc!P$164","v":0},{"$f":" Calc!Q$164","v":0},{"$f":" Calc!R$164","v":0},{"$f":" Calc!S$164","v":0},{"$f":" Calc!T$164","v":0},{"$f":" Calc!U$164","v":0},{"$f":" Calc!V$164","v":0}]
[null,null,null,null,{"$f":"Calc!E$171","v":"Other revenue adjustment - water network plus at 2017-18 FYA CPIH deflated price base"},{"$f":"Calc!F$171","v":0},{"$f":"Calc!G$171","v":"£m"},{"$f":"Calc!H$171","v":0},{"$f":"Calc!I$171","v":0},{"$f":"Calc!J$171","v":0},{"$f":"Calc!K$171","v":0},{"$f":"Calc!L$171","v":0},{"$f":"Calc!M$171","v":0},{"$f":"Calc!N$171","v":0},{"$f":"Calc!O$171","v":0},{"$f":"Calc!P$171","v":0},{"$f":"Calc!Q$171","v":0},{"$f":"Calc!R$171","v":0},{"$f":"Calc!S$171","v":0},{"$f":"Calc!T$171","v":0},{"$f":"Calc!U$171","v":0},{"$f":"Calc!V$171","v":0}]
[null,null,null,null,{"$f":" E$42","v":"Water trading total value of incentive ~ Water network at 2017-18 FYA CPIH deflated price base"},{"$f":" F$42","v":0},"£m",0,0,0,{"$f":" K$42","v":0},0,0,0,0,0,0,0,0,0,0,0]
[]
[null,null,null,null,{"$f":" E$38","v":"Water network profiling proportions"},0,"%",0,0,0,0,0,0,0,0,0,0,0.2,0.20583999999999997,0.21185052799999998,0.21805375720527834,0.22442092691567242]
[]
[null,null,null,null,"ODI in-period revenue adjustment ~ Water network plus at 2017-18 FYA CPIH deflated price base",null,"£m",{"$f":" SUM(J54:V54)","v":0.34171537474660041},null,{"$f":" $F44 * J$52","v":0},0,0,0,0,0,0,0,6.446455153210881E-2,6.634691643684637E-2,6.8284246396802292E-2,7.0283688340648034E-2,7.2335972040194943E-2]
[null,null,null,null,"ODI end of period revenue adjustment ~ Water network plus at 2017-18 FYA CPIH deflated price base",null,"£m",8.8266409519351559,null,{"$f":" $F45 * J$52","v":0},0,0,0,0,0,0,0,1.6651444229671921,1.7137666401178338,1.7638086260092747,1.815454988587057,1.8684662742537985]
[null,null,null,null,"WRFIM total reward / (penalty) at the end of AMP6 ~ Water network plus at 2017-18 FYA CPIH deflated price base",null,"£m",-21.030480418756735,null,{"$f":" $F46 * J$52","v":0},0,0,0,0,0,0,0,-3.9673968129332353,-4.0832447998708847,-4.202475548027115,-4.3255289069216936,-4.4518343510038063]
[null,null,null,null,"Water: Totex menu revenue adjustment at 2017-18 FYA CPIH deflated price base",null,"£m",-3.5624489607117988,null,{"$f":" $F47 * J$52","v":0},{"$f":" $F47 * K$52","v":0},0,0,0,0,0,0,{"$f":" $F47 * R$52","v":-0.67205543437608495},-0.69167945305986644,-0.71187649308921463,-0.73272106257965341,-0.75411651760697918]
[null,null,null,null,"Further 2010-15 reconciliation total adjustment revenue carry forward to PR19 ~ Water network plus at 2017-18 FYA CPIH deflated price base",null,"£m",0.90861058472209999,null,{"$f":" $F48 * J$52","v":0},{"$f":" $F48 * K$52","v":0},0,0,0,0,0,0,{"$f":" $F48 * R$52","v":0.1714092434526025},0.17641439336141845,0.18156569364757189,0.18688214777277115,0.19233910648773603]
[null,null,null,null,"Other revenue adjustment - water network plus at 2017-18 FYA CPIH deflated price base",null,"£m",{"$f":" SUM(J59:V59)","v":0},null,{"$f":" $F49 * J$52","v":0},{"$f":" $F49 * K$52","v":0},0,0,0,0,0,0,0,0,0,0,0]
[null,null,null,null,"Water trading total value of incentive ~ Water network plus at 2017-18 FYA CPIH deflated price base",null,"£m",0,null,{"$f":" $F50 * J$52","v":0},{"$f":" $F50 * K$52","v":0},0,0,0,0,0,0,{"$f":" $F50 * R$52","v":0},0,0,0,0]
[null,null,null,null,"Total water network revenue adjustments",null,"£m",-14.515962468064677,null,{"$f":" SUM(J54:J60)","v":0},{"$f":" SUM(K54:K60)","v":0},0,0,0,0,0,0,{"$f":" SUM(R54:R60)","v":-2.7384340293574168},{"$f":" SUM(S54:S60)","v":-2.8183963030146524},-2.9006934750626807,-2.9856291448008707,-3.0728095158290558]
[]
[null,null,null,null,{"$f":" E$37","v":"Water network revenue adjustment active"},{"$f":" F$37","v":0},{"$f":" G$37","v":"£m"},-14.515962468064677,0,{"$f":" J$37","v":0},0,0,0,0,0,0,0,{"$f":" R$37","v":-2.7384340293574168},-2.8183963030146528,-2.9006934750626807,-2.9856291448008707,-3.0728095158290558]
[null,null,null,null,{"$f":" E$61","v":"Total water network revenue adjustments"},{"$f":" F$61","v":0},{"$f":" G$61","v":"£m"},-14.515962468064677,0,{"$f":" J$61","v":0},0,0,0,0,0,0,0,{"$f":" R$61","v":-2.7384340293574168},-2.8183963030146524,-2.9006934750626807,-2.9856291448008707,-3.0728095158290558]
[null,null,null,null,"Water network total profiling adjustment check",{"$f":" IF(SUM(J65:V65)<>0, 1, 0)","v":0},"Check",null,null,{"$f":" IF(J63 = J64, 0, 1)","v":0},0,0,0,0,0,0,0,0,0,0,0,0]
[]
[]
[]
["Wastewater Network"]
[]
[null,null,null,null,{"$f":" Calc!E$223","v":"Wastewater network plus revenue adjustment"},{"$f":" Calc!F$223","v":-18.452641925343062},{"$f":" Calc!G$223","v":"£m"},{"$f":" Calc!H$223","v":0},{"$f":" Calc!I$223","v":0},{"$f":" Calc!J$223","v":0},{"$f":" Calc!K$223","v":0},{"$f":" Calc!L$223","v":0},{"$f":" Calc!M$223","v":0},{"$f":" Calc!N$223","v":0},{"$f":" Calc!O$223","v":0},{"$f":" Calc!P$223","v":0},{"$f":" Calc!Q$223","v":0},{"$f":" Calc!R$223","v":0},{"$f":" Calc!S$223","v":0},{"$f":" Calc!T$223","v":0},{"$f":" Calc!U$223","v":0},{"$f":" Calc!V$223","v":0}]
[null,null,null,null,{"$f":" Profiling!E$244","v":"Wastewater network revenue adjustment active"},{"$f":" Profiling!F$244","v":0},{"$f":" Profiling!G$244","v":"£m"},{"$f":" Profiling!H$244","v":-19.562849040973276},{"$f":" Profiling!I$244","v":0},{"$f":" Profiling!J$244","v":0},{"$f":" Profiling!K$244","v":0},{"$f":" Profiling!L$244","v":0},{"$f":" Profiling!M$244","v":0},{"$f":" Profiling!N$244","v":0},{"$f":" Profiling!O$244","v":0},{"$f":" Profiling!P$244","v":0},{"$f":" Profiling!Q$244","v":0},{"$f":" Profiling!R$244","v":-3.6905283850686126},{"$f":" Profiling!S$244","v":-3.7982918139126158},{"$f":" Profiling!T$244","v":-3.9092019348788636},{"$f":" Profiling!U$244","v":-4.0236679021846955},{"$f":" Profiling!V$244","v":-4.1411590049284879}]
[null,null,null,null,"Wastewater network profiling proportions",null,"%",null,null,{"$f":"IF(J72 = 0, 0, J72/$F71)","v":0},0,0,0,0,0,0,0,0.2,0.20584,0.21185052799999995,0.21805375720527831,0.22442092691567239]
[]
[null,null,null,null,{"$f":" Calc!E$175","v":"ODI in-period revenue adjustment ~ Wastewater network plus at 2017-18 FYA CPIH deflated price base"},{"$f":" Calc!F$175","v":-1.012526259930119},{"$f":" Calc!G$175","v":"£m"},{"$f":" Calc!H$175","v":0},{"$f":" Calc!I$175","v":0},{"$f":" Calc!J$175","v":0},{"$f":" Calc!K$175","v":0},{"$f":" Calc!L$175","v":0},{"$f":" Calc!M$175","v":0},{"$f":" Calc!N$175","v":0},{"$f":" Calc!O$175","v":0},{"$f":" Calc!P$175","v":0},{"$f":" Calc!Q$175","v":0},{"$f":" Calc!R$175","v":0},{"$f":" Calc!S$175","v":0},{"$f":" Calc!T$175","v":0},{"$f":" Calc!U$175","v":0},{"$f":" Calc!V$175","v":0}]
[null,null,null,null,{"$f":" Calc!E$176","v":"ODI end of period revenue adjustment ~ Wastewater network plus at 2017-18 FYA CPIH deflated price base"},{"$f":" Calc!F$176","v":0},{"$f":" Calc!G$176","v":"£m"},{"$f":" Calc!H$176","v":0},{"$f":" Calc!I$176","v":0},{"$f":" Calc!J$176","v":0},{"$f":" Calc!K$176","v":0},{"$f":" Calc!L$176","v":0},{"$f":" Calc!M$176","v":0},{"$f":" Calc!N$176","v":0},{"$f":" Calc!O$176","v":0},{"$f":" Calc!P$176","v":0},{"$f":" Calc!Q$176","v":0},{"$f":" Calc!R$176","v":0},{"$f":" Calc!S$176","v":0},{"$f":" Calc!T$176","v":0},{"$f":" Calc!U$176","v":0},{"$f":" Calc!V$176","v":0}]
[null,null,null,null,{"$f":" Calc!E$178","v":"WRFIM total reward / (penalty) at the end of AMP6 ~ Wastewater network plus at 2017-18 FYA CPIH deflated price base"},{"$f":" Calc!F$178","v":-20.719834276092151},{"$f":" Calc!G$178","v":"£m"},{"$f":" Calc!H$178","v":0},{"$f":" Calc!I$178","v":0},{"$f":" Calc!J$178","v":0},{"$f":" Calc!K$178","v":0},{"$f":" Calc!L$178","v":0},{"$f":" Calc!M$178","v":0},{"$f":" Calc!N$178","v":0},{"$f":" Calc!O$178","v":0},{"$f":" Calc!P$178","v":0},{"$f":" Calc!Q$178","v":0},{"$f":" Calc!R$178","v":0},{"$f":" Calc!S$178","v":0},{"$f":" Calc!T$178","v":0},{"$f":" Calc!U$178","v":0},{"$f":" Calc!V$178","v":0}]
[null,null,null,null,{"$f":" Calc!E$177","v":"Wastewater: Totex menu revenue adjustment at 2017-18 FYA CPIH deflated price base"},{"$f":" Calc!F$177","v":1.8230006869575237},{"$f":" Calc!G$177","v":"£m"},{"$f":" Calc!H$177","v":0},{"$f":" Calc!I$177","v":0},{"$f":" Calc!J$177","v":0},{"$f":" Calc!K$177","v":0},{"$f":" Calc!L$177","v":0},{"$f":" Calc!M$177","v":0},{"$f":" Calc!N$177","v":0},{"$f":" Calc!O$177","v":0},{"$f":" Calc!P$177","v":0},{"$f":" Calc!Q$177","v":0},{"$f":" Calc!R$177","v":0},{"$f":" Calc!S$177","v":0},{"$f":" Calc!T$177","v":0},{"$f":" Calc!U$177","v":0},{"$f":" Calc!V$177","v":0}]
[null,null,null,null,{"$f":" Calc!E$174","v":"Further 2010-15 reconciliation total adjustment revenue carry forward to PR19 ~ Wastewater network plus at 2017-18 FYA CPIH deflated price base"},{"$f":" Calc!F$174","v":1.4567179237216823},{"$f":" Calc!G$174","v":"£m"},{"$f":" Calc!H$174","v":0},{"$f":" Calc!I$174","v":0},{"$f":" Calc!J$174","v":0},{"$f":" Calc!K$174","v":0},{"$f":" Calc!L$174","v":0},{"$f":" Calc!M$174","v":0},{"$f":" Calc!N$174","v":0},{"$f":" Calc!O$174","v":0},{"$f":" Calc!P$174","v":0},{"$f":" Calc!Q$174","v":0},{"$f":" Calc!R$174","v":0},{"$f":" Calc!S$174","v":0},{"$f":" Calc!T$174","v":0},{"$f":" Calc!U$174","v":0},{"$f":" Calc!V$174","v":0}]
[null,null,null,null,{"$f":"Calc!E$179","v":"Other revenue adjustment - wastewater network plus at 2017-18 FYA CPIH deflated price base"},{"$f":"Calc!F$179","v":0},{"$f":"Calc!G$179","v":"£m"},{"$f":"Calc!H$179","v":0},{"$f":"Calc!I$179","v":0},{"$f":"Calc!J$179","v":0},{"$f":"Calc!K$179","v":0},{"$f":"Calc!L$179","v":0},{"$f":"Calc!M$179","v":0},{"$f":"Calc!N$179","v":0},{"$f":"Calc!O$179","v":0},{"$f":"Calc!P$179","v":0},{"$f":"Calc!Q$179","v":0},{"$f":"Calc!R$179","v":0},{"$f":"Calc!S$179","v":0},{"$f":"Calc!T$179","v":0},{"$f":"Calc!U$179","v":0},{"$f":"Calc!V$179","v":0}]
[]
[null,null,null,null,{"$f":" E$73","v":"Wastewater network profiling proportions"},0,"%",0,0,0,0,0,0,0,0,0,0,0.2,0.20584,0.21185052799999995,0.21805375720527831,0.22442092691567239]
[]
[null,null,null,null,"ODI in-period revenue adjustment ~ Wastewater network at 2017-18 FYA CPIH deflated price base",null,"£m",{"$f":" SUM(J84:V84)","v":-1.0734451171368473},null,{"$f":" $F75 * J$82","v":0},0,0,0,0,0,0,0,-0.20250525198602382,-0.20841840534401571,-0.2145042227800609,-0.2207851552467707,-0.22723208177997634]
[null,null,null,null,"ODI end of period revenue adjustment ~ Wastewater network at 2017-18 FYA CPIH deflated price base",null,"£m",0,null,{"$f":" $F76 * J$82","v":0},0,0,0,0,0,0,0,0,0,0,0,0]
[null,null,null,null,"WRFIM total reward / (penalty) at the end of AMP6 ~ Wastewater network at 2017-18 FYA CPIH deflated price base",null,"£m",-21.966447500424181,null,{"$f":" $F77 * J$82","v":0},0,0,0,0,0,0,0,-4.1439668552184301,-4.2649706873908082,-4.3895078314626188,-4.5180377125726014,-4.6499644137797205]
[null,null,null,null,"Wastewater: Totex menu revenue adjustment at 2017-18 FYA CPIH deflated price base",null,"£m",1.9326819099849619,null,{"$f":" $F78 * J$82","v":0},0,0,0,0,0,0,0,0.36460013739150476,0.37524646140333667,0.38620365807631402,0.39751214917889144,0.40911950393491497]
[null,null,null,null,"Further 2010-15 reconciliation total adjustment revenue carry forward to PR19 ~ Wastewater network at 2017-18 FYA CPIH deflated price base",null,"£m",1.5443616666027882,null,{"$f":" $F79 * J$82","v":0},0,0,0,0,0,0,0,0.29134358474433647,0.2998508174188711,0.30860646128750208,0.31764281645578485,0.32691798669629368]
[null,null,null,null,"Other revenue adjustment - wastewater network plus at 2017-18 FYA CPIH deflated price base",null,"£m",{"$f":" SUM(J89:V89)","v":0},null,{"$f":" $F80 * J$82","v":0},{"$f":" $F80 * K$82","v":0},{"$f":" $F80 * L$82","v":0},0,0,0,0,0,0,0,0,0,0]
[null,null,null,null,"Total wastewater network revenue adjustments",null,"£m",-19.562849040973276,null,{"$f":" SUM(J84:J89)","v":0},{"$f":" SUM(K84:K89)","v":0},0,0,0,0,0,0,-3.6905283850686126,{"$f":" SUM(S84:S89)","v":-3.7982918139126167},-3.9092019348788631,-4.0236679021846955,-4.1411590049284888]
[]
[null,null,null,null,{"$f":" E$72","v":"Wastewater network revenue adjustment active"},{"$f":" F$72","v":0},"£m",-19.562849040973276,0,0,0,0,0,0,0,0,0,-3.6905283850686126,-3.7982918139126158,-3.9092019348788636,-4.0236679021846955,-4.1411590049284879]
[null,null,null,null,{"$f":" E$90","v":"Total wastewater network revenue adjustments"},{"$f":" F$90","v":0},"£m",-19.562849040973276,0,0,0,0,0,0,0,0,0,-3.6905283850686126,-3.7982918139126167,-3.9092019348788631,-4.0236679021846955,-4.1411590049284888]
[null,null,null,null,"Wastewater network total profiling adjustment check",{"$f":" IF(SUM(J94:V94)<>0, 1, 0)","v":0},"Check",null,null,{"$f":" IF(J92 = J93, 0, 1)","v":0},0,0,0,0,0,0,0,{"$f":" IF(R92 = R93, 0, 1)","v":0},0,0,0,0]
[]
[]
["Bioresources"]
[]
[null,null,null,null,{"$f":"Calc!E214","v":"Bioresources revenue adjustment"},{"$f":"Calc!F214","v":0},{"$f":"Calc!G214","v":"£m"},{"$f":"Calc!H214","v":0},{"$f":"Calc!I214","v":0},{"$f":"Calc!J214","v":0},{"$f":"Calc!K214","v":0},{"$f":"Calc!L214","v":0},{"$f":"Calc!M214","v":0},{"$f":"Calc!N214","v":0},{"$f":"Calc!O214","v":0},{"$f":"Calc!P214","v":0},{"$f":"Calc!Q214","v":0},{"$f":"Calc!R214","v":0},{"$f":"Calc!S214","v":0},{"$f":"Calc!T214","v":0},{"$f":"Calc!U214","v":0},{"$f":"Calc!V214","v":0}]
[null,null,null,null,{"$f":" Profiling!E$243","v":"Bioresources revenue adjustment active"},{"$f":" Profiling!F$243","v":0},{"$f":" Profiling!G$243","v":"£m"},{"$f":" Profiling!H$243","v":0},{"$f":" Profiling!I$243","v":0},{"$f":" Profiling!J$243","v":0},{"$f":" Profiling!K$243","v":0},{"$f":" Profiling!L$243","v":0},{"$f":" Profiling!M$243","v":0},{"$f":" Profiling!N$243","v":0},{"$f":" Profiling!O$243","v":0},{"$f":" Profiling!P$243","v":0},{"$f":" Profiling!Q$243","v":0},{"$f":" Profiling!R$243","v":0},{"$f":" Profiling!S$243","v":0},{"$f":" Profiling!T$243","v":0},{"$f":" Profiling!U$243","v":0},{"$f":" Profiling!V$243","v":0}]
[null,null,null,null,"Bioresources profiling proportions",null,"%",null,null,{"$f":"IF(J100 = 0, 0, J100/$F99)","v":0},0,0,0,0,0,0,0,0,0,0,0,0]
[]
[null,null,null,null,{"$f":" Calc!E$172","v":"ODI in-period revenue adjustment ~ Bioresources at 2017-18 FYA CPIH deflated price base"},{"$f":" Calc!F$172","v":0},{"$f":" Calc!G$172","v":"£m"},{"$f":" Calc!H$172","v":0},{"$f":" Calc!I$172","v":0},{"$f":" Calc!J$172","v":0},{"$f":" Calc!K$172","v":0},{"$f":" Calc!L$172","v":0},{"$f":" Calc!M$172","v":0},{"$f":" Calc!N$172","v":0},{"$f":" Calc!O$172","v":0},{"$f":" Calc!P$172","v":0},{"$f":" Calc!Q$172","v":0},{"$f":" Calc!R$172","v":0},{"$f":" Calc!S$172","v":0},{"$f":" Calc!T$172","v":0},{"$f":" Calc!U$172","v":0},{"$f":" Calc!V$172","v":0}]
[null,null,null,null,{"$f":" Calc!E$173","v":"ODI end of period revenue adjustment ~ Bioresources at 2017-18 FYA CPIH deflated price base"},{"$f":" Calc!F$173","v":0},{"$f":" Calc!G$173","v":"£m"},{"$f":" Calc!H$173","v":0},{"$f":" Calc!I$173","v":0},{"$f":" Calc!J$173","v":0},{"$f":" Calc!K$173","v":0},{"$f":" Calc!L$173","v":0},{"$f":" Calc!M$173","v":0},{"$f":" Calc!N$173","v":0},{"$f":" Calc!O$173","v":0},{"$f":" Calc!P$173","v":0},{"$f":" Calc!Q$173","v":0},{"$f":" Calc!R$173","v":0},{"$f":" Calc!S$173","v":0},{"$f":" Calc!T$173","v":0},{"$f":" Calc!U$173","v":0},{"$f":" Calc!V$173","v":0}]
[]
[null,null,null,null,{"$f":" E$101","v":"Bioresources profiling proportions"},0,"%",0,0,0,0,0,0,0,0,0,0,0,0,0,0,0]
[]
[null,null,null,null,"ODI in-period revenue adjustment ~ Bioresources at 2017-18 FYA CPIH deflated price base",null,"£m",{"$f":" SUM(J108:V108)","v":0},null,{"$f":" $F103 * J$106","v":0},0,0,0,0,0,0,0,0,0,0,0,0]
[null,null,null,null,"ODI end of period revenue adjustment ~ Bioresources at 2017-18 FYA CPIH deflated price base",null,"£m",{"$f":" SUM(J109:V109)","v":0},null,{"$f":" $F104 * J$106","v":0},0,0,0,0,0,0,0,0,0,0,0,0]
[null,null,null,null,"Total bioresources revenue adjustments",null,"£m",{"$f":" SUM(J110:V110)","v":0},null,{"$f":" SUM(J108:J109)","v":0},0,0,0,0,0,0,0,0,0,0,0,0]
[]
[null,null,null,null,{"$f":" E$100","v":"Bioresources revenue adjustment active"},{"$f":" F$100","v":0},"£m",0,0,0,0,0,0,0,0,0,0,0,0,0,0,0]
[null,null,null,null,{"$f":" E$110","v":"Total bioresources revenue adjustments"},{"$f":" F$110","v":0},"£m",0,0,0,0,0,0,0,0,0,0,0,0,0,0,0]
[null,null,null,null,"Bioresources total profiling adjustment check",{"$f":" IF(SUM(J114:V114)<>0, 1, 0)","v":0},"Check",null,null,{"$f":" IF(J112 = J113, 0, 1)","v":0},0,0,0,0,0,0,0,0,0,0,0,0]
[]
[]
["Dummy Control"]
[]
[null,null,null,null,{"$f":" Calc!E$228","v":"Dummy control revenue adjustment"},{"$f":" Calc!F$228","v":0},{"$f":" Calc!G$228","v":"£m"},{"$f":" Calc!H$228","v":0},{"$f":" Calc!I$228","v":0},{"$f":" Calc!J$228","v":0},{"$f":" Calc!K$228","v":0},{"$f":" Calc!L$228","v":0},{"$f":" Calc!M$228","v":0},{"$f":" Calc!N$228","v":0},{"$f":" Calc!O$228","v":0},{"$f":" Calc!P$228","v":0},{"$f":" Calc!Q$228","v":0},{"$f":" Calc!R$228","v":0},{"$f":" Calc!S$228","v":0},{"$f":" Calc!T$228","v":0},{"$f":" Calc!U$228","v":0},{"$f":" Calc!V$228","v":0}]
[null,null,null,null,{"$f":" Profiling!E$245","v":"Dummy control revenue adjustment active"},{"$f":" Profiling!F$245","v":0},{"$f":" Profiling!G$245","v":"£m"},{"$f":" Profiling!H$245","v":0},{"$f":" Profiling!I$245","v":0},{"$f":" Profiling!J$245","v":0},{"$f":" Profiling!K$245","v":0},{"$f":" Profiling!L$245","v":0},{"$f":" Profiling!M$245","v":0},{"$f":" Profiling!N$245","v":0},{"$f":" Profiling!O$245","v":0},{"$f":" Profiling!P$245","v":0},{"$f":" Profiling!Q$245","v":0},{"$f":" Profiling!R$245","v":0},{"$f":" Profiling!S$245","v":0},{"$f":" Profiling!T$245","v":0},{"$f":" Profiling!U$245","v":0},{"$f":" Profiling!V$245","v":0}]
[null,null,null,null,"Dummy profiling proportions",null,"%",null,null,{"$f":"IF(J120 = 0, 0, J120/$F119)","v":0},0,0,0,0,0,0,0,0,0,0,0,0]
[]
[null,null,null,null,{"$f":" Calc!E$180","v":"Dummy: revenue adjustment from totex menu model at 2017-18 FYA CPIH deflated price base"},{"$f":" Calc!F$180","v":0},{"$f":" Calc!G$180","v":"£m"},{"$f":" Calc!H$180","v":0},{"$f":" Calc!I$180","v":0},{"$f":" Calc!J$180","v":0},{"$f":" Calc!K$180","v":0},{"$f":" Calc!L$180","v":0},{"$f":" Calc!M$180","v":0},{"$f":" Calc!N$180","v":0},{"$f":" Calc!O$180","v":0},{"$f":" Calc!P$180","v":0},{"$f":" Calc!Q$180","v":0},{"$f":" Calc!R$180","v":0},{"$f":" Calc!S$180","v":0},{"$f":" Calc!T$180","v":0},{"$f":" Calc!U$180","v":0},{"$f":" Calc!V$180","v":0}]
[null,null,null,null,{"$f":"Calc!E$181","v":"WRFIM total reward / (penalty) at the end of AMP6 ~ Dummy at 2017-18 FYA CPIH deflated price base"},{"$f":"Calc!F$181","v":0},{"$f":"Calc!G$181","v":"£m"},{"$f":"Calc!H$181","v":0},{"$f":"Calc!I$181","v":0},{"$f":"Calc!J$181","v":0},{"$f":"Calc!K$181","v":0},{"$f":"Calc!L$181","v":0},{"$f":"Calc!M$181","v":0},{"$f":"Calc!N$181","v":0},{"$f":"Calc!O$181","v":0},{"$f":"Calc!P$181","v":0},{"$f":"Calc!Q$181","v":0},{"$f":"Calc!R$181","v":0},{"$f":"Calc!S$181","v":0},{"$f":"Calc!T$181","v":0},{"$f":"Calc!U$181","v":0},{"$f":"Calc!V$181","v":0}]
[]
[null,null,null,null,{"$f":" E$121","v":"Dummy profiling proportions"},0,"%",0,0,0,0,0,0,0,0,0,0,0,0,0,0,0]
[]
[null,null,null,null,"Dummy: revenue adjustment from totex menu model at 2017-18 FYA CPIH deflated price base",null,"£m",{"$f":" SUM(J128:V128)","v":0},null,{"$f":" $F123 * J$126","v":0},0,0,0,0,0,0,0,0,0,0,0,0]
[null,null,null,null,"WRFIM total reward / (penalty) at the end of AMP6 ~ Dummy at 2017-18 FYA CPIH deflated price base",null,"£m",{"$f":" SUM(J129:V129)","v":0},null,{"$f":" $F124 * J$126","v":0},0,0,0,0,0,0,0,0,0,0,0,0]
[null,null,null,null,"Total dummy revenue adjustments",null,"£m",{"$f":" SUM(J130:V130)","v":0},null,{"$f":" SUM(J128:J129)","v":0},0,0,0,0,0,0,0,0,0,0,0,0]
[]
[null,null,null,null,{"$f":" E$120","v":"Dummy control revenue adjustment active"},{"$f":" F$120","v":0},"£m",0,0,0,0,0,0,0,0,0,0,0,0,0,0,0]
[null,null,null,null,{"$f":" E$130","v":"Total dummy revenue adjustments"},{"$f":" F$130","v":0},"£m",0,0,0,0,0,0,0,0,0,0,0,0,0,0,0]
[null,null,null,null,"Dummy control total profiling adjustment check",{"$f":" IF(SUM(J134:V134)<>0, 1, 0)","v":0},"Check",null,null,{"$f":" IF(J132 = J133, 0, 1)","v":0},0,0,0,0,0,0,0,0,0,0,0,0]
[]
["Retail"]
[]
[null,null,null,null,{"$f":" Profiling!E$246","v":"Residential retail revenue adjustment active"},{"$f":" Profiling!F$246","v":0},{"$f":" Profiling!G$246","v":"£m"},{"$f":" Profiling!H$246","v":-8.9311892759460179},{"$f":" Profiling!I$246","v":0},{"$f":" Profiling!J$246","v":0},{"$f":" Profiling!K$246","v":0},{"$f":" Profiling!L$246","v":0},{"$f":" Profiling!M$246","v":0},{"$f":" Profiling!N$246","v":0},{"$f":" Profiling!O$246","v":0},{"$f":" Profiling!P$246","v":0},{"$f":" Profiling!Q$246","v":0},{"$f":" Profiling!R$246","v":-1.6848674477968231},{"$f":" Profiling!S$246","v":-1.7340655772724902},{"$f":" Profiling!T$246","v":-1.7847002921288466},{"$f":" Profiling!U$246","v":-1.8369583869248269},{"$f":" Profiling!V$246","v":-1.8905975718230317}]
[null,null,null,null,{"$f":" Profiling!E$247","v":"Business retail revenue adjustment active"},{"$f":" Profiling!F$247","v":0},{"$f":" Profiling!G$247","v":"£m"},{"$f":" Profiling!H$247","v":0},{"$f":" Profiling!I$247","v":0},{"$f":" Profiling!J$247","v":0},{"$f":" Profiling!K$247","v":0},{"$f":" Profiling!L$247","v":0},{"$f":" Profiling!M$247","v":0},{"$f":" Profiling!N$247","v":0},{"$f":" Profiling!O$247","v":0},{"$f":" Profiling!P$247","v":0},{"$f":" Profiling!Q$247","v":0},{"$f":" Profiling!R$247","v":0},{"$f":" Profiling!S$247","v":0},{"$f":" Profiling!T$247","v":0},{"$f":" Profiling!U$247","v":0},{"$f":" Profiling!V$247","v":0}]
[]
[]
["END OF SHEET"]

{"sheet":"Summary_Output","index":13,"n_rows":107,"n_cols":22,"rows_kept":107,"cut":false,"hidden":false,"merged":[]}
[{"$f":" RIGHT(CELL(\"filename\", $A$1), LEN(CELL(\"filename\", $A$1)) - SEARCH(\"]\", CELL(\"filename\", $A$1)))","v":"Summary_Output"}]
[null,null,null,null,{"$f":" Time!E$25","v":"Model period ending"},{"$f":"Checks!F$11","v":0},{"$f":"Checks!G$11","v":"Checks"},null,null,{"$f":" Time!J$25","v":"2013-03-31"},{"$f":" Time!K$25","v":"2014-03-31"},{"$f":" Time!L$25","v":"2015-03-31"},{"$f":" Time!M$25","v":"2016-03-31"},{"$f":" Time!N$25","v":"2017-03-31"},{"$f":" Time!O$25","v":"2018-03-31"},{"$f":" Time!P$25","v":"2019-03-31"},{"$f":" Time!Q$25","v":"2020-03-31"},{"$f":" Time!R$25","v":"2021-03-31"},{"$f":" Time!S$25","v":"2022-03-31"},{"$f":" Time!T$25","v":"2023-03-31"},{"$f":" Time!U$25","v":"2024-03-31"},{"$f":" Time!V$25","v":"2025-03-31"}]
[null,null,null,null,{"$f":" Time!E$80","v":"Timeline label"},null,null,null,null,{"$f":" Time!J$80","v":"Pre-Fcst"},{"$f":" Time!K$80","v":"Pre-Fcst"},{"$f":" Time!L$80","v":"Pre-Fcst"},{"$f":" Time!M$80","v":"Pre-Fcst"},{"$f":" Time!N$80","v":"Pre-Fcst"},{"$f":" Time!O$80","v":"Pre-Fcst"},{"$f":" Time!P$80","v":"Pre-Fcst"},{"$f":" Time!Q$80","v":"Pre-Fcst"},{"$f":" Time!R$80","v":"Forecast"},{"$f":" Time!S$80","v":"Forecast"},{"$f":" Time!T$80","v":"Forecast"},{"$f":" Time!U$80","v":"Forecast"},{"$f":" Time!V$80","v":"Forecast"}]
[null,null,null,null,{"$f":" Time!E$103","v":"Financial year ending"},null,null,null,null,{"$f":" Time!J$103","v":2013},{"$f":" Time!K$103","v":2014},{"$f":" Time!L$103","v":2015},{"$f":" Time!M$103","v":2016},{"$f":" Time!N$103","v":2017},{"$f":" Time!O$103","v":2018},{"$f":" Time!P$103","v":2019},{"$f":" Time!Q$103","v":2020},{"$f":" Time!R$103","v":2021},{"$f":" Time!S$103","v":2022},{"$f":" Time!T$103","v":2023},{"$f":" Time!U$103","v":2024},{"$f":" Time!V$103","v":2025}]
[null,null,null,null,{"$f":" Time!E$10","v":"Model column counter"},"Constant","Unit",null,null,{"$f":" Time!J$10","v":1},{"$f":" Time!K$10","v":2},{"$f":" Time!L$10","v":3},{"$f":" Time!M$10","v":4},{"$f":" Time!N$10","v":5},{"$f":" Time!O$10","v":6},{"$f":" Time!P$10","v":7},{"$f":" Time!Q$10","v":8},{"$f":" Time!R$10","v":9},{"$f":" Time!S$10","v":10},{"$f":" Time!T$10","v":11},{"$f":" Time!U$10","v":12},{"$f":" Time!V$10","v":13}]
[]
["PR14 REVENUE RECONCILIATION ADJUSTMENTS EXPRESSED IN 2017/18 FYA CPIH DEFLATED PRICE BASE BY TABLE"]
[]
[null,"Table App25"]
[{"$f":" Calc!A$164 & \"_PR19PD011\"","v":"C_APP25004_PR19PD011"},null,null,null,{"$f":" Calc!E$164","v":"Further 2010-15 reconciliation total adjustment revenue carry forward to PR19 ~ Water network plus at 2017-18 FYA CPIH deflated price base"},{"$f":" Calc!F$164","v":0.85704621726301244},{"$f":" Calc!G$164","v":"£m"}]
[{"$f":" Calc!A$174 & \"_PR19PD011\"","v":"C_APP25006_PR19PD011"},null,null,null,{"$f":" Calc!E$174","v":"Further 2010-15 reconciliation total adjustment revenue carry forward to PR19 ~ Wastewater network plus at 2017-18 FYA CPIH deflated price base"},{"$f":" Calc!F$174","v":1.4567179237216823},{"$f":" Calc!G$174","v":"£m"}]
[]
[null,"Table App27"]
[{"$f":" Calc!A$160 & \"_PR19PD011\"","v":"C_APP27034_PR19PD011"},null,null,null,{"$f":" Calc!E$160","v":"ODI in-period revenue adjustment ~ Water resources at 2017-18 FYA CPIH deflated price base"},{"$f":" Calc!F$160","v":0},{"$f":" Calc!G$160","v":"£m"}]
[{"$f":" Calc!A$165 & \"_PR19PD011\"","v":"C_APP27035_PR19PD011"},null,null,null,{"$f":" Calc!E$165","v":"ODI in-period revenue adjustment ~ Water network plus at 2017-18 FYA CPIH deflated price base"},{"$f":" Calc!F$165","v":0.32232275766054402},{"$f":" Calc!G$165","v":"£m"}]
[{"$f":" Calc!A$172 & \"_PR19PD011\"","v":"C_APP27037_PR19PD011"},null,null,null,{"$f":" Calc!E$172","v":"ODI in-period revenue adjustment ~ Bioresources at 2017-18 FYA CPIH deflated price base"},{"$f":" Calc!F$172","v":0},{"$f":" Calc!G$172","v":"£m"}]
[{"$f":" Calc!A$175 & \"_PR19PD011\"","v":"C_APP27036_PR19PD011"},null,null,null,{"$f":" Calc!E$175","v":"ODI in-period revenue adjustment ~ Wastewater network plus at 2017-18 FYA CPIH deflated price base"},{"$f":" Calc!F$175","v":-1.012526259930119},{"$f":" Calc!G$175","v":"£m"}]
[{"$f":" Calc!A$182 & \"_PR19PD011\"","v":"C_APP27038_PR19PD011"},null,null,null,{"$f":" Calc!E$182","v":"ODI in-period revenue adjustment ~ Residential retail at 2017-18 FYA CPIH deflated price base"},{"$f":" Calc!F$182","v":0},{"$f":" Calc!G$182","v":"£m"}]
[{"$f":" Calc!A$186 & \"_PR19PD011\"","v":"C_APP27039_PR19PD011"},null,null,null,{"$f":" Calc!E$186","v":"ODI in-period revenue adjustment ~ Business retail at 2017-18 FYA CPIH deflated price base"},{"$f":" Calc!F$186","v":0},{"$f":" Calc!G$186","v":"£m"}]
[]
[{"$f":" Calc!A$161 & \"_PR19PD011\"","v":"C_APP27041_PR19PD011"},null,null,null,{"$f":" Calc!E$161","v":"ODI end of period revenue adjustment ~ Water resources at 2017-18 FYA CPIH deflated price base"},{"$f":" Calc!F$161","v":0.92254923570685765},{"$f":" Calc!G$161","v":"£m"}]
[{"$f":" Calc!A$166 & \"_PR19PD011\"","v":"C_APP27042_PR19PD011"},null,null,null,{"$f":" Calc!E$166","v":"ODI end of period revenue adjustment ~ Water network plus at 2017-18 FYA CPIH deflated price base"},{"$f":" Calc!F$166","v":8.3257221148359601},{"$f":" Calc!G$166","v":"£m"}]
[{"$f":" Calc!A$173 & \"_PR19PD011\"","v":"C_APP27044_PR19PD011"},null,null,null,{"$f":" Calc!E$173","v":"ODI end of period revenue adjustment ~ Bioresources at 2017-18 FYA CPIH deflated price base"},{"$f":" Calc!F$173","v":0},{"$f":" Calc!G$173","v":"£m"}]
[{"$f":" Calc!A$176 & \"_PR19PD011\"","v":"C_APP27043_PR19PD011"},null,null,null,{"$f":" Calc!E$176","v":"ODI end of period revenue adjustment ~ Wastewater network plus at 2017-18 FYA CPIH deflated price base"},{"$f":" Calc!F$176","v":0},{"$f":" Calc!G$176","v":"£m"}]
[{"$f":" Calc!A$183 & \"_PR19PD011\"","v":"C_APP27045_PR19PD011"},null,null,null,{"$f":" Calc!E$183","v":"ODI end of period revenue adjustment ~ Residential retail at 2017-18 FYA CPIH deflated price base"},{"$f":" Calc!F$183","v":0},{"$f":" Calc!G$183","v":"£m"}]
[{"$f":" Calc!A$187 & \"_PR19PD011\"","v":"C_APP27046_PR19PD011"},null,null,null,{"$f":" Calc!E$187","v":"ODI end of period revenue adjustment ~ Business retail at 2017-18 FYA CPIH deflated price base"},{"$f":" Calc!F$187","v":0},{"$f":" Calc!G$187","v":"£m"}]
[]
[null,"Table WS13"]
[{"$f":" Calc!A$170 & \"_PR19PD011\"","v":"C_WS13027_PR19PD011"},null,null,null,{"$f":" Calc!E$170","v":"WRFIM total reward / (penalty) at the end of AMP6 ~ Water network plus at 2017-18 FYA CPIH deflated price base"},{"$f":" Calc!F$170","v":-19.836984064666176},{"$f":" Calc!G$170","v":"£m"}]
[]
[null,"Table WS15"]
[{"$f":" Calc!A$167 & \"_PR19PD011\"","v":"C_WS15026_PR19PD011"},null,null,null,{"$f":" Calc!E$167","v":"Water: Totex menu revenue adjustment at 2017-18 FYA CPIH deflated price base"},{"$f":" Calc!F$167","v":-3.3602771718804245},{"$f":" Calc!G$167","v":"£m"}]
[]
[null,"Table WS17"]
[{"$f":" Calc!A$162 & \"_PR19PD011\"","v":"C_WS17027_PR19PD011"},null,null,null,{"$f":" Calc!E$162","v":"Water trading total value of export incentive ~ Water resources at 2017-18 FYA CPIH deflated price base"},{"$f":" Calc!F$162","v":0},{"$f":" Calc!G$162","v":"£m"}]
[{"$f":" Calc!A$168 & \"_PR19PD011\"","v":"C_WS17028_PR19PD011"},null,null,null,{"$f":" Calc!E$168","v":"Water trading total value of export incentive ~ Water network plus at 2017-18 FYA CPIH deflated price base"},{"$f":" Calc!F$168","v":0},{"$f":" Calc!G$168","v":"£m"}]
[{"$f":" Calc!A$163 & \"_PR19PD011\"","v":"C_WS17030_PR19PD011"},null,null,null,{"$f":" Calc!E$163","v":"Water trading total value of import incentive ~ Water resources  at 2017-18 FYA CPIH deflated price base"},{"$f":" Calc!F$163","v":0},{"$f":" Calc!G$163","v":"£m"}]
[{"$f":" Calc!A$169 & \"_PR19PD011\"","v":"C_WS17031_PR19PD011"},null,null,null,{"$f":" Calc!E$169","v":"Water trading total value of import incentive ~ Water network plus at 2017-18 FYA CPIH deflated price base"},{"$f":" Calc!F$169","v":0},{"$f":" Calc!G$169","v":"£m"}]
[]
[null,"Table WWS13"]
[{"$f":" Calc!A$178 & \"_PR19PD011\"","v":"C_WWS13027_PR19PD011"},null,null,null,{"$f":" Calc!E$178","v":"WRFIM total reward / (penalty) at the end of AMP6 ~ Wastewater network plus at 2017-18 FYA CPIH deflated price base"},{"$f":" Calc!F$178","v":-20.719834276092151},{"$f":" Calc!G$178","v":"£m"}]
[]
[null,"Table WWS15"]
[{"$f":" Calc!A$177 & \"_PR19PD011\"","v":"C_WWS15021_PR19PD011"},null,null,null,{"$f":" Calc!E$177","v":"Wastewater: Totex menu revenue adjustment at 2017-18 FYA CPIH deflated price base"},{"$f":" Calc!F$177","v":1.8230006869575237},{"$f":" Calc!G$177","v":"£m"}]
[]
[null,"Table Dmmy10"]
[{"$f":" Calc!A$180 & \"_PR19PD011\"","v":"C_WWS15021_DMMY_PR19PD011"},null,null,null,{"$f":" Calc!E$180","v":"Dummy: revenue adjustment from totex menu model at 2017-18 FYA CPIH deflated price base"},{"$f":" Calc!F$180","v":0},{"$f":" Calc!G$180","v":"£m"}]
[]
[null,"Table Dmmy11"]
[{"$f":" Calc!A$181 & \"_PR19PD011\"","v":"C_WWS13027_DMMY_PR19PD011"},null,null,null,{"$f":"Calc!E$181","v":"WRFIM total reward / (penalty) at the end of AMP6 ~ Dummy at 2017-18 FYA CPIH deflated price base"},{"$f":"Calc!F$181","v":0},{"$f":"Calc!G$181","v":"£m"}]
[]
[null,"Table R9"]
[{"$f":" Calc!A$184 & \"_PR19PD011\"","v":"C_R9046_PR19PD011"},null,null,null,{"$f":" Calc!E$184","v":"Residential retail revenue adjustment at 2017-18 FYA CPIH deflated price base"},{"$f":" Calc!F$184","v":-4.5316668663327109},{"$f":" Calc!G$184","v":"£m"}]
[]
[null,"Table R10"]
[{"$f":" Calc!A$185 & \"_PR19PD011\"","v":"C_R10009_PR19PD011"},null,null,null,{"$f":" Calc!E$185","v":"SIM forecast revenue adjustment at 2017-18 FYA CPIH deflated price base"},{"$f":" Calc!F$185","v":-3.8926703726514056},{"$f":" Calc!G$185","v":"£m"}]
[]
[null,"No table"]
[{"$f":"Calc!A$171","v":"C052"},{"$f":"Calc!B$171","v":0},{"$f":"Calc!C$171","v":0},{"$f":"Calc!D$171","v":0},{"$f":"Calc!E$171","v":"Other revenue adjustment - water network plus at 2017-18 FYA CPIH deflated price base"},{"$f":"Calc!F$171","v":0},{"$f":"Calc!G$171","v":"£m"}]
[{"$f":"Calc!A$179","v":"C072"},{"$f":"Calc!B$179","v":0},{"$f":"Calc!C$179","v":0},{"$f":"Calc!D$179","v":0},{"$f":"Calc!E$179","v":"Other revenue adjustment - wastewater network plus at 2017-18 FYA CPIH deflated price base"},{"$f":"Calc!F$179","v":0},{"$f":"Calc!G$179","v":"£m"}]
[{"$f":"Calc!A$188","v":"C102"},{"$f":"Calc!B$188","v":0},{"$f":"Calc!C$188","v":0},{"$f":"Calc!D$188","v":0},{"$f":"Calc!E$188","v":"Non-household SIM adjustment - business retail at 2017-18 FYA CPIH deflated price base"},{"$f":"Calc!F$188","v":0},{"$f":"Calc!G$188","v":"£m"}]
[]
[]
["SUBTOTALS AS PER PRICE CONTROL FOR REVENUE ADJUSTMENTS"]
[]
[{"$f":" Calc!A$198 & \"_PR19PD011\"","v":"C048_PR19PD011"},null,null,null,{"$f":" Calc!E$198","v":"Water resources revenue adjustment"},{"$f":" Calc!F$198","v":0.92254923570685765},{"$f":" Calc!G$198","v":"£m"}]
[{"$f":" Calc!A$209 & \"_PR19PD011\"","v":"C058_PR19PD011"},null,null,null,{"$f":" Calc!E$209","v":"Water network plus revenue adjustment"},{"$f":" Calc!F$209","v":-13.692170146787083},{"$f":" Calc!G$209","v":"£m"}]
[{"$f":" Calc!A$214 & \"_PR19PD011\"","v":"C068_PR19PD011"},null,null,null,{"$f":"Calc!E214","v":"Bioresources revenue adjustment"},{"$f":"Calc!F214","v":0},{"$f":"Calc!G214","v":"£m"}]
[{"$f":" Calc!A$223 & \"_PR19PD011\"","v":"C078_PR19PD011"},null,null,null,{"$f":" Calc!E$223","v":"Wastewater network plus revenue adjustment"},{"$f":" Calc!F$223","v":-18.452641925343062},{"$f":" Calc!G$223","v":"£m"}]
[{"$f":" Calc!A$228 & \"_PR19PD011\"","v":"C088_PR19PD011"},null,null,null,{"$f":" Calc!E$228","v":"Dummy control revenue adjustment"},{"$f":" Calc!F$228","v":0},{"$f":" Calc!G$228","v":"£m"}]
[{"$f":" Calc!A$235 & \"_PR19PD011\"","v":"C098_PR19PD011"},null,null,null,{"$f":" Calc!E$235","v":"Residential retail revenue adjustment"},{"$f":" Calc!F$235","v":-8.4243372389841156},{"$f":" Calc!G$235","v":"£m"}]
[{"$f":" Calc!A$241 & \"_PR19PD011\"","v":"C108_PR19PD011"},null,null,null,{"$f":" Calc!E$241","v":"Business retail revenue adjustment"},{"$f":" Calc!F$241","v":0},{"$f":" Calc!G$241","v":"£m"}]
[]
[]
["PROFILES SELECTED"]
[]
[{"$f":" Profiling!A$241 & \"_PR19PD011\"","v":"C049_PR19PD011"},null,null,null,{"$f":" Profiling!E$241","v":"Water resources revenue adjustment active"},{"$f":" Profiling!F$241","v":0},{"$f":" Profiling!G$241","v":"£m"},{"$f":" Profiling!H$241","v":0.97805460616518158},{"$f":" Profiling!I$241","v":0},{"$f":" Profiling!J$241","v":0},{"$f":" Profiling!K$241","v":0},{"$f":" Profiling!L$241","v":0},{"$f":" Profiling!M$241","v":0},{"$f":" Profiling!N$241","v":0},{"$f":" Profiling!O$241","v":0},{"$f":" Profiling!P$241","v":0},{"$f":" Profiling!Q$241","v":0},{"$f":" Profiling!R$241","v":0.18450984714137153},{"$f":" Profiling!S$241","v":0.18989753467789955},{"$f":" Profiling!T$241","v":0.19544254269049419},{"$f":" Profiling!U$241","v":0.20116532705273821},{"$f":" Profiling!V$241","v":0.20703935460267814}]
[{"$f":" Profiling!A$242 & \"_PR19PD011\"","v":"C059_PR19PD011"},null,null,null,{"$f":" Profiling!E$242","v":"Water network revenue adjustment active"},{"$f":" Profiling!F$242","v":0},{"$f":" Profiling!G$242","v":"£m"},{"$f":" Profiling!H$242","v":-14.515962468064677},{"$f":" Profiling!I$242","v":0},{"$f":" Profiling!J$242","v":0},{"$f":" Profiling!K$242","v":0},{"$f":" Profiling!L$242","v":0},{"$f":" Profiling!M$242","v":0},{"$f":" Profiling!N$242","v":0},{"$f":" Profiling!O$242","v":0},{"$f":" Profiling!P$242","v":0},{"$f":" Profiling!Q$242","v":0},{"$f":" Profiling!R$242","v":-2.7384340293574168},{"$f":" Profiling!S$242","v":-2.8183963030146528},{"$f":" Profiling!T$242","v":-2.9006934750626807},{"$f":" Profiling!U$242","v":-2.9856291448008707},{"$f":" Profiling!V$242","v":-3.0728095158290558}]
[{"$f":" Profiling!A$243 & \"_PR19PD011\"","v":"C069_PR19PD011"},null,null,null,{"$f":" Profiling!E$243","v":"Bioresources revenue adjustment active"},{"$f":" Profiling!F$243","v":0},{"$f":" Profiling!G$243","v":"£m"},{"$f":" Profiling!H$243","v":0},{"$f":" Profiling!I$243","v":0},{"$f":" Profiling!J$243","v":0},{"$f":" Profiling!K$243","v":0},{"$f":" Profiling!L$243","v":0},{"$f":" Profiling!M$243","v":0},{"$f":" Profiling!N$243","v":0},{"$f":" Profiling!O$243","v":0},{"$f":" Profiling!P$243","v":0},{"$f":" Profiling!Q$243","v":0},{"$f":" Profiling!R$243","v":0},{"$f":" Profiling!S$243","v":0},{"$f":" Profiling!T$243","v":0},{"$f":" Profiling!U$243","v":0},{"$f":" Profiling!V$243","v":0}]
[{"$f":" Profiling!A$244 & \"_PR19PD011\"","v":"C079_PR19PD011"},null,null,null,{"$f":" Profiling!E$244","v":"Wastewater network revenue adjustment active"},{"$f":" Profiling!F$244","v":0},{"$f":" Profiling!G$244","v":"£m"},{"$f":" Profiling!H$244","v":-19.562849040973276},{"$f":" Profiling!I$244","v":0},{"$f":" Profiling!J$244","v":0},{"$f":" Profiling!K$244","v":0},{"$f":" Profiling!L$244","v":0},{"$f":" Profiling!M$244","v":0},{"$f":" Profiling!N$244","v":0},{"$f":" Profiling!O$244","v":0},{"$f":" Profiling!P$244","v":0},{"$f":" Profiling!Q$244","v":0},{"$f":" Profiling!R$244","v":-3.6905283850686126},{"$f":" Profiling!S$244","v":-3.7982918139126158},{"$f":" Profiling!T$244","v":-3.9092019348788636},{"$f":" Profiling!U$244","v":-4.0236679021846955},{"$f":" Profiling!V$244","v":-4.1411590049284879}]
[{"$f":" Profiling!A$245 & \"_PR19PD011\"","v":"C089_PR19PD011"},null,null,null,{"$f":" Profiling!E$245","v":"Dummy control revenue adjustment active"},{"$f":" Profiling!F$245","v":0},{"$f":" Profiling!G$245","v":"£m"},{"$f":" Profiling!H$245","v":0},{"$f":" Profiling!I$245","v":0},{"$f":" Profiling!J$245","v":0},{"$f":" Profiling!K$245","v":0},{"$f":" Profiling!L$245","v":0},{"$f":" Profiling!M$245","v":0},{"$f":" Profiling!N$245","v":0},{"$f":" Profiling!O$245","v":0},{"$f":" Profiling!P$245","v":0},{"$f":" Profiling!Q$245","v":0},{"$f":" Profiling!R$245","v":0},{"$f":" Profiling!S$245","v":0},{"$f":" Profiling!T$245","v":0},{"$f":" Profiling!U$245","v":0},{"$f":" Profiling!V$245","v":0}]
[{"$f":" Profiling!A$246 & \"_PR19PD011\"","v":"C099_PR19PD011"},null,null,null,{"$f":" Profiling!E$246","v":"Residential retail revenue adjustment active"},{"$f":" Profiling!F$246","v":0},{"$f":" Profiling!G$246","v":"£m"},{"$f":" Profiling!H$246","v":-8.9311892759460179},{"$f":" Profiling!I$246","v":0},{"$f":" Profiling!J$246","v":0},{"$f":" Profiling!K$246","v":0},{"$f":" Profiling!L$246","v":0},{"$f":" Profiling!M$246","v":0},{"$f":" Profiling!N$246","v":0},{"$f":" Profiling!O$246","v":0},{"$f":" Profiling!P$246","v":0},{"$f":" Profiling!Q$246","v":0},{"$f":" Profiling!R$246","v":-1.6848674477968231},{"$f":" Profiling!S$246","v":-1.7340655772724902},{"$f":" Profiling!T$246","v":-1.7847002921288466},{"$f":" Profiling!U$246","v":-1.8369583869248269},{"$f":" Profiling!V$246","v":-1.8905975718230317}]
[{"$f":" Profiling!A$247 & \"_PR19PD011\"","v":"C109_PR19PD011"},null,null,null,{"$f":" Profiling!E$247","v":"Business retail revenue adjustment active"},{"$f":" Profiling!F$247","v":0},{"$f":" Profiling!G$247","v":"£m"},{"$f":" Profiling!H$247","v":0},{"$f":" Profiling!I$247","v":0},{"$f":" Profiling!J$247","v":0},{"$f":" Profiling!K$247","v":0},{"$f":" Profiling!L$247","v":0},{"$f":" Profiling!M$247","v":0},{"$f":" Profiling!N$247","v":0},{"$f":" Profiling!O$247","v":0},{"$f":" Profiling!P$247","v":0},{"$f":" Profiling!Q$247","v":0},{"$f":" Profiling!R$247","v":0},{"$f":" Profiling!S$247","v":0},{"$f":" Profiling!T$247","v":0},{"$f":" Profiling!U$247","v":0},{"$f":" Profiling!V$247","v":0}]
[]
[]
["PROFILED WHOLESALE ADJUSTMENTS FOR FINANCIAL MODEL"]
[]
["C201_PR19PD011",null,null,null,{"$f":"'FM Proportion Calc'!E$23","v":"ODI in-period revenue adjustment ~ Water resources at 2017-18 FYA CPIH deflated price base"},{"$f":"'FM Proportion Calc'!F$23","v":0},{"$f":"'FM Proportion Calc'!G$23","v":"£m"},{"$f":"'FM Proportion Calc'!H$23","v":0},{"$f":"'FM Proportion Calc'!I$23","v":0},{"$f":"'FM Proportion Calc'!J$23","v":0},{"$f":"'FM Proportion Calc'!K$23","v":0},{"$f":"'FM Proportion Calc'!L$23","v":0},{"$f":"'FM Proportion Calc'!M$23","v":0},{"$f":"'FM Proportion Calc'!N$23","v":0},{"$f":"'FM Proportion Calc'!O$23","v":0},{"$f":"'FM Proportion Calc'!P$23","v":0},{"$f":"'FM Proportion Calc'!Q$23","v":0},{"$f":"'FM Proportion Calc'!R$23","v":0},{"$f":"'FM Proportion Calc'!S$23","v":0},{"$f":"'FM Proportion Calc'!T$23","v":0},{"$f":"'FM Proportion Calc'!U$23","v":0},{"$f":"'FM Proportion Calc'!V$23","v":0}]
["C202_PR19PD011",null,null,null,{"$f":"'FM Proportion Calc'!E$24","v":"ODI end of period revenue adjustment ~ Water resources at 2017-18 FYA CPIH deflated price base"},{"$f":"'FM Proportion Calc'!F$24","v":0},{"$f":"'FM Proportion Calc'!G$24","v":"£m"},{"$f":"'FM Proportion Calc'!H$24","v":0.97805460616518158},{"$f":"'FM Proportion Calc'!I$24","v":0},{"$f":"'FM Proportion Calc'!J$24","v":0},{"$f":"'FM Proportion Calc'!K$24","v":0},{"$f":"'FM Proportion Calc'!L$24","v":0},{"$f":"'FM Proportion Calc'!M$24","v":0},{"$f":"'FM Proportion Calc'!N$24","v":0},{"$f":"'FM Proportion Calc'!O$24","v":0},{"$f":"'FM Proportion Calc'!P$24","v":0},{"$f":"'FM Proportion Calc'!Q$24","v":0},{"$f":"'FM Proportion Calc'!R$24","v":0.18450984714137153},{"$f":"'FM Proportion Calc'!S$24","v":0.18989753467789955},{"$f":"'FM Proportion Calc'!T$24","v":0.19544254269049419},{"$f":"'FM Proportion Calc'!U$24","v":0.20116532705273821},{"$f":"'FM Proportion Calc'!V$24","v":0.20703935460267814}]
["C203_PR19PD011",null,null,null,{"$f":"'FM Proportion Calc'!E$25","v":"Water trading total value of incentive ~ Water resources at 2017-18 FYA CPIH deflated price base"},{"$f":"'FM Proportion Calc'!F$25","v":0},{"$f":"'FM Proportion Calc'!G$25","v":"£m"},{"$f":"'FM Proportion Calc'!H$25","v":0},{"$f":"'FM Proportion Calc'!I$25","v":0},{"$f":"'FM Proportion Calc'!J$25","v":0},{"$f":"'FM Proportion Calc'!K$25","v":0},{"$f":"'FM Proportion Calc'!L$25","v":0},{"$f":"'FM Proportion Calc'!M$25","v":0},{"$f":"'FM Proportion Calc'!N$25","v":0},{"$f":"'FM Proportion Calc'!O$25","v":0},{"$f":"'FM Proportion Calc'!P$25","v":0},{"$f":"'FM Proportion Calc'!Q$25","v":0},{"$f":"'FM Proportion Calc'!R$25","v":0},{"$f":"'FM Proportion Calc'!S$25","v":0},{"$f":"'FM Proportion Calc'!T$25","v":0},{"$f":"'FM Proportion Calc'!U$25","v":0},{"$f":"'FM Proportion Calc'!V$25","v":0}]
["C211_PR19PD011",null,null,null,{"$f":"'FM Proportion Calc'!E$54","v":"ODI in-period revenue adjustment ~ Water network plus at 2017-18 FYA CPIH deflated price base"},{"$f":"'FM Proportion Calc'!F$54","v":0},{"$f":"'FM Proportion Calc'!G$54","v":"£m"},{"$f":"'FM Proportion Calc'!H$54","v":0.34171537474660041},{"$f":"'FM Proportion Calc'!I$54","v":0},{"$f":"'FM Proportion Calc'!J$54","v":0},{"$f":"'FM Proportion Calc'!K$54","v":0},{"$f":"'FM Proportion Calc'!L$54","v":0},{"$f":"'FM Proportion Calc'!M$54","v":0},{"$f":"'FM Proportion Calc'!N$54","v":0},{"$f":"'FM Proportion Calc'!O$54","v":0},{"$f":"'FM Proportion Calc'!P$54","v":0},{"$f":"'FM Proportion Calc'!Q$54","v":0},{"$f":"'FM Proportion Calc'!R$54","v":6.446455153210881E-2},{"$f":"'FM Proportion Calc'!S$54","v":6.634691643684637E-2},{"$f":"'FM Proportion Calc'!T$54","v":6.8284246396802292E-2},{"$f":"'FM Proportion Calc'!U$54","v":7.0283688340648034E-2},{"$f":"'FM Proportion Calc'!V$54","v":7.2335972040194943E-2}]
["C212_PR19PD011",null,null,null,{"$f":"'FM Proportion Calc'!E$55","v":"ODI end of period revenue adjustment ~ Water network plus at 2017-18 FYA CPIH deflated price base"},{"$f":"'FM Proportion Calc'!F$55","v":0},{"$f":"'FM Proportion Calc'!G$55","v":"£m"},{"$f":"'FM Proportion Calc'!H$55","v":8.8266409519351559},{"$f":"'FM Proportion Calc'!I$55","v":0},{"$f":"'FM Proportion Calc'!J$55","v":0},{"$f":"'FM Proportion Calc'!K$55","v":0},{"$f":"'FM Proportion Calc'!L$55","v":0},{"$f":"'FM Proportion Calc'!M$55","v":0},{"$f":"'FM Proportion Calc'!N$55","v":0},{"$f":"'FM Proportion Calc'!O$55","v":0},{"$f":"'FM Proportion Calc'!P$55","v":0},{"$f":"'FM Proportion Calc'!Q$55","v":0},{"$f":"'FM Proportion Calc'!R$55","v":1.6651444229671921},{"$f":"'FM Proportion Calc'!S$55","v":1.7137666401178338},{"$f":"'FM Proportion Calc'!T$55","v":1.7638086260092747},{"$f":"'FM Proportion Calc'!U$55","v":1.815454988587057},{"$f":"'FM Proportion Calc'!V$55","v":1.8684662742537985}]
["C213_PR19PD011",null,null,null,{"$f":"'FM Proportion Calc'!E$56","v":"WRFIM total reward / (penalty) at the end of AMP6 ~ Water network plus at 2017-18 FYA CPIH deflated price base"},{"$f":"'FM Proportion Calc'!F$56","v":0},{"$f":"'FM Proportion Calc'!G$56","v":"£m"},{"$f":"'FM Proportion Calc'!H$56","v":-21.030480418756735},{"$f":"'FM Proportion Calc'!I$56","v":0},{"$f":"'FM Proportion Calc'!J$56","v":0},{"$f":"'FM Proportion Calc'!K$56","v":0},{"$f":"'FM Proportion Calc'!L$56","v":0},{"$f":"'FM Proportion Calc'!M$56","v":0},{"$f":"'FM Proportion Calc'!N$56","v":0},{"$f":"'FM Proportion Calc'!O$56","v":0},{"$f":"'FM Proportion Calc'!P$56","v":0},{"$f":"'FM Proportion Calc'!Q$56","v":0},{"$f":"'FM Proportion Calc'!R$56","v":-3.9673968129332353},{"$f":"'FM Proportion Calc'!S$56","v":-4.0832447998708847},{"$f":"'FM Proportion Calc'!T$56","v":-4.202475548027115},{"$f":"'FM Proportion Calc'!U$56","v":-4.3255289069216936},{"$f":"'FM Proportion Calc'!V$56","v":-4.4518343510038063}]
["C214_PR19PD011",null,null,null,{"$f":"'FM Proportion Calc'!E$57","v":"Water: Totex menu revenue adjustment at 2017-18 FYA CPIH deflated price base"},{"$f":"'FM Proportion Calc'!F$57","v":0},{"$f":"'FM Proportion Calc'!G$57","v":"£m"},{"$f":"'FM Proportion Calc'!H$57","v":-3.5624489607117988},{"$f":"'FM Proportion Calc'!I$57","v":0},{"$f":"'FM Proportion Calc'!J$57","v":0},{"$f":"'FM Proportion Calc'!K$57","v":0},{"$f":"'FM Proportion Calc'!L$57","v":0},{"$f":"'FM Proportion Calc'!M$57","v":0},{"$f":"'FM Proportion Calc'!N$57","v":0},{"$f":"'FM Proportion Calc'!O$57","v":0},{"$f":"'FM Proportion Calc'!P$57","v":0},{"$f":"'FM Proportion Calc'!Q$57","v":0},{"$f":"'FM Proportion Calc'!R$57","v":-0.67205543437608495},{"$f":"'FM Proportion Calc'!S$57","v":-0.69167945305986644},{"$f":"'FM Proportion Calc'!T$57","v":-0.71187649308921463},{"$f":"'FM Proportion Calc'!U$57","v":-0.73272106257965341},{"$f":"'FM Proportion Calc'!V$57","v":-0.75411651760697918}]
["C215_PR19PD011",null,null,null,{"$f":"'FM Proportion Calc'!E$58","v":"Further 2010-15 reconciliation total adjustment revenue carry forward to PR19 ~ Water network plus at 2017-18 FYA CPIH deflated price base"},{"$f":"'FM Proportion Calc'!F$58","v":0},{"$f":"'FM Proportion Calc'!G$58","v":"£m"},{"$f":"'FM Proportion Calc'!H$58","v":0.90861058472209999},{"$f":"'FM Proportion Calc'!I$58","v":0},{"$f":"'FM Proportion Calc'!J$58","v":0},{"$f":"'FM Proportion Calc'!K$58","v":0},{"$f":"'FM Proportion Calc'!L$58","v":0},{"$f":"'FM Proportion Calc'!M$58","v":0},{"$f":"'FM Proportion Calc'!N$58","v":0},{"$f":"'FM Proportion Calc'!O$58","v":0},{"$f":"'FM Proportion Calc'!P$58","v":0},{"$f":"'FM Proportion Calc'!Q$58","v":0},{"$f":"'FM Proportion Calc'!R$58","v":0.1714092434526025},{"$f":"'FM Proportion Calc'!S$58","v":0.17641439336141845},{"$f":"'FM Proportion Calc'!T$58","v":0.18156569364757189},{"$f":"'FM Proportion Calc'!U$58","v":0.18688214777277115},{"$f":"'FM Proportion Calc'!V$58","v":0.19233910648773603}]
["C216_PR19PD011",null,null,null,{"$f":"'FM Proportion Calc'!E$60","v":"Water trading total value of incentive ~ Water network plus at 2017-18 FYA CPIH deflated price base"},{"$f":"'FM Proportion Calc'!F$60","v":0},{"$f":"'FM Proportion Calc'!G$60","v":"£m"},{"$f":"'FM Proportion Calc'!H$60","v":0},{"$f":"'FM Proportion Calc'!I$60","v":0},{"$f":"'FM Proportion Calc'!J$60","v":0},{"$f":"'FM Proportion Calc'!K$60","v":0},{"$f":"'FM Proportion Calc'!L$60","v":0},{"$f":"'FM Proportion Calc'!M$60","v":0},{"$f":"'FM Proportion Calc'!N$60","v":0},{"$f":"'FM Proportion Calc'!O$60","v":0},{"$f":"'FM Proportion Calc'!P$60","v":0},{"$f":"'FM Proportion Calc'!Q$60","v":0},{"$f":"'FM Proportion Calc'!R$60","v":0},{"$f":"'FM Proportion Calc'!S$60","v":0},{"$f":"'FM Proportion Calc'!T$60","v":0},{"$f":"'FM Proportion Calc'!U$60","v":0},{"$f":"'FM Proportion Calc'!V$60","v":0}]
["C217_PR19PD011",null,null,null,{"$f":"'FM Proportion Calc'!E$59","v":"Other revenue adjustment - water network plus at 2017-18 FYA CPIH deflated price base"},{"$f":"'FM Proportion Calc'!F$59","v":0},{"$f":"'FM Proportion Calc'!G$59","v":"£m"},{"$f":"'FM Proportion Calc'!H$59","v":0},{"$f":"'FM Proportion Calc'!I$59","v":0},{"$f":"'FM Proportion Calc'!J$59","v":0},{"$f":"'FM Proportion Calc'!K$59","v":0},{"$f":"'FM Proportion Calc'!L$59","v":0},{"$f":"'FM Proportion Calc'!M$59","v":0},{"$f":"'FM Proportion Calc'!N$59","v":0},{"$f":"'FM Proportion Calc'!O$59","v":0},{"$f":"'FM Proportion Calc'!P$59","v":0},{"$f":"'FM Proportion Calc'!Q$59","v":0},{"$f":"'FM Proportion Calc'!R$59","v":0},{"$f":"'FM Proportion Calc'!S$59","v":0},{"$f":"'FM Proportion Calc'!T$59","v":0},{"$f":"'FM Proportion Calc'!U$59","v":0},{"$f":"'FM Proportion Calc'!V$59","v":0}]
["C221_PR19PD011",null,null,null,{"$f":"'FM Proportion Calc'!E$84","v":"ODI in-period revenue adjustment ~ Wastewater network at 2017-18 FYA CPIH deflated price base"},{"$f":"'FM Proportion Calc'!F$84","v":0},{"$f":"'FM Proportion Calc'!G$84","v":"£m"},{"$f":"'FM Proportion Calc'!H$84","v":-1.0734451171368473},{"$f":"'FM Proportion Calc'!I$84","v":0},{"$f":"'FM Proportion Calc'!J$84","v":0},{"$f":"'FM Proportion Calc'!K$84","v":0},{"$f":"'FM Proportion Calc'!L$84","v":0},{"$f":"'FM Proportion Calc'!M$84","v":0},{"$f":"'FM Proportion Calc'!N$84","v":0},{"$f":"'FM Proportion Calc'!O$84","v":0},{"$f":"'FM Proportion Calc'!P$84","v":0},{"$f":"'FM Proportion Calc'!Q$84","v":0},{"$f":"'FM Proportion Calc'!R$84","v":-0.20250525198602382},{"$f":"'FM Proportion Calc'!S$84","v":-0.20841840534401571},{"$f":"'FM Proportion Calc'!T$84","v":-0.2145042227800609},{"$f":"'FM Proportion Calc'!U$84","v":-0.2207851552467707},{"$f":"'FM Proportion Calc'!V$84","v":-0.22723208177997634}]
["C222_PR19PD011",null,null,null,{"$f":"'FM Proportion Calc'!E$85","v":"ODI end of period revenue adjustment ~ Wastewater network at 2017-18 FYA CPIH deflated price base"},{"$f":"'FM Proportion Calc'!F$85","v":0},{"$f":"'FM Proportion Calc'!G$85","v":"£m"},{"$f":"'FM Proportion Calc'!H$85","v":0},{"$f":"'FM Proportion Calc'!I$85","v":0},{"$f":"'FM Proportion Calc'!J$85","v":0},{"$f":"'FM Proportion Calc'!K$85","v":0},{"$f":"'FM Proportion Calc'!L$85","v":0},{"$f":"'FM Proportion Calc'!M$85","v":0},{"$f":"'FM Proportion Calc'!N$85","v":0},{"$f":"'FM Proportion Calc'!O$85","v":0},{"$f":"'FM Proportion Calc'!P$85","v":0},{"$f":"'FM Proportion Calc'!Q$85","v":0},{"$f":"'FM Proportion Calc'!R$85","v":0},{"$f":"'FM Proportion Calc'!S$85","v":0},{"$f":"'FM Proportion Calc'!T$85","v":0},{"$f":"'FM Proportion Calc'!U$85","v":0},{"$f":"'FM Proportion Calc'!V$85","v":0}]
["C223_PR19PD011",null,null,null,{"$f":"'FM Proportion Calc'!E$86","v":"WRFIM total reward / (penalty) at the end of AMP6 ~ Wastewater network at 2017-18 FYA CPIH deflated price base"},{"$f":"'FM Proportion Calc'!F$86","v":0},{"$f":"'FM Proportion Calc'!G$86","v":"£m"},{"$f":"'FM Proportion Calc'!H$86","v":-21.966447500424181},{"$f":"'FM Proportion Calc'!I$86","v":0},{"$f":"'FM Proportion Calc'!J$86","v":0},{"$f":"'FM Proportion Calc'!K$86","v":0},{"$f":"'FM Proportion Calc'!L$86","v":0},{"$f":"'FM Proportion Calc'!M$86","v":0},{"$f":"'FM Proportion Calc'!N$86","v":0},{"$f":"'FM Proportion Calc'!O$86","v":0},{"$f":"'FM Proportion Calc'!P$86","v":0},{"$f":"'FM Proportion Calc'!Q$86","v":0},{"$f":"'FM Proportion Calc'!R$86","v":-4.1439668552184301},{"$f":"'FM Proportion Calc'!S$86","v":-4.2649706873908082},{"$f":"'FM Proportion Calc'!T$86","v":-4.3895078314626188},{"$f":"'FM Proportion Calc'!U$86","v":-4.5180377125726014},{"$f":"'FM Proportion Calc'!V$86","v":-4.6499644137797205}]
["C224_PR19PD011",null,null,null,{"$f":"'FM Proportion Calc'!E$87","v":"Wastewater: Totex menu revenue adjustment at 2017-18 FYA CPIH deflated price base"},{"$f":"'FM Proportion Calc'!F$87","v":0},{"$f":"'FM Proportion Calc'!G$87","v":"£m"},{"$f":"'FM Proportion Calc'!H$87","v":1.9326819099849619},{"$f":"'FM Proportion Calc'!I$87","v":0},{"$f":"'FM Proportion Calc'!J$87","v":0},{"$f":"'FM Proportion Calc'!K$87","v":0},{"$f":"'FM Proportion Calc'!L$87","v":0},{"$f":"'FM Proportion Calc'!M$87","v":0},{"$f":"'FM Proportion Calc'!N$87","v":0},{"$f":"'FM Proportion Calc'!O$87","v":0},{"$f":"'FM Proportion Calc'!P$87","v":0},{"$f":"'FM Proportion Calc'!Q$87","v":0},{"$f":"'FM Proportion Calc'!R$87","v":0.36460013739150476},{"$f":"'FM Proportion Calc'!S$87","v":0.37524646140333667},{"$f":"'FM Proportion Calc'!T$87","v":0.38620365807631402},{"$f":"'FM Proportion Calc'!U$87","v":0.39751214917889144},{"$f":"'FM Proportion Calc'!V$87","v":0.40911950393491497}]
["C225_PR19PD011",null,null,null,{"$f":"'FM Proportion Calc'!E$88","v":"Further 2010-15 reconciliation total adjustment revenue carry forward to PR19 ~ Wastewater network at 2017-18 FYA CPIH deflated price base"},{"$f":"'FM Proportion Calc'!F$88","v":0},{"$f":"'FM Proportion Calc'!G$88","v":"£m"},{"$f":"'FM Proportion Calc'!H$88","v":1.5443616666027882},{"$f":"'FM Proportion Calc'!I$88","v":0},{"$f":"'FM Proportion Calc'!J$88","v":0},{"$f":"'FM Proportion Calc'!K$88","v":0},{"$f":"'FM Proportion Calc'!L$88","v":0},{"$f":"'FM Proportion Calc'!M$88","v":0},{"$f":"'FM Proportion Calc'!N$88","v":0},{"$f":"'FM Proportion Calc'!O$88","v":0},{"$f":"'FM Proportion Calc'!P$88","v":0},{"$f":"'FM Proportion Calc'!Q$88","v":0},{"$f":"'FM Proportion Calc'!R$88","v":0.29134358474433647},{"$f":"'FM Proportion Calc'!S$88","v":0.2998508174188711},{"$f":"'FM Proportion Calc'!T$88","v":0.30860646128750208},{"$f":"'FM Proportion Calc'!U$88","v":0.31764281645578485},{"$f":"'FM Proportion Calc'!V$88","v":0.32691798669629368}]
["C226_PR19PD011",null,null,null,{"$f":"'FM Proportion Calc'!E$89","v":"Other revenue adjustment - wastewater network plus at 2017-18 FYA CPIH deflated price base"},{"$f":"'FM Proportion Calc'!F$89","v":0},{"$f":"'FM Proportion Calc'!G$89","v":"£m"},{"$f":"'FM Proportion Calc'!H$89","v":0},{"$f":"'FM Proportion Calc'!I$89","v":0},{"$f":"'FM Proportion Calc'!J$89","v":0},{"$f":"'FM Proportion Calc'!K$89","v":0},{"$f":"'FM Proportion Calc'!L$89","v":0},{"$f":"'FM Proportion Calc'!M$89","v":0},{"$f":"'FM Proportion Calc'!N$89","v":0},{"$f":"'FM Proportion Calc'!O$89","v":0},{"$f":"'FM Proportion Calc'!P$89","v":0},{"$f":"'FM Proportion Calc'!Q$89","v":0},{"$f":"'FM Proportion Calc'!R$89","v":0},{"$f":"'FM Proportion Calc'!S$89","v":0},{"$f":"'FM Proportion Calc'!T$89","v":0},{"$f":"'FM Proportion Calc'!U$89","v":0},{"$f":"'FM Proportion Calc'!V$89","v":0}]
["C231_PR19PD011",null,null,null,{"$f":"'FM Proportion Calc'!E$108","v":"ODI in-period revenue adjustment ~ Bioresources at 2017-18 FYA CPIH deflated price base"},{"$f":"'FM Proportion Calc'!F$108","v":0},{"$f":"'FM Proportion Calc'!G$108","v":"£m"},{"$f":"'FM Proportion Calc'!H$108","v":0},{"$f":"'FM Proportion Calc'!I$108","v":0},{"$f":"'FM Proportion Calc'!J$108","v":0},{"$f":"'FM Proportion Calc'!K$108","v":0},{"$f":"'FM Proportion Calc'!L$108","v":0},{"$f":"'FM Proportion Calc'!M$108","v":0},{"$f":"'FM Proportion Calc'!N$108","v":0},{"$f":"'FM Proportion Calc'!O$108","v":0},{"$f":"'FM Proportion Calc'!P$108","v":0},{"$f":"'FM Proportion Calc'!Q$108","v":0},{"$f":"'FM Proportion Calc'!R$108","v":0},{"$f":"'FM Proportion Calc'!S$108","v":0},{"$f":"'FM Proportion Calc'!T$108","v":0},{"$f":"'FM Proportion Calc'!U$108","v":0},{"$f":"'FM Proportion Calc'!V$108","v":0}]
["C232_PR19PD011",null,null,null,{"$f":"'FM Proportion Calc'!E$109","v":"ODI end of period revenue adjustment ~ Bioresources at 2017-18 FYA CPIH deflated price base"},{"$f":"'FM Proportion Calc'!F$109","v":0},{"$f":"'FM Proportion Calc'!G$109","v":"£m"},{"$f":"'FM Proportion Calc'!H$109","v":0},{"$f":"'FM Proportion Calc'!I$109","v":0},{"$f":"'FM Proportion Calc'!J$109","v":0},{"$f":"'FM Proportion Calc'!K$109","v":0},{"$f":"'FM Proportion Calc'!L$109","v":0},{"$f":"'FM Proportion Calc'!M$109","v":0},{"$f":"'FM Proportion Calc'!N$109","v":0},{"$f":"'FM Proportion Calc'!O$109","v":0},{"$f":"'FM Proportion Calc'!P$109","v":0},{"$f":"'FM Proportion Calc'!Q$109","v":0},{"$f":"'FM Proportion Calc'!R$109","v":0},{"$f":"'FM Proportion Calc'!S$109","v":0},{"$f":"'FM Proportion Calc'!T$109","v":0},{"$f":"'FM Proportion Calc'!U$109","v":0},{"$f":"'FM Proportion Calc'!V$109","v":0}]
["C241_PR19PD011",null,null,null,{"$f":"'FM Proportion Calc'!E$128","v":"Dummy: revenue adjustment from totex menu model at 2017-18 FYA CPIH deflated price base"},{"$f":"'FM Proportion Calc'!F$128","v":0},{"$f":"'FM Proportion Calc'!G$128","v":"£m"},{"$f":"'FM Proportion Calc'!H$128","v":0},{"$f":"'FM Proportion Calc'!I$128","v":0},{"$f":"'FM Proportion Calc'!J$128","v":0},{"$f":"'FM Proportion Calc'!K$128","v":0},{"$f":"'FM Proportion Calc'!L$128","v":0},{"$f":"'FM Proportion Calc'!M$128","v":0},{"$f":"'FM Proportion Calc'!N$128","v":0},{"$f":"'FM Proportion Calc'!O$128","v":0},{"$f":"'FM Proportion Calc'!P$128","v":0},{"$f":"'FM Proportion Calc'!Q$128","v":0},{"$f":"'FM Proportion Calc'!R$128","v":0},{"$f":"'FM Proportion Calc'!S$128","v":0},{"$f":"'FM Proportion Calc'!T$128","v":0},{"$f":"'FM Proportion Calc'!U$128","v":0},{"$f":"'FM Proportion Calc'!V$128","v":0}]
["C242_PR19PD011",null,null,null,{"$f":"'FM Proportion Calc'!E$129","v":"WRFIM total reward / (penalty) at the end of AMP6 ~ Dummy at 2017-18 FYA CPIH deflated price base"},{"$f":"'FM Proportion Calc'!F$129","v":0},{"$f":"'FM Proportion Calc'!G$129","v":"£m"},{"$f":"'FM Proportion Calc'!H$129","v":0},{"$f":"'FM Proportion Calc'!I$129","v":0},{"$f":"'FM Proportion Calc'!J$129","v":0},{"$f":"'FM Proportion Calc'!K$129","v":0},{"$f":"'FM Proportion Calc'!L$129","v":0},{"$f":"'FM Proportion Calc'!M$129","v":0},{"$f":"'FM Proportion Calc'!N$129","v":0},{"$f":"'FM Proportion Calc'!O$129","v":0},{"$f":"'FM Proportion Calc'!P$129","v":0},{"$f":"'FM Proportion Calc'!Q$129","v":0},{"$f":"'FM Proportion Calc'!R$129","v":0},{"$f":"'FM Proportion Calc'!S$129","v":0},{"$f":"'FM Proportion Calc'!T$129","v":0},{"$f":"'FM Proportion Calc'!U$129","v":0},{"$f":"'FM Proportion Calc'!V$129","v":0}]

{"sheet":"Checks","index":14,"n_rows":24,"n_cols":7,"rows_kept":24,"cut":false,"hidden":false,"merged":[]}
[{"$f":" RIGHT(CELL(\"filename\", $A$1), LEN(CELL(\"filename\", $A$1)) - SEARCH(\"]\", CELL(\"filename\", $A$1)))","v":"Checks"}]
[null,null,null,null,{"$f":" Time!E$25","v":"Model period ending"},{"$f":"Checks!F$11","v":0},{"$f":"Checks!G$11","v":"Checks"}]
[null,null,null,null,{"$f":" Time!E$80","v":"Timeline label"}]
[null,null,null,null,{"$f":" Time!E$103","v":"Financial year ending"}]
[null,null,null,null,{"$f":" Time!E$10","v":"Model column counter"},"Constant","Unit"]
[]
["CHECK SUMMARY"]
[]
["MODEL INTEGRITY CHECKS"]
[]
[null,null,null,null,"Total 5 year model integrity checks",{"$f":"SUM(F13:F22)","v":0},"Checks"]
[]
[null,null,null,null,"[do not delete row]"]
[]
[null,null,null,null,"Input reference check",{"$f":"Inputs!A$5","v":0},"Checks"]
[null,null,null,null,{"$f":"'FM Proportion Calc'!E30","v":"Water resources total profiling adjustment check"},{"$f":"'FM Proportion Calc'!F30","v":0},{"$f":"'FM Proportion Calc'!G30","v":"Check"}]
[null,null,null,null,{"$f":"'FM Proportion Calc'!E65","v":"Water network total profiling adjustment check"},{"$f":"'FM Proportion Calc'!F65","v":0},{"$f":"'FM Proportion Calc'!G65","v":"Check"}]
[null,null,null,null,{"$f":"'FM Proportion Calc'!E94","v":"Wastewater network total profiling adjustment check"},{"$f":"'FM Proportion Calc'!F94","v":0},{"$f":"'FM Proportion Calc'!G94","v":"Check"}]
[null,null,null,null,{"$f":"'FM Proportion Calc'!E114","v":"Bioresources total profiling adjustment check"},{"$f":"'FM Proportion Calc'!F114","v":0},{"$f":"'FM Proportion Calc'!G114","v":"Check"}]
[null,null,null,null,{"$f":"'FM Proportion Calc'!E134","v":"Dummy control total profiling adjustment check"},{"$f":"'FM Proportion Calc'!F134","v":0},{"$f":"'FM Proportion Calc'!G134","v":"Check"}]
[]
[null,null,null,null,"[do not delete row]"]
[]
["END OF SHEET"]