{"text_format":"1","workbook":"xlsx","n_sheets":8,"sheets":["Front page","Model formatting","ToC","InpC","InpR","Time","Sharing Payments","Output"],"not_rendered":{"charts":0,"images":0,"macros":1,"external_links":0,"defined_names":59,"comments":0,"pivot_tables":0},"unopened":[],"bounds":{"document_bytes":16777216,"sheet_cells":100000,"rows_first":2000,"rows_last":500,"rows_between":2000,"halvings":0,"cell_chars":16384,"cell_head_chars":4096},"cells_cut":0,"cells_raw":0,"read":"whole","date_system":"1900"}

{"sheet":"Front page","index":0,"n_rows":21,"n_cols":4,"rows_kept":21,"cut":false,"hidden":false,"merged":[]}
[{"$f":" RIGHT(CELL(\"filename\", $A$1), LEN(CELL(\"filename\", $A$1)) - SEARCH(\"]\", CELL(\"filename\", $A$1)))","v":"Front page"}]
[]
[null,"Model name:","Gearing Outperformance Sharing Mechanism Adjustment"]
[null,"Version number:",3]
[null,"Filename:",{"$f":"SUBSTITUTE(LEFT(CELL(\"filename\"),FIND(\"]\",CELL(\"filename\"))-1),\"[\",\"\")","v":"C:\\Personal\\Projects\\Benefit Sharing\\Post FD Sharin mechanism\\Gearing-Sharing-Mechanism-for-FDs-PUBLICATION-VERSION-24.01.2020.xlsm"}]
[null,"Date:","2019-12-16"]
[]
[null,"Author:","Sunny Mehta"]
[null,"Author contact information:","Sunny.Mehta@ofwat.gov.uk"]
[]
[null,"Sponsor:","Andrew Chesworth"]
[null,"Sponsor contact information:","Andrew.Chesworth@ofwat.gov.uk "]
[]
[null,"Summary of model:","The purpose of this spreadsheet is to calculate gearing outperformance sharing payments for highly-geared companies. The adjustment will be applied as a reconciliation as part of PR24."]
[]
[null,"Amendments:","2019-12-17","Addition of glide-path to model"]
[null,null,"2020-01-21","Conversion factors in range K57:O57 of 'Sharing Payments' tab amended to  reflect that pre-conversion inputs are in 2024/25 prices. "]
[]
[null,"References:","April 2018","https://www.ofwat.gov.uk/wp-content/uploads/2018/04/Putting-the-sector-back-in-balance-consultation-on-proposals-for-PR19-business-plans.pdf"]
[null,null,"July 2018","https://www.ofwat.gov.uk/wp-content/uploads/2018/04/Putting-the-sector-in-balance-position-statement-on-PR19-business-plans-FINAL2.pdf"]
[null,null,"December 2019","https://www.ofwat.gov.uk/publication/pr19-final-determinations-aligning-risk-and-return-technical-appendix/"]

{"sheet":"Model formatting","index":1,"n_rows":40,"n_cols":7,"rows_kept":40,"cut":false,"hidden":false,"merged":[]}
[{"$f":" RIGHT(CELL(\"filename\", $A$1), LEN(CELL(\"filename\", $A$1)) - SEARCH(\"]\", CELL(\"filename\", $A$1)))","v":"Model formatting"}]
[]
["CELL / ROW / COLUMN COLOUR"]
[]
[null,"Font Colour"]
[null,null,null,null,"Blue Font (no shade)",null,"Imported from another sheet / section"]
[]
[null,null,null,null,"Red Font (no shade)",null,"Exported to another sheet/section *"]
[]
[null,null,null,null,"Black Font (no shade)",null,"Neither imported nor exported"]
[]
[null,null,null,null,"* Except from input sheets (sheets with 'Inp' prefix)"]
[]
[null,null,null,null,"Green Italics (no shade)",null,"Documentation"]
[]
[null,"Font + Shade Combinations"]
[null,null,null,null,"Black Font + Light Yellow Shade",null,"Inputs"]
[]
[null,null,null,null,"Black Font + Light Gray Shade on ENTIRE row",null,"Within-worksheet counter-flow "]
[]
[null,null,null,null,"Blue Font + Light Gray Shade",null,"Between-worksheet counter-flow "]
[]
[null,null,null,null,"Light Turquoise",null,"Stored/dead/hard coded outputs"]
[]
[]
[null,"Other"]
[null,null,null,null,"Empty Cell with Light Gray Shade",null,"Empty cells being referenced/used"]
[]
[null,"Checks and Administrative"]
[]
[null,null,null,null,"[Yellow Shade and/or square brackets]",null,"Values or logic to be reviewed / discussed"]
[]
["WORKSHEET TAB COLOUR CODING"]
[]
[null,null,null,null,"Light Yellow",null,"Input Sheets"]
[]
[null,null,null,null,"Light Grey",null,"Documentation and Calculation Sheets"]
[]
[]
["END"]

{"sheet":"ToC","index":2,"n_rows":20,"n_cols":4,"rows_kept":20,"cut":false,"hidden":false,"merged":[]}
[{"$f":" RIGHT(CELL(\"filename\", $A$1), LEN(CELL(\"filename\", $A$1)) - SEARCH(\"]\", CELL(\"filename\", $A$1)))","v":"ToC"}]
[]
[null,"ASSUMPTIONS",null,"CALCULATIONS"]
[]
[null,{"$f":"'Front page'!$A$1","v":"Front page"},null,{"$f":"Time!A$1","v":"Time"}]
[null,"Model documentation sheet",null,"Flags, part period factors (PPFs) and dates"]
[]
[null,{"$f":"'Model formatting'!$A$1","v":"Model formatting"},null,{"$f":" 'Sharing Payments'!A1","v":"Sharing Payments"}]
[null,"Explanation of different formatting types",null,"Calculatiuon of the Gearing Outperformance Sharing Mechanism Adjustment"]
[]
[null,{"$f":"$A$1","v":"ToC"},null,{"$f":"Output!A1","v":"Output"}]
[null,"Table of contents",null,"Outputs to other models"]
[]
[null,{"$f":"InpC!$A$1","v":"InpC"}]
[null,"Inputs - column format"]
[]
[null,{"$f":"InpR!$A$1","v":"InpR"}]
[null,"Inputs - row format"]
[]
["END"]

{"sheet":"InpC","index":3,"n_rows":38,"n_cols":8,"rows_kept":38,"cut":false,"hidden":false,"merged":[]}
[{"$f":" RIGHT(CELL(\"filename\", $A$1), LEN(CELL(\"filename\", $A$1)) - SEARCH(\"]\", CELL(\"filename\", $A$1)))","v":"InpC"}]
[]
[]
[]
[null,null,null,null,null,"Constant","Unit","Comment"]
[]
[null,null,null,null,"[don't delete row]"]
[]
["Gearing Outperformance Sharing Mechanism Constants"]
[null,null,null,null,"Gearing Outperformance Sharing Mechanism Trigger Threshold 2020-21",null,"Percentage","Level of gearing above which sharing payments are made (2020-21)"]
[null,null,null,null,"Gearing Outperformance Sharing Mechanism Trigger Threshold 2021-22",null,"Percentage","Level of gearing above which sharing payments are made (2021-22)"]
[null,null,null,null,"Gearing Outperformance Sharing Mechanism Trigger Threshold 2022-23",null,"Percentage","Level of gearing above which sharing payments are made (2022-23)"]
[null,null,null,null,"Gearing Outperformance Sharing Mechanism Trigger Threshold 2023-24",null,"Percentage","Level of gearing above which sharing payments are made (2023-24)"]
[null,null,null,null,"Gearing Outperformance Sharing Mechanism Trigger Threshold 2024-25",null,"Percentage","Level of gearing above which sharing payments are made (2024-25)"]
[null,null,null,null,"Reference Point",0.65,"Percentage","Reference point for calculating slice of geared RCV on which sharing payments are made"]
[null,null,null,null,"Sharing Rate",0.5,"Percentage","Sharing rate for 2020-25"]
[null,null,null,null,"Notional Allowed Return on Equity from Final Determination (Nominal)",6.2700000000000006E-2,"Percentage","Allowed return on equity from PR19 Final Determinations"]
[]
["TIME"]
[]
[null,null,null,null,"First date of time ruler","2019-04-01","date"]
[]
[null,null,null,null,"Last Pre Forecast Date","2020-03-31","date"]
[]
[null,null,null,null,"Acquisition date (midnight)","2020-03-31","date"]
[null,null,null,null,"Length of forecast period",5,"years"]
[null,null,null,null,"Last forecast date",{"$f":"DATE(YEAR(F25)+F26,MONTH(F25),DAY(F25))","v":"2025-03-31"},"date"]
[]
[null,null,null,null,"First Modelling Column Financial Year Number",2020,"year"]
[null,null,null,null,"Financial Year End Month Number",3,"month #"]
[]
["FINANCIAL CALC INPUTS"]
[]
[null,null,null,null,"Appointee PR19 WACC (Nominal) ",5.0200000000000002E-2,"Percentage","Allowed return on capital from Final Determination"]
[null,null,null,null,"PV base date","2025-03-31","date"]
[null,null,null,null,"Days in a year",365,"days"]
[]
[null,null,null,null,"[don't delete row]"]

{"sheet":"InpR","index":4,"n_rows":21,"n_cols":15,"rows_kept":21,"cut":false,"hidden":false,"merged":[]}
[{"$f":" RIGHT(CELL(\"filename\", $A$1), LEN(CELL(\"filename\", $A$1)) - SEARCH(\"]\", CELL(\"filename\", $A$1)))","v":"InpR"}]
[null,null,null,null,{"$f":"Time!E$21","v":"Model Period BEG"},null,null,null,null,{"$f":"Time!J$21","v":"2019-04-01"},{"$f":"Time!K$21","v":"2020-04-01"},{"$f":"Time!L$21","v":"2021-04-01"},{"$f":"Time!M$21","v":"2022-04-01"},{"$f":"Time!N$21","v":"2023-04-01"},{"$f":"Time!O$21","v":"2024-04-01"}]
[null,null,null,null,{"$f":"Time!E$22","v":"Model Period END"},null,null,null,null,{"$f":"Time!J$22","v":"2020-03-31"},{"$f":"Time!K$22","v":"2021-03-31"},{"$f":"Time!L$22","v":"2022-03-31"},{"$f":"Time!M$22","v":"2023-03-31"},{"$f":"Time!N$22","v":"2024-03-31"},{"$f":"Time!O$22","v":"2025-03-31"}]
[null,null,null,null,{"$f":"Time!E$58","v":"Pre Forecast vs Forecast"},null,null,null,null,{"$f":"Time!J$58","v":"Pre Fcst"},{"$f":"Time!K$58","v":"Forecast"},{"$f":"Time!L$58","v":"Forecast"},{"$f":"Time!M$58","v":"Forecast"},{"$f":"Time!N$58","v":"Forecast"},{"$f":"Time!O$58","v":"Forecast"}]
[null,null,null,null,{"$f":"Time!E$86","v":"Financial Year Ending"},null,null,null,null,{"$f":"Time!J$86","v":2020},{"$f":"Time!K$86","v":2021},{"$f":"Time!L$86","v":2022},{"$f":"Time!M$86","v":2023},{"$f":"Time!N$86","v":2024},{"$f":"Time!O$86","v":2025}]
[null,null,null,null,{"$f":"Time!E$10","v":"Model column counter"},null,null,null,null,{"$f":"Time!J$10","v":1},{"$f":"Time!K$10","v":2},{"$f":"Time!L$10","v":3},{"$f":"Time!M$10","v":4},{"$f":"Time!N$10","v":5},{"$f":"Time!O$10","v":6}]
[null,null,null,null,null,"Constant","Unit","Comment"]
[]
[]
[]
[]
[]
[null,null,null,null,"[don't delete row]",null,null,null,"[range starts]"]
[]
["Annual Performance Report (APR) Figures"]
[null,null,null,null,"Gearing: D/RCV (1E L7)",null,"Percentage","Unadjusted gearing as reported in the Annual Performance Report (Table 1E)"]
[null,null,null,null,"Indicative Weighted Average Nominal Interest Rate",null,"Percentage","As reported in Annual Performance Report (Table 1E)"]
[null,null,null,null,"Closing RCV Nominal",null,"£m","Nominal closing RCV on March 31 as reported in annual RCV updates"]
[null,null,null,null,"Financial year average CPIH index value",null,"Index","Financial year average CPIH index as reported on the Office for National Statistics website"]
[]
[null,null,null,null,null,null,null,null,"[range ends]"]

{"sheet":"Time","index":5,"n_rows":108,"n_cols":16,"rows_kept":108,"cut":false,"hidden":false,"merged":[]}
[{"$f":" RIGHT(CELL(\"filename\", $A$1), LEN(CELL(\"filename\", $A$1)) - SEARCH(\"]\", CELL(\"filename\", $A$1)))","v":"Time"}]
[null,null,null,null,{"$f":"Time!E$22","v":"Model Period END"},null,null,null,null,{"$f":"Time!J$22","v":"2020-03-31"},{"$f":"Time!K$22","v":"2021-03-31"},{"$f":"Time!L$22","v":"2022-03-31"},{"$f":"Time!M$22","v":"2023-03-31"},{"$f":"Time!N$22","v":"2024-03-31"},{"$f":"Time!O$22","v":"2025-03-31"},{"$f":"Time!P$22","v":"2026-03-31"}]
[null,null,null,null,{"$f":"Time!E$58","v":"Pre Forecast vs Forecast"},null,null,null,null,{"$f":"Time!J$58","v":"Pre Fcst"},{"$f":"Time!K$58","v":"Forecast"},{"$f":"Time!L$58","v":"Forecast"},{"$f":"Time!M$58","v":"Forecast"},{"$f":"Time!N$58","v":"Forecast"},{"$f":"Time!O$58","v":"Forecast"},{"$f":"Time!P$58","v":"Post-Fcst"}]
[null,null,null,null,{"$f":"Time!E$86","v":"Financial Year Ending"},null,null,null,null,{"$f":"Time!J$86","v":2020},{"$f":"Time!K$86","v":2021},{"$f":"Time!L$86","v":2022},{"$f":"Time!M$86","v":2023},{"$f":"Time!N$86","v":2024},{"$f":"Time!O$86","v":2025},{"$f":"Time!P$86","v":2026}]
[null,null,null,null,{"$f":"Time!E$10","v":"Model column counter"},"Constant","Unit","Total",null,{"$f":"Time!J$10","v":1},{"$f":"Time!K$10","v":2},{"$f":"Time!L$10","v":3},{"$f":"Time!M$10","v":4},{"$f":"Time!N$10","v":5},{"$f":"Time!O$10","v":6},{"$f":"Time!P$10","v":7}]
[]
["MODEL PERIOD"]
[]
[null,"Model Column Counter "]
[null,null,null,null,"Model column counter",null,"counter",null,null,{"$f":" I10 + 1","v":1},2,3,4,5,6,7]
[null,null,null,null,"Model Column Total",{"$f":" MAX(J10:BX10)","v":7},"column"]
[]
[null,null,null,null,{"$f":" E$10","v":"Model column counter"},0,"counter",0,0,1,2,3,4,5,6,7]
[null,null,null,null,"First model column flag",null,"flag",{"$f":" SUM(J14:BX14)","v":1},null,{"$f":" IF( J13 = 1, 1, 0)","v":1},0,0,0,0,0,0]
[]
[null,null,null,null,{"$f":" InpC!E$21","v":"First date of time ruler"},{"$f":" InpC!F$21","v":"2019-04-01"},{"$f":" InpC!G$21","v":"date"}]
[null,null,null,null,"First model period BEG",{"$f":" DATE(YEAR(F16), MONTH(F16), 1)","v":"2019-04-01"},"month"]
[]
[null,null,null,null,{"$f":" E$17","v":"First model period BEG"},{"$f":" F$17","v":"2019-04-01"},{"$f":" G$17","v":"month"}]
[null,null,null,null,{"$f":" E$14","v":"First model column flag"},0,"flag",1,0,1,0,0,0,0,0,0]
[null,null,null,null,"Model Period BEG",null,"date",null,null,{"$f":" IF( J20 = 1, $F19, I22 + 1)","v":"2019-04-01"},"2020-04-01","2021-04-01","2022-04-01","2023-04-01","2024-04-01","2025-04-01"]
[null,null,null,null,"Model Period END",null,"date",null,null,{"$f":" DATE(YEAR(J21), MONTH(J21) + 12, DAY(1) - 1)","v":"2020-03-31"},{"$f":" DATE(YEAR(K21), MONTH(K21) + 12, DAY(1) - 1)","v":"2021-03-31"},"2022-03-31","2023-03-31","2024-03-31","2025-03-31","2026-03-31"]
[]
[null,null,null,null,{"$f":" E$22","v":"Model Period END"},"00:00:00","date","00:00:00","00:00:00","2020-03-31","2021-03-31","2022-03-31","2023-03-31","2024-03-31","2025-03-31","2026-03-31"]
[null,null,null,null,{"$f":" E$21","v":"Model Period BEG"},"00:00:00","date","00:00:00","00:00:00","2019-04-01","2020-04-01","2021-04-01","2022-04-01","2023-04-01","2024-04-01","2025-04-01"]
[null,null,null,null,"Days in Model Period",null,"days",{"$f":" SUM(J26:BX26)","v":2557},null,{"$f":" J24 - J25 + 1","v":366},365,365,365,366,365,365]
[]
[]
["PRE FORECAST PERIOD"]
[]
[null,null,null,null,{"$f":" InpC!E$23","v":"Last Pre Forecast Date"},{"$f":" InpC!F$23","v":"2020-03-31"},{"$f":" InpC!G$23","v":"date"}]
[null,null,null,null,{"$f":" E$22","v":"Model Period END"},"00:00:00","date","00:00:00","00:00:00","2020-03-31","2021-03-31","2022-03-31","2023-03-31","2024-03-31","2025-03-31","2026-03-31"]
[null,null,null,null,"Last Pre Forecast Flag",null,"flag",{"$f":" SUM(J33:BX33)","v":1},null,{"$f":" IF(J32 = $F31, 1, 0)","v":1},{"$f":" IF(K32 = $F31, 1, 0)","v":0},0,0,0,0,0]
[null,null,null,null,"Pre Forecast Period Flag",null,"flag",{"$f":" SUM(J34:BX34)","v":1},null,{"$f":" IF($F31 >= J32, 1, 0)","v":1},0,0,0,0,0,0]
[null,null,null,null,"Pre Forecast Period Total",{"$f":" SUM(J34:BX34)","v":1},"columns"]
[]
[null,null,null,null,{"$f":" InpC!E$25","v":"Acquisition date (midnight)"},{"$f":" InpC!F$25","v":"2020-03-31"},{"$f":" InpC!G$25","v":"date"}]
[null,null,null,null,{"$f":" E$22","v":"Model Period END"},"00:00:00","date","00:00:00","00:00:00","2020-03-31","2021-03-31","2022-03-31","2023-03-31","2024-03-31","2025-03-31","2026-03-31"]
[null,null,null,null,"Acquisition / initial balance date flag",null,"flag",{"$f":" SUM(J39:BX39)","v":1},null,{"$f":" IF(J38 = $F37, 1, 0)","v":1},0,0,0,0,0,0]
[]
[]
["FORECAST PERIOD"]
[]
[null,null,null,null,{"$f":" E$33","v":"Last Pre Forecast Flag"},0,"flag",1,0,1,0,0,0,0,0,0]
[null,null,null,null,"1st Forecast Period Flag",null,"flag",{"$f":" SUM(J45:BX45)","v":1},null,{"$f":" I44","v":0},1,0,0,0,0,0]
[]
[null,null,null,null,{"$f":"InpC!E$27","v":"Last forecast date"},{"$f":"InpC!F$27","v":"2025-03-31"},{"$f":"InpC!G$27","v":"date"}]
[null,null,null,null,{"$f":" E$22","v":"Model Period END"},"00:00:00","date","00:00:00","00:00:00","2020-03-31","2021-03-31","2022-03-31","2023-03-31","2024-03-31","2025-03-31","2026-03-31"]
[null,null,null,null,"Last Forecast Period Flag",null,"flag",{"$f":" SUM(J49:BX49)","v":1},null,{"$f":" IF(AND($F47 > I48, $F47 <= J48), 1, 0)","v":0},0,0,0,0,1,0]
[]
[null,null,null,null,{"$f":" E$45","v":"1st Forecast Period Flag"},0,"flag",1,0,0,{"$f":" K$45","v":1},0,0,0,0,0]
[null,null,null,null,{"$f":" E$49","v":"Last Forecast Period Flag"},0,"flag",1,0,0,0,0,0,0,1,0]
[null,null,null,null,"Forecast Period Flag",null,"flag",{"$f":" SUM(J53:BX53)","v":5},null,{"$f":" J51 - I52 + I53","v":0},1,1,1,1,1,0]
[null,null,null,null,"Forecast Period Total ",{"$f":" SUM(J53:BX53)","v":5},"columns"]
[]
[null,null,null,null,{"$f":" E$34","v":"Pre Forecast Period Flag"},0,"flag",1,0,1,0,0,0,0,0,0]
[null,null,null,null,{"$f":" E$53","v":"Forecast Period Flag"},0,"flag",5,0,0,1,1,1,1,1,0]
[null,null,null,null,"Pre Forecast vs Forecast",null,"flag",null,null,{"$f":" IF(J56 = 1, \"Pre Fcst\", IF(J57 = 1, \"Forecast\", \"Post-Fcst\"))","v":"Pre Fcst"},"Forecast","Forecast","Forecast","Forecast","Forecast","Post-Fcst"]
[]
[]
["POST FORECAST PERIOD"]
[]
[null,null,null,null,{"$f":" E$49","v":"Last Forecast Period Flag"},0,"flag",1,0,0,0,0,0,0,1,0]
[null,null,null,null,"1st Post Last Forecast Period Flag",null,"flag",{"$f":" SUM(J64:BX64)","v":1},null,{"$f":" I63","v":0},0,0,0,0,0,1]
[]
[null,null,null,null,{"$f":" E$64","v":"1st Post Last Forecast Period Flag"},0,"flag",1,0,0,0,0,0,0,0,1]
[null,null,null,null,"Post Forecast Period Flag",null,"flag",{"$f":" SUM(J67:BX67)","v":1},null,{"$f":" I67 + J66","v":0},0,0,0,0,0,1]
[null,null,null,null,"Post Forecast Period Total",{"$f":" SUM(J67:BX67)","v":1},"columns"]
[]
[]
["MODELLING PERIOD CHECK"]
[]
[null,null,null,null,{"$f":" E$11","v":"Model Column Total"},{"$f":" F$11","v":7},{"$f":" G$11","v":"column"}]
[null,null,null,"less",{"$f":" E$35","v":"Pre Forecast Period Total"},{"$f":" F$35","v":1},{"$f":" G$35","v":"columns"}]
[null,null,null,"less",{"$f":" E$54","v":"Forecast Period Total "},{"$f":" F$54","v":5},{"$f":" G$54","v":"columns"}]
[null,null,null,"less",{"$f":" E$68","v":"Post Forecast Period Total"},{"$f":" F$68","v":1},{"$f":" G$68","v":"columns"}]
[null,null,null,null,"Modelling Period Check",{"$f":" IF(F73 - SUM(F74:F76) <> 0, 1, 0)","v":0},"check"]
[]
[]
["FINANCIAL YEAR"]
[]
[null,null,null,null,{"$f":"InpC!E29","v":"First Modelling Column Financial Year Number"},{"$f":"InpC!F29","v":2020},{"$f":"InpC!G29","v":"year"}]
[null,null,null,null,{"$f":"InpC!E30","v":"Financial Year End Month Number"},{"$f":"InpC!F30","v":3},{"$f":"InpC!G30","v":"month #"}]
[null,null,null,null,{"$f":" E$22","v":"Model Period END"},"00:00:00","date","00:00:00","00:00:00","2020-03-31","2021-03-31","2022-03-31","2023-03-31","2024-03-31","2025-03-31","2026-03-31"]
[null,null,null,null,{"$f":" E$14","v":"First model column flag"},0,"flag",1,0,1,0,0,0,0,0,0]
[null,null,null,null,"Financial Year Ending",null,"year #",null,null,{"$f":" IF(J85 = 1, $F82, IF(J84 > (DATE(I86, $F83 + 1, 1) - 1), I86 + 1, I86))","v":2020},2021,2022,2023,2024,2025,2026]
[]
["CURRENT YEAR FLAG"]
[]
[null,null,null,null,{"$f":" InpC!#REF!","v":{"$error":"#REF!"}},{"$f":" InpC!#REF!","v":{"$error":"#REF!"}},{"$f":" InpC!#REF!","v":{"$error":"#REF!"}}]
[null,null,null,null,{"$f":" E$86","v":"Financial Year Ending"},{"$f":" F$86","v":0},"year #",0,0,2020,2021,2022,2023,2024,2025,2026]
[null,null,null,null,"First modelling period flag ",null,"flag",{"$f":" H$10","v":0},{"$f":" I$10","v":0},{"$f":" IF(J91 = $F90, 1, 0)","v":{"$error":"#REF!"}},{"$f":" IF(K91 = $F90, 1, 0)","v":{"$error":"#REF!"}},{"$error":"#REF!"},{"$error":"#REF!"},{"$error":"#REF!"},{"$error":"#REF!"},{"$error":"#REF!"}]
[]
[null,null,null,null,{"$f":" InpC!#REF!","v":{"$error":"#REF!"}},{"$f":" InpC!#REF!","v":{"$error":"#REF!"}},{"$f":" InpC!#REF!","v":{"$error":"#REF!"}}]
[null,null,null,null,{"$f":" E$86","v":"Financial Year Ending"},{"$f":" F$86","v":0},"year #",0,0,2020,2021,2022,2023,2024,2025,2026]
[null,null,null,null,"Second modelling period flag ",null,"flag",{"$f":" H$10","v":0},{"$f":" I$10","v":0},{"$f":" IF(J95 = $F94, 1, 0)","v":{"$error":"#REF!"}},{"$error":"#REF!"},{"$error":"#REF!"},{"$error":"#REF!"},{"$error":"#REF!"},{"$error":"#REF!"},{"$error":"#REF!"}]
[]
[null,null,null,null,{"$f":" InpC!#REF!","v":{"$error":"#REF!"}},{"$f":" InpC!#REF!","v":{"$error":"#REF!"}},{"$f":" InpC!#REF!","v":{"$error":"#REF!"}}]
[null,null,null,null,{"$f":" E$86","v":"Financial Year Ending"},{"$f":" F$86","v":0},"year #",0,0,2020,2021,2022,2023,2024,2025,2026]
[null,null,null,null,"Third modelling period flag ",null,"flag",{"$f":" H$10","v":0},{"$f":" I$10","v":0},{"$f":" IF(J99 = $F98, 1, 0)","v":{"$error":"#REF!"}},{"$error":"#REF!"},{"$error":"#REF!"},{"$error":"#REF!"},{"$error":"#REF!"},{"$error":"#REF!"},{"$error":"#REF!"}]
[]
[null,null,null,null,{"$f":" InpC!#REF!","v":{"$error":"#REF!"}},{"$f":" InpC!#REF!","v":{"$error":"#REF!"}},{"$f":" InpC!#REF!","v":{"$error":"#REF!"}}]
[null,null,null,null,{"$f":" E$86","v":"Financial Year Ending"},{"$f":" F$86","v":0},"year #",0,0,2020,2021,2022,2023,2024,2025,2026]
[null,null,null,null,"Fourth modelling period flag ",null,"flag",{"$f":" H$10","v":0},{"$f":" I$10","v":0},{"$f":" IF(J103 = $F102, 1, 0)","v":{"$error":"#REF!"}},{"$error":"#REF!"},{"$error":"#REF!"},{"$error":"#REF!"},{"$error":"#REF!"},{"$error":"#REF!"},{"$error":"#REF!"}]
[]
[null,null,null,null,{"$f":" InpC!#REF!","v":{"$error":"#REF!"}},{"$f":" InpC!#REF!","v":{"$error":"#REF!"}},{"$f":" InpC!#REF!","v":{"$error":"#REF!"}}]
[null,null,null,null,{"$f":" E$86","v":"Financial Year Ending"},{"$f":" F$86","v":0},"year #",0,0,2020,2021,2022,2023,2024,2025,2026]
[null,null,null,null,"Fifth modelling period flag ",null,"flag",{"$f":" H$10","v":0},{"$f":" I$10","v":0},{"$f":" IF(J107 = $F106, 1, 0)","v":{"$error":"#REF!"}},{"$error":"#REF!"},{"$error":"#REF!"},{"$error":"#REF!"},{"$error":"#REF!"},{"$error":"#REF!"},{"$error":"#REF!"}]

{"sheet":"Sharing Payments","index":6,"n_rows":63,"n_cols":15,"rows_kept":63,"cut":false,"hidden":false,"merged":[]}
[{"$f":" RIGHT(CELL(\"filename\", $A$1), LEN(CELL(\"filename\", $A$1)) - SEARCH(\"]\", CELL(\"filename\", $A$1)))","v":"Sharing Payments"}]
[null,null,null,null,{"$f":"Time!E$22","v":"Model Period END"},null,null,null,null,{"$f":"Time!J$22","v":"2020-03-31"},{"$f":"Time!K$22","v":"2021-03-31"},{"$f":"Time!L$22","v":"2022-03-31"},{"$f":"Time!M$22","v":"2023-03-31"},{"$f":"Time!N$22","v":"2024-03-31"},{"$f":"Time!O$22","v":"2025-03-31"}]
[null,null,null,null,{"$f":"Time!E$58","v":"Pre Forecast vs Forecast"},null,null,null,null,{"$f":"Time!J$58","v":"Pre Fcst"},{"$f":"Time!K$58","v":"Forecast"},{"$f":"Time!L$58","v":"Forecast"},{"$f":"Time!M$58","v":"Forecast"},{"$f":"Time!N$58","v":"Forecast"},{"$f":"Time!O$58","v":"Forecast"}]
[null,null,null,null,{"$f":"Time!E$86","v":"Financial Year Ending"},null,null,null,null,{"$f":"Time!J$86","v":2020},{"$f":"Time!K$86","v":2021},{"$f":"Time!L$86","v":2022},{"$f":"Time!M$86","v":2023},{"$f":"Time!N$86","v":2024},{"$f":"Time!O$86","v":2025}]
[null,null,null,null,{"$f":"Time!E$10","v":"Model column counter"},"Constant","Unit","Total",null,{"$f":"Time!J$10","v":1},{"$f":"Time!K$10","v":2},{"$f":"Time!L$10","v":3},{"$f":"Time!M$10","v":4},{"$f":"Time!N$10","v":5},{"$f":"Time!O$10","v":6}]
[]
["GEARING OUTPERFORMANCE SHARING MECHANISM ADJUSTMENT"]
[]
[null,"Trigger"]
[null,null,null,null,{"$f":" InpR!E$16","v":"Gearing: D/RCV (1E L7)"},{"$f":" InpR!F$16","v":0},{"$f":" InpR!G$16","v":"Percentage"},null,null,null,{"$f":" InpR!K$16","v":0},{"$f":" InpR!L$16","v":0},{"$f":" InpR!M$16","v":0},{"$f":" InpR!N$16","v":0},{"$f":" InpR!O$16","v":0}]
[null,null,null,null,{"$f":"InpC!E$10","v":"Gearing Outperformance Sharing Mechanism Trigger Threshold 2020-21"},{"$f":"InpC!F$10","v":0},{"$f":"InpC!G$10","v":"Percentage"}]
[null,null,null,null,{"$f":"InpC!E$11","v":"Gearing Outperformance Sharing Mechanism Trigger Threshold 2021-22"},{"$f":"InpC!F$11","v":0},{"$f":"InpC!G$11","v":"Percentage"}]
[null,null,null,null,{"$f":"InpC!E$12","v":"Gearing Outperformance Sharing Mechanism Trigger Threshold 2022-23"},{"$f":"InpC!F$12","v":0},{"$f":"InpC!G$12","v":"Percentage"}]
[null,null,null,null,{"$f":"InpC!E$13","v":"Gearing Outperformance Sharing Mechanism Trigger Threshold 2023-24"},{"$f":"InpC!F$13","v":0},{"$f":"InpC!G$13","v":"Percentage"}]
[null,null,null,null,{"$f":"InpC!E$14","v":"Gearing Outperformance Sharing Mechanism Trigger Threshold 2024-25"},{"$f":"InpC!F$14","v":0},{"$f":"InpC!G$14","v":"Percentage"}]
[null,null,null,null,"Gearing Outperformance Sharing Mechanism Triggered?",null,"Yes / No",null,null,null,{"$f":" IF( K10 > $F$11, \" Yes \", \" No \")","v":" No "},{"$f":" IF( L10 > $F$12, \" Yes \", \" No \")","v":" No "},{"$f":" IF( M10 > $F$13, \" Yes \", \" No \")","v":" No "},{"$f":" IF( N10 > $F$14, \" Yes \", \" No \")","v":" No "},{"$f":" IF( O10 > $F$15, \" Yes \", \" No \")","v":" No "}]
[]
[null,"Gearing Difference for Triggered Mechanism"]
[null,null,null,null,{"$f":" E$16","v":"Gearing Outperformance Sharing Mechanism Triggered?"},{"$f":"F$16","v":0},{"$f":"G$16","v":"Yes / No"},null,null,null,{"$f":"K$16","v":" No "}," No "," No "," No "," No "]
[null,null,null,null,{"$f":" E$10","v":"Gearing: D/RCV (1E L7)"},{"$f":" F$10","v":0},{"$f":" G$10","v":"Percentage"},null,null,null,{"$f":" K$10","v":0},0,0,0,0]
[null,null,null,null,{"$f":" InpC!E$15","v":"Reference Point"},{"$f":" InpC!F$15","v":0.65},{"$f":" InpC!G$15","v":"Percentage"}]
[null,null,null,null,"Gearing Difference for Triggered Mechanism",null,"Percentage",null,null,null,{"$f":" IF(K19 = \" No \", 0, K20 - $F$21)","v":0},0,0,0,0]
[]
[null,"Financing Outperformance Difference"]
[null,null,null,null,{"$f":"InpC!E$17","v":"Notional Allowed Return on Equity from Final Determination (Nominal)"},{"$f":"InpC!F$17","v":6.2700000000000006E-2},{"$f":"InpC!G$17","v":"Percentage"}]
[null,null,null,null,{"$f":"InpR!E$17","v":"Indicative Weighted Average Nominal Interest Rate"},{"$f":"InpR!F17","v":0},{"$f":"InpR!G$17","v":"Percentage"},null,null,null,{"$f":"InpR!K$17","v":0},{"$f":"InpR!L$17","v":0},{"$f":"InpR!M$17","v":0},{"$f":"InpR!N$17","v":0},{"$f":"InpR!O$17","v":0}]
[null,null,null,null,"Financing Outperformance Difference",null,"Percentage",null,null,null,{"$f":" $F$25 - K26","v":6.2700000000000006E-2},6.2700000000000006E-2,6.2700000000000006E-2,6.2700000000000006E-2,6.2700000000000006E-2]
[]
[null,"Financing Outperformance Adjustment"]
[null,null,null,null,{"$f":"InpC!E$16","v":"Sharing Rate"},{"$f":"InpC!F$16","v":0.5},{"$f":"InpC!G$16","v":"Percentage"}]
[null,null,null,null,{"$f":" E$22","v":"Gearing Difference for Triggered Mechanism"},{"$f":" F$22","v":0},"Percentage",null,null,null,0,0,0,0,0]
[null,null,null,null,{"$f":" E$27","v":"Financing Outperformance Difference"},{"$f":" F$27","v":0},"Percentage",null,null,null,6.2700000000000006E-2,6.2700000000000006E-2,6.2700000000000006E-2,6.2700000000000006E-2,6.2700000000000006E-2]
[null,null,null,null,"Financing Outperformance Adjustment",null,"Percentage",null,null,null,{"$f":" $F$30 * K31 * K32","v":0},0,0,0,0]
[]
[null,"Gearing Outperformance Sharing Mechanism Payment Amount (in-year values)"]
[null,null,null,null,{"$f":" E$16","v":"Gearing Outperformance Sharing Mechanism Triggered?"},{"$f":" F$16","v":0},"Yes / No",null,null,null," No "," No "," No "," No "," No "]
[null,null,null,null,{"$f":" E$33","v":"Financing Outperformance Adjustment"},{"$f":" F$33","v":0},"Percentage",null,null,null,0,0,0,0,0]
[null,null,null,null,{"$f":"InpR!E$18","v":"Closing RCV Nominal"},{"$f":"InpR!F$18","v":0},{"$f":"InpR!G$18","v":"£m"},null,null,null,{"$f":"InpR!K$18","v":0},{"$f":"InpR!L$18","v":0},{"$f":"InpR!M$18","v":0},{"$f":"InpR!N$18","v":0},{"$f":"InpR!O$18","v":0}]
[null,null,null,null,"Gearing Outperformance Sharing Mechanism Payment Amount (in-year values)",null,"£m",null,null,null,{"$f":" IF( K36 = \" No \", 0, K37 * K38 )","v":0},0,0,0,0]
[]
[null,"Gearing Outperformance Sharing Mechanism Payment Amount (31 March 2025 present values)"]
[]
[null,null,null,null,{"$f":"InpC!E35","v":"PV base date"},{"$f":"InpC!F35","v":"2025-03-31"},{"$f":"InpC!G35","v":"date"}]
[null,null,null,null,{"$f":"InpC!E36","v":"Days in a year"},{"$f":"InpC!F36","v":365},{"$f":"InpC!G36","v":"days"}]
[null,null,null,null,{"$f":"Time!E22","v":"Model Period END"},{"$f":"Time!F22","v":0},{"$f":"Time!G22","v":"date"},null,{"$f":"Time!I22","v":0},null,{"$f":"Time!K22","v":"2021-03-31"},{"$f":"Time!L22","v":"2022-03-31"},{"$f":"Time!M22","v":"2023-03-31"},{"$f":"Time!N22","v":"2024-03-31"},{"$f":"Time!O22","v":"2025-03-31"}]
[null,null,null,null,"Years from valuation date",null,"years",null,null,null,{"$f":" ( ( K45 - $F43 ) / $F44 ) * -1","v":4.0027397260273974},3.0027397260273974,2.0027397260273974,1,0]
[]
[null,null,null,null,{"$f":"InpC!E34","v":"Appointee PR19 WACC (Nominal) "},{"$f":"InpC!F34","v":5.0200000000000002E-2},{"$f":"InpC!G34","v":"Percentage"}]
[null,null,null,null,{"$f":"E46","v":"Years from valuation date"},{"$f":"F46","v":0},"years",null,0,null,4.0027397260273974,3.0027397260273974,2.0027397260273974,1,0]
[null,null,null,null,"Discount factor",null,"Factor",null,null,null,{"$f":" (1+$F48) ^K49","v":1.2165958629192657},{"$f":" (1+$F48) ^L49","v":1.1584420709572134},1.1030680546155145,1.0502,1]
[]
[null,null,null,null,{"$f":"E39","v":"Gearing Outperformance Sharing Mechanism Payment Amount (in-year values)"},{"$f":"F39","v":0},"£m",null,0,null,0,0,0,0,0]
[null,null,null,null,{"$f":"E50","v":"Discount factor"},{"$f":"F50","v":0},"Factor",null,0,null,1.2165958629192657,1.1584420709572134,1.1030680546155145,1.0502,1]
[null,null,null,null,"Nominal discounted reconciliation (2024-25 present value)",null,"£m",null,null,null,{"$f":"K52*K53","v":0},{"$f":"L52*L53","v":0},{"$f":"M52*M53","v":0},{"$f":"N52*N53","v":0},{"$f":"O52*O53","v":0}]
[]
[null,null,null,null,{"$f":"InpR!E19","v":"Financial year average CPIH index value"},{"$f":"InpR!F19","v":0},{"$f":"InpR!G19","v":"Index"},null,{"$f":"InpR!I19","v":0},{"$f":"InpR!J19","v":0},{"$f":"InpR!K19","v":0},{"$f":"InpR!L19","v":0},{"$f":"InpR!M19","v":0},{"$f":"InpR!N19","v":0},{"$f":"InpR!O19","v":0}]
[null,null,null,null,"CPIH discount factor (to convert to 2022-23 prices)",null,"Factor",null,null,null,{"$f":"IFERROR($M$56/$O$56,0)","v":0},{"$f":"IFERROR($M$56/$O$56,0)","v":0},{"$f":"IFERROR($M$56/$O$56,0)","v":0},{"$f":"IFERROR($M$56/$O$56,0)","v":0},{"$f":"IFERROR($M$56/$O$56,0)","v":0}]
[null,null,null,null,{"$f":"E54","v":"Nominal discounted reconciliation (2024-25 present value)"},null,"£m",null,null,null,{"$f":"K54","v":0},{"$f":"L54","v":0},{"$f":"M54","v":0},{"$f":"N54","v":0},{"$f":"O54","v":0}]
[null,null,null,null,"CPIH real discounted reconciliation (2022-23 values)",null,"£m",{"$f":"SUM(K59:O59)","v":0},null,null,{"$f":"K57*K58","v":0},{"$f":"L57*L58","v":0},0,0,0]
[]
[null,"Total reconciliation adjustment"]
[]
[null,null,null,null,"Revenues for reconciliation adjustment (2024-25 present value, 2022-23 CPIH-deflated)",{"$f":" SUM(J59:O59)","v":0},"£m"]

{"sheet":"Output","index":7,"n_rows":11,"n_cols":16380,"rows_kept":11,"cut":false,"hidden":false,"merged":[]}
[{"$f":" RIGHT(CELL(\"filename\", $A$1), LEN(CELL(\"filename\", $A$1)) - SEARCH(\"]\", CELL(\"filename\", $A$1)))","v":"Output"}]
[null,null,null,null,{"$f":" Time!E$22","v":"Model Period END"},null,null,null,null,{"$f":"Time!J$22","v":"2020-03-31"},{"$f":"Time!K$22","v":"2021-03-31"},{"$f":"Time!L$22","v":"2022-03-31"},{"$f":"Time!M$22","v":"2023-03-31"},{"$f":"Time!N$22","v":"2024-03-31"},{"$f":"Time!O$22","v":"2025-03-31"}]
[null,null,null,null,null,null,null,null,null,{"$f":"Time!J$58","v":"Pre Fcst"},{"$f":"Time!K$58","v":"Forecast"},{"$f":"Time!L$58","v":"Forecast"},{"$f":"Time!M$58","v":"Forecast"},{"$f":"Time!N$58","v":"Forecast"},{"$f":"Time!O$58","v":"Forecast"}]
[null,null,null,null,null,null,null,null,null,{"$f":"Time!J$86","v":2020},{"$f":"Time!K$86","v":2021},{"$f":"Time!L$86","v":2022},{"$f":"Time!M$86","v":2023},{"$f":"Time!N$86","v":2024},{"$f":"Time!O$86","v":2025}]
[null,null,null,null,{"$f":" Time!E$10","v":"Model column counter"},"Constant","Unit","Total",null,{"$f":"Time!J$10","v":1},{"$f":"Time!K$10","v":2},{"$f":"Time!L$10","v":3},{"$f":"Time!M$10","v":4},{"$f":"Time!N$10","v":5},{"$f":"Time!O$10","v":6}]
[]
["Total revenue adjustments applied as part of PR24"]
[]
[null,null,null,null,{"$f":"'Sharing Payments'!E63","v":"Revenues for reconciliation adjustment (2024-25 present value, 2022-23 CPIH-deflated)"},{"$f":"'Sharing Payments'!F59","v":0},{"$f":"'Sharing Payments'!G59","v":"£m"},{"$f":"'Sharing Payments'!H59","v":0},{"$f":"'Sharing Payments'!I59","v":0},{"$f":"'Sharing Payments'!J59","v":0},{"$f":"'Sharing Payments'!K59","v":0},{"$f":"'Sharing Payments'!L59","v":0},{"$f":"'Sharing Payments'!M59","v":0},{"$f":"'Sharing Payments'!N59","v":0},{"$f":"'Sharing Payments'!O59","v":0},0,0,0,0,0,0,0,0,0,0,0,0,0,0,0,0,0,0,0,0,0,0,0,0,0,0,0,0,0,0,0,0,0,0,0,0,0,0,0,0,0,0,0,0,0,0,0,0,0,0,0,0,0,0,0,0,0,0,0,0,0,0,0,0,0,0,0,0,0,0,0,0,0,0,0,0,0,0,0,0,0,0,0,0,0,0,0,0,0,0,0,0,0,0,0,0,0,0,0,0,0,0,0,0,0,0,0,0,0,0,0,0,0,0,0,0,0,0,0,0,0,0,0,0,0,0,0,0,0,0,0,0,0,0,0,0,0,0,0,0,0,0,0,0,0,0,0,0,0,0,0,0,0,0,0,0,0,0,0,0,0,0,0,0,0,0,0,0,0,0,0,0,0,0,0,0,0,0,0,0,0,0,0,0,0,0,0,0,0,0,0,0,0,0,0,0,0,0,0,0,0,0,0,0,0,0,0,0,0,0,0,0,0,0,0,0,0,0,0,0,0,0,0,0,0,0,0,0,0,0,0,0,0,0,0,0,0,0,0,0,0,0,0,0,0,0,0,0,0,0,0,0,0,0,0,0,0,0,0,0,0,0,0,0,0,0,0,0,0,0,0,0,0,0,0,0,0,0,0,0,0,0,0,0,0,0,0,0,0,0,0,0,0,0,0,0,0,0,0,0,0,0,0,0,0,0,0,0,0,0,0,0,0,0,0,0,0,0,0,0,0,0,0,0,0,0,0,0,0,0,0,0,0,0,0,0,0,0,0,0,0,0,0,0,0,0,0,0,0,0,0,0,0,0,0,0,0,0,0,0,0,0,0,0,0,0,0,0,0,0,0,0,0,0,0,0,0,0,0,0,0,0,0,0,0,0,0,0,0,0,0,0,0,0,0,0,0,0,0,0,0,0,0,0,0,0,0,0,0,0,0,0,0,0,0,0,0,0,0,0,0,0,0,0,0,0,0,0,0,0,0,0,0,0,0,0,0,0,0,0,0,0,0,0,0,0,0,0,0,0,0,0,0,0,0,0,0,0,0,0,0,0,0,0,0,0,0,0,0,0,0,0,0,0,0,0,0,0,0,0,0,0,0,0,0,0,0,0,0,0,0,0,0,0,0,0,0,0,0,0,0,0,0,0,0,0,0,0,0,0,0,0,0,0,0,0,0,0,0,0,0,0,0,0,0,0,0,0,0,0,0,0,0,0,0,0,0,0,0,0,0,0,0,0,0,0,0,0,0,0,0,0,0,0,0,0,0,0,0,0,0,0,0,0,0,0,0,0,0,0,0,0,0,0,0,0,0,0,0,0,0,0,0,0,0,0,0,0,0,0,0,0,0,0,0,0,0,0,0,0,0,0,0,0,0,0,0,0,0,0,0,0,0,0,0,0,0,0,0,0,0,0,0,0,0,0,0,0,0,0,0,0,0,0,0,0,0,0,0,0,0,0,0,0,0,0,0,0,0,0,0,0,0,0,0,0,0,0,0,0,0,0,0,0,0,0,0,0,0,0,0,0,0,0,0,0,0,0,0,0,0,0,0,0,0,0,0,0,0,0,0,0,0,0,0,0,0,0,0,0,0,0,0,0,0,0,0,0,0,0,0,0,0,0,0,0,0,0,0,0,0,0,0,0,0,0,0,0,0,0,0,0,0,0,0,0,0,0,0,0,0,0,0,0,0,0,0,0,0,0,0,0,0,0,0,0,0,0,0,0,0,0,0,0,0,0,0,0,0,0,0,0,0,0,0,0,0,0,0,0,0,0,0,0,0,0,0,0,0,0,0,0,0,0,0,0,0,0,0,0,0,0,0,0,0,0,0,0,0,0,0,0,0,0,0,0,0,0,0,0,0,0,0,0,0,0,0,0,0,0,0,0,0,0,0,0,0,0,0,0,0,0,0,0,0,0,0,0,0,0,0,0,0,0,0,0,0,0,0,0,0,0,0,0,0,0,0,0,0,0,0,0,0,0,0,0,0,0,0,0,0,0,0,0,0,0,0,0,0,0,0,0,0,0,0,0,0,0,0,0,0,0,0,0,0,0,0,0,0,0,0,0,0,0,0,0,0,0,0,0,0,0,0,0,0,0,0,0,0,0,0,0,0,0,0,0,0,0,0,0,0,0,0,0,0,0,0,0,0,0,0,0,0,0,0,0,0,0,0,0,0,0,0,0,0,0,0,0,0,0,0,0,0,0,0,0,0,0,0,0,0,0,0,0,0,0,0,0,0,0,0,0,0,0,0,0,0,0,0,0,0,0,0,0,0,0,0,0,0,0,0,0,0,0,0,0,0,0,0,0,0,0,0,0,0,0,0,0,0,0,0,0,0,0,0,0,0,0,0,0,0,0,0,0,0,0,0,0,0,0,0,0,0,0,0,0,0,0,0,0,0,0,0,0,0,0,0,0,0,0,0,0,0,0,0,0,0,0,0,0,0,0,0,0,0,0,0,0,0,0,0,0,0,0,0,0,0,0,0,0,0,0,0,0,0,0,0,0,0,0,0,0,0,0,0,0,0,0,0,0,0,0,0,0,0,0,0,0,0,0,0,0,0,0,0,0,0,0,0,0,0,0,0,0,0,0,0,0,0,0,0,0,0,0,0,0,0,0,0,0,0,0,0,0,0,0,0,0,0,0,0,0,0,0,0,0,0,0,0,0,0,0,0,0,0,0,0,0,0,0,0,0,0,0,0,0,0,0,0,0,0,0,0,0,0,0,0,0,0,0,0,0,0,0,0,0,0,0,0,0,0,0,0,0,0,0,0,0,0,0,0,0,0,0,0,0,0,0,0,0,0,0,0,0,0,0,0,0,0,0,0,0,0,0,0,0,0,0,0,0,0,0,0,0,0,0,0,0,0,0,0,0,0,0,0,0,0,0,0,0,0,0,0,0,0,0,0,0,0,0,0,0,0,0,0,0,0,0,0,0,0,0,0,0,0,0,0,0,0,0,0,0,0,0,0,0,0,0,0,0,0,0,0,0,0,0,0,0,0,0,0,0,0,0,0,0,0,0,0,0,0,0,0,0,0,0,0,0,0,0,0,0,0,0,0,0,0,0,0,0,0,0,0,0,0,0,0,0,0,0,0,0,0,0,0,0,0,0,0,0,0,0,0,0,0,0,0,0,0,0,0,0,0,0,0,0,0,0,0,0,0,0,0,0,0,0,0,0,0,0,0,0,0,0,0,0,0,0,0,0,0,0,0,0,0,0,0,0,0,0,0,0,0,0,0,0,0,0,0,0,0,0,0,0,0,0,0,0,0,0,0,0,0,0,0,0,0,0,0,0,0,0,0,0,0,0,0,0,0,0,0,0,0,0,0,0,0,0,0,0,0,0,0,0,0,0,0,0,0,0,0,0,0,0,0,0,0,0,0,0,0,0,0,0,0,0,0,0,0,0,0,0,0,0,0,0,0,0,0,0,0,0,0,0,0,0,0,0,0,0,0,0,0,0,0,0,0,0,0,0,0,0,0,0,0,0,0,0,0,0,0,0,0,0,0,0,0,0,0,0,0,0,0,0,0,0,0,0,0,0,0,0,0,0,0,0,0,0,0,0,0,0,0,0,0,0,0,0,0,0,0,0,0,0,0,0,0,0,0,0,0,0,0,0,0,0,0,0,0,0,0,0,0,0,0,0,0,0,0,0,0,0,0,0,0,0,0,0,0,0,0,0,0,0,0,0,0,0,0,0,0,0,0,0,0,0,0,0,0,0,0,0,0,0,0,0,0,0,0,0,0,0,0,0,0,0,0,0,0,0,0,0,0,0,0,0,0,0,0,0,0,0,0,0,0,0,0,0,0,0,0,0,0,0,0,0,0,0,0,0,0,0,0,0,0,0,0,0,0,0,0,0,0,0,0,0,0,0,0,0,0,0,0,0,0,0,0,0,0,0,0,0,0,0,0,0,0,0,0,0,0,0,0,0,0,0,0,0,0,0,0,0,0,0,0,0,0,0,0,0,0,0,0,0,0,0,0,0,0,0,0,0,0,0,0,0,0,0,0,0,0,0,0,0,0,0,0,0,0,0,0,0,0,0,0,0,0,0,0,0,0,0,0,0,0,0,0,0,0,0,0,0,0,0,0,0,0,0,0,0,0,0,0,0,0,0,0,0,0,0,0,0,0,0,0,0,0,0,0,0,0,0,0,0,0,0,0,0,0,0,0,0,0,0,0,0,0,0,0,0,0,0,0,0,0,0,0,0,0,0,0,0,0,0,0,0,0,0,0,0,0,0,0,0,0,0,0,0,0,0,0,0,0,0,0,0,0,0,0,0,0,0,0,0,0,0,0,0,0,0,0,0,0,0,0,0,0,0,0,0,0,0,0,0,0,0,0,0,0,0,0,0,0,0,0,0,0,0,0,0,0,0,0,0,0,0,0,0,0,0,0,0,0,0,0,0,0,0,0,0,0,0,0,0,0,0,0,0,0,0,0,0,0,0,0,0,0,0,0,0,0,0,0,0,0,0,0,0,0,0,0,0,0,0,0,0,0,0,0,0,0,0,0,0,0,0,0,0,0,0,0,0,0,0,0,0,0,0,0,0,0,0,0,0,0,0,0,0,0,0,0,0,0,0,0,0,0,0,0,0,0,0,0,0,0,0,0,0,0,0,0,0,0,0,0,0,0,0,0,0,0,0,0,0,0,0,0,0,0,0,0,0,0,0,0,0,0,0,0,0,0,0,0,0,0,0,0,0,0,0,0,0,0,0,0,0,0,0,0,0,0,0,0,0,0,0,0,0,0,0,0,0,0,0,0,0,0,0,0,0,0,0,0,0,0,0,0,0,0,0,0,0,0,0,0,0,0,0,0,0,0,0,0,0,0,0,0,0,0,0,0,0,0,0,0,0,0,0,0,0,0,0,0,0,0,0,0,0,0,0,0,0,0,0,0,0,0,0,0,0,0,0,0,0,0,0,0,0,0,0,0,0,0,0,0,0,0,0,0,0,0,0,0,0,0,0,0,0,0,0,0,0,0,0,0,0,0,0,0,0,0,0,0,0,0,0,0,0,0,0,0,0,0,0,0,0,0,0,0,0,0,0,0,0,0,0,0,0,0,0,0,0,0,0,0,0,0,0,0,0,0,0,0,0,0,0,0,0,0,0,0,0,0,0,0,0,0,0,0,0,0,0,0,0,0,0,0,0,0,0,0,0,0,0,0,0,0,0,0,0,0,0,0,0,0,0,0,0,0,0,0,0,0,0,0,0,0,0,0,0,0,0,0,0,0,0,0,0,0,0,0,0,0,0,0,0,0,0,0,0,0,0,0,0,0,0,0,0,0,0,0,0,0,0,0,0,0,0,0,0,0,0,0,0,0,0,0,0,0,0,0,0,0,0,0,0,0,0,0,0,0,0,0,0,0,0,0,0,0,0,0,0,0,0,0,0,0,0,0,0,0,0,0,0,0,0,0,0,0,0,0,0,0,0,0,0,0,0,0,0,0,0,0,0,0,0,0,0,0,0,0,0,0,0,0,0,0,0,0,0,0,0,0,0,0,0,0,0,0,0,0,0,0,0,0,0,0,0,0,0,0,0,0,0,0,0,0,0,0,0,0,0,0,0,0,0,0,0,0,0,0,0,0,0,0,0,0,0,0,0,0,0,0,0,0,0,0,0,0,0,0,0,0,0,0,0,0,0,0,0,0,0,0,0,0,0,0,0,0,0,0,0,0,0,0,0,0,0,0,0,0,0,0,0,0,0,0,0,0,0,0,0,0,0,0,0,0,0,0,0,0,0,0,0,0,0,0,0,0,0,0,0,0,0,0,0,0,0,0,0,0,0,0,0,0,0,0,0,0,0,0,0,0,0,0,0,0,0,0,0,0,0,0,0,0,0,0,0,0,0,0,0,0,0,0,0,0,0,0,0,0,0,0,0,0,0,0,0,0,0,0,0,0,0,0,0,0,0,0,0,0,0,0,0,0,0,0,0,0,0,0,0,0,0,0,0,0,0,0,0,0,0,0,0,0,0,0,0,0,0,0,0,0,0,0,0,0,0,0,0,0,0,0,0,0,0,0,0,0,0,0,0,0,0,0,0,0,0,0,0,0,0,0,0,0,0,0,0,0,0,0,0,0,0,0,0,0,0,0,0,0,0,0,0,0,0,0,0,0,0,0,0,0,0,0,0,0,0,0,0,0,0,0,0,0,0,0,0,0,0,0,0,0,0,0,0,0,0,0,0,0,0,0,0,0,0,0,0,0,0,0,0,0,0,0,0,0,0,0,0,0,0,0,0,0,0,0,0,0,0,0,0,0,0,0,0,0,0,0,0,0,0,0,0,0,0,0,0,0,0,0,0,0,0,0,0,0,0,0,0,0,0,0,0,0,0,0,0,0,0,0,0,0,0,0,0,0,0,0,0,0,0,0,0,0,0,0,0,0,0,0,0,0,0,0,0,0,0,0,0,0,0,0,0,0,0,0,0,0,0,0,0,0,0,0,0,0,0,0,0,0,0,0,0,0,0,0,0,0,0,0,0,0,0,0,0,0,0,0,0,0,0,0,0,0,0,0,0,0,0,0,0,0,0,0,0,0,0,0,0,0,0,0,0,0,0,0,0,0,0,0,0,0,0,0,0,0,0,0,0,0,0,0,0,0,0,0,0,0,0,0,0,0,0,0,0,0,0,0,0,0,0,0,0,0,0,0,0,0,0,0,0,0,0,0,0,0,0,0,0,0,0,0,0,0,0,0,0,0,0,0,0,0,0,0,0,0,0,0,0,0,0,0,0,0,0,0,0,0,0,0,0,0,0,0,0,0,0,0,0,0,0,0,0,0,0,0,0,0,0,0,0,0,0,0,0,0,0,0,0,0,0,0,0,0,0,0,0,0,0,0,0,0,0,0,0,0,0,0,0,0,0,0,0,0,0,0,0,0,0,0,0,0,0,0,0,0,0,0,0,0,0,0,0,0,0,0,0,0,0,0,0,0,0,0,0,0,0,0,0,0,0,0,0,0,0,0,0,0,0,0,0,0,0,0,0,0,0,0,0,0,0,0,0,0,0,0,0,0,0,0,0,0,0,0,0,0,0,0,0,0,0,0,0,0,0,0,0,0,0,0,0,0,0,0,0,0,0,0,0,0,0,0,0,0,0,0,0,0,0,0,0,0,0,0,0,0,0,0,0,0,0,0,0,0,0,0,0,0,0,0,0,0,0,0,0,0,0,0,0,0,0,0,0,0,0,0,0,0,0,0,0,0,0,0,0,0,0,0,0,0,0,0,0,0,0,0,0,0,0,0,0,0,0,0,0,0,0,0,0,0,0,0,0,0,0,0,0,0,0,0,0,0,0,0,0,0,0,0,0,0,0,0,0,0,0,0,0,0,0,0,0,0,0,0,0,0,0,0,0,0,0,0,0,0,0,0,0,0,0,0,0,0,0,0,0,0,0,0,0,0,0,0,0,0,0,0,0,0,0,0,0,0,0,0,0,0,0,0,0,0,0,0,0,0,0,0,0,0,0,0,0,0,0,0,0,0,0,0,0,0,0,0,0,0,0,0,0,0,0,0,0,0,0,0,0,0,0,0,0,0,0,0,0,0,0,0,0,0,0,0,0,0,0,0,0,0,0,0,0,0,0,0,0,0,0,0,0,0,0,0,0,0,0,0,0,0,0,0,0,0,0,0,0,0,0,0,0,0,0,0,0,0,0,0,0,0,0,0,0,0,0,0,0,0,0,0,0,0,0,0,0,0,0,0,0,0,0,0,0,0,0,0,0,0,0,0,0,0,0,0,0,0,0,0,0,0,0,0,0,0,0,0,0,0,0,0,0,0,0,0,0,0,0,0,0,0,0,0,0,0,0,0,0,0,0,0,0,0,0,0,0,0,0,0,0,0,0,0,0,0,0,0,0,0,0,0,0,0,0,0,0,0,0,0,0,0,0,0,0,0,0,0,0,0,0,0,0,0,0,0,0,0,0,0,0,0,0,0,0,0,0,0,0,0,0,0,0,0,0,0,0,0,0,0,0,0,0,0,0,0,0,0,0,0,0,0,0,0,0,0,0,0,0,0,0,0,0,0,0,0,0,0,0,0,0,0,0,0,0,0,0,0,0,0,0,0,0,0,0,0,0,0,0,0,0,0,0,0,0,0,0,0,0,0,0,0,0,0,0,0,0,0,0,0,0,0,0,0,0,0,0,0,0,0,0,0,0,0,0,0,0,0,0,0,0,0,0,0,0,0,0,0,0,0,0,0,0,0,0,0,0,0,0,0,0,0,0,0,0,0,0,0,0,0,0,0,0,0,0,0,0,0,0,0,0,0,0,0,0,0,0,0,0,0,0,0,0,0,0,0,0,0,0,0,0,0,0,0,0,0,0,0,0,0,0,0,0,0,0,0,0,0,0,0,0,0,0,0,0,0,0,0,0,0,0,0,0,0,0,0,0,0,0,0,0,0,0,0,0,0,0,0,0,0,0,0,0,0,0,0,0,0,0,0,0,0,0,0,0,0,0,0,0,0,0,0,0,0,0,0,0,0,0,0,0,0,0,0,0,0,0,0,0,0,0,0,0,0,0,0,0,0,0,0,0,0,0,0,0,0,0,0,0,0,0,0,0,0,0,0,0,0,0,0,0,0,0,0,0,0,0,0,0,0,0,0,0,0,0,0,0,0,0,0,0,0,0,0,0,0,0,0,0,0,0,0,0,0,0,0,0,0,0,0,0,0,0,0,0,0,0,0,0,0,0,0,0,0,0,0,0,0,0,0,0,0,0,0,0,0,0,0,0,0,0,0,0,0,0,0,0,0,0,0,0,0,0,0,0,0,0,0,0,0,0,0,0,0,0,0,0,0,0,0,0,0,0,0,0,0,0,0,0,0,0,0,0,0,0,0,0,0,0,0,0,0,0,0,0,0,0,0,0,0,0,0,0,0,0,0,0,0,0,0,0,0,0,0,0,0,0,0,0,0,0,0,0,0,0,0,0,0,0,0,0,0,0,0,0,0,0,0,0,0,0,0,0,0,0,0,0,0,0,0,0,0,0,0,0,0,0,0,0,0,0,0,0,0,0,0,0,0,0,0,0,0,0,0,0,0,0,0,0,0,0,0,0,0,0,0,0,0,0,0,0,0,0,0,0,0,0,0,0,0,0,0,0,0,0,0,0,0,0,0,0,0,0,0,0,0,0,0,0,0,0,0,0,0,0,0,0,0,0,0,0,0,0,0,0,0,0,0,0,0,0,0,0,0,0,0,0,0,0,0,0,0,0,0,0,0,0,0,0,0,0,0,0,0,0,0,0,0,0,0,0,0,0,0,0,0,0,0,0,0,0,0,0,0,0,0,0,0,0,0,0,0,0,0,0,0,0,0,0,0,0,0,0,0,0,0,0,0,0,0,0,0,0,0,0,0,0,0,0,0,0,0,0,0,0,0,0,0,0,0,0,0,0,0,0,0,0,0,0,0,0,0,0,0,0,0,0,0,0,0,0,0,0,0,0,0,0,0,0,0,0,0,0,0,0,0,0,0,0,0,0,0,0,0,0,0,0,0,0,0,0,0,0,0,0,0,0,0,0,0,0,0,0,0,0,0,0,0,0,0,0,0,0,0,0,0,0,0,0,0,0,0,0,0,0,0,0,0,0,0,0,0,0,0,0,0,0,0,0,0,0,0,0,0,0,0,0,0,0,0,0,0,0,0,0,0,0,0,0,0,0,0,0,0,0,0,0,0,0,0,0,0,0,0,0,0,0,0,0,0,0,0,0,0,0,0,0,0,0,0,0,0,0,0,0,0,0,0,0,0,0,0,0,0,0,0,0,0,0,0,0,0,0,0,0,0,0,0,0,0,0,0,0,0,0,0,0,0,0,0,0,0,0,0,0,0,0,0,0,0,0,0,0,0,0,0,0,0,0,0,0,0,0,0,0,0,0,0,0,0,0,0,0,0,0,0,0,0,0,0,0,0,0,0,0,0,0,0,0,0,0,0,0,0,0,0,0,0,0,0,0,0,0,0,0,0,0,0,0,0,0,0,0,0,0,0,0,0,0,0,0,0,0,0,0,0,0,0,0,0,0,0,0,0,0,0,0,0,0,0,0,0,0,0,0,0,0,0,0,0,0,0,0,0,0,0,0,0,0,0,0,0,0,0,0,0,0,0,0,0,0,0,0,0,0,0,0,0,0,0,0,0,0,0,0,0,0,0,0,0,0,0,0,0,0,0,0,0,0,0,0,0,0,0,0,0,0,0,0,0,0,0,0,0,0,0,0,0,0,0,0,0,0,0,0,0,0,0,0,0,0,0,0,0,0,0,0,0,0,0,0,0,0,0,0,0,0,0,0,0,0,0,0,0,0,0,0,0,0,0,0,0,0,0,0,0,0,0,0,0,0,0,0,0,0,0,0,0,0,0,0,0,0,0,0,0,0,0,0,0,0,0,0,0,0,0,0,0,0,0,0,0,0,0,0,0,0,0,0,0,0,0,0,0,0,0,0,0,0,0,0,0,0,0,0,0,0,0,0,0,0,0,0,0,0,0,0,0,0,0,0,0,0,0,0,0,0,0,0,0,0,0,0,0,0,0,0,0,0,0,0,0,0,0,0,0,0,0,0,0,0,0,0,0,0,0,0,0,0,0,0,0,0,0,0,0,0,0,0,0,0,0,0,0,0,0,0,0,0,0,0,0,0,0,0,0,0,0,0,0,0,0,0,0,0,0,0,0,0,0,0,0,0,0,0,0,0,0,0,0,0,0,0,0,0,0,0,0,0,0,0,0,0,0,0,0,0,0,0,0,0,0,0,0,0,0,0,0,0,0,0,0,0,0,0,0,0,0,0,0,0,0,0,0,0,0,0,0,0,0,0,0,0,0,0,0,0,0,0,0,0,0,0,0,0,0,0,0,0,0,0,0,0,0,0,0,0,0,0,0,0,0,0,0,0,0,0,0,0,0,0,0,0,0,0,0,0,0,0,0,0,0,0,0,0,0,0,0,0,0,0,0,0,0,0,0,0,0,0,0,0,0,0,0,0,0,0,0,0,0,0,0,0,0,0,0,0,0,0,0,0,0,0,0,0,0,0,0,0,0,0,0,0,0,0,0,0,0,0,0,0,0,0,0,0,0,0,0,0,0,0,0,0,0,0,0,0,0,0,0,0,0,0,0,0,0,0,0,0,0,0,0,0,0,0,0,0,0,0,0,0,0,0,0,0,0,0,0,0,0,0,0,0,0,0,0,0,0,0,0,0,0,0,0,0,0,0,0,0,0,0,0,0,0,0,0,0,0,0,0,0,0,0,0,0,0,0,0,0,0,0,0,0,0,0,0,0,0,0,0,0,0,0,0,0,0,0,0,0,0,0,0,0,0,0,0,0,0,0,0,0,0,0,0,0,0,0,0,0,0,0,0,0,0,0,0,0,0,0,0,0,0,0,0,0,0,0,0,0,0,0,0,0,0,0,0,0,0,0,0,0,0,0,0,0,0,0,0,0,0,0,0,0,0,0,0,0,0,0,0,0,0,0,0,0,0,0,0,0,0,0,0,0,0,0,0,0,0,0,0,0,0,0,0,0,0,0,0,0,0,0,0,0,0,0,0,0,0,0,0,0,0,0,0,0,0,0,0,0,0,0,0,0,0,0,0,0,0,0,0,0,0,0,0,0,0,0,0,0,0,0,0,0,0,0,0,0,0,0,0,0,0,0,0,0,0,0,0,0,0,0,0,0,0,0,0,0,0,0,0,0,0,0,0,0,0,0,0,0,0,0,0,0,0,0,0,0,0,0,0,0,0,0,0,0,0,0,0,0,0,0,0,0,0,0,0,0,0,0,0,0,0,0,0,0,0,0,0,0,0,0,0,0,0,0,0,0,0,0,0,0,0,0,0,0,0,0,0,0,0,0,0,0,0,0,0,0,0,0,0,0,0,0,0,0,0,0,0,0,0,0,0,0,0,0,0,0,0,0,0,0,0,0,0,0,0,0,0,0,0,0,0,0,0,0,0,0,0,0,0,0,0,0,0,0,0,0,0,0,0,0,0,0,0,0,0,0,0,0,0,0,0,0,0,0,0,0,0,0,0,0,0,0,0,0,0,0,0,0,0,0,0,0,0,0,0,0,0,0,0,0,0,0,0,0,0,0,0,0,0,0,0,0,0,0,0,0,0,0,0,0,0,0,0,0,0,0,0,0,0,0,0,0,0,0,0,0,0,0,0,0,0,0,0,0,0,0,0,0,0,0,0,0,0,0,0,0,0,0,0,0,0,0,0,0,0,0,0,0,0,0,0,0,0,0,0,0,0,0,0,0,0,0,0,0,0,0,0,0,0,0,0,0,0,0,0,0,0,0,0,0,0,0,0,0,0,0,0,0,0,0,0,0,0,0,0,0,0,0,0,0,0,0,0,0,0,0,0,0,0,0,0,0,0,0,0,0,0,0,0,0,0,0,0,0,0,0,0,0,0,0,0,0,0,0,0,0,0,0,0,0,0,0,0,0,0,0,0,0,0,0,0,0,0,0,0,0,0,0,0,0,0,0,0,0,0,0,0,0,0,0,0,0,0,0,0,0,0,0,0,0,0,0,0,0,0,0,0,0,0,0,0,0,0,0,0,0,0,0,0,0,0,0,0,0,0,0,0,0,0,0,0,0,0,0,0,0,0,0,0,0,0,0,0,0,0,0,0,0,0,0,0,0,0,0,0,0,0,0,0,0,0,0,0,0,0,0,0,0,0,0,0,0,0,0,0,0,0,0,0,0,0,0,0,0,0,0,0,0,0,0,0,0,0,0,0,0,0,0,0,0,0,0,0,0,0,0,0,0,0,0,0,0,0,0,0,0,0,0,0,0,0,0,0,0,0,0,0,0,0,0,0,0,0,0,0,0,0,0,0,0,0,0,0,0,0,0,0,0,0,0,0,0,0,0,0,0,0,0,0,0,0,0,0,0,0,0,0,0,0,0,0,0,0,0,0,0,0,0,0,0,0,0,0,0,0,0,0,0,0,0,0,0,0,0,0,0,0,0,0,0,0,0,0,0,0,0,0,0,0,0,0,0,0,0,0,0,0,0,0,0,0,0,0,0,0,0,0,0,0,0,0,0,0,0,0,0,0,0,0,0,0,0,0,0,0,0,0,0,0,0,0,0,0,0,0,0,0,0,0,0,0,0,0,0,0,0,0,0,0,0,0,0,0,0,0,0,0,0,0,0,0,0,0,0,0,0,0,0,0,0,0,0,0,0,0,0,0,0,0,0,0,0,0,0,0,0,0,0,0,0,0,0,0,0,0,0,0,0,0,0,0,0,0,0,0,0,0,0,0,0,0,0,0,0,0,0,0,0,0,0,0,0,0,0,0,0,0,0,0,0,0,0,0,0,0,0,0,0,0,0,0,0,0,0,0,0,0,0,0,0,0,0,0,0,0,0,0,0,0,0,0,0,0,0,0,0,0,0,0,0,0,0,0,0,0,0,0,0,0,0,0,0,0,0,0,0,0,0,0,0,0,0,0,0,0,0,0,0,0,0,0,0,0,0,0,0,0,0,0,0,0,0,0,0,0,0,0,0,0,0,0,0,0,0,0,0,0,0,0,0,0,0,0,0,0,0,0,0,0,0,0,0,0,0,0,0,0,0,0,0,0,0,0,0,0,0,0,0,0,0,0,0,0,0,0,0,0,0,0,0,0,0,0,0,0,0,0,0,0,0,0,0,0,0,0,0,0,0,0,0,0,0,0,0,0,0,0,0,0,0,0,0,0,0,0,0,0,0,0,0,0,0,0,0,0,0,0,0,0,0,0,0,0,0,0,0,0,0,0,0,0,0,0,0,0,0,0,0,0,0,0,0,0,0,0,0,0,0,0,0,0,0,0,0,0,0,0,0,0,0,0,0,0,0,0,0,0,0,0,0,0,0,0,0,0,0,0,0,0,0,0,0,0,0,0,0,0,0,0,0,0,0,0,0,0,0,0,0,0,0,0,0,0,0,0,0,0,0,0,0,0,0,0,0,0,0,0,0,0,0,0,0,0,0,0,0,0,0,0,0,0,0,0,0,0,0,0,0,0,0,0,0,0,0,0,0,0,0,0,0,0,0,0,0,0,0,0,0,0,0,0,0,0,0,0,0,0,0,0,0,0,0,0,0,0,0,0,0,0,0,0,0,0,0,0,0,0,0,0,0,0,0,0,0,0,0,0,0,0,0,0,0,0,0,0,0,0,0,0,0,0,0,0,0,0,0,0,0,0,0,0,0,0,0,0,0,0,0,0,0,0,0,0,0,0,0,0,0,0,0,0,0,0,0,0,0,0,0,0,0,0,0,0,0,0,0,0,0,0,0,0,0,0,0,0,0,0,0,0,0,0,0,0,0,0,0,0,0,0,0,0,0,0,0,0,0,0,0,0,0,0,0,0,0,0,0,0,0,0,0,0,0,0,0,0,0,0,0,0,0,0,0,0,0,0,0,0,0,0,0,0,0,0,0,0,0,0,0,0,0,0,0,0,0,0,0,0,0,0,0,0,0,0,0,0,0,0,0,0,0,0,0,0,0,0,0,0,0,0,0,0,0,0,0,0,0,0,0,0,0,0,0,0,0,0,0,0,0,0,0,0,0,0,0,0,0,0,0,0,0,0,0,0,0,0,0,0,0,0,0,0,0,0,0,0,0,0,0,0,0,0,0,0,0,0,0,0,0,0,0,0,0,0,0,0,0,0,0,0,0,0,0,0,0,0,0,0,0,0,0,0,0,0,0,0,0,0,0,0,0,0,0,0,0,0,0,0,0,0,0,0,0,0,0,0,0,0,0,0,0,0,0,0,0,0,0,0,0,0,0,0,0,0,0,0,0,0,0,0,0,0,0,0,0,0,0,0,0,0,0,0,0,0,0,0,0,0,0,0,0,0,0,0,0,0,0,0,0,0,0,0,0,0,0,0,0,0,0,0,0,0,0,0,0,0,0,0,0,0,0,0,0,0,0,0,0,0,0,0,0,0,0,0,0,0,0,0,0,0,0,0,0,0,0,0,0,0,0,0,0,0,0,0,0,0,0,0,0,0,0,0,0,0,0,0,0,0,0,0,0,0,0,0,0,0,0,0,0,0,0,0,0,0,0,0,0,0,0,0,0,0,0,0,0,0,0,0,0,0,0,0,0,0,0,0,0,0,0,0,0,0,0,0,0,0,0,0,0,0,0,0,0,0,0,0,0,0,0,0,0,0,0,0,0,0,0,0,0,0,0,0,0,0,0,0,0,0,0,0,0,0,0,0,0,0,0,0,0,0,0,0,0,0,0,0,0,0,0,0,0,0,0,0,0,0,0,0,0,0,0,0,0,0,0,0,0,0,0,0,0,0,0,0,0,0,0,0,0,0,0,0,0,0,0,0,0,0,0,0,0,0,0,0,0,0,0,0,0,0,0,0,0,0,0,0,0,0,0,0,0,0,0,0,0,0,0,0,0,0,0,0,0,0,0,0,0,0,0,0,0,0,0,0,0,0,0,0,0,0,0,0,0,0,0,0,0,0,0,0,0,0,0,0,0,0,0,0,0,0,0,0,0,0,0,0,0,0,0,0,0,0,0,0,0,0,0,0,0,0,0,0,0,0,0,0,0,0,0,0,0,0,0,0,0,0,0,0,0,0,0,0,0,0,0,0,0,0,0,0,0,0,0,0,0,0,0,0,0,0,0,0,0,0,0,0,0,0,0,0,0,0,0,0,0,0,0,0,0,0,0,0,0,0,0,0,0,0,0,0,0,0,0,0,0,0,0,0,0,0,0,0,0,0,0,0,0,0,0,0,0,0,0,0,0,0,0,0,0,0,0,0,0,0,0,0,0,0,0,0,0,0,0,0,0,0,0,0,0,0,0,0,0,0,0,0,0,0,0,0,0,0,0,0,0,0,0,0,0,0,0,0,0,0,0,0,0,0,0,0,0,0,0,0,0,0,0,0,0,0,0,0,0,0,0,0,0,0,0,0,0,0,0,0,0,0,0,0,0,0,0,0,0,0,0,0,0,0,0,0,0,0,0,0,0,0,0,0,0,0,0,0,0,0,0,0,0,0,0,0,0,0,0,0,0,0,0,0,0,0,0,0,0,0,0,0,0,0,0,0,0,0,0,0,0,0,0,0,0,0,0,0,0,0,0,0,0,0,0,0,0,0,0,0,0,0,0,0,0,0,0,0,0,0,0,0,0,0,0,0,0,0,0,0,0,0,0,0,0,0,0,0,0,0,0,0,0,0,0,0,0,0,0,0,0,0,0,0,0,0,0,0,0,0,0,0,0,0,0,0,0,0,0,0,0,0,0,0,0,0,0,0,0,0,0,0,0,0,0,0,0,0,0,0,0,0,0,0,0,0,0,0,0,0,0,0,0,0,0,0,0,0,0,0,0,0,0,0,0,0,0,0,0,0,0,0,0,0,0,0,0,0,0,0,0,0,0,0,0,0,0,0,0,0,0,0,0,0,0,0,0,0,0,0,0,0,0,0,0,0,0,0,0,0,0,0,0,0,0,0,0,0,0,0,0,0,0,0,0,0,0,0,0,0,0,0,0,0,0,0,0,0,0,0,0,0,0,0,0,0,0,0,0,0,0,0,0,0,0,0,0,0,0,0,0,0,0,0,0,0,0,0,0,0,0,0,0,0,0,0,0,0,0,0,0,0,0,0,0,0,0,0,0,0,0,0,0,0,0,0,0,0,0,0,0,0,0,0,0,0,0,0,0,0,0,0,0,0,0,0,0,0,0,0,0,0,0,0,0,0,0,0,0,0,0,0,0,0,0,0,0,0,0,0,0,0,0,0,0,0,0,0,0,0,0,0,0,0,0,0,0,0,0,0,0,0,0,0,0,0,0,0,0,0,0,0,0,0,0,0,0,0,0,0,0,0,0,0,0,0,0,0,0,0,0,0,0,0,0,0,0,0,0,0,0,0,0,0,0,0,0,0,0,0,0,0,0,0,0,0,0,0,0,0,0,0,0,0,0,0,0,0,0,0,0,0,0,0,0,0,0,0,0,0,0,0,0,0,0,0,0,0,0,0,0,0,0,0,0,0,0,0,0,0,0,0,0,0,0,0,0,0,0,0,0,0,0,0,0,0,0,0,0,0,0,0,0,0,0,0,0,0,0,0,0,0,0,0,0,0,0,0,0,0,0,0,0,0,0,0,0,0,0,0,0,0,0,0,0,0,0,0,0,0,0,0,0,0,0,0,0,0,0,0,0,0,0,0,0,0,0,0,0,0,0,0,0,0,0,0,0,0,0,0,0,0,0,0,0,0,0,0,0,0,0,0,0,0,0,0,0,0,0,0,0,0,0,0,0,0,0,0,0,0,0,0,0,0,0,0,0,0,0,0,0,0,0,0,0,0,0,0,0,0,0,0,0,0,0,0,0,0,0,0,0,0,0,0,0,0,0,0,0,0,0,0,0,0,0,0,0,0,0,0,0,0,0,0,0,0,0,0,0,0,0,0,0,0,0,0,0,0,0,0,0,0,0,0,0,0,0,0,0,0,0,0,0,0,0,0,0,0,0,0,0,0,0,0,0,0,0,0,0,0,0,0,0,0,0,0,0,0,0,0,0,0,0,0,0,0,0,0,0,0,0,0,0,0,0,0,0,0,0,0,0,0,0,0,0,0,0,0,0,0,0,0,0,0,0,0,0,0,0,0,0,0,0,0,0,0,0,0,0,0,0,0,0,0,0,0,0,0,0,0,0,0,0,0,0,0,0,0,0,0,0,0,0,0,0,0,0,0,0,0,0,0,0,0,0,0,0,0,0,0,0,0,0,0,0,0,0,0,0,0,0,0,0,0,0,0,0,0,0,0,0,0,0,0,0,0,0,0,0,0,0,0,0,0,0,0,0,0,0,0,0,0,0,0,0,0,0,0,0,0,0,0,0,0,0,0,0,0,0,0,0,0,0,0,0,0,0,0,0,0,0,0,0,0,0,0,0,0,0,0,0,0,0,0,0,0,0,0,0,0,0,0,0,0,0,0,0,0,0,0,0,0,0,0,0,0,0,0,0,0,0,0,0,0,0,0,0,0,0,0,0,0,0,0,0,0,0,0,0,0,0,0,0,0,0,0,0,0,0,0,0,0,0,0,0,0,0,0,0,0,0,0,0,0,0,0,0,0,0,0,0,0,0,0,0,0,0,0,0,0,0,0,0,0,0,0,0,0,0,0,0,0,0,0,0,0,0,0,0,0,0,0,0,0,0,0,0,0,0,0,0,0,0,0,0,0,0,0,0,0,0,0,0,0,0,0,0,0,0,0,0,0,0,0,0,0,0,0,0,0,0,0,0,0,0,0,0,0,0,0,0,0,0,0,0,0,0,0,0,0,0,0,0,0,0,0,0,0,0,0,0,0,0,0,0,0,0,0,0,0,0,0,0,0,0,0,0,0,0,0,0,0,0,0,0,0,0,0,0,0,0,0,0,0,0,0,0,0,0,0,0,0,0,0,0,0,0,0,0,0,0,0,0,0,0,0,0,0,0,0,0,0,0,0,0,0,0,0,0,0,0,0,0,0,0,0,0,0,0,0,0,0,0,0,0,0,0,0,0,0,0,0,0,0,0,0,0,0,0,0,0,0,0,0,0,0,0,0,0,0,0,0,0,0,0,0,0,0,0,0,0,0,0,0,0,0,0,0,0,0,0,0,0,0,0,0,0,0,0,0,0,0,0,0,0,0,0,0,0,0,0,0,0,0,0,0,0,0,0,0,0,0,0,0,0,0,0,0,0,0,0,0,0,0,0,0,0,0,0,0,0,0,0,0,0,0,0,0,0,0,0,0,0,0,0,0,0,0,0,0,0,0,0,0,0,0,0,0,0,0,0,0,0,0,0,0,0,0,0,0,0,0,0,0,0,0,0,0,0,0,0,0,0,0,0,0,0,0,0,0,0,0,0,0,0,0,0,0,0,0,0,0,0,0,0,0,0,0,0,0,0,0,0,0,0,0,0,0,0,0,0,0,0,0,0,0,0,0,0,0,0,0,0,0,0,0,0,0,0,0,0,0,0,0,0,0,0,0,0,0,0,0,0,0,0,0,0,0,0,0,0,0,0,0,0,0,0,0,0,0,0,0,0,0,0,0,0,0,0,0,0,0,0,0,0,0,0,0,0,0,0,0,0,0,0,0,0,0,0,0,0,0,0,0,0,0,0,0,0,0,0,0,0,0,0,0,0,0,0,0,0,0,0,0,0,0,0,0,0,0,0,0,0,0,0,0,0,0,0,0,0,0,0,0,0,0,0,0,0,0,0,0,0,0,0,0,0,0,0,0,0,0,0,0,0,0,0,0,0,0,0,0,0,0,0,0,0,0,0,0,0,0,0,0,0,0,0,0,0,0,0,0,0,0,0,0,0,0,0,0,0,0,0,0,0,0,0,0,0,0,0,0,0,0,0,0,0,0,0,0,0,0,0,0,0,0,0,0,0,0,0,0,0,0,0,0,0,0,0,0,0,0,0,0,0,0,0,0,0,0,0,0,0,0,0,0,0,0,0,0,0,0,0,0,0,0,0,0,0,0,0,0,0,0,0,0,0,0,0,0,0,0,0,0,0,0,0,0,0,0,0,0,0,0,0,0,0,0,0,0,0,0,0,0,0,0,0,0,0,0,0,0,0,0,0,0,0,0,0,0,0,0,0,0,0,0,0,0,0,0,0,0,0,0,0,0,0,0,0,0,0,0,0,0,0,0,0,0,0,0,0,0,0,0,0,0,0,0,0,0,0,0,0,0,0,0,0,0,0,0,0,0,0,0,0,0,0,0,0,0,0,0,0,0,0,0,0,0,0,0,0,0,0,0,0,0,0,0,0,0,0,0,0,0,0,0,0,0,0,0,0,0,0,0,0,0,0,0,0,0,0,0,0,0,0,0,0,0,0,0,0,0,0,0,0,0,0,0,0,0,0,0,0,0,0,0,0,0,0,0,0,0,0,0,0,0,0,0,0,0,0,0,0,0,0,0,0,0,0,0,0,0,0,0,0,0,0,0,0,0,0,0,0,0,0,0,0,0,0,0,0,0,0,0,0,0,0,0,0,0,0,0,0,0,0,0,0,0,0,0,0,0,0,0,0,0,0,0,0,0,0,0,0,0,0,0,0,0,0,0,0,0,0,0,0,0,0,0,0,0,0,0,0,0,0,0,0,0,0,0,0,0,0,0,0,0,0,0,0,0,0,0,0,0,0,0,0,0,0,0,0,0,0,0,0,0,0,0,0,0,0,0,0,0,0,0,0,0,0,0,0,0,0,0,0,0,0,0,0,0,0,0,0,0,0,0,0,0,0,0,0,0,0,0,0,0,0,0,0,0,0,0,0,0,0,0,0,0,0,0,0,0,0,0,0,0,0,0,0,0,0,0,0,0,0,0,0,0,0,0,0,0,0,0,0,0,0,0,0,0,0,0,0,0,0,0,0,0,0,0,0,0,0,0,0,0,0,0,0,0,0,0,0,0,0,0,0,0,0,0,0,0,0,0,0,0,0,0,0,0,0,0,0,0,0,0,0,0,0,0,0,0,0,0,0,0,0,0,0,0,0,0,0,0,0,0,0,0,0,0,0,0,0,0,0,0,0,0,0,0,0,0,0,0,0,0,0,0,0,0,0,0,0,0,0,0,0,0,0,0,0,0,0,0,0,0,0,0,0,0,0,0,0,0,0,0,0,0,0,0,0,0,0,0,0,0,0,0,0,0,0,0,0,0,0,0,0,0,0,0,0,0,0,0,0,0,0,0,0,0,0,0,0,0,0,0,0,0,0,0,0,0,0,0,0,0,0,0,0,0,0,0,0,0,0,0,0,0,0,0,0,0,0,0,0,0,0,0,0,0,0,0,0,0,0,0,0,0,0,0,0,0,0,0,0,0,0,0,0,0,0,0,0,0,0,0,0,0,0,0,0,0,0,0,0,0,0,0,0,0,0,0,0,0,0,0,0,0,0,0,0,0,0,0,0,0,0,0,0,0,0,0,0,0,0,0,0,0,0,0,0,0,0,0,0,0,0,0,0,0,0,0,0,0,0,0,0,0,0,0,0,0,0,0,0,0,0,0,0,0,0,0,0,0,0,0,0,0,0,0,0,0,0,0,0,0,0,0,0,0,0,0,0,0,0,0,0,0,0,0,0,0,0,0,0,0,0,0,0,0,0,0,0,0,0,0,0,0,0,0,0,0,0,0,0,0,0,0,0,0,0,0,0,0,0,0,0,0,0,0,0,0,0,0,0,0,0,0,0,0,0,0,0,0,0,0,0,0,0,0,0,0,0,0,0,0,0,0,0,0,0,0,0,0,0,0,0,0,0,0,0,0,0,0,0,0,0,0,0,0,0,0,0,0,0,0,0,0,0,0,0,0,0,0,0,0,0,0,0,0,0,0,0,0,0,0,0,0,0,0,0,0,0,0,0,0,0,0,0,0,0,0,0,0,0,0,0,0,0,0,0,0,0,0,0,0,0,0,0,0,0,0,0,0,0,0,0,0,0,0,0,0,0,0,0,0,0,0,0,0,0,0,0,0,0,0,0,0,0,0,0,0,0,0,0,0,0,0,0,0,0,0,0,0,0,0,0,0,0,0,0,0,0,0,0,0,0,0,0,0,0,0,0,0,0,0,0,0,0,0,0,0,0,0,0,0,0,0,0,0,0,0,0,0,0,0,0,0,0,0,0,0,0,0,0,0,0,0,0,0,0,0,0,0,0,0,0,0,0,0,0,0,0,0,0,0,0,0,0,0,0,0,0,0,0,0,0,0,0,0,0,0,0,0,0,0,0,0,0,0,0,0,0,0,0,0,0,0,0,0,0,0,0,0,0,0,0,0,0,0,0,0,0,0,0,0,0,0,0,0,0,0,0,0,0,0,0,0,0,0,0,0,0,0,0,0,0,0,0,0,0,0,0,0,0,0,0,0,0,0,0,0,0,0,0,0,0,0,0,0,0,0,0,0,0,0,0,0,0,0,0,0,0,0,0,0,0,0,0,0,0,0,0,0,0,0,0,0,0,0,0,0,0,0,0,0,0,0,0,0,0,0,0,0,0,0,0,0,0,0,0,0,0,0,0,0,0,0,0,0,0,0,0,0,0,0,0,0,0,0,0,0,0,0,0,0,0,0,0,0,0,0,0,0,0,0,0,0,0,0,0,0,0,0,0,0,0,0,0,0,0,0,0,0,0,0,0,0,0,0,0,0,0,0,0,0,0,0,0,0,0,0,0,0,0,0,0,0,0,0,0,0,0,0,0,0,0,0,0,0,0,0,0,0,0,0,0,0,0,0,0,0,0,0,0,0,0,0,0,0,0,0,0,0,0,0,0,0,0,0,0,0,0,0,0,0,0,0,0,0,0,0,0,0,0,0,0,0,0,0,0,0,0,0,0,0,0,0,0,0,0,0,0,0,0,0,0,0,0,0,0,0,0,0,0,0,0,0,0,0,0,0,0,0,0,0,0,0,0,0,0,0,0,0,0,0,0,0,0,0,0,0,0,0,0,0,0,0,0,0,0,0,0,0,0,0,0,0,0,0,0,0,0,0,0,0,0,0,0,0,0,0,0,0,0,0,0,0,0,0,0,0,0,0,0,0,0,0,0,0,0,0,0,0,0,0,0,0,0,0,0,0,0,0,0,0,0,0,0,0,0,0,0,0,0,0,0,0,0,0,0,0,0,0,0,0,0,0,0,0,0,0,0,0,0,0,0,0,0,0,0,0,0,0,0,0,0,0,0,0,0,0,0,0,0,0,0,0,0,0,0,0,0,0,0,0,0,0,0,0,0,0,0,0,0,0,0,0,0,0,0,0,0,0,0,0,0,0,0,0,0,0,0,0,0,0,0,0,0,0,0,0,0,0,0,0,0,0,0,0,0,0,0,0,0,0,0,0,0,0,0,0,0,0,0,0,0,0,0,0,0,0,0,0,0,0,0,0,0,0,0,0,0,0,0,0,0,0,0,0,0,0,0,0,0,0,0,0,0,0,0,0,0,0,0,0,0,0,0,0,0,0,0,0,0,0,0,0,0,0,0,0,0,0,0,0,0,0,0,0,0,0,0,0,0,0,0,0,0,0,0,0,0,0,0,0,0,0,0,0,0,0,0,0,0,0,0,0,0,0,0,0,0,0,0,0,0,0,0,0,0,0,0,0,0,0,0,0,0,0,0,0,0,0,0,0,0,0,0,0,0,0,0,0,0,0,0,0,0,0,0,0,0,0,0,0,0,0,0,0,0,0,0,0,0,0,0,0,0,0,0,0,0,0,0,0,0,0,0,0,0,0,0,0,0,0,0,0,0,0,0,0,0,0,0,0,0,0,0,0,0,0,0,0,0,0,0,0,0,0,0,0,0,0,0,0,0,0,0,0,0,0,0,0,0,0,0,0,0,0,0,0,0,0,0,0,0,0,0,0,0,0,0,0,0,0,0,0,0,0,0,0,0,0,0,0,0,0,0,0,0,0,0,0,0,0,0,0,0,0,0,0,0,0,0,0,0,0,0,0,0,0,0,0,0,0,0,0,0,0,0,0,0,0,0,0,0,0,0,0,0,0,0,0,0,0,0,0,0,0,0,0,0,0,0,0,0,0,0,0,0,0,0,0,0,0,0,0,0,0,0,0,0,0,0,0,0,0,0,0,0,0,0,0,0,0,0,0,0,0,0,0,0,0,0,0,0,0,0,0,0,0,0,0,0,0,0,0,0,0,0,0,0,0,0,0,0,0,0,0,0,0,0,0,0,0,0,0,0,0,0,0,0,0,0,0,0,0,0,0,0,0,0,0,0,0,0,0,0,0,0,0,0,0,0,0,0,0,0,0,0,0,0,0,0,0,0,0,0,0,0,0,0,0,0,0,0,0,0,0,0,0,0,0,0,0,0,0,0,0,0,0,0,0,0,0,0,0,0,0,0,0,0,0,0,0,0,0,0,0,0,0,0,0,0,0,0,0,0,0,0,0,0,0,0,0,0,0,0,0,0,0,0,0,0,0,0,0,0,0,0,0,0,0,0,0,0,0,0,0,0,0,0,0,0,0,0,0,0,0,0,0,0,0,0,0,0,0,0,0,0,0,0,0,0,0,0,0,0,0,0,0,0,0,0,0,0,0,0,0,0,0,0,0,0,0,0,0,0,0,0,0,0,0,0,0,0,0,0,0,0,0,0,0,0,0,0,0,0,0,0,0,0,0,0,0,0,0,0,0,0,0,0,0,0,0,0,0,0,0,0,0,0,0,0,0,0,0,0,0,0,0,0,0,0,0,0,0,0,0,0,0,0,0,0,0,0,0,0,0,0,0,0,0,0,0,0,0,0,0,0,0,0,0,0,0,0,0,0,0,0,0,0,0,0,0,0,0,0,0,0,0,0,0,0,0,0,0,0,0,0,0,0,0,0,0,0,0,0,0,0,0,0,0,0,0,0,0,0,0,0,0,0,0,0,0,0,0,0,0,0,0,0,0,0,0,0,0,0,0,0,0,0,0,0,0,0,0,0,0,0,0,0,0,0,0,0,0,0,0,0,0,0,0,0,0,0,0,0,0,0,0,0,0,0,0,0,0,0,0,0,0,0,0,0,0,0,0,0,0,0,0,0,0,0,0,0,0,0,0,0,0,0,0,0,0,0,0,0,0,0,0,0,0,0,0,0,0,0,0,0,0,0,0,0,0,0,0,0,0,0,0,0,0,0,0,0,0,0,0,0,0,0,0,0,0,0,0,0,0,0,0,0,0,0,0,0,0,0,0,0,0,0,0,0,0,0,0,0,0,0,0,0,0,0,0,0,0,0,0,0,0,0,0,0,0,0,0,0,0,0,0,0,0,0,0,0,0,0,0,0,0,0,0,0,0,0,0,0,0,0,0,0,0,0,0,0,0,0,0,0,0,0,0,0,0,0,0,0,0,0,0,0,0,0,0,0,0,0,0,0,0,0,0,0,0,0,0,0,0,0,0,0,0,0,0,0,0,0,0,0,0,0,0,0,0,0,0,0,0,0,0,0,0,0,0,0,0,0,0,0,0,0,0,0,0,0,0,0,0,0,0,0,0,0,0,0,0,0,0,0,0,0,0,0,0,0,0,0,0,0,0,0,0,0,0,0,0,0,0,0,0,0,0,0,0,0,0,0,0,0,0,0,0,0,0,0,0,0,0,0,0,0,0,0,0,0,0,0,0,0,0,0,0,0,0,0,0,0,0,0,0,0,0,0,0,0,0,0,0,0,0,0,0,0,0,0,0,0,0,0,0,0,0,0,0,0,0,0,0,0,0,0,0,0,0,0,0,0,0,0,0,0,0,0,0,0,0,0,0,0,0,0,0,0,0,0,0,0,0,0,0,0,0,0,0,0,0,0,0,0,0,0,0,0,0,0,0,0,0,0,0,0,0,0,0,0,0,0,0,0,0,0,0,0,0,0,0,0,0,0,0,0,0,0,0,0,0,0,0,0,0,0,0,0,0,0,0,0,0,0,0,0,0,0,0,0,0,0,0,0,0,0,0,0,0,0,0,0,0,0,0,0,0,0,0,0,0,0,0,0,0,0,0,0,0,0,0,0,0,0,0,0,0,0,0,0,0,0,0,0,0,0,0,0,0,0,0,0,0,0,0,0,0,0,0,0,0,0,0,0,0,0,0,0,0,0,0,0,0,0,0,0,0,0,0,0,0,0,0,0,0,0,0,0,0,0,0,0,0,0,0,0,0,0,0,0,0,0,0,0,0,0,0,0,0,0,0,0,0,0,0,0,0,0,0,0,0,0,0,0,0,0,0,0,0,0,0,0,0,0,0,0,0,0,0,0,0,0,0,0,0,0,0,0,0,0,0,0,0,0,0,0,0,0,0,0,0,0,0,0,0,0,0,0,0,0,0,0,0,0,0,0,0,0,0,0,0,0,0,0,0,0,0,0,0,0,0,0,0,0,0,0,0,0,0,0,0,0,0,0,0,0,0,0,0,0,0,0,0,0,0,0,0,0,0,0,0,0,0,0,0,0,0,0,0,0,0,0,0,0,0,0,0,0,0,0,0,0,0,0,0,0,0,0,0,0,0,0,0,0,0,0,0,0,0,0,0,0,0,0,0,0,0,0,0,0,0,0,0,0,0,0,0,0,0,0,0,0,0,0,0,0,0,0,0,0,0,0,0,0,0,0,0,0,0,0,0,0,0,0,0,0,0,0,0,0,0,0,0,0,0,0,0,0,0,0,0,0,0,0,0,0,0,0,0,0,0,0,0,0,0,0,0,0,0,0,0,0,0,0,0,0,0,0,0,0,0,0,0,0,0,0,0,0,0,0,0,0,0,0,0,0,0,0,0,0,0,0,0,0,0,0,0,0,0,0,0,0,0,0,0,0,0,0,0,0,0,0,0,0,0,0,0,0,0,0,0,0,0,0,0,0,0,0,0,0,0,0,0,0,0,0,0,0,0,0,0,0,0,0,0,0,0,0,0,0,0,0,0,0,0,0,0,0,0,0,0,0,0,0,0,0,0,0,0,0,0,0,0,0,0,0,0,0,0,0,0,0,0,0,0,0,0,0,0,0,0,0,0,0,0,0,0,0,0,0,0,0,0,0,0,0,0,0,0,0,0,0,0,0,0,0,0,0,0,0,0,0,0,0,0,0,0,0,0,0,0,0,0,0,0,0,0,0,0,0,0,0,0,0,0,0,0,0,0,0,0,0,0,0,0,0,0,0,0,0,0,0,0,0,0,0,0,0,0,0,0,0,0,0,0,0,0,0,0,0,0,0,0,0,0,0,0,0,0,0,0,0,0,0,0,0,0,0,0,0,0,0,0,0,0,0,0,0,0,0,0,0,0,0,0,0,0,0,0,0,0,0,0,0,0,0,0,0,0,0,0,0,0,0,0,0,0,0,0,0,0,0,0,0,0,0,0,0,0,0,0,0,0,0,0,0,0,0,0,0,0,0,0,0,0,0,0,0,0,0,0,0,0,0,0,0,0,0,0,0,0,0,0,0,0,0,0,0,0,0,0,0,0,0,0,0,0,0,0,0,0,0,0,0,0,0,0,0,0,0,0,0,0,0,0,0,0,0,0,0,0,0,0,0,0,0,0,0,0,0,0,0,0,0,0,0,0,0,0,0,0,0,0,0,0,0,0,0,0,0,0,0,0,0,0,0,0,0,0,0,0,0,0,0,0,0,0,0,0,0,0,0,0,0,0,0,0,0,0,0,0,0,0,0,0,0,0,0,0,0,0,0,0,0,0,0,0,0,0,0,0,0,0,0,0,0,0,0,0,0,0,0,0,0,0,0,0,0,0,0,0,0,0,0,0,0,0,0,0,0,0,0,0,0,0,0,0,0,0,0,0,0,0,0,0,0,0,0,0,0,0,0,0,0,0,0,0,0,0,0,0,0,0,0,0,0,0,0,0,0,0,0,0,0,0,0,0,0,0,0,0,0,0,0,0,0,0,0,0,0,0,0,0,0,0,0,0,0,0,0,0,0,0,0,0,0,0,0,0,0,0,0,0,0,0,0,0,0,0,0,0,0,0,0,0,0,0,0,0,0,0,0,0,0,0,0,0,0,0,0,0,0,0,0,0,0,0,0,0,0,0,0,0,0,0,0,0,0,0,0,0,0,0,0,0,0,0,0,0,0,0,0,0,0,0,0,0,0,0,0,0,0,0,0,0,0,0,0,0,0,0,0,0,0,0,0,0,0,0,0,0,0,0,0,0,0,0,0,0,0,0,0,0,0,0,0,0,0,0,0,0,0,0,0,0,0,0,0,0,0,0,0,0,0,0,0,0,0,0,0,0,0,0,0,0,0,0,0,0,0,0,0,0,0,0,0,0,0,0,0,0,0,0,0,0,0,0,0,0,0,0,0,0,0,0,0,0,0,0,0,0,0,0,0,0,0,0,0,0,0,0,0,0,0,0,0,0,0,0,0,0,0,0,0,0,0,0,0,0,0,0,0,0,0,0,0,0,0,0,0,0,0,0,0,0,0,0,0,0,0,0,0,0,0,0,0,0,0,0,0,0,0,0,0,0,0,0,0,0,0,0,0,0,0,0,0,0,0,0,0,0,0,0,0,0,0,0,0,0,0,0,0,0,0,0,0,0,0,0,0,0,0,0,0,0,0,0,0,0,0,0,0,0,0,0,0,0,0,0,0,0,0,0,0,0,0,0,0,0,0,0,0,0,0,0,0,0,0,0,0,0,0,0,0,0,0,0,0,0,0,0,0,0,0,0,0,0,0,0,0,0,0,0,0,0,0,0,0,0,0,0,0,0,0,0,0,0,0,0,0,0,0,0,0,0,0,0,0,0,0,0,0,0,0,0,0,0,0,0,0,0,0,0,0,0,0,0,0,0,0,0,0,0,0,0,0,0,0,0,0,0,0,0,0,0,0,0,0,0,0,0,0,0,0,0,0,0,0,0,0,0,0,0,0,0,0,0,0,0,0,0,0,0,0,0,0,0,0,0,0,0,0,0,0,0,0,0,0,0,0,0,0,0,0,0,0,0,0,0,0,0,0,0,0,0,0,0,0,0,0,0,0,0,0,0,0,0,0,0,0,0,0,0,0,0,0,0,0,0,0,0,0,0,0,0,0,0,0,0,0,0,0,0,0,0,0,0,0,0,0,0,0,0,0,0,0,0,0,0,0,0,0,0,0,0,0,0,0,0,0,0,0,0,0,0,0,0,0,0,0,0,0,0,0,0,0,0,0,0,0,0,0,0,0,0,0,0,0,0,0,0,0,0,0,0,0,0,0,0,0,0,0,0,0,0,0,0,0,0,0,0,0,0,0,0,0,0,0,0,0,0,0,0,0,0,0,0,0,0,0,0,0,0,0,0,0,0,0,0,0,0,0,0,0,0,0,0,0,0,0,0,0,0,0,0,0,0,0,0,0,0,0,0,0,0,0,0,0,0,0,0,0,0,0,0,0,0,0,0,0,0,0,0,0,0,0,0,0,0,0,0,0,0,0,0,0,0,0,0,0,0,0,0,0,0,0,0,0,0,0,0,0,0,0,0,0,0,0,0,0,0,0,0,0,0,0,0,0,0,0,0,0,0,0,0,0,0,0,0,0,0,0,0,0,0,0,0,0,0,0,0,0,0,0,0,0,0,0,0,0,0,0,0,0,0,0,0,0,0,0,0,0,0,0,0,0,0,0,0,0,0,0,0,0,0,0,0,0,0,0,0,0,0,0,0,0,0,0,0,0,0,0,0,0,0,0,0,0,0,0,0,0,0,0,0,0,0,0,0,0,0,0,0,0,0,0,0,0,0,0,0,0,0,0,0,0,0,0,0,0,0,0,0,0,0,0,0,0,0,0,0,0,0,0,0,0,0,0,0,0,0,0,0,0,0,0,0,0,0,0,0,0,0,0,0,0,0,0,0,0,0,0,0,0,0,0,0,0,0,0,0,0,0,0,0,0,0,0,0,0,0,0,0,0,0,0,0,0,0,0,0,0,0,0,0,0,0,0,0,0,0,0,0,0,0,0,0,0,0,0,0,0,0,0,0,0,0,0,0,0,0,0,0,0,0,0,0,0,0,0,0,0,0,0,0,0,0,0,0,0,0,0,0,0,0,0,0,0,0,0,0,0,0,0,0,0,0,0,0,0,0,0,0,0,0,0,0,0,0,0,0,0,0,0,0,0,0,0,0,0,0,0,0,0,0,0,0,0,0,0,0,0,0,0,0,0,0,0,0,0,0,0,0,0,0,0,0,0,0,0,0,0,0,0,0,0,0,0,0,0,0,0,0,0,0,0,0,0,0,0,0,0,0,0,0,0,0,0,0,0,0,0,0,0,0,0,0,0,0,0,0,0,0,0,0,0,0,0,0,0,0,0,0,0,0,0,0,0,0,0,0,0,0,0,0,0,0,0,0,0,0,0,0,0,0,0,0,0,0,0,0,0,0,0,0,0,0,0,0,0,0,0,0,0,0,0,0,0,0,0,0,0,0,0,0,0,0,0,0,0,0,0,0,0,0,0,0,0,0,0,0,0,0,0,0,0,0,0,0,0,0,0,0,0,0,0,0,0,0,0,0,0,0,0,0,0,0,0,0,0,0,0,0,0,0,0,0,0,0,0,0,0,0,0,0,0,0,0,0,0,0,0,0,0,0,0,0,0,0,0,0,0,0,0,0,0,0,0,0,0,0,0,0,0,0,0,0,0,0,0,0,0,0,0,0,0,0,0,0,0,0,0,0,0,0,0,0,0,0,0,0,0,0,0,0,0,0,0,0,0,0,0,0,0,0,0,0,0,0,0,0,0,0,0,0,0,0,0,0,0,0,0,0,0,0,0,0,0,0,0,0,0,0,0,0,0,0,0,0,0,0,0,0,0,0,0,0,0,0,0,0,0,0,0,0,0,0,0,0,0,0,0,0,0,0,0,0,0,0,0,0,0,0,0,0,0,0,0,0,0,0,0,0,0,0,0,0,0,0,0,0,0,0,0,0,0,0,0,0,0,0,0,0,0,0,0,0,0,0,0,0,0,0,0,0,0,0,0,0,0,0,0,0,0,0,0,0,0,0,0,0,0,0,0,0,0,0,0,0,0,0,0,0,0,0,0,0,0,0,0,0,0,0,0,0,0,0,0,0,0,0,0,0,0,0,0,0,0,0,0,0,0,0,0,0,0,0,0,0,0,0,0,0,0,0,0,0,0,0,0,0,0,0,0,0,0,0,0,0,0,0,0,0,0,0,0,0,0,0,0,0,0,0,0,0,0,0,0,0,0,0,0,0,0,0,0,0,0,0,0,0,0,0,0,0,0,0,0,0,0,0,0,0,0,0,0,0,0,0,0,0,0,0,0,0,0,0,0,0,0,0,0,0,0,0,0,0,0,0,0,0,0,0,0,0,0,0,0,0,0,0,0,0,0,0,0,0,0,0,0,0,0,0,0,0,0,0,0,0,0,0,0,0,0,0,0,0,0,0,0,0,0,0,0,0,0,0,0,0,0,0,0,0,0,0,0,0,0,0,0,0,0,0,0,0,0,0,0,0,0,0,0,0,0,0,0,0,0,0,0,0,0,0,0,0,0,0,0,0,0,0,0,0,0,0,0,0,0,0,0,0,0,0,0,0,0,0,0,0,0,0,0,0,0,0,0,0,0,0,0,0,0,0,0,0,0,0,0,0,0,0,0,0,0,0,0,0,0,0,0,0,0,0,0,0,0,0,0,0,0,0,0,0,0,0,0,0,0,0,0,0,0,0,0,0,0,0,0,0,0,0,0,0,0,0,0,0,0,0,0,0,0,0,0,0,0,0,0,0,0,0,0,0,0,0,0,0,0,0,0,0,0,0,0,0,0,0,0,0,0,0,0,0,0,0,0,0,0,0,0,0,0,0,0,0,0,0,0,0,0,0,0,0,0,0,0,0,0,0,0,0,0,0,0,0,0,0,0,0,0,0,0,0,0,0,0,0,0,0,0,0,0,0,0,0,0,0,0,0,0,0,0,0,0,0,0,0,0,0,0,0,0,0,0,0,0,0,0,0,0,0,0,0,0,0,0,0,0,0,0,0,0,0,0,0,0,0,0,0,0,0,0,0,0,0,0,0,0,0,0,0,0,0,0,0,0,0,0,0,0,0,0,0,0,0,0,0,0,0,0,0,0,0,0,0,0,0,0,0,0,0,0,0,0,0,0,0,0,0,0,0,0,0,0,0,0,0,0,0,0,0,0,0,0,0,0,0,0,0,0,0,0,0,0,0,0,0,0,0,0,0,0,0,0,0,0,0,0,0,0,0,0,0,0,0,0,0,0,0,0,0,0,0,0,0,0,0,0,0,0,0,0,0,0,0,0,0,0,0,0,0,0,0,0,0,0,0,0,0,0,0,0,0,0,0,0,0,0,0,0,0,0,0,0,0,0,0,0,0,0,0,0,0,0,0,0,0,0,0,0,0,0,0,0,0,0,0,0,0,0,0,0,0,0,0,0,0,0,0,0,0,0,0,0,0,0,0,0,0,0,0,0,0,0,0,0,0,0,0,0,0,0,0,0,0,0,0,0,0,0,0,0,0,0,0,0,0,0,0,0,0,0,0,0,0,0,0,0,0,0,0,0,0,0,0,0,0,0,0,0,0,0,0,0,0,0,0,0,0,0,0,0,0,0,0,0,0,0,0,0,0,0,0,0,0,0,0,0,0,0,0,0,0,0,0,0,0,0,0,0,0,0,0,0,0,0,0,0,0,0,0,0,0,0,0,0,0,0,0,0,0,0,0,0,0,0,0,0,0,0,0,0,0,0,0,0,0,0,0,0,0,0,0,0,0,0,0,0,0,0,0,0,0,0,0,0,0,0,0,0,0,0,0,0,0,0,0,0,0,0,0,0,0,0,0,0,0,0,0,0,0,0,0,0,0,0,0,0,0,0,0,0,0,0,0,0,0,0,0,0,0,0,0,0,0,0,0,0,0,0,0,0,0,0,0,0,0,0,0,0,0,0,0,0,0,0,0,0,0,0,0,0,0,0,0,0,0,0,0,0,0,0,0,0,0,0,0,0,0,0,0,0,0,0,0,0,0,0,0,0,0,0,0,0,0,0,0,0,0,0,0,0,0,0,0,0,0,0,0,0,0,0,0,0,0,0,0,0,0,0,0,0,0,0,0,0,0,0,0,0,0,0,0,0,0,0,0,0,0,0,0,0,0,0,0,0,0,0,0,0,0,0,0,0,0,0,0,0,0,0,0,0,0,0,0,0,0,0,0,0,0,0,0,0,0,0,0,0,0,0,0,0,0,0,0,0,0,0,0,0,0,0,0,0,0,0,0,0,0,0,0,0,0,0,0,0,0,0,0,0,0,0,0,0,0,0,0,0,0,0,0,0,0,0,0,0,0,0,0,0,0,0,0,0,0,0,0,0,0,0,0,0,0,0,0,0,0,0,0,0,0,0,0,0,0,0,0,0,0,0,0,0,0,0,0,0,0,0,0,0,0,0,0,0,0,0,0,0,0,0,0,0,0,0,0,0,0,0,0,0,0,0,0,0,0,0,0,0,0,0,0,0,0,0,0,0,0,0,0,0,0,0,0,0,0,0,0,0,0,0,0,0,0,0,0,0,0,0,0,0,0,0,0,0,0,0,0,0,0,0,0,0,0,0,0,0,0,0,0,0,0,0,0,0,0,0,0,0,0,0,0,0,0,0,0,0,0,0,0,0,0,0,0,0,0,0,0,0,0,0,0,0,0,0,0,0,0,0,0,0,0,0,0,0,0,0,0,0,0,0,0,0,0,0,0,0,0,0,0,0,0,0,0,0,0,0,0,0,0,0,0,0,0,0,0,0,0,0,0,0,0,0,0,0,0,0,0,0,0,0,0,0,0,0,0,0,0,0,0,0,0,0,0,0,0,0,0,0,0,0,0,0,0,0,0,0,0,0,0,0,0,0,0,0,0,0,0,0,0,0,0,0,0,0,0,0,0,0,0,0,0,0,0,0,0,0,0,0,0,0,0,0,0,0,0,0,0,0,0,0,0,0,0,0,0,0,0,0,0,0,0,0,0,0,0,0,0,0,0,0,0,0,0,0,0,0,0,0,0,0,0,0,0,0,0,0,0,0,0,0,0,0,0,0,0,0,0,0,0,0,0,0,0,0,0,0,0,0,0,0,0,0,0,0,0,0,0,0,0,0,0,0,0,0,0,0,0,0,0,0,0,0,0,0,0,0,0,0,0,0,0,0,0,0,0,0,0,0,0,0,0,0,0,0,0,0,0,0,0,0,0,0,0,0,0,0,0,0,0,0,0,0,0,0,0,0,0,0,0,0,0,0,0,0,0,0,0,0,0,0,0,0,0,0,0,0,0,0,0,0,0,0,0,0,0,0,0,0,0,0,0,0,0,0,0,0,0,0,0,0,0,0,0,0,0,0,0,0,0,0,0,0,0,0,0,0,0,0,0,0,0,0,0,0,0,0,0,0,0,0,0,0,0,0,0,0,0,0,0,0,0,0,0,0,0,0,0,0,0,0,0,0,0,0,0,0,0,0,0,0,0,0,0,0,0,0,0,0,0,0,0,0,0,0,0,0,0,0,0,0,0,0,0,0,0,0,0,0,0,0,0,0,0,0,0,0,0,0,0,0,0,0,0,0,0,0,0,0,0,0,0,0,0,0,0,0,0,0,0,0,0,0,0,0,0,0,0,0,0,0,0,0,0,0,0,0,0,0,0,0,0,0,0,0,0,0,0,0,0,0,0,0,0,0,0,0,0,0,0,0,0,0,0,0,0,0,0,0,0,0,0,0,0,0,0,0,0,0,0,0,0,0,0,0,0,0,0,0,0,0,0,0,0,0,0,0,0,0,0,0,0,0,0,0,0,0,0,0,0,0,0,0,0,0,0,0,0,0,0,0,0,0,0,0,0,0,0,0,0,0,0,0,0,0,0,0,0,0,0,0,0,0,0,0,0,0,0,0,0,0,0,0,0,0,0,0,0,0,0,0,0,0,0,0,0,0,0,0,0,0,0,0,0,0,0,0,0,0,0,0,0,0,0,0,0,0,0,0,0,0,0,0,0,0,0,0,0,0,0,0,0,0,0,0,0,0,0,0,0,0,0,0,0,0,0,0,0,0,0,0,0,0,0,0,0,0,0,0,0,0,0,0,0,0,0,0,0,0,0,0,0,0,0,0,0,0,0,0,0,0,0,0,0,0,0,0,0,0,0,0,0,0,0,0,0,0,0,0,0,0,0,0,0,0,0,0,0,0,0,0,0,0,0,0,0,0,0,0,0,0,0,0,0,0,0,0,0,0,0,0,0,0,0,0,0,0,0,0,0,0,0,0,0,0,0,0,0,0,0,0,0,0,0,0,0,0,0,0,0,0,0,0,0,0,0,0,0,0,0,0,0,0,0,0,0,0,0,0,0,0,0,0,0,0,0,0,0,0,0,0,0,0,0,0,0,0,0,0,0,0,0,0,0,0,0,0,0,0,0,0,0,0,0,0,0,0,0,0,0,0,0,0,0,0,0,0,0,0,0,0,0,0,0,0,0,0,0,0,0,0,0,0,0,0,0,0,0,0,0,0,0,0,0,0,0,0,0,0,0,0,0,0,0,0,0,0,0,0,0,0,0,0,0,0,0,0,0,0,0,0,0,0,0,0,0,0,0,0,0,0,0,0,0,0,0,0,0,0,0,0,0,0,0,0,0,0,0,0,0,0,0,0,0,0,0,0,0,0,0,0,0,0,0,0,0,0,0,0,0,0,0,0,0,0,0,0,0,0,0,0,0,0,0,0,0,0,0,0,0,0,0,0,0,0,0,0,0,0,0,0,0,0,0,0,0,0,0,0,0,0,0,0,0,0,0,0,0,0,0,0,0,0,0,0,0,0,0,0,0,0,0,0,0,0,0,0,0,0,0,0,0,0,0,0,0,0,0,0,0,0,0,0,0,0,0,0,0,0,0,0,0,0,0,0,0,0,0,0,0,0,0,0,0,0,0,0,0,0,0,0,0,0,0,0,0,0,0,0,0,0,0,0,0,0,0,0,0,0,0,0,0,0,0,0,0,0,0,0,0,0,0,0,0,0,0,0,0,0,0,0,0,0,0,0,0,0,0,0,0,0,0,0,0,0,0,0,0,0,0,0,0,0,0,0,0,0,0,0,0,0,0,0,0,0,0,0,0,0,0,0,0,0,0,0,0,0,0,0,0,0,0,0,0,0,0,0,0,0,0,0,0,0,0,0,0,0,0,0,0,0,0,0,0,0,0,0,0,0,0,0,0,0,0,0,0,0,0,0,0,0,0,0,0,0,0,0,0,0,0,0,0,0,0,0,0,0,0,0,0,0,0,0,0,0,0,0,0,0,0,0,0,0,0,0,0,0,0,0,0,0,0,0,0,0,0,0,0,0,0,0,0,0,0,0,0,0,0,0,0,0,0,0,0,0,0,0,0,0,0,0,0,0,0,0,0,0,0,0,0,0,0,0,0,0,0,0,0,0,0,0,0,0,0,0,0,0,0,0,0,0,0,0,0,0,0,0,0,0,0,0,0,0,0,0,0,0,0,0,0,0,0,0,0,0,0,0,0,0,0,0,0,0,0,0,0,0,0,0,0,0,0,0,0,0,0,0,0,0,0,0,0,0,0,0,0,0,0,0,0,0,0,0,0,0,0,0,0,0,0,0,0,0,0,0,0,0,0,0,0,0,0,0,0,0,0,0,0,0,0,0,0,0,0,0,0,0,0,0,0,0,0,0,0,0,0,0,0,0,0,0,0,0,0,0,0,0,0,0,0,0,0,0,0,0,0,0,0,0,0,0,0,0,0,0,0,0,0,0,0,0,0,0,0,0,0,0,0,0,0,0,0,0,0,0,0,0,0,0,0,0,0,0,0,0,0,0,0,0,0,0,0,0,0,0,0,0,0,0,0,0,0,0,0,0,0,0,0,0,0,0,0,0,0,0,0,0,0,0,0,0,0,0,0,0,0,0,0,0,0,0,0,0,0,0,0,0,0,0,0,0,0,0,0,0,0,0,0,0,0,0,0,0,0,0,0,0,0,0,0,0,0,0,0,0,0,0,0,0,0,0,0,0,0,0,0,0,0,0,0,0,0,0,0,0,0,0,0,0,0,0,0,0,0,0,0,0,0,0,0,0,0,0,0,0,0,0,0,0,0,0,0,0,0,0,0,0,0,0,0,0,0,0,0,0,0,0,0,0,0,0,0,0,0,0,0,0,0,0,0,0,0,0,0,0,0,0,0,0,0,0,0,0,0,0,0,0,0,0,0,0,0,0,0,0,0,0,0,0,0,0,0,0,0,0,0,0,0,0,0,0,0,0,0,0,0,0,0,0,0,0,0,0,0,0,0,0,0,0,0,0,0,0,0,0,0,0,0,0,0,0,0,0,0,0,0,0,0,0,0,0,0,0,0,0,0,0,0,0,0]
[]
["END"]