{"text_format":"1","workbook":"xlsx","n_sheets":11,"sheets":["Front sheet","Exec Summary","Waterfall","FinStat_Appointee","FinStat_Wholesale","FinStat_Retail","FinStat_Water Resources","FinStat_Water Network","FinStat_Wastewater Network","FinStat_Bio Resources","FinStat_Dummy control"],"not_rendered":{"charts":1,"images":0,"macros":1,"external_links":2,"defined_names":37,"comments":0,"pivot_tables":0},"unopened":[],"bounds":{"document_bytes":16777216,"sheet_cells":100000,"rows_first":2000,"rows_last":500,"rows_between":2000,"halvings":0,"cell_chars":16384,"cell_head_chars":4096},"cells_cut":0,"cells_raw":0,"read":"whole","date_system":"1900"}

{"sheet":"Front sheet","index":0,"n_rows":41,"n_cols":9,"rows_kept":41,"cut":false,"hidden":false,"merged":[[31,1,31,2],[32,1,32,2],[33,1,33,2],[36,1,36,2],[10,1,10,2],[12,1,12,2],[14,1,14,2],[16,1,16,2],[30,1,30,2]]}
[null,"Comparisons workbook"]
["Do Not Insert Rows or Columns Within the Blue Block"]
[]
[null,null,null,null,"Names of models being compared","Model","Company","Scenario Short Text","Scenario Description"]
[null,null,null,null,"Name of model 1 (left-hand model)","Model 1","ANH","Company 1 April NTN Post"]
[null,null,null,null,"Name of model 2 (middle model)","Model 2","ANH","Ofwat FD NTN Post "]
[null,null,null,null,"Name of model 3 (right-hand model)","Model 3","NA","NA","NA"]
[]
["End of block"]
[]
[null,"This is a standard workbook to perform comparisons between versions of the financial model."]
[]
[null,"Please briefly label ad hoc workings you have performed so they can be found and understood by other users."]
[]
[null,"Each version of the financial model should have its own associated copy of this workbook so that changes do not unintentionally affect other versions. This should have the same label as the associated financial model."]
[]
[null,"The workbook contains a goal seek macro template. It has been designed so that the sheet can be copied within the workbook to be used for different calculations."]
[]
[]
[null,"Comparison worksheets"]
[null,"Exec Summary"]
[null,"FinStat_Appointee"]
[null,"FinStat_Wholesale"]
[null,"FinStat_Retail"]
[null,"FinStat_Water Resources"]
[null,"FinStat_Water Network"]
[null,"FinStat_Wastewater Network"]
[null,"FinStat_Bio Resources"]
[null,"FinStat_Dummy control"]
[]
[null,"Change"]
[null,"Added alternative ratios"]
[null,"Relinked to shifted rows in Exec_Summary"]
[null,"Added goalseek macro"]
[null,"Relnked for models 17z(Fast DD) 18z(slow DD) and 19z(FD)"]
[]
[]
[]
[]
[]
["End of sheet"]

{"sheet":"Exec Summary","index":1,"n_rows":427,"n_cols":47,"rows_kept":427,"cut":false,"hidden":false,"merged":[[0,8,0,16],[0,28,0,36],[0,38,0,46],[0,18,0,26]]}
[null,null,null,null,{"$f":" RIGHT(CELL(\"FILENAME\", $A$1), LEN(CELL(\"FILENAME\", $A$1)) - SEARCH(\"]\", CELL(\"FILENAME\", $A$1)))","v":"Exec Summary"},null,null,null,{"$f":"'Front sheet'!$F5 & \": \" & 'Front sheet'!$G5 & \" - \" & 'Front sheet'!$H5","v":"Model 1: ANH - Company 1 April NTN Post"},null,null,null,null,null,null,null,null,null,{"$f":"'Front sheet'!$F6 & \": \" & 'Front sheet'!$G6 & \" - \" & 'Front sheet'!$H6","v":"Model 2: ANH - Ofwat FD NTN Post "},null,null,null,null,null,null,null,null,null,{"$f":"\"Delta (\" & 'Front sheet'!$F5 & \" - \" & 'Front sheet'!$F6 & \")\"","v":"Delta (Model 1 - Model 2)"},null,null,null,null,null,null,null,null,null,{"$f":"\"Delta  (\" & 'Front sheet'!$F5 & \" - \" & 'Front sheet'!$F6 & \") - %\"","v":"Delta  (Model 1 - Model 2) - %"}]
[]
[null,null,null,"Model period ending",null,null,null,null,"2019-03-31","2020-03-31","2021-03-31","2022-03-31","2023-03-31","2024-03-31","2025-03-31","2021-25","2021-25",null,"2019-03-31","2020-03-31","2021-03-31","2022-03-31","2023-03-31","2024-03-31","2025-03-31","2021-25","2021-25",null,"2019-03-31","2020-03-31","2021-03-31","2022-03-31","2023-03-31","2024-03-31","2025-03-31",null,"2021-25",null,"2019-03-31","2020-03-31","2021-03-31","2022-03-31","2023-03-31","2024-03-31","2025-03-31",null,"2021-25"]
[null,null,null,"Timeline label",null,null,null,null,"Pre-Fcst","Pre-Fcst","Forecast","Forecast","Forecast","Forecast","Forecast","5y ave","Forecast",null,"Pre-Fcst","Pre-Fcst","Forecast","Forecast","Forecast","Forecast","Forecast","5y ave","Forecast",null,"Pre-Fcst","Pre-Fcst","Forecast","Forecast","Forecast","Forecast","Forecast",null,"Forecast",null,"Pre-Fcst","Pre-Fcst","Forecast","Forecast","Forecast","Forecast","Forecast",null,"Forecast"]
[null,null,null,"Financial year ending",null,null,null,null,2019,2020,2021,2022,2023,2024,2025,null,null,null,2019,2020,2021,2022,2023,2024,2025,null,null,null,2019,2020,2021,2022,2023,2024,2025,null,null,null,2019,2020,2021,2022,2023,2024,2025]
[null,null,null,"Model column counter",null,null,null,null,1,2,3,4,5,6,7,null,null,null,1,2,3,4,5,6,7,null,null,null,1,2,3,4,5,6,7,null,null,null,1,2,3,4,5,6,7]
[]
[null,null,null,null,{"$f":"'Front sheet'!$F5 & \": \" & 'Front sheet'!$G5 & \" - \" & 'Front sheet'!$I5","v":"Model 1: ANH - "}]
[null,null,null,null,{"$f":"'Front sheet'!$F6 & \": \" & 'Front sheet'!$G6 & \" - \" & 'Front sheet'!$I6","v":"Model 2: ANH - "}]
[null,null,null,null,"3rd model not in use"]
[]
[null,null,null,"Check Delta (numbers)",null,null,null,null,null,null,null,null,null,null,null,null,null,null,null,null,null,null,null,null,null,null,null,null,{"$f":"COUNTIF(AC19:AC426,\"<>0\") - COUNTBLANK(AC19:AC426) - AC13","v":9},40,141,153,156,148,146,null,{"$f":"COUNTIF(AK19:AK426,\"<>0\") - COUNTBLANK(AK19:AK426) - AK13","v":117},null,{"$f":"COUNTIF(AM19:AM426,\"<>0\") - COUNTBLANK(AM19:AM426) - AM13","v":1},11,131,149,151,140,138,null,{"$f":"COUNTIF(AU19:AU426,\"<>0\") - COUNTBLANK(AU19:AU426) - AU13","v":117}]
[null,null,null,"Check Delta (errors)",null,null,null,null,null,null,null,null,null,null,null,null,null,null,null,null,null,null,null,null,null,null,null,null,{"$f":"COUNT( IF( ISERROR(AC19:AC303), 1) )","v":2},{"$f":"COUNT( IF( ISERROR(AD19:AD303), 1) )","v":2},{"$f":"COUNT( IF( ISERROR(AE19:AE303), 1) )","v":2},{"$f":"COUNT( IF( ISERROR(AF19:AF303), 1) )","v":2},{"$f":"COUNT( IF( ISERROR(AG19:AG303), 1) )","v":2},{"$f":"COUNT( IF( ISERROR(AH19:AH303), 1) )","v":2},{"$f":"COUNT( IF( ISERROR(AI19:AI303), 1) )","v":2},null,{"$f":"COUNT( IF( ISERROR(AK19:AK303), 1) )","v":0},null,{"$f":"COUNT( IF( ISERROR(AM19:AM303), 1) )","v":2},{"$f":"COUNT( IF( ISERROR(AN19:AN303), 1) )","v":2},{"$f":"COUNT( IF( ISERROR(AO19:AO303), 1) )","v":2},{"$f":"COUNT( IF( ISERROR(AP19:AP303), 1) )","v":2},{"$f":"COUNT( IF( ISERROR(AQ19:AQ303), 1) )","v":2},{"$f":"COUNT( IF( ISERROR(AR19:AR303), 1) )","v":2},{"$f":"COUNT( IF( ISERROR(AS19:AS303), 1) )","v":2},null,{"$f":"COUNT( IF( ISERROR(AU19:AU303), 1) )","v":0}]
[]
["PRICE CONTROLS"]
[]
[null,"Wholesale"]
[null,null,"Water"]
[null,null,null,null,"Water resources - Allowed Revenues - real",0,"£m",null,{"$f":"'[1]Exec Summary'!$J$17","v":0},{"$f":"'[1]Exec Summary'!$K$17","v":0},{"$f":"'[1]Exec Summary'!$L$17","v":59.646093536381393},{"$f":"'[1]Exec Summary'!$M$17","v":61.509656264136282},{"$f":"'[1]Exec Summary'!$N$17","v":59.732007311922686},{"$f":"'[1]Exec Summary'!$O$17","v":58.895385260197457},{"$f":"'[1]Exec Summary'!$P$17","v":55.705940604725704},{"$f":"AVERAGE(K19:O19)","v":59.097816595472707},{"$f":"'[1]Exec Summary'!$W$17","v":295.48908297736352},null,{"$f":"'[2]Exec Summary'!$J$17","v":0},{"$f":"'[2]Exec Summary'!$K$17","v":0},{"$f":"'[2]Exec Summary'!$L$17","v":52.27437672665144},{"$f":"'[2]Exec Summary'!$M$17","v":51.466165491582117},{"$f":"'[2]Exec Summary'!$N$17","v":53.423325319517694},{"$f":"'[2]Exec Summary'!$O$17","v":54.51507712574648},{"$f":"'[2]Exec Summary'!$P$17","v":54.000707222797878},{"$f":"AVERAGE(U19:Y19)","v":53.135930377259129},{"$f":"'[2]Exec Summary'!$W$17","v":265.67965188629563},null,{"$f":"ROUND(I19 - S19, 3)","v":0},{"$f":"ROUND(J19 - T19, 3)","v":0},{"$f":"ROUND(K19 - U19, 3)","v":7.3719999999999999},{"$f":"ROUND(L19 - V19, 3)","v":10.042999999999999},{"$f":"ROUND(M19 - W19, 3)","v":6.3090000000000002},{"$f":"ROUND(N19 - X19, 3)","v":4.38},{"$f":"ROUND(O19 - Y19, 3)","v":1.7050000000000001},null,{"$f":"ROUND(Q19 - AA19, 3)","v":29.809000000000001},null,{"$f":"IF(S19 = 0, 0, AC19 / S19)","v":0},{"$f":"IF(T19 = 0, 0, AD19 / T19)","v":0},{"$f":"IF(U19 = 0, 0, AE19 / U19)","v":0.14102511520221489},{"$f":"IF(V19 = 0, 0, AF19 / V19)","v":0.19513791058793076},{"$f":"IF(W19 = 0, 0, AG19 / W19)","v":0.11809448330418826},{"$f":"IF(X19 = 0, 0, AH19 / X19)","v":8.0344745544373555E-2},{"$f":"IF(Y19 = 0, 0, AI19 / Y19)","v":3.1573660562730324E-2},null,{"$f":"IF(AA19 = 0, 0, AK19 / AA19)","v":0.11219903288926893}]
[null,null,null,null,"Water resources - K - periodic",0,"%",null,{"$f":"'[1]Exec Summary'!$J$18","v":0},{"$f":"'[1]Exec Summary'!$K$18","v":0},{"$f":"'[1]Exec Summary'!$L$18","v":0},{"$f":"'[1]Exec Summary'!$M$18","v":3.1900000000000005E-2},{"$f":"'[1]Exec Summary'!$N$18","v":-2.9399999999999999E-2},{"$f":"'[1]Exec Summary'!$O$18","v":-1.4200000000000001E-2},{"$f":"'[1]Exec Summary'!$P$18","v":-5.5199999999999999E-2},{"$f":"AVERAGE(K20:O20)","v":-1.3379999999999998E-2},{"$f":"'[1]Exec Summary'!$W$18","v":-1.6899999999999998E-2},null,{"$f":"'[2]Exec Summary'!$J$18","v":0},{"$f":"'[2]Exec Summary'!$K$18","v":0},{"$f":"'[2]Exec Summary'!$L$18","v":0},{"$f":"'[2]Exec Summary'!$M$18","v":-1.5599999999999999E-2},{"$f":"'[2]Exec Summary'!$N$18","v":3.9600000000000003E-2},{"$f":"'[2]Exec Summary'!$O$18","v":2.0999999999999998E-2},{"$f":"'[2]Exec Summary'!$P$18","v":-9.5999999999999992E-3},{"$f":"AVERAGE(U20:Y20)","v":7.0800000000000004E-3},{"$f":"'[2]Exec Summary'!$W$18","v":8.3999999999999995E-3},null,0,0,0,4.8000000000000001E-2,-6.9000000000000006E-2,-3.5000000000000003E-2,{"$f":"ROUND(O20 - Y20, 3)","v":-4.5999999999999999E-2},null,-2.5000000000000001E-2,null,0,0,0,-3.0769230769230771,-1.7424242424242424,-1.666666666666667,4.791666666666667,null,-2.9761904761904767]
[null,null,null,null,null,null,null,null,null,null,null,null,null,null,null,null,null,null,null,null,null,null,null,null,null,null,null,null,0,0,0,0,0,0,0,null,0,null,0,0,0,0,0,0,0,null,0]
[null,null,null,null,"Water network - Allowed Revenues - real",0,"£m",null,{"$f":"'[1]Exec Summary'!$J$20","v":0},{"$f":"'[1]Exec Summary'!$K$20","v":0},{"$f":"'[1]Exec Summary'!$L$20","v":448.07606188313866},{"$f":"'[1]Exec Summary'!$M$20","v":470.49968159471905},{"$f":"'[1]Exec Summary'!$N$20","v":480.19170399464247},{"$f":"'[1]Exec Summary'!$O$20","v":492.5122089828929},{"$f":"'[1]Exec Summary'!$P$20","v":492.18164808047891},{"$f":"AVERAGE(K22:O22)","v":476.69226090717439},{"$f":"'[1]Exec Summary'!$W$20","v":2383.4613045358719},null,{"$f":"'[2]Exec Summary'!$J$20","v":0},{"$f":"'[2]Exec Summary'!$K$20","v":0},{"$f":"'[2]Exec Summary'!$L$20","v":408.16814701383458},{"$f":"'[2]Exec Summary'!$M$20","v":424.96976770776541},{"$f":"'[2]Exec Summary'!$N$20","v":424.5281551820367},{"$f":"'[2]Exec Summary'!$O$20","v":424.58518742675011},{"$f":"'[2]Exec Summary'!$P$20","v":421.89729477001083},{"$f":"AVERAGE(U22:Y22)","v":420.82971042007955},{"$f":"'[2]Exec Summary'!$W$20","v":2104.1485521003979},null,0,0,39.908000000000001,45.53,55.664000000000001,67.927000000000007,70.284000000000006,null,279.31299999999999,null,0,0,9.7773430611789863E-2,0.10713703293667974,0.13111968975563329,0.15998438478666627,0.16659030733608751,null,0.13274395466098859]
[null,null,null,null,"Water network - K - periodic",0,"%",null,{"$f":"'[1]Exec Summary'!$J$21","v":0},{"$f":"'[1]Exec Summary'!$K$21","v":0},{"$f":"'[1]Exec Summary'!$L$21","v":0},{"$f":"'[1]Exec Summary'!$M$21","v":5.11E-2},{"$f":"'[1]Exec Summary'!$N$21","v":2.1100000000000001E-2},{"$f":"'[1]Exec Summary'!$O$21","v":2.6200000000000001E-2},{"$f":"'[1]Exec Summary'!$P$21","v":-5.9999999999999995E-4},{"$f":"AVERAGE(K23:O23)","v":1.9560000000000001E-2},{"$f":"'[1]Exec Summary'!$W$21","v":2.3799999999999998E-2},null,{"$f":"'[2]Exec Summary'!$J$21","v":0},{"$f":"'[2]Exec Summary'!$K$21","v":0},{"$f":"'[2]Exec Summary'!$L$21","v":0},{"$f":"'[2]Exec Summary'!$M$21","v":4.2200000000000001E-2},{"$f":"'[2]Exec Summary'!$N$21","v":-2.9999999999999997E-4},{"$f":"'[2]Exec Summary'!$O$21","v":3.0000000000000003E-4},{"$f":"'[2]Exec Summary'!$P$21","v":-6.4000000000000003E-3},{"$f":"AVERAGE(U23:Y23)","v":7.1599999999999997E-3},{"$f":"'[2]Exec Summary'!$W$21","v":8.6E-3},null,0,0,0,8.9999999999999993E-3,2.1000000000000001E-2,2.5999999999999999E-2,6.0000000000000001E-3,null,1.4999999999999999E-2,null,0,0,0,0.21327014218009477,-70.000000000000014,86.666666666666657,-0.9375,null,1.7441860465116279]
[null,null,null,null,null,null,null,null,null,null,null,null,null,null,null,null,null,null,null,null,null,null,null,null,null,null,null,null,0,0,0,0,0,0,0,null,0,null,0,0,0,0,0,0,0,null,0]
[null,null,null,null,"Water - Allowed Revenues - real",0,"£m",null,{"$f":"'[1]Exec Summary'!$J$23","v":0},{"$f":"'[1]Exec Summary'!$K$23","v":0},{"$f":"'[1]Exec Summary'!$L$23","v":507.72215541952005},{"$f":"'[1]Exec Summary'!$M$23","v":532.00933785885536},{"$f":"'[1]Exec Summary'!$N$23","v":539.92371130656511},{"$f":"'[1]Exec Summary'!$O$23","v":551.40759424309033},{"$f":"'[1]Exec Summary'!$P$23","v":547.88758868520461},{"$f":"AVERAGE(K25:O25)","v":535.79007750264714},{"$f":"'[1]Exec Summary'!$W$23","v":2678.9503875132355},null,{"$f":"'[2]Exec Summary'!$J$23","v":0},{"$f":"'[2]Exec Summary'!$K$23","v":0},{"$f":"'[2]Exec Summary'!$L$23","v":460.44252374048602},{"$f":"'[2]Exec Summary'!$M$23","v":476.43593319934752},{"$f":"'[2]Exec Summary'!$N$23","v":477.95148050155444},{"$f":"'[2]Exec Summary'!$O$23","v":479.10026455249658},{"$f":"'[2]Exec Summary'!$P$23","v":475.89800199280864},{"$f":"AVERAGE(U25:Y25)","v":473.96564079733861},{"$f":"'[2]Exec Summary'!$W$23","v":2369.8282039866931},null,0,0,47.28,55.573,61.972000000000001,72.307000000000002,71.989999999999995,null,309.12200000000001,null,0,0,0.10268382602004825,0.11664317514176134,0.12966169690481469,0.15092247980188098,0.15127191057441725,null,0.13044067898254103]
[null,null,null,null,"Water - K",0,"%",null,{"$f":"'[1]Exec Summary'!$J$24","v":0},{"$f":"'[1]Exec Summary'!$K$24","v":0},{"$f":"'[1]Exec Summary'!$L$24","v":0},{"$f":"'[1]Exec Summary'!$M$24","v":4.8800000000000003E-2},{"$f":"'[1]Exec Summary'!$N$24","v":1.52E-2},{"$f":"'[1]Exec Summary'!$O$24","v":2.1700000000000001E-2},{"$f":"'[1]Exec Summary'!$P$24","v":-6.4999999999999997E-3},{"$f":"AVERAGE(K26:O26)","v":1.584E-2},{"$f":"'[1]Exec Summary'!$W$24","v":1.9299999999999998E-2},null,{"$f":"'[2]Exec Summary'!$J$24","v":0},{"$f":"'[2]Exec Summary'!$K$24","v":0},{"$f":"'[2]Exec Summary'!$L$24","v":0},{"$f":"'[2]Exec Summary'!$M$24","v":3.56E-2},{"$f":"'[2]Exec Summary'!$N$24","v":4.0000000000000001E-3},{"$f":"'[2]Exec Summary'!$O$24","v":2.5999999999999999E-3},{"$f":"'[2]Exec Summary'!$P$24","v":-6.7999999999999996E-3},{"$f":"AVERAGE(U26:Y26)","v":7.0799999999999986E-3},{"$f":"'[2]Exec Summary'!$W$24","v":8.6E-3},null,0,0,0,1.2999999999999999E-2,1.0999999999999999E-2,1.9E-2,0,null,1.0999999999999999E-2,null,0,0,0,0.3651685393258427,2.75,7.3076923076923075,0,null,1.2790697674418603]
[null,null,null,null,null,null,null,null,null,null,null,null,null,null,null,null,null,null,null,null,null,null,null,null,null,null,null,null,0,0,0,0,0,0,0,null,0,null,0,0,0,0,0,0,0,null,0]
[null,null,"Wastewater",null,null,null,null,null,null,null,null,null,null,null,null,null,null,null,null,null,null,null,null,null,null,null,null,null,0,0,0,0,0,0,0,null,0,null,0,0,0,0,0,0,0,null,0]
[null,null,null,null,"Wastewater network - Allowed Revenues - real",0,"£m",null,{"$f":"'[1]Exec Summary'!$J$27","v":0},{"$f":"'[1]Exec Summary'!$K$27","v":0},{"$f":"'[1]Exec Summary'!$L$27","v":599.73147000489359},{"$f":"'[1]Exec Summary'!$M$27","v":611.32360579773228},{"$f":"'[1]Exec Summary'!$N$27","v":622.71252819560902},{"$f":"'[1]Exec Summary'!$O$27","v":633.29937367681316},{"$f":"'[1]Exec Summary'!$P$27","v":648.59782804212023},{"$f":"AVERAGE(K29:O29)","v":623.13296114343359},{"$f":"'[1]Exec Summary'!$W$27","v":3115.6648057171678},null,{"$f":"'[2]Exec Summary'!$J$27","v":0},{"$f":"'[2]Exec Summary'!$K$27","v":0},{"$f":"'[2]Exec Summary'!$L$27","v":557.94072956780531},{"$f":"'[2]Exec Summary'!$M$27","v":562.64800789469712},{"$f":"'[2]Exec Summary'!$N$27","v":562.19717021477481},{"$f":"'[2]Exec Summary'!$O$27","v":578.81824223048102},{"$f":"'[2]Exec Summary'!$P$27","v":600.39131157694646},{"$f":"AVERAGE(U29:Y29)","v":572.39909229694092},{"$f":"'[2]Exec Summary'!$W$27","v":2861.9954614847047},null,0,0,41.790999999999997,48.676000000000002,60.515000000000001,54.481000000000002,48.207000000000001,null,253.66900000000001,null,0,0,7.4902221302919292E-2,8.651234753702354E-2,0.10764017182242594,9.4124538629012461E-2,8.0292634271110316E-2,null,8.8633613649549692E-2]
[null,null,null,null,"Wastewater network - K - periodic",0,"%",null,{"$f":"'[1]Exec Summary'!$J$28","v":0},{"$f":"'[1]Exec Summary'!$K$28","v":0},{"$f":"'[1]Exec Summary'!$L$28","v":0},{"$f":"'[1]Exec Summary'!$M$28","v":1.9799999999999998E-2},{"$f":"'[1]Exec Summary'!$N$28","v":1.9E-2},{"$f":"'[1]Exec Summary'!$O$28","v":1.7399999999999999E-2},{"$f":"'[1]Exec Summary'!$P$28","v":2.47E-2},{"$f":"AVERAGE(K30:O30)","v":1.618E-2},{"$f":"'[1]Exec Summary'!$W$28","v":1.9799999999999998E-2},null,{"$f":"'[2]Exec Summary'!$J$28","v":0},{"$f":"'[2]Exec Summary'!$K$28","v":0},{"$f":"'[2]Exec Summary'!$L$28","v":0},{"$f":"'[2]Exec Summary'!$M$28","v":8.7999999999999988E-3},{"$f":"'[2]Exec Summary'!$N$28","v":0},{"$f":"'[2]Exec Summary'!$O$28","v":3.0300000000000001E-2},{"$f":"'[2]Exec Summary'!$P$28","v":3.8100000000000002E-2},{"$f":"AVERAGE(U30:Y30)","v":1.5439999999999999E-2},{"$f":"'[2]Exec Summary'!$W$28","v":1.8800000000000001E-2},null,0,0,0,1.0999999999999999E-2,1.9E-2,-1.2999999999999999E-2,-1.2999999999999999E-2,null,1E-3,null,0,0,0,1.25,0,-0.42904290429042902,-0.3412073490813648,null,5.3191489361702128E-2]
[null,null,null,null,null,null,null,null,null,null,null,null,null,null,null,null,null,null,null,null,null,null,null,null,null,null,null,null,0,0,0,0,0,0,0,null,0,null,0,0,0,0,0,0,0,null,0]
[null,null,null,null,"Bio resources - Allowed Revenues - real",0,"£m",null,{"$f":"'[1]Exec Summary'!$J$30","v":0},{"$f":"'[1]Exec Summary'!$K$30","v":0},{"$f":"'[1]Exec Summary'!$L$30","v":110.04161198858444},{"$f":"'[1]Exec Summary'!$M$30","v":111.63741114804512},{"$f":"'[1]Exec Summary'!$N$30","v":109.65474855450914},{"$f":"'[1]Exec Summary'!$O$30","v":108.54437684670891},{"$f":"'[1]Exec Summary'!$P$30","v":106.78630459223355},{"$f":"AVERAGE(K32:O32)","v":109.33289062601622},{"$f":"'[1]Exec Summary'!$W$30","v":546.66445313008114},null,{"$f":"'[2]Exec Summary'!$J$30","v":0},{"$f":"'[2]Exec Summary'!$K$30","v":0},{"$f":"'[2]Exec Summary'!$L$30","v":99.519331231608746},{"$f":"'[2]Exec Summary'!$M$30","v":97.431717186137419},{"$f":"'[2]Exec Summary'!$N$30","v":95.754335956015396},{"$f":"'[2]Exec Summary'!$O$30","v":92.241328201215808},{"$f":"'[2]Exec Summary'!$P$30","v":91.349369430022222},{"$f":"AVERAGE(U32:Y32)","v":95.259216400999918},{"$f":"'[2]Exec Summary'!$W$30","v":476.29608200499956},null,0,0,10.522,14.206,13.9,16.303000000000001,15.436999999999999,null,70.367999999999995,null,0,0,0.10572820244855166,0.14580467644699613,0.14516313920640569,0.17674290166807372,0.16898857754924565,null,0.14774003536577771]
[null,null,null,null,"Bio resources - TDS Revenues - real",0,"£m",null,{"$f":"'[1]Exec Summary'!$J$31","v":105.37046413352333},{"$f":"'[1]Exec Summary'!$K$31","v":106.27516521741295},{"$f":"'[1]Exec Summary'!$L$31","v":106.96236746379036},{"$f":"'[1]Exec Summary'!$M$31","v":107.96745262653174},{"$f":"'[1]Exec Summary'!$N$31","v":108.93690219337503},{"$f":"'[1]Exec Summary'!$O$31","v":109.88499228178672},{"$f":"'[1]Exec Summary'!$P$31","v":113.59258476936593},{"$f":"AVERAGE(K33:O33)","v":109.46885986696995},{"$f":"'[1]Exec Summary'!$W$31","v":547.34429933484978},null,{"$f":"'[2]Exec Summary'!$J$31","v":90.033046271735671},{"$f":"'[2]Exec Summary'!$K$31","v":92.673936451224463},{"$f":"'[2]Exec Summary'!$L$31","v":93.273189693311963},{"$f":"'[2]Exec Summary'!$M$31","v":94.149642797942846},{"$f":"'[2]Exec Summary'!$N$31","v":94.995020994876327},{"$f":"'[2]Exec Summary'!$O$31","v":95.821773326183035},{"$f":"'[2]Exec Summary'!$P$31","v":99.054863483022928},{"$f":"AVERAGE(U33:Y33)","v":95.458898059067423},{"$f":"'[2]Exec Summary'!$W$31","v":477.29449029533714},null,15.337,13.601000000000001,13.689,13.818,13.942,14.063000000000001,14.538,null,70.05,null,0.17034856239019414,0.14676186769252419,0.14676243028688396,0.1467663560833172,0.14676558680640725,0.14676205116898336,0.14676714992890458,null,0.14676473628818745]
[null,null,null,null,null,null,null,null,null,null,null,null,null,null,null,null,null,null,null,null,null,null,null,null,null,null,null,null,0,0,0,0,0,0,0,null,0,null,0,0,0,0,0,0,0,null,0]
[null,null,null,null,"Wastewater - Allowed Revenues - real",0,"£m",null,{"$f":"'[1]Exec Summary'!$J$33","v":0},{"$f":"'[1]Exec Summary'!$K$33","v":0},{"$f":"'[1]Exec Summary'!$L$33","v":709.77308199347806},{"$f":"'[1]Exec Summary'!$M$33","v":722.96101694577737},{"$f":"'[1]Exec Summary'!$N$33","v":732.36727675011821},{"$f":"'[1]Exec Summary'!$O$33","v":741.84375052352209},{"$f":"'[1]Exec Summary'!$P$33","v":755.38413263435382},{"$f":"AVERAGE(K35:O35)","v":732.46585176944996},{"$f":"'[1]Exec Summary'!$W$33","v":3662.3292588472495},null,{"$f":"'[2]Exec Summary'!$J$33","v":0},{"$f":"'[2]Exec Summary'!$K$33","v":0},{"$f":"'[2]Exec Summary'!$L$33","v":657.46006079941401},{"$f":"'[2]Exec Summary'!$M$33","v":660.07972508083458},{"$f":"'[2]Exec Summary'!$N$33","v":657.95150617079025},{"$f":"'[2]Exec Summary'!$O$33","v":671.05957043169678},{"$f":"'[2]Exec Summary'!$P$33","v":691.74068100696866},{"$f":"AVERAGE(U35:Y35)","v":667.65830869794081},{"$f":"'[2]Exec Summary'!$W$33","v":3338.2915434897041},null,0,0,52.313000000000002,62.881,74.415999999999997,70.784000000000006,63.643000000000001,null,324.03800000000001,null,0,0,7.9568331400073133E-2,9.5262735107186455E-2,0.11310256045022744,0.10548094851618646,9.2004130662598479E-2,null,9.7067016400031028E-2]
[null,null,null,null,null,null,null,null,null,null,null,null,null,null,null,null,null,null,null,null,null,null,null,null,null,null,null,null,0,0,0,0,0,0,0,null,0,null,0,0,0,0,0,0,0,null,0]
[null,null,"Dummy",null,null,null,null,null,null,null,null,null,null,null,null,null,null,null,null,null,null,null,null,null,null,null,null,null,0,0,0,0,0,0,0,null,0,null,0,0,0,0,0,0,0,null,0]
[null,null,null,null,"Dummy control - Allowed Revenues - real",0,"£m",null,{"$f":"'[1]Exec Summary'!$J$36","v":0},{"$f":"'[1]Exec Summary'!$K$36","v":0},{"$f":"'[1]Exec Summary'!$L$36","v":0},{"$f":"'[1]Exec Summary'!$M$36","v":0},{"$f":"'[1]Exec Summary'!$N$36","v":0},{"$f":"'[1]Exec Summary'!$O$36","v":0},{"$f":"'[1]Exec Summary'!$P$36","v":0},{"$f":"AVERAGE(K38:O38)","v":0},{"$f":"'[1]Exec Summary'!$W$36","v":0},null,{"$f":"'[2]Exec Summary'!$J$36","v":0},{"$f":"'[2]Exec Summary'!$K$36","v":0},{"$f":"'[2]Exec Summary'!$L$36","v":0},{"$f":"'[2]Exec Summary'!$M$36","v":0},{"$f":"'[2]Exec Summary'!$N$36","v":0},{"$f":"'[2]Exec Summary'!$O$36","v":0},{"$f":"'[2]Exec Summary'!$P$36","v":0},{"$f":"AVERAGE(U38:Y38)","v":0},{"$f":"'[2]Exec Summary'!$W$36","v":0},null,0,0,0,0,0,0,0,null,0,null,0,0,0,0,0,0,0,null,0]
[null,null,null,null,"Dummy control - K - periodic",0,"%",null,{"$f":"'[1]Exec Summary'!$J$37","v":0},{"$f":"'[1]Exec Summary'!$K$37","v":0},{"$f":"'[1]Exec Summary'!$L$37","v":0},{"$f":"'[1]Exec Summary'!$M$37","v":0},{"$f":"'[1]Exec Summary'!$N$37","v":0},{"$f":"'[1]Exec Summary'!$O$37","v":0},{"$f":"'[1]Exec Summary'!$P$37","v":0},{"$f":"AVERAGE(K39:O39)","v":0},{"$f":"'[1]Exec Summary'!$W$37","v":0},null,{"$f":"'[2]Exec Summary'!$J$37","v":0},{"$f":"'[2]Exec Summary'!$K$37","v":0},{"$f":"'[2]Exec Summary'!$L$37","v":0},{"$f":"'[2]Exec Summary'!$M$37","v":0},{"$f":"'[2]Exec Summary'!$N$37","v":0},{"$f":"'[2]Exec Summary'!$O$37","v":0},{"$f":"'[2]Exec Summary'!$P$37","v":0},{"$f":"AVERAGE(U39:Y39)","v":0},{"$f":"'[2]Exec Summary'!$W$37","v":0},null,0,0,0,0,0,0,0,null,0,null,0,0,0,0,0,0,0,null,0]
[null,null,null,null,null,null,null,null,null,null,null,null,null,null,null,null,null,null,null,null,null,null,null,null,null,null,null,null,0,0,0,0,0,0,0,null,0,null,0,0,0,0,0,0,0,null,0]
[null,"Retail service",null,null,null,null,null,null,null,null,null,null,null,null,null,null,null,null,null,null,null,null,null,null,null,null,null,null,0,0,0,0,0,0,0,null,0,null,0,0,0,0,0,0,0,null,0]
[null,null,"Residential",null,null,null,null,null,null,null,null,null,null,null,null,null,null,null,null,null,null,null,null,null,null,null,null,null,0,0,0,0,0,0,0,null,0,null,0,0,0,0,0,0,0,null,0]
[null,null,null,null,"Residential retail service revenue - real",0,"£m",null,{"$f":"'[1]Exec Summary'!$J$41","v":0},{"$f":"'[1]Exec Summary'!$K$41","v":16.45728073637212},{"$f":"'[1]Exec Summary'!$L$41","v":105.22399890409204},{"$f":"'[1]Exec Summary'!$M$41","v":84.807418060797843},{"$f":"'[1]Exec Summary'!$N$41","v":85.313174479178656},{"$f":"'[1]Exec Summary'!$O$41","v":85.690787511053614},{"$f":"'[1]Exec Summary'!$P$41","v":85.900610737807398},{"$f":"AVERAGE(K43:O43)","v":89.387197938585899},{"$f":"'[1]Exec Summary'!$W$41","v":446.93598969292952},null,{"$f":"'[2]Exec Summary'!$J$41","v":0},{"$f":"'[2]Exec Summary'!$K$41","v":0},{"$f":"'[2]Exec Summary'!$L$41","v":97.195291893799535},{"$f":"'[2]Exec Summary'!$M$41","v":82.520382135041245},{"$f":"'[2]Exec Summary'!$N$41","v":82.39017049632092},{"$f":"'[2]Exec Summary'!$O$41","v":82.181264932600413},{"$f":"'[2]Exec Summary'!$P$41","v":81.696640750069122},{"$f":"AVERAGE(U43:Y43)","v":85.196750041566247},{"$f":"'[2]Exec Summary'!$W$41","v":425.98375020783124},null,0,16.457000000000001,8.0289999999999999,2.2869999999999999,2.923,3.51,4.2039999999999997,null,20.952000000000002,null,0,0,8.2606881913301816E-2,2.7714365115971199E-2,3.5477533089102231E-2,4.2710464518630462E-2,5.145866416785861E-2,null,4.9184974754970884E-2]
[null,null,null,null,null,null,null,null,null,null,null,null,null,null,null,null,null,null,null,null,null,null,null,null,null,null,null,null,0,0,0,0,0,0,0,null,0,null,0,0,0,0,0,0,0,null,0]
[null,null,"Business",null,null,null,null,null,null,null,null,null,null,null,null,null,null,null,null,null,null,null,null,null,null,null,null,null,0,0,0,0,0,0,0,null,0,null,0,0,0,0,0,0,0,null,0]
[null,null,null,null,"Business retail service revenue - real",0,"£m",null,{"$f":"'[1]Exec Summary'!$J$45","v":0},{"$f":"'[1]Exec Summary'!$K$45","v":0},{"$f":"'[1]Exec Summary'!$L$45","v":0},{"$f":"'[1]Exec Summary'!$M$45","v":0},{"$f":"'[1]Exec Summary'!$N$45","v":0},{"$f":"'[1]Exec Summary'!$O$45","v":0},{"$f":"'[1]Exec Summary'!$P$45","v":0},{"$f":"AVERAGE(K46:O46)","v":0},{"$f":"'[1]Exec Summary'!$W$45","v":0},null,{"$f":"'[2]Exec Summary'!$J$45","v":0},{"$f":"'[2]Exec Summary'!$K$45","v":0},{"$f":"'[2]Exec Summary'!$L$45","v":0},{"$f":"'[2]Exec Summary'!$M$45","v":0},{"$f":"'[2]Exec Summary'!$N$45","v":0},{"$f":"'[2]Exec Summary'!$O$45","v":0},{"$f":"'[2]Exec Summary'!$P$45","v":0},{"$f":"AVERAGE(U46:Y46)","v":0},{"$f":"'[2]Exec Summary'!$W$45","v":0},null,0,0,0,0,0,0,0,null,0,null,0,0,0,0,0,0,0,null,0]
[null,null,null,null,null,null,null,null,null,null,null,null,null,null,null,null,null,null,null,null,null,null,null,null,null,null,null,null,0,0,0,0,0,0,0,null,0,null,0,0,0,0,0,0,0,null,0]
[null,"Appointee Total Revenues",null,null,null,null,null,null,null,null,null,null,null,null,null,null,null,null,null,null,null,null,null,null,null,null,null,null,0,0,0,0,0,0,0,null,0,null,0,0,0,0,0,0,0,null,0]
[null,null,null,null,"Appointee Total Revenues - real",null,"£m",null,{"$f":"'[1]Exec Summary'!$J$48","v":0},{"$f":"'[1]Exec Summary'!$K$48","v":16.45728073637212},{"$f":"'[1]Exec Summary'!$L$48","v":1322.71923631709},{"$f":"'[1]Exec Summary'!$M$48","v":1339.7777728654307},{"$f":"'[1]Exec Summary'!$N$48","v":1357.6041625358621},{"$f":"'[1]Exec Summary'!$O$48","v":1378.9421322776661},{"$f":"'[1]Exec Summary'!$P$48","v":1389.1723320573658},{"$f":"AVERAGE(K49:O49)","v":1357.6431272106829},{"$f":"'[1]Exec Summary'!$W$48","v":6788.2156360534136},null,{"$f":"'[2]Exec Summary'!$J$48","v":0},{"$f":"'[2]Exec Summary'!$K$48","v":0},{"$f":"'[2]Exec Summary'!$L$48","v":1215.0978764336996},{"$f":"'[2]Exec Summary'!$M$48","v":1219.0360404152232},{"$f":"'[2]Exec Summary'!$N$48","v":1218.2931571686656},{"$f":"'[2]Exec Summary'!$O$48","v":1232.3410999167938},{"$f":"'[2]Exec Summary'!$P$48","v":1249.3353237498466},{"$f":"AVERAGE(U49:Y49)","v":1226.820699536846},{"$f":"'[2]Exec Summary'!$W$48","v":6134.1034976842293},null,0,16.457000000000001,107.621,120.742,139.31100000000001,146.601,139.83699999999999,null,654.11199999999997,null,0,0,8.8569819836955499E-2,9.9047112634072204E-2,0.11434932485688518,0.11896138172288363,0.11192911730077636,null,0.10663530542758903]
[]
["AVERAGE RESIDENTIAL BILL POST FINANCEABILITY ADJUSTMENTS AND REPROFILING"]
[]
[null,null,null,null,"Wholesale water resources allowed revenue (excluding capital connection charges, other income and operating income) per residential customer  - real",0,"£",null,{"$f":"'[1]Exec Summary'!$J55","v":0},{"$f":"'[1]Exec Summary'!$K55","v":0},{"$f":"'[1]Exec Summary'!$L55","v":19.42173222937139},{"$f":"'[1]Exec Summary'!$M55","v":19.722557614429466},{"$f":"'[1]Exec Summary'!$N55","v":18.82722359496092},{"$f":"'[1]Exec Summary'!$O55","v":18.307355865999444},{"$f":"'[1]Exec Summary'!$P55","v":17.099243504345715},{"$f":"AVERAGE(K53:O53)","v":18.675622561821388},{"$f":"'[1]Exec Summary'!$W55","v":0},null,{"$f":"'[2]Exec Summary'!$J55","v":0},{"$f":"'[2]Exec Summary'!$K55","v":0},{"$f":"'[2]Exec Summary'!$L55","v":16.897389024700651},{"$f":"'[2]Exec Summary'!$M55","v":16.333360601331975},{"$f":"'[2]Exec Summary'!$N55","v":16.729626283813797},{"$f":"'[2]Exec Summary'!$O55","v":16.871540898879516},{"$f":"'[2]Exec Summary'!$P55","v":16.547372592626324},{"$f":"AVERAGE(U53:Y53)","v":16.675857880270449},{"$f":"'[2]Exec Summary'!$W55","v":0},null,{"$f":"ROUND(I53 - S53, 3)","v":0},{"$f":"ROUND(J53 - T53, 3)","v":0},{"$f":"ROUND(K53 - U53, 3)","v":2.524},{"$f":"ROUND(L53 - V53, 3)","v":3.3889999999999998},{"$f":"ROUND(M53 - W53, 3)","v":2.0979999999999999},{"$f":"ROUND(N53 - X53, 3)","v":1.4359999999999999},{"$f":"ROUND(O53 - Y53, 3)","v":0.55200000000000005},null,{"$f":"ROUND(Q53 - AA53, 3)","v":0},null,{"$f":"IF(S53 = 0, 0, AC53 / S53)","v":0},{"$f":"IF(T53 = 0, 0, AD53 / T53)","v":0},{"$f":"IF(U53 = 0, 0, AE53 / U53)","v":0.14937218976910632},{"$f":"IF(V53 = 0, 0, AF53 / V53)","v":0.20748944952110032},{"$f":"IF(W53 = 0, 0, AG53 / W53)","v":0.12540626816211975},{"$f":"IF(X53 = 0, 0, AH53 / X53)","v":8.5113743232271596E-2},{"$f":"IF(Y53 = 0, 0, AI53 / Y53)","v":3.3358770216244289E-2},null,{"$f":"IF(AA53 = 0, 0, AK53 / AA53)","v":0}]
[null,null,null,null,"Wholesale allowed revenue per customer - Growth - WR",0,"%",null,{"$f":"'[1]Exec Summary'!$J56","v":0},{"$f":"'[1]Exec Summary'!$K56","v":0},{"$f":"'[1]Exec Summary'!$L56","v":0},{"$f":"'[1]Exec Summary'!$M56","v":1.548911196515923E-2},{"$f":"'[1]Exec Summary'!$N56","v":-4.5396445885573122E-2},{"$f":"'[1]Exec Summary'!$O56","v":-2.7612554041192672E-2},{"$f":"'[1]Exec Summary'!$P56","v":-6.5990543391219236E-2},{"$f":"AVERAGE(K54:O54)","v":-2.4702086270565159E-2},{"$f":"'[1]Exec Summary'!$W56","v":-3.133806525940297E-2},null,{"$f":"'[2]Exec Summary'!$J56","v":0},{"$f":"'[2]Exec Summary'!$K56","v":0},{"$f":"'[2]Exec Summary'!$L56","v":0},{"$f":"'[2]Exec Summary'!$M56","v":-3.3379619924958637E-2},{"$f":"'[2]Exec Summary'!$N56","v":2.4261123730379586E-2},{"$f":"'[2]Exec Summary'!$O56","v":8.4828323513135295E-3},{"$f":"'[2]Exec Summary'!$P56","v":-1.9213912244063103E-2},{"$f":"AVERAGE(U54:Y54)","v":-3.9699152174657252E-3},{"$f":"'[2]Exec Summary'!$W56","v":-5.2192772253081277E-3},null,0,0,0,4.9000000000000002E-2,-7.0000000000000007E-2,-3.5999999999999997E-2,-4.7E-2,null,-2.5999999999999999E-2,null,0,0,0,-1.4679615918383087,-2.8852744323770363,-4.2438655521024833,2.4461442002537774,null,4.9815326677660909]
[null,null,null,null,null,null,null,null,null,null,null,null,null,null,null,null,null,null,null,null,null,null,null,null,null,null,null,null,0,0,0,0,0,0,0,null,0,null,0,0,0,0,0,0,0,null,0]
[null,null,null,null,"Wholesale water network allowed revenue (excluding capital connection charges, other income and operating income) per residential customer  - real",0,"£",null,{"$f":"'[1]Exec Summary'!$J58","v":0},{"$f":"'[1]Exec Summary'!$K58","v":0},{"$f":"'[1]Exec Summary'!$L58","v":149.42697312632481},{"$f":"'[1]Exec Summary'!$M58","v":152.91996546825453},{"$f":"'[1]Exec Summary'!$N58","v":154.18981254265086},{"$f":"'[1]Exec Summary'!$O58","v":156.44548323114995},{"$f":"'[1]Exec Summary'!$P58","v":155.20439286590729},{"$f":"AVERAGE(K56:O56)","v":153.63732544685749},{"$f":"'[1]Exec Summary'!$W58","v":0},null,{"$f":"'[2]Exec Summary'!$J58","v":0},{"$f":"'[2]Exec Summary'!$K58","v":0},{"$f":"'[2]Exec Summary'!$L58","v":139.25071242686749},{"$f":"'[2]Exec Summary'!$M58","v":142.97069149951437},{"$f":"'[2]Exec Summary'!$N58","v":140.98952617476354},{"$f":"'[2]Exec Summary'!$O58","v":139.22933315525302},{"$f":"'[2]Exec Summary'!$P58","v":136.90737681438054},{"$f":"AVERAGE(U56:Y56)","v":139.8695280141558},{"$f":"'[2]Exec Summary'!$W58","v":0},null,0,0,10.176,9.9489999999999998,13.2,17.216000000000001,18.297000000000001,null,0,null,0,0,7.3076825408302973E-2,6.9587688886807914E-2,9.3623975894762151E-2,0.12365210412092284,0.13364509952452841,null,0]
[null,null,null,null,"Wholesale allowed revenue per customer - Growth - WN",0,"%",null,{"$f":"'[1]Exec Summary'!$J59","v":0},{"$f":"'[1]Exec Summary'!$K59","v":0},{"$f":"'[1]Exec Summary'!$L59","v":0},{"$f":"'[1]Exec Summary'!$M59","v":2.3375915799196179E-2},{"$f":"'[1]Exec Summary'!$N59","v":8.3039979149088783E-3},{"$f":"'[1]Exec Summary'!$O59","v":1.4629181080787257E-2},{"$f":"'[1]Exec Summary'!$P59","v":-7.9330533525786562E-3},{"$f":"AVERAGE(K57:O57)","v":7.6752082884627313E-3},{"$f":"'[1]Exec Summary'!$W59","v":9.5288916464688622E-3},null,{"$f":"'[2]Exec Summary'!$J59","v":0},{"$f":"'[2]Exec Summary'!$K59","v":0},{"$f":"'[2]Exec Summary'!$L59","v":0},{"$f":"'[2]Exec Summary'!$M59","v":2.6714255229398187E-2},{"$f":"'[2]Exec Summary'!$N59","v":-1.385714305478869E-2},{"$f":"'[2]Exec Summary'!$O59","v":-1.2484565820362281E-2},{"$f":"'[2]Exec Summary'!$P59","v":-1.6677206507074827E-2},{"$f":"AVERAGE(U57:Y57)","v":-3.2609320305655221E-3},{"$f":"'[2]Exec Summary'!$W59","v":-4.2338567076996014E-3},null,0,0,0,-3.0000000000000001E-3,2.1999999999999999E-2,2.7E-2,8.9999999999999993E-3,null,1.4E-2,null,0,0,0,-0.11229959339081988,-1.5876288433348702,-2.1626703233814588,-0.53965872498982415,null,-3.3066778038425104]
[null,null,null,null,null,null,null,null,null,null,null,null,null,null,null,null,null,null,null,null,null,null,null,null,null,null,null,null,0,0,0,0,0,0,0,null,0,null,0,0,0,0,0,0,0,null,0]
[null,null,null,null,"Wholesale wastewater network allowed revenue (excluding capital connection charges, other income and operating income) per residential customer  - real",0,"£",null,{"$f":"'[1]Exec Summary'!$J61","v":0},{"$f":"'[1]Exec Summary'!$K61","v":0},{"$f":"'[1]Exec Summary'!$L61","v":182.68289639818977},{"$f":"'[1]Exec Summary'!$M61","v":183.26930425448478},{"$f":"'[1]Exec Summary'!$N61","v":184.34059098243395},{"$f":"'[1]Exec Summary'!$O61","v":184.07114761556923},{"$f":"'[1]Exec Summary'!$P61","v":185.3258453625885},{"$f":"AVERAGE(K59:O59)","v":183.93795692265326},{"$f":"'[1]Exec Summary'!$W61","v":0},null,{"$f":"'[2]Exec Summary'!$J61","v":0},{"$f":"'[2]Exec Summary'!$K61","v":0},{"$f":"'[2]Exec Summary'!$L61","v":169.28581007215669},{"$f":"'[2]Exec Summary'!$M61","v":169.78787340483581},{"$f":"'[2]Exec Summary'!$N61","v":168.91312714671},{"$f":"'[2]Exec Summary'!$O61","v":168.55547935556629},{"$f":"'[2]Exec Summary'!$P61","v":168.54068778265864},{"$f":"AVERAGE(U59:Y59)","v":169.0165955523855},{"$f":"'[2]Exec Summary'!$W61","v":0},null,0,0,13.397,13.481,15.427,15.516,16.785,null,0,null,0,0,7.9138351845849567E-2,7.9399074443063503E-2,9.1330971491640392E-2,9.2052777277380204E-2,9.9590195227190884E-2,null,0]
[null,null,null,null,"Wholesale allowed revenue per customer - Growth - WWN - real",0,"%",null,{"$f":"'[1]Exec Summary'!$J62","v":0},{"$f":"'[1]Exec Summary'!$K62","v":0},{"$f":"'[1]Exec Summary'!$L62","v":0},{"$f":"'[1]Exec Summary'!$M62","v":3.2099767841256011E-3},{"$f":"'[1]Exec Summary'!$N62","v":5.8454236638645352E-3},{"$f":"'[1]Exec Summary'!$O62","v":-1.4616605351470691E-3},{"$f":"'[1]Exec Summary'!$P62","v":6.8163737949833436E-3},{"$f":"AVERAGE(K60:O60)","v":2.882022741565282E-3},{"$f":"'[1]Exec Summary'!$W62","v":3.5973948528855715E-3},null,{"$f":"'[2]Exec Summary'!$J62","v":0},{"$f":"'[2]Exec Summary'!$K62","v":0},{"$f":"'[2]Exec Summary'!$L62","v":0},{"$f":"'[2]Exec Summary'!$M62","v":2.9657732828587413E-3},{"$f":"'[2]Exec Summary'!$N62","v":-5.1519949015446098E-3},{"$f":"'[2]Exec Summary'!$O62","v":-2.1173475216823556E-3},{"$f":"'[2]Exec Summary'!$P62","v":-8.7754921787253082E-5},{"$f":"AVERAGE(U60:Y60)","v":-8.782648124310954E-4},{"$f":"'[2]Exec Summary'!$W62","v":-1.1022119121106844E-3},null,0,0,0,0,1.0999999999999999E-2,1E-3,7.0000000000000001E-3,null,5.0000000000000001E-3,null,0,0,0,0,-2.135095280607151,-0.47228902660506195,-79.767605707293683,null,-4.5363327551280346]
[null,null,null,null,null,null,null,null,null,null,null,null,null,null,null,null,null,null,null,null,null,null,null,null,null,null,null,null,0,0,0,0,0,0,0,null,0,null,0,0,0,0,0,0,0,null,0]
[null,null,null,null,"Wholesale bio resources allowed revenue (excluding capital connection charges, other income and operating income) per residential customer  - real",0,"£",null,{"$f":"'[1]Exec Summary'!$J64","v":0},{"$f":"'[1]Exec Summary'!$K64","v":0},{"$f":"'[1]Exec Summary'!$L64","v":33.590075977540636},{"$f":"'[1]Exec Summary'!$M64","v":33.602955810532855},{"$f":"'[1]Exec Summary'!$N64","v":32.546949372662951},{"$f":"'[1]Exec Summary'!$O64","v":31.783128729246851},{"$f":"'[1]Exec Summary'!$P64","v":30.879900114043355},{"$f":"AVERAGE(K62:O62)","v":32.480602000805327},{"$f":"'[1]Exec Summary'!$W64","v":0},null,{"$f":"'[2]Exec Summary'!$J64","v":0},{"$f":"'[2]Exec Summary'!$K64","v":0},{"$f":"'[2]Exec Summary'!$L64","v":30.378161832548891},{"$f":"'[2]Exec Summary'!$M64","v":29.327029832395404},{"$f":"'[2]Exec Summary'!$N64","v":28.42112690654869},{"$f":"'[2]Exec Summary'!$O64","v":27.009395544425555},{"$f":"'[2]Exec Summary'!$P64","v":26.415928655378242},{"$f":"AVERAGE(U62:Y62)","v":28.31032855425936},{"$f":"'[2]Exec Summary'!$W64","v":0},null,0,0,3.2120000000000002,4.2759999999999998,4.1260000000000003,4.774,4.4640000000000004,null,0,null,0,0,0.10573384978673991,0.1458040594099515,0.14517369468025221,0.17675330764613506,0.16898894823033742,null,0]
[null,null,null,null,"Wholesale allowed revenue per customer - Growth - BR - real",0,"%",null,{"$f":"'[1]Exec Summary'!$J65","v":0},{"$f":"'[1]Exec Summary'!$K65","v":0},{"$f":"'[1]Exec Summary'!$L65","v":0},{"$f":"'[1]Exec Summary'!$M65","v":3.8344161533987453E-4},{"$f":"'[1]Exec Summary'!$N65","v":-3.1425998469423289E-2},{"$f":"'[1]Exec Summary'!$O65","v":-2.3468271470556079E-2},{"$f":"'[1]Exec Summary'!$P65","v":-2.8418492807863349E-2},{"$f":"AVERAGE(K63:O63)","v":-1.6585864226500567E-2},{"$f":"'[1]Exec Summary'!$W65","v":-2.0811678391562283E-2},null,{"$f":"'[2]Exec Summary'!$J65","v":0},{"$f":"'[2]Exec Summary'!$K65","v":0},{"$f":"'[2]Exec Summary'!$L65","v":0},{"$f":"'[2]Exec Summary'!$M65","v":-3.4601566939683748E-2},{"$f":"'[2]Exec Summary'!$N65","v":-3.0889692240365529E-2},{"$f":"'[2]Exec Summary'!$O65","v":-4.9671899596558489E-2},{"$f":"'[2]Exec Summary'!$P65","v":-2.1972609052696823E-2},{"$f":"AVERAGE(U63:Y63)","v":-2.7427153565860916E-2},{"$f":"'[2]Exec Summary'!$W65","v":-3.433587390465842E-2},null,0,0,0,3.5000000000000003E-2,-1E-3,2.5999999999999999E-2,-6.0000000000000001E-3,null,1.4E-2,null,0,0,0,-1.0115148848897737,3.2373258762780299E-2,-0.52343478327133286,0.27306725321559328,null,-0.40773681889892399]
[null,null,null,null,null,null,null,null,null,null,null,null,null,null,null,null,null,null,null,null,null,null,null,null,null,null,null,null,0,0,0,0,0,0,0,null,0,null,0,0,0,0,0,0,0,null,0]
[null,null,null,null,"Wholesale dummy control allowed revenue (excluding capital connection charges, other income and operating income) per residential customer  - real",0,"£",null,{"$f":"'[1]Exec Summary'!$J67","v":0},{"$f":"'[1]Exec Summary'!$K67","v":0},{"$f":"'[1]Exec Summary'!$L67","v":0},{"$f":"'[1]Exec Summary'!$M67","v":0},{"$f":"'[1]Exec Summary'!$N67","v":0},{"$f":"'[1]Exec Summary'!$O67","v":0},{"$f":"'[1]Exec Summary'!$P67","v":0},{"$f":"AVERAGE(K65:O65)","v":0},{"$f":"'[1]Exec Summary'!$W67","v":0},null,{"$f":"'[2]Exec Summary'!$J67","v":0},{"$f":"'[2]Exec Summary'!$K67","v":0},{"$f":"'[2]Exec Summary'!$L67","v":0},{"$f":"'[2]Exec Summary'!$M67","v":0},{"$f":"'[2]Exec Summary'!$N67","v":0},{"$f":"'[2]Exec Summary'!$O67","v":0},{"$f":"'[2]Exec Summary'!$P67","v":0},{"$f":"AVERAGE(U65:Y65)","v":0},{"$f":"'[2]Exec Summary'!$W67","v":0},null,0,0,0,0,0,0,0,null,0,null,0,0,0,0,0,0,0,null,0]
[null,null,null,null,"Wholesale allowed revenue per customer - Growth - DMMY - real",0,"%",null,{"$f":"'[1]Exec Summary'!$J68","v":0},{"$f":"'[1]Exec Summary'!$K68","v":0},{"$f":"'[1]Exec Summary'!$L68","v":0},{"$f":"'[1]Exec Summary'!$M68","v":0},{"$f":"'[1]Exec Summary'!$N68","v":0},{"$f":"'[1]Exec Summary'!$O68","v":0},{"$f":"'[1]Exec Summary'!$P68","v":0},{"$f":"AVERAGE(K66:O66)","v":0},{"$f":"'[1]Exec Summary'!$W68","v":0},null,{"$f":"'[2]Exec Summary'!$J68","v":0},{"$f":"'[2]Exec Summary'!$K68","v":0},{"$f":"'[2]Exec Summary'!$L68","v":0},{"$f":"'[2]Exec Summary'!$M68","v":0},{"$f":"'[2]Exec Summary'!$N68","v":0},{"$f":"'[2]Exec Summary'!$O68","v":0},{"$f":"'[2]Exec Summary'!$P68","v":0},{"$f":"AVERAGE(U66:Y66)","v":0},{"$f":"'[2]Exec Summary'!$W68","v":0},null,0,0,0,0,0,0,0,null,0,null,0,0,0,0,0,0,0,null,0]
[null,null,null,null,null,null,null,null,null,null,null,null,null,null,null,null,null,null,null,null,null,null,null,null,null,null,null,null,0,0,0,0,0,0,0,null,0,null,0,0,0,0,0,0,0,null,0]
[null,null,null,null,"Retail allowed revenue per customer: single service - real",0,"£",null,{"$f":"'[1]Exec Summary'!$J70","v":0},{"$f":"'[1]Exec Summary'!$K70","v":5.5024437266137225},{"$f":"'[1]Exec Summary'!$L70","v":36.069276603711351},{"$f":"'[1]Exec Summary'!$M70","v":28.632340594034606},{"$f":"'[1]Exec Summary'!$N70","v":28.412513456119491},{"$f":"'[1]Exec Summary'!$O70","v":28.173996423146463},{"$f":"'[1]Exec Summary'!$P70","v":27.905156517190758},{"$f":"AVERAGE(K68:O68)","v":29.838656718840536},{"$f":"'[1]Exec Summary'!$W70","v":0},null,{"$f":"'[2]Exec Summary'!$J70","v":0},{"$f":"'[2]Exec Summary'!$K70","v":0},{"$f":"'[2]Exec Summary'!$L70","v":33.317151072079099},{"$f":"'[2]Exec Summary'!$M70","v":27.860200690776242},{"$f":"'[2]Exec Summary'!$N70","v":27.439042588316944},{"$f":"'[2]Exec Summary'!$O70","v":27.020111863974478},{"$f":"'[2]Exec Summary'!$P70","v":26.539480074453003},{"$f":"AVERAGE(U68:Y68)","v":28.435197257919953},{"$f":"'[2]Exec Summary'!$W70","v":0},null,0,5.5019999999999998,2.7519999999999998,0.77200000000000002,0.97299999999999998,1.1539999999999999,1.3660000000000001,null,0,null,0,0,8.2600099691785139E-2,2.7709778855095912E-2,3.5460420926431521E-2,4.2708927550318965E-2,5.1470488350482665E-2,null,0]
[null,null,null,null,"Retail allowed revenue per customer single service - Growth",0,"%",null,{"$f":"'[1]Exec Summary'!$J71","v":0},{"$f":"'[1]Exec Summary'!$K71","v":0},{"$f":"'[1]Exec Summary'!$L71","v":5.5551377525688697},{"$f":"'[1]Exec Summary'!$M71","v":-0.20618478411378849},{"$f":"'[1]Exec Summary'!$N71","v":-7.6775818306978882E-3},{"$f":"'[1]Exec Summary'!$O71","v":-8.3947882098286408E-3},{"$f":"'[1]Exec Summary'!$P71","v":-9.5421289162526124E-3},{"$f":"AVERAGE(K69:O69)","v":1.0646676938996604},{"$f":"'[1]Exec Summary'!$W71","v":-6.214271201241639E-2},null,{"$f":"'[2]Exec Summary'!$J71","v":0},{"$f":"'[2]Exec Summary'!$K71","v":0},{"$f":"'[2]Exec Summary'!$L71","v":0},{"$f":"'[2]Exec Summary'!$M71","v":-0.16378802525753666},{"$f":"'[2]Exec Summary'!$N71","v":-1.5116836634946895E-2},{"$f":"'[2]Exec Summary'!$O71","v":-1.5267687383554662E-2},{"$f":"'[2]Exec Summary'!$P71","v":-1.7787927449785856E-2},{"$f":"AVERAGE(U69:Y69)","v":-4.2392095345164818E-2},{"$f":"'[2]Exec Summary'!$W71","v":-5.5273412066070393E-2},null,0,0,5.5549999999999997,-4.2000000000000003E-2,7.0000000000000001E-3,7.0000000000000001E-3,8.0000000000000002E-3,null,-7.0000000000000001E-3,null,0,0,0,0.25642900287710368,-0.46305984307705594,-0.45848462993419259,-0.44974323302045566,null,0.12664316781516285]
[null,null,null,null,null,null,null,null,null,null,null,null,null,null,null,null,null,null,null,null,null,null,null,null,null,null,null,null,0,0,0,0,0,0,0,null,0,null,0,0,0,0,0,0,0,null,0]
[null,null,null,null,"Retail allowed revenue per customer: joint services - real",0,"£",null,{"$f":"'[1]Exec Summary'!$J73","v":0},{"$f":"'[1]Exec Summary'!$K73","v":5.8825123470107021},{"$f":"'[1]Exec Summary'!$L73","v":36.069276603711351},{"$f":"'[1]Exec Summary'!$M73","v":28.632340594034609},{"$f":"'[1]Exec Summary'!$N73","v":28.412513456119488},{"$f":"'[1]Exec Summary'!$O73","v":28.173996423146463},{"$f":"'[1]Exec Summary'!$P73","v":27.905156517190758},{"$f":"AVERAGE(K71:O71)","v":29.838656718840532},{"$f":"'[1]Exec Summary'!$W73","v":0},null,{"$f":"'[2]Exec Summary'!$J73","v":0},{"$f":"'[2]Exec Summary'!$K73","v":0},{"$f":"'[2]Exec Summary'!$L73","v":33.317151072079099},{"$f":"'[2]Exec Summary'!$M73","v":27.860200690776242},{"$f":"'[2]Exec Summary'!$N73","v":27.439042588316941},{"$f":"'[2]Exec Summary'!$O73","v":27.020111863974478},{"$f":"'[2]Exec Summary'!$P73","v":26.539480074453003},{"$f":"AVERAGE(U71:Y71)","v":28.435197257919953},{"$f":"'[2]Exec Summary'!$W73","v":0},null,0,5.883,2.7519999999999998,0.77200000000000002,0.97299999999999998,1.1539999999999999,1.3660000000000001,null,0,null,0,0,8.2600099691785139E-2,2.7709778855095912E-2,3.5460420926431528E-2,4.2708927550318965E-2,5.1470488350482665E-2,null,0]
[null,null,null,null,"Retail allowed revenue per customer joint services - Growth",0,"%",null,{"$f":"'[1]Exec Summary'!$J74","v":0},{"$f":"'[1]Exec Summary'!$K74","v":0},{"$f":"'[1]Exec Summary'!$L74","v":5.1316108621583369},{"$f":"'[1]Exec Summary'!$M74","v":-0.20618478411378838},{"$f":"'[1]Exec Summary'!$N74","v":-7.6775818306981103E-3},{"$f":"'[1]Exec Summary'!$O74","v":-8.3947882098285298E-3},{"$f":"'[1]Exec Summary'!$P74","v":-9.5421289162526124E-3},{"$f":"AVERAGE(K72:O72)","v":0.97996231581755366},{"$f":"'[1]Exec Summary'!$W74","v":-6.214271201241639E-2},null,{"$f":"'[2]Exec Summary'!$J74","v":0},{"$f":"'[2]Exec Summary'!$K74","v":0},{"$f":"'[2]Exec Summary'!$L74","v":0},{"$f":"'[2]Exec Summary'!$M74","v":-0.16378802525753666},{"$f":"'[2]Exec Summary'!$N74","v":-1.5116836634947006E-2},{"$f":"'[2]Exec Summary'!$O74","v":-1.5267687383554551E-2},{"$f":"'[2]Exec Summary'!$P74","v":-1.7787927449785856E-2},{"$f":"AVERAGE(U72:Y72)","v":-4.2392095345164818E-2},{"$f":"'[2]Exec Summary'!$W74","v":-5.5273412066070393E-2},null,0,0,5.1319999999999997,-4.2000000000000003E-2,7.0000000000000001E-3,7.0000000000000001E-3,8.0000000000000002E-3,null,-7.0000000000000001E-3,null,0,0,0,0.25642900287710368,-0.46305984307705256,-0.45848462993419592,-0.44974323302045566,null,0.12664316781516285]
[null,null,null,null,null,null,null,null,null,null,null,null,null,null,null,null,null,null,null,null,null,null,null,null,null,null,null,null,0,0,0,0,0,0,0,null,0,null,0,0,0,0,0,0,0,null,0]
[null,null,null,null,"Average water resources - only bill - real",0,"£",null,{"$f":"'[1]Exec Summary'!$J76","v":0},{"$f":"'[1]Exec Summary'!$K76","v":5.8825123470107021},{"$f":"'[1]Exec Summary'!$L76","v":55.491008833082745},{"$f":"'[1]Exec Summary'!$M76","v":48.354898208464078},{"$f":"'[1]Exec Summary'!$N76","v":47.239737051080411},{"$f":"'[1]Exec Summary'!$O76","v":46.481352289145903},{"$f":"'[1]Exec Summary'!$P76","v":45.004400021536469},{"$f":"AVERAGE(K74:O74)","v":48.514279280661924},{"$f":"'[1]Exec Summary'!$W76","v":0},null,{"$f":"'[2]Exec Summary'!$J76","v":0},{"$f":"'[2]Exec Summary'!$K76","v":0},{"$f":"'[2]Exec Summary'!$L76","v":50.21454009677975},{"$f":"'[2]Exec Summary'!$M76","v":44.193561292108214},{"$f":"'[2]Exec Summary'!$N76","v":44.168668872130738},{"$f":"'[2]Exec Summary'!$O76","v":43.891652762853994},{"$f":"'[2]Exec Summary'!$P76","v":43.086852667079327},{"$f":"AVERAGE(U74:Y74)","v":45.111055138190395},{"$f":"'[2]Exec Summary'!$W76","v":0},null,0,5.883,5.2759999999999998,4.1609999999999996,3.0710000000000002,2.59,1.9179999999999999,null,0,null,0,0,0.1050691690062566,9.4153987104520651E-2,6.9528923520213212E-2,5.9008942178453268E-2,4.451473898128222E-2,null,0]
[null,null,null,null,"Average water resources - only bill - Growth",0,"%",null,{"$f":"'[1]Exec Summary'!$J77","v":0},{"$f":"'[1]Exec Summary'!$K77","v":0},{"$f":"'[1]Exec Summary'!$L77","v":8.4332158709843483},{"$f":"'[1]Exec Summary'!$M77","v":-0.12859940330304909},{"$f":"'[1]Exec Summary'!$N77","v":-2.30620102347453E-2},{"$f":"'[1]Exec Summary'!$O77","v":-1.6053958156339143E-2},{"$f":"'[1]Exec Summary'!$P77","v":-3.177515702257927E-2},{"$f":"AVERAGE(K75:O75)","v":1.646745068453527},{"$f":"'[1]Exec Summary'!$W77","v":-5.1017750851802157E-2},null,{"$f":"'[2]Exec Summary'!$J77","v":0},{"$f":"'[2]Exec Summary'!$K77","v":0},{"$f":"'[2]Exec Summary'!$L77","v":0},{"$f":"'[2]Exec Summary'!$M77","v":-0.11990508711355619},{"$f":"'[2]Exec Summary'!$N77","v":-5.6325897369857714E-4},{"$f":"'[2]Exec Summary'!$O77","v":-6.2717785333017417E-3},{"$f":"'[2]Exec Summary'!$P77","v":-1.8336062670571751E-2},{"$f":"AVERAGE(U75:Y75)","v":-2.9015237458225651E-2},{"$f":"'[2]Exec Summary'!$W77","v":-3.7548573452596545E-2},null,0,0,8.4329999999999998,-8.9999999999999993E-3,-2.1999999999999999E-2,-0.01,-1.2999999999999999E-2,null,-1.2999999999999999E-2,null,0,0,0,7.5059367510208669E-2,39.058410122682034,1.5944440555262334,0.70898536035569937,null,0.34621821296119115]
[null,null,null,null,null,null,null,null,null,null,null,null,null,null,null,null,null,null,null,null,null,null,null,null,null,null,null,null,0,0,0,0,0,0,0,null,0,null,0,0,0,0,0,0,0,null,0]
[null,null,null,null,"Average water network - only bill - real",0,"£",null,{"$f":"'[1]Exec Summary'!$J79","v":0},{"$f":"'[1]Exec Summary'!$K79","v":5.8825123470107021},{"$f":"'[1]Exec Summary'!$L79","v":185.49624973003617},{"$f":"'[1]Exec Summary'!$M79","v":181.55230606228915},{"$f":"'[1]Exec Summary'!$N79","v":182.60232599877034},{"$f":"'[1]Exec Summary'!$O79","v":184.61947965429641},{"$f":"'[1]Exec Summary'!$P79","v":183.10954938309806},{"$f":"AVERAGE(K77:O77)","v":183.47598216569804},{"$f":"'[1]Exec Summary'!$W79","v":0},null,{"$f":"'[2]Exec Summary'!$J79","v":0},{"$f":"'[2]Exec Summary'!$K79","v":0},{"$f":"'[2]Exec Summary'!$L79","v":172.56786349894659},{"$f":"'[2]Exec Summary'!$M79","v":170.83089219029063},{"$f":"'[2]Exec Summary'!$N79","v":168.42856876308048},{"$f":"'[2]Exec Summary'!$O79","v":166.24944501922749},{"$f":"'[2]Exec Summary'!$P79","v":163.44685688883354},{"$f":"AVERAGE(U77:Y77)","v":168.30472527207573},{"$f":"'[2]Exec Summary'!$W79","v":0},null,0,5.883,12.928000000000001,10.721,14.173999999999999,18.37,19.663,null,0,null,0,0,7.4915454928135658E-2,6.2757969958136997E-2,8.4154369440363835E-2,0.11049660946462364,0.12030209925280827,null,0]
[null,null,null,null,"Average water network - only bill - Growth",0,"%",null,{"$f":"'[1]Exec Summary'!$J80","v":0},{"$f":"'[1]Exec Summary'!$K80","v":0},{"$f":"'[1]Exec Summary'!$L80","v":30.533507927832776},{"$f":"'[1]Exec Summary'!$M80","v":-2.126158169497705E-2},{"$f":"'[1]Exec Summary'!$N80","v":5.783567057093375E-3},{"$f":"'[1]Exec Summary'!$O80","v":1.1046702962259403E-2},{"$f":"'[1]Exec Summary'!$P80","v":-8.178607555528461E-3},{"$f":"AVERAGE(K78:O78)","v":6.1041796017203254},{"$f":"'[1]Exec Summary'!$W80","v":-3.2322800269901641E-3},null,{"$f":"'[2]Exec Summary'!$J80","v":0},{"$f":"'[2]Exec Summary'!$K80","v":0},{"$f":"'[2]Exec Summary'!$L80","v":0},{"$f":"'[2]Exec Summary'!$M80","v":-1.0065439030405354E-2},{"$f":"'[2]Exec Summary'!$N80","v":-1.4062581986249767E-2},{"$f":"'[2]Exec Summary'!$O80","v":-1.2937969845948416E-2},{"$f":"'[2]Exec Summary'!$P80","v":-1.6857729239756702E-2},{"$f":"AVERAGE(U78:Y78)","v":-1.0784744020472048E-2},{"$f":"'[2]Exec Summary'!$W80","v":-1.3483933096940515E-2},null,0,0,30.533999999999999,-1.0999999999999999E-2,0.02,2.4E-2,8.9999999999999993E-3,null,0.01,null,0,0,0,1.092848505343041,-1.4222139305254022,-1.8550050962992242,-0.53387973385968868,null,-0.74162337710419124]
[null,null,null,null,null,null,null,null,null,null,null,null,null,null,null,null,null,null,null,null,null,null,null,null,null,null,null,null,0,0,0,0,0,0,0,null,0,null,0,0,0,0,0,0,0,null,0]
[null,null,null,null,"Average wastewater network-only bill - real",0,"£",null,{"$f":"'[1]Exec Summary'!$J82","v":0},{"$f":"'[1]Exec Summary'!$K82","v":5.8825123470107021},{"$f":"'[1]Exec Summary'!$L82","v":218.75217300190113},{"$f":"'[1]Exec Summary'!$M82","v":211.9016448485194},{"$f":"'[1]Exec Summary'!$N82","v":212.75310443855344},{"$f":"'[1]Exec Summary'!$O82","v":212.24514403871569},{"$f":"'[1]Exec Summary'!$P82","v":213.23100187977926},{"$f":"AVERAGE(K80:O80)","v":213.77661364149381},{"$f":"'[1]Exec Summary'!$W82","v":0},null,{"$f":"'[2]Exec Summary'!$J82","v":0},{"$f":"'[2]Exec Summary'!$K82","v":0},{"$f":"'[2]Exec Summary'!$L82","v":202.60296114423579},{"$f":"'[2]Exec Summary'!$M82","v":197.64807409561206},{"$f":"'[2]Exec Summary'!$N82","v":196.35216973502693},{"$f":"'[2]Exec Summary'!$O82","v":195.57559121954077},{"$f":"'[2]Exec Summary'!$P82","v":195.08016785711163},{"$f":"AVERAGE(U80:Y80)","v":197.45179281030545},{"$f":"'[2]Exec Summary'!$W82","v":0},null,0,5.883,16.149000000000001,14.254,16.401,16.670000000000002,18.151,null,0,null,0,0,7.9707620800780449E-2,7.2118081925274122E-2,8.3528488746178867E-2,8.5235585361402869E-2,9.3043799374290456E-2,null,0]
[null,null,null,null,"Average wastewater network-only bill growth - real",0,"%",null,{"$f":"'[1]Exec Summary'!$J83","v":0},{"$f":"'[1]Exec Summary'!$K83","v":0},{"$f":"'[1]Exec Summary'!$L83","v":36.186861683862631},{"$f":"'[1]Exec Summary'!$M83","v":-3.1316389041411652E-2},{"$f":"'[1]Exec Summary'!$N83","v":4.0181830143071195E-3},{"$f":"'[1]Exec Summary'!$O83","v":-2.3875581095665899E-3},{"$f":"'[1]Exec Summary'!$P83","v":4.644901750419983E-3},{"$f":"AVERAGE(K81:O81)","v":7.2323641642952747},{"$f":"'[1]Exec Summary'!$W83","v":-6.3704632572386677E-3},null,{"$f":"'[2]Exec Summary'!$J83","v":0},{"$f":"'[2]Exec Summary'!$K83","v":0},{"$f":"'[2]Exec Summary'!$L83","v":0},{"$f":"'[2]Exec Summary'!$M83","v":-2.4456143289516286E-2},{"$f":"'[2]Exec Summary'!$N83","v":-6.5566252872174546E-3},{"$f":"'[2]Exec Summary'!$O83","v":-3.9550289489245216E-3},{"$f":"'[2]Exec Summary'!$P83","v":-2.533155386824304E-3},{"$f":"AVERAGE(U81:Y81)","v":-7.5001905824965132E-3},{"$f":"'[2]Exec Summary'!$W83","v":-9.4148046090621884E-3},null,0,0,36.186999999999998,-7.0000000000000001E-3,1.0999999999999999E-2,2E-3,7.0000000000000001E-3,null,3.0000000000000001E-3,null,0,0,0,0.28622665140340092,-1.6776923368558483,-0.50568529986205379,-2.7633519982268306,null,-0.31864708027104038]
[null,null,null,null,null,null,null,null,null,null,null,null,null,null,null,null,null,null,null,null,null,null,null,null,null,null,null,null,0,0,0,0,0,0,0,null,0,null,0,0,0,0,0,0,0,null,0]
[null,null,null,null,"Average bio resources-only bill - real",0,"£",null,{"$f":"'[1]Exec Summary'!$J85","v":0},{"$f":"'[1]Exec Summary'!$K85","v":5.8825123470107021},{"$f":"'[1]Exec Summary'!$L85","v":69.659352581251994},{"$f":"'[1]Exec Summary'!$M85","v":62.235296404567464},{"$f":"'[1]Exec Summary'!$N85","v":60.959462828782435},{"$f":"'[1]Exec Summary'!$O85","v":59.957125152393317},{"$f":"'[1]Exec Summary'!$P85","v":58.785056631234113},{"$f":"AVERAGE(K83:O83)","v":62.319258719645859},{"$f":"'[1]Exec Summary'!$W85","v":0},null,{"$f":"'[2]Exec Summary'!$J85","v":0},{"$f":"'[2]Exec Summary'!$K85","v":0},{"$f":"'[2]Exec Summary'!$L85","v":63.69531290462799},{"$f":"'[2]Exec Summary'!$M85","v":57.18723052317165},{"$f":"'[2]Exec Summary'!$N85","v":55.86016949486563},{"$f":"'[2]Exec Summary'!$O85","v":54.029507408400036},{"$f":"'[2]Exec Summary'!$P85","v":52.955408729831248},{"$f":"AVERAGE(U83:Y83)","v":56.745525812179309},{"$f":"'[2]Exec Summary'!$W85","v":0},null,0,5.883,5.9640000000000004,5.048,5.0990000000000002,5.9279999999999999,5.83,null,0,null,0,0,9.3633263234454839E-2,8.8271454200857039E-2,9.1281498894640364E-2,0.10971782428426076,0.11009262584948758,null,0]
[null,null,null,null,"Average bio resources-only bill growth - real",0,"%",null,{"$f":"'[1]Exec Summary'!$J86","v":0},{"$f":"'[1]Exec Summary'!$K86","v":0},{"$f":"'[1]Exec Summary'!$L86","v":10.841769038810529},{"$f":"'[1]Exec Summary'!$M86","v":-0.10657658880801357},{"$f":"'[1]Exec Summary'!$N86","v":-2.0500160672351164E-2},{"$f":"'[1]Exec Summary'!$O86","v":-1.6442692075623988E-2},{"$f":"'[1]Exec Summary'!$P86","v":-1.9548444295488632E-2},{"$f":"AVERAGE(K84:O84)","v":2.1357402305918098},{"$f":"'[1]Exec Summary'!$W86","v":-4.1544670150188812E-2},null,{"$f":"'[2]Exec Summary'!$J86","v":0},{"$f":"'[2]Exec Summary'!$K86","v":0},{"$f":"'[2]Exec Summary'!$L86","v":0},{"$f":"'[2]Exec Summary'!$M86","v":-0.10217521642763572},{"$f":"'[2]Exec Summary'!$N86","v":-2.3205548094662687E-2},{"$f":"'[2]Exec Summary'!$O86","v":-3.2772225774106545E-2},{"$f":"'[2]Exec Summary'!$P86","v":-1.9879853252221191E-2},{"$f":"AVERAGE(U84:Y84)","v":-3.5606568709725228E-2},{"$f":"'[2]Exec Summary'!$W86","v":-4.5115789209973389E-2},null,0,0,10.842000000000001,-4.0000000000000001E-3,3.0000000000000001E-3,1.6E-2,0,null,4.0000000000000001E-3,null,0,0,0,3.9148436772169191E-2,-0.12927942868498782,-0.48821828917832183,0,null,-8.866075646784323E-2]
[null,null,null,null,null,null,null,null,null,null,null,null,null,null,null,null,null,null,null,null,null,null,null,null,null,null,null,null,0,0,0,0,0,0,0,null,0,null,0,0,0,0,0,0,0,null,0]
[null,null,null,null,"Average dummy control-only bill - real",0,"£",null,{"$f":"'[1]Exec Summary'!$J88","v":0},{"$f":"'[1]Exec Summary'!$K88","v":0},{"$f":"'[1]Exec Summary'!$L88","v":0},{"$f":"'[1]Exec Summary'!$M88","v":0},{"$f":"'[1]Exec Summary'!$N88","v":0},{"$f":"'[1]Exec Summary'!$O88","v":0},{"$f":"'[1]Exec Summary'!$P88","v":0},{"$f":"AVERAGE(K86:O86)","v":0},{"$f":"'[1]Exec Summary'!$W88","v":0},null,{"$f":"'[2]Exec Summary'!$J88","v":0},{"$f":"'[2]Exec Summary'!$K88","v":0},{"$f":"'[2]Exec Summary'!$L88","v":0},{"$f":"'[2]Exec Summary'!$M88","v":0},{"$f":"'[2]Exec Summary'!$N88","v":0},{"$f":"'[2]Exec Summary'!$O88","v":0},{"$f":"'[2]Exec Summary'!$P88","v":0},{"$f":"AVERAGE(U86:Y86)","v":0},{"$f":"'[2]Exec Summary'!$W88","v":0},null,0,0,0,0,0,0,0,null,0,null,0,0,0,0,0,0,0,null,0]
[null,null,null,null,"Average dummy control-only bill growth - real",0,"%",null,{"$f":"'[1]Exec Summary'!$J89","v":0},{"$f":"'[1]Exec Summary'!$K89","v":0},{"$f":"'[1]Exec Summary'!$L89","v":0},{"$f":"'[1]Exec Summary'!$M89","v":0},{"$f":"'[1]Exec Summary'!$N89","v":0},{"$f":"'[1]Exec Summary'!$O89","v":0},{"$f":"'[1]Exec Summary'!$P89","v":0},{"$f":"AVERAGE(K87:O87)","v":0},{"$f":"'[1]Exec Summary'!$W89","v":0},null,{"$f":"'[2]Exec Summary'!$J89","v":0},{"$f":"'[2]Exec Summary'!$K89","v":0},{"$f":"'[2]Exec Summary'!$L89","v":0},{"$f":"'[2]Exec Summary'!$M89","v":0},{"$f":"'[2]Exec Summary'!$N89","v":0},{"$f":"'[2]Exec Summary'!$O89","v":0},{"$f":"'[2]Exec Summary'!$P89","v":0},{"$f":"AVERAGE(U87:Y87)","v":0},{"$f":"'[2]Exec Summary'!$W89","v":0},null,0,0,0,0,0,0,0,null,0,null,0,0,0,0,0,0,0,null,0]
[null,null,null,null,null,null,null,null,null,null,null,null,null,null,null,null,null,null,null,null,null,null,null,null,null,null,null,null,0,0,0,0,0,0,0,null,0,null,0,0,0,0,0,0,0,null,0]
[null,null,null,null,"WoC average bill - real",0,"£",null,{"$f":"'[1]Exec Summary'!$J91","v":0},{"$f":"'[1]Exec Summary'!$K91","v":0},{"$f":"'[1]Exec Summary'!$L91","v":0},{"$f":"'[1]Exec Summary'!$M91","v":0},{"$f":"'[1]Exec Summary'!$N91","v":0},{"$f":"'[1]Exec Summary'!$O91","v":0},{"$f":"'[1]Exec Summary'!$P91","v":0},{"$f":"AVERAGE(K89:O89)","v":0},{"$f":"'[1]Exec Summary'!$W91","v":0},null,{"$f":"'[2]Exec Summary'!$J91","v":0},{"$f":"'[2]Exec Summary'!$K91","v":0},{"$f":"'[2]Exec Summary'!$L91","v":0},{"$f":"'[2]Exec Summary'!$M91","v":0},{"$f":"'[2]Exec Summary'!$N91","v":0},{"$f":"'[2]Exec Summary'!$O91","v":0},{"$f":"'[2]Exec Summary'!$P91","v":0},{"$f":"AVERAGE(U89:Y89)","v":0},{"$f":"'[2]Exec Summary'!$W91","v":0},null,0,0,0,0,0,0,0,null,0,null,0,0,0,0,0,0,0,null,0]
[null,null,null,null,"WoC average bill growth",0,"%",null,{"$f":"'[1]Exec Summary'!$J92","v":0},{"$f":"'[1]Exec Summary'!$K92","v":0},{"$f":"'[1]Exec Summary'!$L92","v":0},{"$f":"'[1]Exec Summary'!$M92","v":0},{"$f":"'[1]Exec Summary'!$N92","v":0},{"$f":"'[1]Exec Summary'!$O92","v":0},{"$f":"'[1]Exec Summary'!$P92","v":0},{"$f":"AVERAGE(K90:O90)","v":0},{"$f":"'[1]Exec Summary'!$W92","v":0},null,{"$f":"'[2]Exec Summary'!$J92","v":0},{"$f":"'[2]Exec Summary'!$K92","v":0},{"$f":"'[2]Exec Summary'!$L92","v":0},{"$f":"'[2]Exec Summary'!$M92","v":0},{"$f":"'[2]Exec Summary'!$N92","v":0},{"$f":"'[2]Exec Summary'!$O92","v":0},{"$f":"'[2]Exec Summary'!$P92","v":0},{"$f":"AVERAGE(U90:Y90)","v":0},{"$f":"'[2]Exec Summary'!$W92","v":0},null,0,0,0,0,0,0,0,null,0,null,0,0,0,0,0,0,0,null,0]
[null,null,null,null,null,null,null,null,null,null,null,null,null,null,null,null,null,null,null,null,null,null,null,null,null,null,null,null,0,0,0,0,0,0,0,null,0,null,0,0,0,0,0,0,0,null,0]
[null,null,null,null,"WaSC average bill - real",0,"£",null,{"$f":"'[1]Exec Summary'!$J94","v":0},{"$f":"'[1]Exec Summary'!$K94","v":0},{"$f":"'[1]Exec Summary'!$L94","v":426.62494457223835},{"$f":"'[1]Exec Summary'!$M94","v":422.30237953953593},{"$f":"'[1]Exec Summary'!$N94","v":422.18264529497617},{"$f":"'[1]Exec Summary'!$O94","v":422.34088422683249},{"$f":"'[1]Exec Summary'!$P94","v":419.61518830024812},{"$f":"AVERAGE(K92:O92)","v":422.61320838676619},{"$f":"'[1]Exec Summary'!$W94","v":0},null,{"$f":"'[2]Exec Summary'!$J94","v":0},{"$f":"'[2]Exec Summary'!$K94","v":0},{"$f":"'[2]Exec Summary'!$L94","v":394.35816153223698},{"$f":"'[2]Exec Summary'!$M94","v":390.47606889990902},{"$f":"'[2]Exec Summary'!$N94","v":386.36350951704588},{"$f":"'[2]Exec Summary'!$O94","v":382.20108945422635},{"$f":"'[2]Exec Summary'!$P94","v":378.08345080740389},{"$f":"AVERAGE(U92:Y92)","v":386.29645604216438},{"$f":"'[2]Exec Summary'!$W94","v":0},null,0,0,32.267000000000003,31.826000000000001,35.819000000000003,40.14,41.531999999999996,null,0,null,0,0,8.1821560062634385E-2,8.150563513319424E-2,9.2708030436864305E-2,0.10502324851380963,0.10984876463465321,null,0]
[null,null,null,null,"WaSC average bill growth",0,"%",null,{"$f":"'[1]Exec Summary'!$J95","v":0},{"$f":"'[1]Exec Summary'!$K95","v":0},{"$f":"'[1]Exec Summary'!$L95","v":0},{"$f":"'[1]Exec Summary'!$M95","v":-1.0132002565008236E-2},{"$f":"'[1]Exec Summary'!$N95","v":-2.8352727893776741E-4},{"$f":"'[1]Exec Summary'!$O95","v":3.7481155045049341E-4},{"$f":"'[1]Exec Summary'!$P95","v":-6.4537818344870823E-3},{"$f":"AVERAGE(K93:O93)","v":-3.2989000255965184E-3},{"$f":"'[1]Exec Summary'!$W95","v":-4.1332356577087337E-3},null,{"$f":"'[2]Exec Summary'!$J95","v":0},{"$f":"'[2]Exec Summary'!$K95","v":0},{"$f":"'[2]Exec Summary'!$L95","v":0},{"$f":"'[2]Exec Summary'!$M95","v":-9.8440783303291868E-3},{"$f":"'[2]Exec Summary'!$N95","v":-1.0532167552417482E-2},{"$f":"'[2]Exec Summary'!$O95","v":-1.0773326052510912E-2},{"$f":"'[2]Exec Summary'!$P95","v":-1.077348746625062E-2},{"$f":"AVERAGE(U93:Y93)","v":-8.3846118803016408E-3},{"$f":"'[2]Exec Summary'!$W95","v":-1.0480838010980653E-2},null,0,0,0,0,0.01,1.0999999999999999E-2,4.0000000000000001E-3,null,6.0000000000000001E-3,null,0,0,0,0,-0.94947217182323196,-1.0210402939987375,-0.37128181682398864,null,-0.57247330735518187]
[null,null,null,null,null,null,null,null,null,null,null,null,null,null,null,null,null,null,null,null,null,null,null,null,null,null,null,null,0,0,0,0,0,0,0,null,0,null,0,0,0,0,0,0,0,null,0]
[null,null,null,null,"Single Retail income - real",0,"£m",null,{"$f":"'[1]Exec Summary'!$J97","v":0},{"$f":"'[1]Exec Summary'!$K97","v":6.2621221123974653},{"$f":"'[1]Exec Summary'!$L97","v":41.817384731108604},{"$f":"'[1]Exec Summary'!$M97","v":33.502157714608607},{"$f":"'[1]Exec Summary'!$N97","v":33.244004544305696},{"$f":"'[1]Exec Summary'!$O97","v":32.871249628802708},{"$f":"'[1]Exec Summary'!$P97","v":32.506884257814612},{"$f":"AVERAGE(K95:O95)","v":34.788336175328048},{"$f":"'[1]Exec Summary'!$W97","v":0},null,{"$f":"'[2]Exec Summary'!$J97","v":0},{"$f":"'[2]Exec Summary'!$K97","v":0},{"$f":"'[2]Exec Summary'!$L97","v":38.626672218378843},{"$f":"'[2]Exec Summary'!$M97","v":32.598691484464162},{"$f":"'[2]Exec Summary'!$N97","v":32.104996902375063},{"$f":"'[2]Exec Summary'!$O97","v":31.524985974271896},{"$f":"'[2]Exec Summary'!$P97","v":30.915999575610748},{"$f":"AVERAGE(U95:Y95)","v":33.154269231020137},{"$f":"'[2]Exec Summary'!$W97","v":0},null,0,6.2619999999999996,3.1909999999999998,0.90300000000000002,1.139,1.3460000000000001,1.591,null,0,null,0,0,8.2611310183787964E-2,2.7700498359891239E-2,3.5477343401199304E-2,4.2696291795291982E-2,5.146202684176255E-2,null,0]
[null,null,null,null,"Joint Retail income - real",0,"£m",null,{"$f":"'[1]Exec Summary'!$J98","v":0},{"$f":"'[1]Exec Summary'!$K98","v":10.195158623974658},{"$f":"'[1]Exec Summary'!$L98","v":63.406614172983424},{"$f":"'[1]Exec Summary'!$M98","v":51.305260346189229},{"$f":"'[1]Exec Summary'!$N98","v":52.06916993487296},{"$f":"'[1]Exec Summary'!$O98","v":52.819537882250906},{"$f":"'[1]Exec Summary'!$P98","v":53.3937264799928},{"$f":"AVERAGE(K96:O96)","v":54.598861763257865},{"$f":"'[1]Exec Summary'!$W98","v":0},null,{"$f":"'[2]Exec Summary'!$J98","v":0},{"$f":"'[2]Exec Summary'!$K98","v":0},{"$f":"'[2]Exec Summary'!$L98","v":58.568619675420713},{"$f":"'[2]Exec Summary'!$M98","v":49.921690650577084},{"$f":"'[2]Exec Summary'!$N98","v":50.285173593945856},{"$f":"'[2]Exec Summary'!$O98","v":50.656278958328521},{"$f":"'[2]Exec Summary'!$P98","v":50.780641174458381},{"$f":"AVERAGE(U96:Y96)","v":52.04248081054611},{"$f":"'[2]Exec Summary'!$W98","v":0},null,0,10.195,4.8380000000000001,1.3839999999999999,1.784,2.1629999999999998,2.613,null,0,null,0,0,8.2603961418444463E-2,2.7723420059773178E-2,3.5477654196957704E-2,4.2699543758027571E-2,5.1456616922637151E-2,null,0]
[null,null,null,null,"Total Retail income - real",0,"£m",null,{"$f":"'[1]Exec Summary'!$J99","v":0},{"$f":"'[1]Exec Summary'!$K99","v":16.457280736372123},{"$f":"'[1]Exec Summary'!$L99","v":105.22399890409203},{"$f":"'[1]Exec Summary'!$M99","v":84.807418060797829},{"$f":"'[1]Exec Summary'!$N99","v":85.313174479178656},{"$f":"'[1]Exec Summary'!$O99","v":85.690787511053614},{"$f":"'[1]Exec Summary'!$P99","v":85.900610737807412},89.387197938585899,{"$f":"'[1]Exec Summary'!$W99","v":0},null,{"$f":"'[2]Exec Summary'!$J99","v":0},{"$f":"'[2]Exec Summary'!$K99","v":0},{"$f":"'[2]Exec Summary'!$L99","v":97.195291893799549},{"$f":"'[2]Exec Summary'!$M99","v":82.520382135041245},{"$f":"'[2]Exec Summary'!$N99","v":82.39017049632092},{"$f":"'[2]Exec Summary'!$O99","v":82.181264932600413},{"$f":"'[2]Exec Summary'!$P99","v":81.696640750069122},85.196750041566247,{"$f":"'[2]Exec Summary'!$W99","v":0},null,0,16.457000000000001,8.0289999999999999,2.2869999999999999,2.923,3.51,4.2039999999999997,null,0,null,0,0,8.2606881913301802E-2,2.7714365115971199E-2,3.5477533089102231E-2,4.2710464518630462E-2,5.145866416785861E-2,null,0]
[]
[]
["INCOME STATEMENT - APPOINTEE (NOMINAL) PRE-POST FINANCEABILITY ADJUSTMENTS AND REPROFILING"]
[]
[null,null,null,null,"Revenue - Appointee - nominal","PL","£m",null,{"$f":"'[1]Exec Summary'!$J104","v":0},{"$f":"'[1]Exec Summary'!$K104","v":17.206152838999998},{"$f":"'[1]Exec Summary'!$L104","v":1333.6960421529916},{"$f":"'[1]Exec Summary'!$M104","v":1369.6740785114218},{"$f":"'[1]Exec Summary'!$N104","v":1417.4610232762702},{"$f":"'[1]Exec Summary'!$O104","v":1466.7748017458232},{"$f":"'[1]Exec Summary'!$P104","v":1507.1134250627283},{"$f":"AVERAGE(K102:O102)","v":1418.9438741498473},{"$f":"'[1]Exec Summary'!$W104","v":7094.7193707492361},null,{"$f":"'[2]Exec Summary'!$J104","v":0},{"$f":"'[2]Exec Summary'!$K104","v":0},{"$f":"'[2]Exec Summary'!$L104","v":1226.9773218154755},{"$f":"'[2]Exec Summary'!$M104","v":1259.4646226551229},{"$f":"'[2]Exec Summary'!$N104","v":1291.5720381142226},{"$f":"'[2]Exec Summary'!$O104","v":1323.863296419473},{"$f":"'[2]Exec Summary'!$P104","v":1356.0208056427612},{"$f":"AVERAGE(U102:Y102)","v":1291.579616929411},{"$f":"'[2]Exec Summary'!$W104","v":6457.8980846470549},null,{"$f":"ROUND(I102 - S102, 3)","v":0},17.206,106.71899999999999,110.209,125.889,142.91200000000001,151.09299999999999,null,{"$f":"ROUND(Q102 - AA102, 3)","v":636.82100000000003},null,{"$f":"IF(S102 = 0, 0, AC102 / S102)","v":0},0,8.697715768869721E-2,8.7504641271832176E-2,9.7469592314653977E-2,0.1079507229987571,0.11142380660478221,null,{"$f":"IF(AA102 = 0, 0, AK102 / AA102)","v":9.8611187673272857E-2}]
[null,null,null,null,"Operating profit - Appointee - nominal",0,"£m",null,{"$f":"'[1]Exec Summary'!$J105","v":0},{"$f":"'[1]Exec Summary'!$K105","v":17.206152838999998},{"$f":"'[1]Exec Summary'!$L105","v":309.919425848809},{"$f":"'[1]Exec Summary'!$M105","v":312.08462371031214},{"$f":"'[1]Exec Summary'!$N105","v":328.57395487597199},{"$f":"'[1]Exec Summary'!$O105","v":348.08557197336125},{"$f":"'[1]Exec Summary'!$P105","v":357.82267459692042},{"$f":"AVERAGE(K103:O103)","v":331.29725020107497},{"$f":"'[1]Exec Summary'!$W105","v":1656.4862510053749},null,{"$f":"'[2]Exec Summary'!$J105","v":0},{"$f":"'[2]Exec Summary'!$K105","v":0},{"$f":"'[2]Exec Summary'!$L105","v":297.05599425447468},{"$f":"'[2]Exec Summary'!$M105","v":299.36248404934156},{"$f":"'[2]Exec Summary'!$N105","v":297.09355203030225},{"$f":"'[2]Exec Summary'!$O105","v":293.54384996530246},{"$f":"'[2]Exec Summary'!$P105","v":285.42912696124228},{"$f":"AVERAGE(U103:Y103)","v":294.49700145213262},{"$f":"'[2]Exec Summary'!$W105","v":1472.4850072606632},null,0,17.206,12.863,12.722,31.48,54.542000000000002,72.394000000000005,null,184.001,null,0,0,4.3301600535893707E-2,4.2496974998053307E-2,0.1059598896875055,0.18580528941910038,0.2536321389856972,null,0.12495950661141615]
[null,null,null,null,"Profit before tax - Appointee - nominal",0,"£m",null,{"$f":"'[1]Exec Summary'!$J106","v":0},{"$f":"'[1]Exec Summary'!$K106","v":17.206152838999998},{"$f":"'[1]Exec Summary'!$L106","v":125.89904441480417},{"$f":"'[1]Exec Summary'!$M106","v":119.18488210811111},{"$f":"'[1]Exec Summary'!$N106","v":120.62546295148485},{"$f":"'[1]Exec Summary'!$O106","v":121.5545196201023},{"$f":"'[1]Exec Summary'!$P106","v":115.4250910446325},120.53780002782699,{"$f":"'[1]Exec Summary'!$W106","v":602.68900013913492},null,{"$f":"'[2]Exec Summary'!$J106","v":0},{"$f":"'[2]Exec Summary'!$K106","v":0},{"$f":"'[2]Exec Summary'!$L106","v":125.42588046151275},{"$f":"'[2]Exec Summary'!$M106","v":123.37549148433058},{"$f":"'[2]Exec Summary'!$N106","v":110.7879277011323},{"$f":"'[2]Exec Summary'!$O106","v":96.340146985832746},{"$f":"'[2]Exec Summary'!$P106","v":81.915208091446402},107.56893094485095,{"$f":"'[2]Exec Summary'!$W106","v":537.84465472425472},null,0,17.206,0.47299999999999998,-4.1909999999999998,9.8379999999999992,25.213999999999999,33.51,null,64.843999999999994,null,0,0,3.7711515219950257E-3,-3.3969469540328291E-2,8.880028902191886E-2,0.2617185128823587,0.40908154640333649,null,0.12056269302005909]
[null,null,null,null,"Current tax charge - Appointee - nominal","PL","£m",null,{"$f":"'[1]Exec Summary'!$J107","v":0},{"$f":"'[1]Exec Summary'!$K107","v":0},{"$f":"'[1]Exec Summary'!$L107","v":-5.6929273024088092},{"$f":"'[1]Exec Summary'!$M107","v":-2.0522686379966908},{"$f":"'[1]Exec Summary'!$N107","v":-2.1744720651883811},{"$f":"'[1]Exec Summary'!$O107","v":-2.2957432395295183},{"$f":"'[1]Exec Summary'!$P107","v":-2.4055490494436196},-2.9241920589134036,{"$f":"'[1]Exec Summary'!$W107","v":-14.620960294567018},null,{"$f":"'[2]Exec Summary'!$J107","v":0},{"$f":"'[2]Exec Summary'!$K107","v":0},{"$f":"'[2]Exec Summary'!$L107","v":-4.2611530550613397},{"$f":"'[2]Exec Summary'!$M107","v":-1.9400644534886509},{"$f":"'[2]Exec Summary'!$N107","v":-2.036762784293606},{"$f":"'[2]Exec Summary'!$O107","v":-2.1397957397717642},{"$f":"'[2]Exec Summary'!$P107","v":-2.2405455259673293},-2.523664311716538,{"$f":"'[2]Exec Summary'!$W107","v":-12.618321558582691},null,0,0,-1.4319999999999999,-0.112,-0.13800000000000001,-0.156,-0.16500000000000001,null,-2.0030000000000001,null,0,0,0.33605927351027437,5.7730040771892935E-2,6.775457655853695E-2,7.2904154868837778E-2,7.3642779442637391E-2,null,0.15873743514149119]
[null,null,null,null,"Movement in deferred tax provision - Appointee - nominal","PL","£m",null,{"$f":"'[1]Exec Summary'!$J108","v":0},{"$f":"'[1]Exec Summary'!$K108","v":0},{"$f":"'[1]Exec Summary'!$L108","v":-11.967224429745396},{"$f":"'[1]Exec Summary'!$M108","v":-8.7829143354183756},{"$f":"'[1]Exec Summary'!$N108","v":-7.1718665399213837},{"$f":"'[1]Exec Summary'!$O108","v":-7.1553366434997274},{"$f":"'[1]Exec Summary'!$P108","v":-1.7874675522018011},-7.3729619001573381,{"$f":"'[1]Exec Summary'!$W108","v":-36.864809500786691},null,{"$f":"'[2]Exec Summary'!$J108","v":0},{"$f":"'[2]Exec Summary'!$K108","v":0},{"$f":"'[2]Exec Summary'!$L108","v":-10.954636780233649},{"$f":"'[2]Exec Summary'!$M108","v":-7.6286152464916661},{"$f":"'[2]Exec Summary'!$N108","v":-5.2682536887697289},{"$f":"'[2]Exec Summary'!$O108","v":-2.9388649412785082},{"$f":"'[2]Exec Summary'!$P108","v":3.4586372141169313},-4.6663466885313252,{"$f":"'[2]Exec Summary'!$W108","v":-23.331733442656624},null,0,0,-1.0129999999999999,-1.1539999999999999,-1.9039999999999999,-4.2160000000000002,-5.2460000000000004,null,-13.532999999999999,null,0,0,9.2472258124325857E-2,0.15127253934201421,0.3614100824451057,1.4345674552046253,-1.5167823842835229,null,0.58002548474422699]
[null,null,null,null,"Profit after tax - Appointee - nominal",0,"£m",null,{"$f":"'[1]Exec Summary'!$J109","v":0},{"$f":"'[1]Exec Summary'!$K109","v":17.206152838999998},{"$f":"'[1]Exec Summary'!$L109","v":108.23889268264996},{"$f":"'[1]Exec Summary'!$M109","v":108.34969913469604},{"$f":"'[1]Exec Summary'!$N109","v":111.27912434637508},{"$f":"'[1]Exec Summary'!$O109","v":112.10343973707305},{"$f":"'[1]Exec Summary'!$P109","v":111.23207444298707},110.24064606875622,{"$f":"'[1]Exec Summary'!$W109","v":551.20323034378123},null,{"$f":"'[2]Exec Summary'!$J109","v":0},{"$f":"'[2]Exec Summary'!$K109","v":0},{"$f":"'[2]Exec Summary'!$L109","v":110.21009062621776},{"$f":"'[2]Exec Summary'!$M109","v":113.80681178435026},{"$f":"'[2]Exec Summary'!$N109","v":103.48291122806897},{"$f":"'[2]Exec Summary'!$O109","v":91.26148630478248},{"$f":"'[2]Exec Summary'!$P109","v":83.133299779596001},100.3789199446031,{"$f":"'[2]Exec Summary'!$W109","v":501.8945997230154},null,0,17.206,-1.9710000000000001,-5.4569999999999999,7.7960000000000003,20.841999999999999,28.099,null,49.308999999999997,null,0,0,-1.7884024854717986E-2,-4.7949678182184166E-2,7.5336110160431916E-2,0.22837673200275055,0.33799933449648223,null,9.8245727344371814E-2]
[null,null,null,null,"Effective Tax Rate",null,"%",null,{"$f":"'[1]Exec Summary'!$J110","v":0},{"$f":"'[1]Exec Summary'!$K110","v":0},{"$f":"'[1]Exec Summary'!$L110","v":4.5218193107583203E-2},{"$f":"'[1]Exec Summary'!$M110","v":1.7219202651348881E-2},{"$f":"'[1]Exec Summary'!$N110","v":1.8026642236083655E-2},{"$f":"'[1]Exec Summary'!$O110","v":1.8886531300559357E-2},{"$f":"'[1]Exec Summary'!$P110","v":2.0840781043988465E-2},2.4038270067912711E-2,{"$f":"'[1]Exec Summary'!$W110","v":2.4259543962461019E-2},null,{"$f":"'[2]Exec Summary'!$J110","v":0},{"$f":"'[2]Exec Summary'!$K110","v":0},{"$f":"'[2]Exec Summary'!$L110","v":3.3973475325683566E-2},{"$f":"'[2]Exec Summary'!$M110","v":1.5724877203306221E-2},{"$f":"'[2]Exec Summary'!$N110","v":1.8384338678019963E-2},{"$f":"'[2]Exec Summary'!$O110","v":2.2210841551720185E-2},{"$f":"'[2]Exec Summary'!$P110","v":2.7352009207692988E-2},2.3529108393284582E-2,{"$f":"'[2]Exec Summary'!$W110","v":2.3460903529945693E-2},null,0,0,1.0999999999999999E-2,1E-3,0,-3.0000000000000001E-3,-7.0000000000000001E-3,null,1E-3,null,0,0,0.32378200624309172,6.3593501371810135E-2,0,-0.13506917299887974,-0.25592269828686626,null,4.2624104341232712E-2]
[]
[]
["FINANCIAL INDICATORS (NOMINAL) PRE-POST FINANCEABILITY ADJUSTMENTS AND REPROFILING"]
[]
[null,"Appointee - Target financial indicators (used in determining Price Controls)"]
[null,null,null,null,"Cash interest cover - Appointee",0,"ratio",null,{"$f":"'[1]Exec Summary'!$J116","v":0},{"$f":"'[1]Exec Summary'!$K116","v":0},{"$f":"'[1]Exec Summary'!$L116","v":4.0295909303450888},{"$f":"'[1]Exec Summary'!$M116","v":3.9625447636738258},{"$f":"'[1]Exec Summary'!$N116","v":3.8404820649149447},{"$f":"'[1]Exec Summary'!$O116","v":3.7224223125325846},{"$f":"'[1]Exec Summary'!$P116","v":3.6759672837599577},{"$f":"AVERAGE(K114:O114)","v":3.8462014710452808},{"$f":"'[1]Exec Summary'!$W116","v":3.8318201821204507},null,{"$f":"'[2]Exec Summary'!$J116","v":0},{"$f":"'[2]Exec Summary'!$K116","v":0},{"$f":"'[2]Exec Summary'!$L116","v":4.1808426049621712},{"$f":"'[2]Exec Summary'!$M116","v":4.1960922263857601},{"$f":"'[2]Exec Summary'!$N116","v":4.0284438625931145},{"$f":"'[2]Exec Summary'!$O116","v":4.039510841010709},{"$f":"'[2]Exec Summary'!$P116","v":4.0421398595291569},{"$f":"AVERAGE(U114:Y114)","v":4.0974058788961827},{"$f":"'[2]Exec Summary'!$W116","v":4.093152678625362},null,{"$f":"ROUND(I114 - S114, 3)","v":0},0,-0.151,-0.23400000000000001,-0.188,-0.317,-0.36599999999999999,null,{"$f":"ROUND(Q114 - AA114, 3)","v":-0.26100000000000001},null,{"$f":"IF(S114 = 0, 0, AC114 / S114)","v":0},{"$f":"IF(T114 = 0, 0, AD114 / T114)","v":0},{"$f":"IF(U114 = 0, 0, AE114 / U114)","v":-3.6117121419682402E-2},{"$f":"IF(V114 = 0, 0, AF114 / V114)","v":-5.5766171803509748E-2},{"$f":"IF(W114 = 0, 0, AG114 / W114)","v":-4.6668144428102853E-2},{"$f":"IF(X114 = 0, 0, AH114 / X114)","v":-7.8474848187481225E-2},{"$f":"IF(Y114 = 0, 0, AI114 / Y114)","v":-9.054610001610211E-2},null,{"$f":"IF(AA114 = 0, 0, AK114 / AA114)","v":-6.3765029182261984E-2}]
[null,null,null,null,"Adjusted cash interest cover ratio (Ofwat) - Appointee",0,"ratio",null,{"$f":"'[1]Exec Summary'!$J117","v":0},{"$f":"'[1]Exec Summary'!$K117","v":0},{"$f":"'[1]Exec Summary'!$L117","v":1.624787002935745},{"$f":"'[1]Exec Summary'!$M117","v":1.5702127847606031},{"$f":"'[1]Exec Summary'!$N117","v":1.5022421372317041},{"$f":"'[1]Exec Summary'!$O117","v":1.4500216794487408},{"$f":"'[1]Exec Summary'!$P117","v":1.4374087313709145},1.5169344671495415,{"$f":"'[1]Exec Summary'!$W117","v":1.5095242971663909},null,{"$f":"'[2]Exec Summary'!$J117","v":0},{"$f":"'[2]Exec Summary'!$K117","v":0},{"$f":"'[2]Exec Summary'!$L117","v":1.6364955761120672},{"$f":"'[2]Exec Summary'!$M117","v":1.6297316574261755},{"$f":"'[2]Exec Summary'!$N117","v":1.4883834746392013},{"$f":"'[2]Exec Summary'!$O117","v":1.5320142016129972},{"$f":"'[2]Exec Summary'!$P117","v":1.5206263930841775},1.5614502605749239,{"$f":"'[2]Exec Summary'!$W117","v":1.5583038708192862},null,0,0,-1.2E-2,-0.06,1.4E-2,-8.2000000000000003E-2,-8.3000000000000004E-2,null,{"$f":"ROUND(Q115 - AA115, 3)","v":-4.9000000000000002E-2},null,0,0,-7.3327420954654877E-3,-3.6815876851013375E-2,9.4061780707379444E-3,-5.3524308008153873E-2,-5.4582769559626709E-2,null,-3.1444444769451803E-2]
[null,null,null,null,"Adjusted cash interest cover ratio  - Appointee (Alternative)",0,"ratio",null,{"$f":"'[1]Exec Summary'!$J118","v":0},{"$f":"'[1]Exec Summary'!$K118","v":0},{"$f":"'[1]Exec Summary'!$L118","v":1.6247870029357456},{"$f":"'[1]Exec Summary'!$M118","v":1.5702127847606031},{"$f":"'[1]Exec Summary'!$N118","v":1.5022421372317041},{"$f":"'[1]Exec Summary'!$O118","v":1.4500216794487408},{"$f":"'[1]Exec Summary'!$P118","v":1.4374087313709145},1.5169344671495415,{"$f":"'[1]Exec Summary'!$W118","v":1.5095242971663909},null,{"$f":"'[2]Exec Summary'!$J118","v":0},{"$f":"'[2]Exec Summary'!$K118","v":0},{"$f":"'[2]Exec Summary'!$L118","v":1.5523230709613711},{"$f":"'[2]Exec Summary'!$M118","v":1.5147252050213413},{"$f":"'[2]Exec Summary'!$N118","v":1.3766055736343878},{"$f":"'[2]Exec Summary'!$O118","v":1.4264024231491426},{"$f":"'[2]Exec Summary'!$P118","v":1.4362417233010492},1.4612595992134585,{"$f":"'[2]Exec Summary'!$W118","v":1.4582466385494242}]
[null,null,null,null,"Funds from operations / net debt (Ofwat) - Appointee",0,"%",null,{"$f":"'[1]Exec Summary'!$J119","v":0},{"$f":"'[1]Exec Summary'!$K119","v":0},{"$f":"'[1]Exec Summary'!$L119","v":0.1005450254645337},{"$f":"'[1]Exec Summary'!$M119","v":9.6851859831646264E-2},{"$f":"'[1]Exec Summary'!$N119","v":9.3446295718078456E-2},{"$f":"'[1]Exec Summary'!$O119","v":9.0096704527275695E-2},{"$f":"'[1]Exec Summary'!$P119","v":9.1120804535431713E-2},9.4412138015393166E-2,{"$f":"'[1]Exec Summary'!$W119","v":9.4053882800078759E-2},null,{"$f":"'[2]Exec Summary'!$J119","v":0},{"$f":"'[2]Exec Summary'!$K119","v":0},{"$f":"'[2]Exec Summary'!$L119","v":0.10085066001862711},{"$f":"'[2]Exec Summary'!$M119","v":9.9141364413379743E-2},{"$f":"'[2]Exec Summary'!$N119","v":9.4088546690447777E-2},{"$f":"'[2]Exec Summary'!$O119","v":9.541893093071846E-2},{"$f":"'[2]Exec Summary'!$P119","v":9.7262328007983886E-2},9.7352366012231406E-2,{"$f":"'[2]Exec Summary'!$W119","v":9.7239667462064222E-2},null,{"$f":"ROUND(I117 - S117, 3)","v":0},0,0,-2E-3,-1E-3,-5.0000000000000001E-3,-6.0000000000000001E-3,null,{"$f":"ROUND(Q117 - AA117, 3)","v":-3.0000000000000001E-3},null,0,0,0,-2.0173214397784581E-2,-1.0628286174830711E-2,-5.2400503246367199E-2,-6.1688838041255641E-2,null,-3.085160694497829E-2]
[null,null,null,null,"Funds from operations / net debt - Appointee (Alternative)",0,"%",null,{"$f":"'[1]Exec Summary'!$J120","v":0},{"$f":"'[1]Exec Summary'!$K120","v":0},{"$f":"'[1]Exec Summary'!$L120","v":9.094138020827465E-2},{"$f":"'[1]Exec Summary'!$M120","v":8.7594568750753735E-2},{"$f":"'[1]Exec Summary'!$N120","v":8.4586410838142362E-2},{"$f":"'[1]Exec Summary'!$O120","v":8.1716495738689665E-2},{"$f":"'[1]Exec Summary'!$P120","v":8.2836146220138657E-2},8.5535000351199805E-2,{"$f":"'[1]Exec Summary'!$W120","v":8.5225644146150165E-2},null,{"$f":"'[2]Exec Summary'!$J120","v":0},{"$f":"'[2]Exec Summary'!$K120","v":0},{"$f":"'[2]Exec Summary'!$L120","v":9.105998669946383E-2},{"$f":"'[2]Exec Summary'!$M120","v":8.9534380766555705E-2},{"$f":"'[2]Exec Summary'!$N120","v":8.4752887588169457E-2},{"$f":"'[2]Exec Summary'!$O120","v":8.6265198043493113E-2},{"$f":"'[2]Exec Summary'!$P120","v":8.7936414130228097E-2},8.790977344558204E-2,{"$f":"'[2]Exec Summary'!$W120","v":8.781046397082852E-2}]
[null,null,null,null,"Retained cash flow / debt - Appointee",0,"ratio",null,{"$f":"'[1]Exec Summary'!$J121","v":0},{"$f":"'[1]Exec Summary'!$K121","v":0},{"$f":"'[1]Exec Summary'!$L121","v":8.2870336368292219E-2},{"$f":"'[1]Exec Summary'!$M121","v":7.9752246364904952E-2},{"$f":"'[1]Exec Summary'!$N121","v":7.7020850399729585E-2},{"$f":"'[1]Exec Summary'!$O121","v":7.4503670993165155E-2},{"$f":"'[1]Exec Summary'!$P121","v":7.5649138745348454E-2},7.795924857428807E-2,{"$f":"'[1]Exec Summary'!$W121","v":7.7683354495860849E-2},null,{"$f":"'[2]Exec Summary'!$J121","v":0},{"$f":"'[2]Exec Summary'!$K121","v":0},{"$f":"'[2]Exec Summary'!$L121","v":8.8316841084916053E-2},{"$f":"'[2]Exec Summary'!$M121","v":8.6817883258088049E-2},{"$f":"'[2]Exec Summary'!$N121","v":8.2080601135146758E-2},{"$f":"'[2]Exec Summary'!$O121","v":8.3610147630995293E-2},{"$f":"'[2]Exec Summary'!$P121","v":8.5195822629760318E-2},8.5204259147781292E-2,{"$f":"'[2]Exec Summary'!$W121","v":8.5105918769788999E-2},null,{"$f":"ROUND(I119 - S119, 3)","v":0},{"$f":"ROUND(J119 - T119, 3)","v":0},{"$f":"ROUND(K119 - U119, 3)","v":-5.0000000000000001E-3},{"$f":"ROUND(L119 - V119, 3)","v":-7.0000000000000001E-3},{"$f":"ROUND(M119 - W119, 3)","v":-5.0000000000000001E-3},{"$f":"ROUND(N119 - X119, 3)","v":-8.9999999999999993E-3},{"$f":"ROUND(O119 - Y119, 3)","v":-0.01},null,{"$f":"ROUND(Q119 - AA119, 3)","v":-7.0000000000000001E-3},null,0,0,-5.6614343748917981E-2,-8.0628549525801438E-2,-6.0915733204334556E-2,-0.10764243641478263,-0.11737664701539996,null,-8.2250448631369086E-2]
[null,null,null,null,"Gearing - Appointee",0,"%",null,{"$f":"'[1]Exec Summary'!$J122","v":0},{"$f":"'[1]Exec Summary'!$K122","v":0.60000000000000009},{"$f":"'[1]Exec Summary'!$L122","v":0.59678933191389261},{"$f":"'[1]Exec Summary'!$M122","v":0.60166482663561405},{"$f":"'[1]Exec Summary'!$N122","v":0.60952163224899136},{"$f":"'[1]Exec Summary'!$O122","v":0.61957503734089436},{"$f":"'[1]Exec Summary'!$P122","v":0.61889249151172743},0.60928866393022407,{"$f":"'[1]Exec Summary'!$W122","v":0.61002717731215061},null,{"$f":"'[2]Exec Summary'!$J122","v":0},{"$f":"'[2]Exec Summary'!$K122","v":0.59999999999999987},{"$f":"'[2]Exec Summary'!$L122","v":0.59484838392686801},{"$f":"'[2]Exec Summary'!$M122","v":0.59341665083467043},{"$f":"'[2]Exec Summary'!$N122","v":0.59829131067994445},{"$f":"'[2]Exec Summary'!$O122","v":0.60020030876906483},{"$f":"'[2]Exec Summary'!$P122","v":0.59157839927262323},0.59566701069663419,{"$f":"'[2]Exec Summary'!$W122","v":0.59568695589497356},null,0,0,2E-3,8.0000000000000002E-3,1.0999999999999999E-2,1.9E-2,2.7E-2,null,1.4E-2,null,0,0,3.3622012836230291E-3,1.3481252992728796E-2,1.8385692393724971E-2,3.1656098343179138E-2,4.5640611680882737E-2,null,2.3502277264013754E-2]
[null,null,null,null,"Dividend cover - Appointee",0,"ratio",null,{"$f":"'[1]Exec Summary'!$J123","v":0},{"$f":"'[1]Exec Summary'!$K123","v":0},{"$f":"'[1]Exec Summary'!$L123","v":1.2427253249347967},{"$f":"'[1]Exec Summary'!$M123","v":1.2033600600031833},{"$f":"'[1]Exec Summary'!$N123","v":1.1955222356836752},{"$f":"'[1]Exec Summary'!$O123","v":1.1650349988617947},{"$f":"'[1]Exec Summary'!$P123","v":1.1182171421420326},1.1849719523250966,{"$f":"'[1]Exec Summary'!$W123","v":1.1830599998256592},null,{"$f":"'[2]Exec Summary'!$J123","v":0},{"$f":"'[2]Exec Summary'!$K123","v":0},{"$f":"'[2]Exec Summary'!$L123","v":1.8393449931701789},{"$f":"'[2]Exec Summary'!$M123","v":1.8403370522888078},{"$f":"'[2]Exec Summary'!$N123","v":1.6202541958430419},{"$f":"'[2]Exec Summary'!$O123","v":1.3831893524324015},{"$f":"'[2]Exec Summary'!$P123","v":1.2196878613182547},1.5805626910105368,{"$f":"'[2]Exec Summary'!$W123","v":1.5695725396270124},null,0,0,-0.59699999999999998,-0.63700000000000001,-0.42499999999999999,-0.218,-0.10100000000000001,null,-0.38700000000000001,null,0,0,-0.32457206354260298,-0.34613224746400112,-0.26230452054399173,-0.15760676556440886,-8.2808071805222261E-2,null,-0.24656394669848475]
[null,null,null,null,"Regulatory equity / regulated earnings for the regulated company - Appointee",0,"ratio",null,{"$f":"'[1]Exec Summary'!$J124","v":0},{"$f":"'[1]Exec Summary'!$K124","v":0},{"$f":"'[1]Exec Summary'!$L124","v":19.459960819878621},{"$f":"'[1]Exec Summary'!$M124","v":21.670495114325536},{"$f":"'[1]Exec Summary'!$N124","v":21.511222979463604},{"$f":"'[1]Exec Summary'!$O124","v":21.368170186603027},{"$f":"'[1]Exec Summary'!$P124","v":21.252297267314386},21.052429273517035,{"$f":"'[1]Exec Summary'!$W124","v":21.052429273517035},null,{"$f":"'[2]Exec Summary'!$J124","v":0},{"$f":"'[2]Exec Summary'!$K124","v":0},{"$f":"'[2]Exec Summary'!$L124","v":23.588048013590303},{"$f":"'[2]Exec Summary'!$M124","v":25.618823755564392},{"$f":"'[2]Exec Summary'!$N124","v":25.423062689303915},{"$f":"'[2]Exec Summary'!$O124","v":25.245487280606341},{"$f":"'[2]Exec Summary'!$P124","v":25.095199009277415},24.994124149668473,{"$f":"'[2]Exec Summary'!$W124","v":24.994124149668473},null,0,0,-4.1280000000000001,-3.948,-3.9119999999999999,-3.8769999999999998,-3.843,null,-3.9420000000000002,null,0,0,-0.1750038832217759,-0.15410543581816463,-0.15387603168857664,-0.15357200108307367,-0.15313686090232978,null,-0.15771706887565762]
[null,null,null,null,"RCV / EBITDA - Appointee",0,"ratio",null,{"$f":"'[1]Exec Summary'!$J125","v":0},{"$f":"'[1]Exec Summary'!$K125","v":0},{"$f":"'[1]Exec Summary'!$L125","v":12.129975674951572},{"$f":"'[1]Exec Summary'!$M125","v":12.362782733714342},{"$f":"'[1]Exec Summary'!$N125","v":12.499863627046045},{"$f":"'[1]Exec Summary'!$O125","v":12.564578563212688},{"$f":"'[1]Exec Summary'!$P125","v":12.547055191671383},12.420851158119207,{"$f":"'[1]Exec Summary'!$W125","v":59.553140574313566},null,{"$f":"'[2]Exec Summary'!$J125","v":0},{"$f":"'[2]Exec Summary'!$K125","v":0},{"$f":"'[2]Exec Summary'!$L125","v":12.146441772208966},{"$f":"'[2]Exec Summary'!$M125","v":12.273116357158012},{"$f":"'[2]Exec Summary'!$N125","v":12.669316612128275},{"$f":"'[2]Exec Summary'!$O125","v":12.970682356858759},{"$f":"'[2]Exec Summary'!$P125","v":13.043939170458332},12.620699253762469,{"$f":"'[2]Exec Summary'!$W125","v":12.632661376385308},null,0,0,-1.6E-2,0.09,-0.16900000000000001,-0.40600000000000003,-0.497,null,46.92,null,0,0,-1.317258197919984E-3,7.3331008507476238E-3,-1.3339314595565251E-2,-3.1301360162082105E-2,-3.8101986946213015E-2,null,3.7141817232360284]
[null,null,null,null,"Base RoRE Appointee",0,"%",null,{"$f":"'[1]Exec Summary'!$J126","v":0},{"$f":"'[1]Exec Summary'!$K126","v":0},{"$f":"'[1]Exec Summary'!$L126","v":5.1387564921430165E-2},{"$f":"'[1]Exec Summary'!$M126","v":4.614569232148915E-2},{"$f":"'[1]Exec Summary'!$N126","v":4.6487361548652205E-2},{"$f":"'[1]Exec Summary'!$O126","v":4.6798578973643673E-2},{"$f":"'[1]Exec Summary'!$P126","v":4.7053736705348098E-2},4.7574586894112661E-2,{"$f":"'[1]Exec Summary'!$W126","v":4.7490563084101933E-2},null,{"$f":"'[2]Exec Summary'!$J126","v":0},{"$f":"'[2]Exec Summary'!$K126","v":0},{"$f":"'[2]Exec Summary'!$L126","v":4.2394351555662763E-2},{"$f":"'[2]Exec Summary'!$M126","v":3.903379833286845E-2},{"$f":"'[2]Exec Summary'!$N126","v":3.9334363928572764E-2},{"$f":"'[2]Exec Summary'!$O126","v":3.9611039742861412E-2},{"$f":"'[2]Exec Summary'!$P126","v":3.9848259407319751E-2},4.0044362593457034E-2,{"$f":"'[2]Exec Summary'!$W126","v":4.0007324864579939E-2},null,0,0,8.9999999999999993E-3,7.0000000000000001E-3,7.0000000000000001E-3,7.0000000000000001E-3,7.0000000000000001E-3,null,7.0000000000000001E-3,null,0,0,0.21229243212231272,0.17933176628895076,0.17796143882512741,0.17671841096424437,0.17566639306494189,null,0.17496795958475533]
[null,null,null,null,null,null,null,null,null,null,null,null,null,null,null,null,null,null,null,null,null,null,null,null,null,null,null,null,0,0,0,0,0,0,0,null,0,null,0,0,0,0,0,0,0,null,0]
[null,"Wholesale - Additional financial indicators",null,null,null,null,null,null,null,null,null,null,null,null,null,null,null,null,null,null,null,null,null,null,null,null,null,null,0,0,0,0,0,0,0,null,0,null,0,0,0,0,0,0,0,null,0]
[null,null,null,null,"RCV balance - Wholesale - nominal",0,"£m",null,{"$f":"'[1]Exec Summary'!$J129","v":0},{"$f":"'[1]Exec Summary'!$K129","v":7967.2064933318234},{"$f":"'[1]Exec Summary'!$L129","v":8257.2485536408003},{"$f":"'[1]Exec Summary'!$M129","v":8751.6753741340144},{"$f":"'[1]Exec Summary'!$N129","v":9297.1484429000102},{"$f":"'[1]Exec Summary'!$O129","v":9959.9106338348174},{"$f":"'[1]Exec Summary'!$P129","v":10388.470283920442},{"$f":"AVERAGE(K127:O127)","v":9330.8906576860172},{"$f":"'[1]Exec Summary'!$W129","v":10388.470283920442},null,{"$f":"'[2]Exec Summary'!$J129","v":0},{"$f":"'[2]Exec Summary'!$K129","v":7879.5399805901588},{"$f":"'[2]Exec Summary'!$L129","v":8036.5280061156182},{"$f":"'[2]Exec Summary'!$M129","v":8456.2488246070861},{"$f":"'[2]Exec Summary'!$N129","v":8890.0474233575878},{"$f":"'[2]Exec Summary'!$O129","v":9309.032205995778},{"$f":"'[2]Exec Summary'!$P129","v":9548.44165701768},{"$f":"AVERAGE(U127:Y127)","v":8848.0596234187506},{"$f":"'[2]Exec Summary'!$W129","v":9548.44165701768},null,0,87.667000000000002,220.721,295.42700000000002,407.101,650.87800000000004,840.029,null,840.029,null,0,1.1125903316177342E-2,2.7464721062632553E-2,3.493593981533849E-2,4.5792894077301374E-2,6.9918976065071664E-2,8.7975507436086814E-2,null,8.7975507436086814E-2]
[null,null,null,null,"Gearing - Wholesale",0,"%",null,{"$f":"'[1]Exec Summary'!$J130","v":0},{"$f":"'[1]Exec Summary'!$K130","v":0.6},{"$f":"'[1]Exec Summary'!$L130","v":0.59938570725345108},{"$f":"'[1]Exec Summary'!$M130","v":0.60491107611233252},{"$f":"'[1]Exec Summary'!$N130","v":0.61328834580410307},{"$f":"'[1]Exec Summary'!$O130","v":0.62374286809234936},{"$f":"'[1]Exec Summary'!$P130","v":0.62351948420745151},{"$f":"AVERAGE(K128:O128)","v":0.61296949629393738},{"$f":"'[1]Exec Summary'!$W130","v":0.61376631299660789},null,{"$f":"'[2]Exec Summary'!$J130","v":0},{"$f":"'[2]Exec Summary'!$K130","v":0.6},{"$f":"'[2]Exec Summary'!$L130","v":0.59829157568901947},{"$f":"'[2]Exec Summary'!$M130","v":0.59749599751490712},{"$f":"'[2]Exec Summary'!$N130","v":0.60302735856762768},{"$f":"'[2]Exec Summary'!$O130","v":0.6055014976147296},{"$f":"'[2]Exec Summary'!$P130","v":0.59742562440590685},{"$f":"AVERAGE(U128:Y128)","v":0.60034841075843814},{"$f":"'[2]Exec Summary'!$W130","v":0.60042136779017052},null,0,0,1E-3,7.0000000000000001E-3,0.01,1.7999999999999999E-2,2.5999999999999999E-2,null,1.2999999999999999E-2,null,0,0,1.6714258409009938E-3,1.1715559650799762E-2,1.6582995543938543E-2,2.9727424409201206E-2,4.3520061640902948E-2,null,2.1651461286006587E-2]
[null,null,null,null,"Average of RCV - Wholesale - nominal",0,"£m",null,{"$f":"'[1]Exec Summary'!$J131","v":0},{"$f":"'[1]Exec Summary'!$K131","v":3983.6032466659117},{"$f":"'[1]Exec Summary'!$L131","v":8203.9920406372803},{"$f":"'[1]Exec Summary'!$M131","v":8606.5145153593967},{"$f":"'[1]Exec Summary'!$N131","v":9131.0541354109773},{"$f":"'[1]Exec Summary'!$O131","v":9740.2791221567695},{"$f":"'[1]Exec Summary'!$P131","v":10292.227351347938},9194.8134329824716,{"$f":"'[1]Exec Summary'!$W131","v":9194.8134329824716},null,{"$f":"'[2]Exec Summary'!$J131","v":0},{"$f":"'[2]Exec Summary'!$K131","v":3939.7699902950794},{"$f":"'[2]Exec Summary'!$L131","v":8044.8896347792897},{"$f":"'[2]Exec Summary'!$M131","v":8345.2803959062967},{"$f":"'[2]Exec Summary'!$N131","v":8781.1813773217673},{"$f":"'[2]Exec Summary'!$O131","v":9213.2997236145966},{"$f":"'[2]Exec Summary'!$P131","v":9546.5652308783938},8786.243272500069,{"$f":"'[2]Exec Summary'!$W131","v":8786.243272500069},null,0,43.832999999999998,159.102,261.23399999999998,349.87299999999999,526.97900000000004,745.66200000000003,null,408.57,null,0,1.1125776405215221E-2,1.977677845475688E-2,3.1303202242089552E-2,3.9843499976390438E-2,5.7197639912799192E-2,7.8107882988968022E-2,null,4.650110261330654E-2]
[null,null,null,null,"Year average RCV - Growth",0,"%",null,{"$f":"'[1]Exec Summary'!$J132","v":0},{"$f":"'[1]Exec Summary'!$K132","v":0},{"$f":"'[1]Exec Summary'!$L132","v":0},{"$f":"'[1]Exec Summary'!$M132","v":4.9064220531697345E-2},{"$f":"'[1]Exec Summary'!$N132","v":6.0946811757009778E-2},{"$f":"'[1]Exec Summary'!$O132","v":6.6720115521291978E-2},{"$f":"'[1]Exec Summary'!$P132","v":5.6666572104244972E-2},4.6679543982848813E-2,{"$f":"'[1]Exec Summary'!$W132","v":5.8329824843542655E-2},null,{"$f":"'[2]Exec Summary'!$J132","v":0},{"$f":"'[2]Exec Summary'!$K132","v":0},{"$f":"'[2]Exec Summary'!$L132","v":0},{"$f":"'[2]Exec Summary'!$M132","v":3.733932654941241E-2},{"$f":"'[2]Exec Summary'!$N132","v":5.2233233724453099E-2},{"$f":"'[2]Exec Summary'!$O132","v":4.9209591252586504E-2},{"$f":"'[2]Exec Summary'!$P132","v":3.6172220296882829E-2},3.4990874364666968E-2,{"$f":"'[2]Exec Summary'!$W132","v":4.371461160772494E-2},null,0,0,0,1.2E-2,8.9999999999999993E-3,1.7999999999999999E-2,0.02,null,1.4999999999999999E-2,null,0,0,0,0.32137697995490061,0.17230409373997135,0.36578235140398369,0.55291048865262815,null,0.34313469680579994]
[null,null,null,null,"Pre-tax return on RCV",0,"%",null,{"$f":"'[1]Exec Summary'!$J133","v":0},{"$f":"'[1]Exec Summary'!$K133","v":0},{"$f":"'[1]Exec Summary'!$L133","v":3.6967348992500697E-2},{"$f":"'[1]Exec Summary'!$M133","v":3.82193295872904E-2},{"$f":"'[1]Exec Summary'!$N133","v":3.7860633472616347E-2},{"$f":"'[1]Exec Summary'!$O133","v":3.7525890695548542E-2},{"$f":"'[1]Exec Summary'!$P133","v":3.6462346898106963E-2},3.740710992921259E-2,{"$f":"'[1]Exec Summary'!$W133","v":3.7384422682329513E-2},null,{"$f":"'[2]Exec Summary'!$J133","v":0},{"$f":"'[2]Exec Summary'!$K133","v":0},{"$f":"'[2]Exec Summary'!$L133","v":3.713339514409314E-2},{"$f":"'[2]Exec Summary'!$M133","v":3.7984122430491443E-2},{"$f":"'[2]Exec Summary'!$N133","v":3.5889489744007165E-2},{"$f":"'[2]Exec Summary'!$O133","v":3.3870582127341099E-2},{"$f":"'[2]Exec Summary'!$P133","v":3.1851850334832912E-2},3.5345887956153156E-2,{"$f":"'[2]Exec Summary'!$W133","v":3.521436593260599E-2},null,0,0,0,0,2E-3,4.0000000000000001E-3,5.0000000000000001E-3,null,2E-3,null,0,0,0,0,5.5726621199287472E-2,0.11809658260260929,0.15697675166243144,null,5.6795002466540019E-2]
[null,null,null,null,"Post-tax return on RCV",0,"%",null,{"$f":"'[1]Exec Summary'!$J134","v":0},{"$f":"'[1]Exec Summary'!$K134","v":0},{"$f":"'[1]Exec Summary'!$L134","v":3.6967348992500697E-2},{"$f":"'[1]Exec Summary'!$M134","v":3.82193295872904E-2},{"$f":"'[1]Exec Summary'!$N134","v":3.7860633472616347E-2},{"$f":"'[1]Exec Summary'!$O134","v":3.7525890695548542E-2},{"$f":"'[1]Exec Summary'!$P134","v":3.6462346898106963E-2},3.740710992921259E-2,{"$f":"'[1]Exec Summary'!$W134","v":3.7384422682329513E-2},null,{"$f":"'[2]Exec Summary'!$J134","v":0},{"$f":"'[2]Exec Summary'!$K134","v":0},{"$f":"'[2]Exec Summary'!$L134","v":3.713339514409314E-2},{"$f":"'[2]Exec Summary'!$M134","v":3.7984122430491443E-2},{"$f":"'[2]Exec Summary'!$N134","v":3.5889489744007165E-2},{"$f":"'[2]Exec Summary'!$O134","v":3.3870582127341099E-2},{"$f":"'[2]Exec Summary'!$P134","v":3.1851850334832912E-2},3.5345887956153156E-2,{"$f":"'[2]Exec Summary'!$W134","v":3.521436593260599E-2},null,0,0,0,0,2E-3,4.0000000000000001E-3,5.0000000000000001E-3,null,2E-3,null,0,0,0,0,5.5726621199287472E-2,0.11809658260260929,0.15697675166243144,null,5.6795002466540019E-2]
[null,null,null,null,"Return on capital employed  (ROCE) (building blocks) - Wholesale",0,"%",null,{"$f":"'[1]Exec Summary'!$J135","v":0},{"$f":"'[1]Exec Summary'!$K135","v":0},{"$f":"'[1]Exec Summary'!$L135","v":2.8718527436166232E-2},{"$f":"'[1]Exec Summary'!$M135","v":3.0048535951854395E-2},{"$f":"'[1]Exec Summary'!$N135","v":2.933503050368973E-2},{"$f":"'[1]Exec Summary'!$O135","v":2.9139344203418197E-2},{"$f":"'[1]Exec Summary'!$P135","v":2.9414606051335411E-2},2.9331208829292792E-2,{"$f":"'[1]Exec Summary'!$W135","v":2.933494304526215E-2},null,{"$f":"'[2]Exec Summary'!$J135","v":0},{"$f":"'[2]Exec Summary'!$K135","v":0},{"$f":"'[2]Exec Summary'!$L135","v":2.631720887917199E-2},{"$f":"'[2]Exec Summary'!$M135","v":2.6915422358932573E-2},{"$f":"'[2]Exec Summary'!$N135","v":2.4645352203372745E-2},{"$f":"'[2]Exec Summary'!$O135","v":2.5990961188076436E-2},{"$f":"'[2]Exec Summary'!$P135","v":2.6075837544057914E-2},2.5988956434722332E-2,{"$f":"'[2]Exec Summary'!$W135","v":2.5975795558952595E-2},null,0,0,2E-3,3.0000000000000001E-3,5.0000000000000001E-3,3.0000000000000001E-3,3.0000000000000001E-3,null,3.0000000000000001E-3,null,0,0,7.5995900978041916E-2,0.11146026096091979,0.20287800956302601,0.1154247424053049,0.11504903706088748,null,0.11549213163429159]
[null,null,null,null,"Base RoRE Wholesale",0,"%",null,{"$f":"'[1]Exec Summary'!$J136","v":0},{"$f":"'[1]Exec Summary'!$K136","v":0},{"$f":"'[1]Exec Summary'!$L136","v":4.2917639481125744E-2},{"$f":"'[1]Exec Summary'!$M136","v":4.3235135497665285E-2},{"$f":"'[1]Exec Summary'!$N136","v":4.3580648937616699E-2},{"$f":"'[1]Exec Summary'!$O136","v":4.3921703317122175E-2},{"$f":"'[1]Exec Summary'!$P136","v":4.4200918973150129E-2},4.3571209241336006E-2,{"$f":"'[1]Exec Summary'!$W136","v":4.3608772060428645E-2},null,{"$f":"'[2]Exec Summary'!$J136","v":0},{"$f":"'[2]Exec Summary'!$K136","v":0},{"$f":"'[2]Exec Summary'!$L136","v":3.5929237024681197E-2},{"$f":"'[2]Exec Summary'!$M136","v":3.6196242570449524E-2},{"$f":"'[2]Exec Summary'!$N136","v":3.6503254325240667E-2},{"$f":"'[2]Exec Summary'!$O136","v":3.6776214453064789E-2},{"$f":"'[2]Exec Summary'!$P136","v":3.6983581438335758E-2},3.647770596235439E-2,{"$f":"'[2]Exec Summary'!$W136","v":3.6501440867088099E-2},null,0,0,7.0000000000000001E-3,7.0000000000000001E-3,7.0000000000000001E-3,7.0000000000000001E-3,7.0000000000000001E-3,null,7.0000000000000001E-3,null,0,0,0.19482740463404294,0.19339023895576316,0.19176372434168851,0.19034041714471911,0.18927317819858488,null,0.19177325151324703]
[null,null,null,null,"RCF to capex - Wholesale",0,"ratio",null,{"$f":"'[1]Exec Summary'!$J137","v":0},{"$f":"'[1]Exec Summary'!$K137","v":0},{"$f":"'[1]Exec Summary'!$L137","v":0.75747865794979219},{"$f":"'[1]Exec Summary'!$M137","v":0.5805914326689765},{"$f":"'[1]Exec Summary'!$N137","v":0.55119695490737664},{"$f":"'[1]Exec Summary'!$O137","v":0.49403861129546001},{"$f":"'[1]Exec Summary'!$P137","v":0.69293362387587021},0.61524785613949506,{"$f":"'[1]Exec Summary'!$W137","v":0.59868108756030824},null,{"$f":"'[2]Exec Summary'!$J137","v":0},{"$f":"'[2]Exec Summary'!$K137","v":0},{"$f":"'[2]Exec Summary'!$L137","v":1.0334539568449164},{"$f":"'[2]Exec Summary'!$M137","v":0.65816293102136303},{"$f":"'[2]Exec Summary'!$N137","v":0.64262104523505792},{"$f":"'[2]Exec Summary'!$O137","v":0.69516651951046582},{"$f":"'[2]Exec Summary'!$P137","v":0.9788870739149178},0.8016583053053441,{"$f":"'[2]Exec Summary'!$W137","v":0.76883025453913234},null,0,0,-0.27600000000000002,-7.8E-2,-9.0999999999999998E-2,-0.20100000000000001,-0.28599999999999998,null,-0.17,null,0,0,-0.26706559897705973,-0.11851168809971802,-0.14160756276930522,-0.28913935633946181,-0.29216853263388615,null,-0.22111512781440271]
[null,null,null,null,"Forecast end period flag",null,null,null,{"$f":"'[1]Exec Summary'!$J138","v":0},{"$f":"'[1]Exec Summary'!$K138","v":0},{"$f":"'[1]Exec Summary'!$L138","v":0},{"$f":"'[1]Exec Summary'!$M138","v":0},{"$f":"'[1]Exec Summary'!$N138","v":0},{"$f":"'[1]Exec Summary'!$O138","v":0},{"$f":"'[1]Exec Summary'!$P138","v":0},0,{"$f":"'[1]Exec Summary'!$W138","v":0},null,{"$f":"'[2]Exec Summary'!$J138","v":0},{"$f":"'[2]Exec Summary'!$K138","v":0},{"$f":"'[2]Exec Summary'!$L138","v":0},{"$f":"'[2]Exec Summary'!$M138","v":0},{"$f":"'[2]Exec Summary'!$N138","v":0},{"$f":"'[2]Exec Summary'!$O138","v":0},{"$f":"'[2]Exec Summary'!$P138","v":0},0,{"$f":"'[2]Exec Summary'!$W138","v":0},null,0,0,0,0,0,0,0,null,0,null,0,0,0,0,0,0,0,null,0]
[null,"Water resources - Additional financial indicators",null,null,null,null,null,null,null,null,null,null,null,null,null,null,null,null,null,null,null,null,null,null,null,null,null,null,0,0,0,0,0,0,0,null,0,null,0,0,0,0,0,0,0,null,0]
[null,null,null,null,"RCV balance - forecast - WR - nominal",0,"£m",null,{"$f":"'[1]Exec Summary'!$J140","v":0},{"$f":"'[1]Exec Summary'!$K140","v":202.21973869928635},{"$f":"'[1]Exec Summary'!$L140","v":218.84092995937533},{"$f":"'[1]Exec Summary'!$M140","v":235.64786557745398},{"$f":"'[1]Exec Summary'!$N140","v":255.1961465667064},{"$f":"'[1]Exec Summary'!$O140","v":265.76301883747317},{"$f":"'[1]Exec Summary'!$P140","v":267.19995335230277},248.52958285866234,{"$f":"'[1]Exec Summary'!$W140","v":267.19995335230277},null,{"$f":"'[2]Exec Summary'!$J140","v":0},{"$f":"'[2]Exec Summary'!$K140","v":200.28558630337912},{"$f":"'[2]Exec Summary'!$L140","v":202.06257539392215},{"$f":"'[2]Exec Summary'!$M140","v":208.12697549357878},{"$f":"'[2]Exec Summary'!$N140","v":218.69474480280209},{"$f":"'[2]Exec Summary'!$O140","v":223.95851059489064},{"$f":"'[2]Exec Summary'!$P140","v":223.88476923945217},{"$f":"AVERAGE(U138:Y138)","v":215.34551510492915},{"$f":"'[2]Exec Summary'!$W140","v":223.88476923945217},null,0,1.9339999999999999,16.777999999999999,27.521000000000001,36.500999999999998,41.805,43.314999999999998,null,43.314999999999998,null,0,9.6562115911352046E-3,8.3033683834283473E-2,0.13223177790737217,0.16690387340085877,0.18666403830314512,0.19347006117094626,null,0.19347006117094626]
[null,null,null,null,"Average of RCV - WR - nominal",0,"£m",null,{"$f":"'[1]Exec Summary'!$J141","v":0},{"$f":"'[1]Exec Summary'!$K141","v":101.10986934964318},{"$f":"'[1]Exec Summary'!$L141","v":212.85945642446745},{"$f":"'[1]Exec Summary'!$M141","v":229.92580766156709},{"$f":"'[1]Exec Summary'!$N141","v":248.26108892489648},{"$f":"'[1]Exec Summary'!$O141","v":263.50397120749136},{"$f":"'[1]Exec Summary'!$P141","v":269.60158078158327},244.83038100000113,{"$f":"'[1]Exec Summary'!$W141","v":244.83038100000113},null,{"$f":"'[2]Exec Summary'!$J141","v":0},{"$f":"'[2]Exec Summary'!$K141","v":100.14279315168956},{"$f":"'[2]Exec Summary'!$L141","v":203.38181545113946},{"$f":"'[2]Exec Summary'!$M141","v":207.58491998358866},{"$f":"'[2]Exec Summary'!$N141","v":216.0831478677693},{"$f":"'[2]Exec Summary'!$O141","v":224.13725645904532},{"$f":"'[2]Exec Summary'!$P141","v":226.77766959001821},215.59296187031219,{"$f":"'[2]Exec Summary'!$W141","v":215.59296187031219},null,0,0.96699999999999997,9.4779999999999998,22.341000000000001,32.177999999999997,39.366999999999997,42.823999999999998,null,29.236999999999998,null,0,9.6562115911352046E-3,4.6602003128824461E-2,0.10762342467731396,0.14891489835056976,0.17563791322302186,0.18883693477148655,null,0.13561203365064961]
[null,null,null,null,"Year average RCV Growth - WR",0,"%",null,{"$f":"'[1]Exec Summary'!$J142","v":0},{"$f":"'[1]Exec Summary'!$K142","v":0},{"$f":"'[1]Exec Summary'!$L142","v":0},{"$f":"'[1]Exec Summary'!$M142","v":8.0176617585019372E-2},{"$f":"'[1]Exec Summary'!$N142","v":7.9744337748798966E-2},{"$f":"'[1]Exec Summary'!$O142","v":6.1398595924172961E-2},{"$f":"'[1]Exec Summary'!$P142","v":2.3140484548107354E-2},4.8892007161219733E-2,{"$f":"'[1]Exec Summary'!$W142","v":6.085828240993707E-2},null,{"$f":"'[2]Exec Summary'!$J142","v":0},{"$f":"'[2]Exec Summary'!$K142","v":0},{"$f":"'[2]Exec Summary'!$L142","v":0},{"$f":"'[2]Exec Summary'!$M142","v":2.0666078346905925E-2},{"$f":"'[2]Exec Summary'!$N142","v":4.0938560878374552E-2},{"$f":"'[2]Exec Summary'!$O142","v":3.7273191689176421E-2},{"$f":"'[2]Exec Summary'!$P142","v":1.1780340192820038E-2},2.2131634221455386E-2,{"$f":"'[2]Exec Summary'!$W142","v":2.7595141177360949E-2},null,0,0,0,0.06,3.9E-2,2.4E-2,1.0999999999999999E-2,null,3.3000000000000002E-2,null,0,0,0,2.9033084551807602,0.95264706827057566,0.64389441612989751,0.93375911221174701,null,1.1958626987229621]
[null,null,null,null,"Pre-tax return on RCV - WR",0,"%",null,{"$f":"'[1]Exec Summary'!$J143","v":0},{"$f":"'[1]Exec Summary'!$K143","v":0},{"$f":"'[1]Exec Summary'!$L143","v":2.1389520880747383E-2},{"$f":"'[1]Exec Summary'!$M143","v":2.2617881220648482E-2},{"$f":"'[1]Exec Summary'!$N143","v":2.3721738299204334E-2},{"$f":"'[1]Exec Summary'!$O143","v":2.4328096723106495E-2},{"$f":"'[1]Exec Summary'!$P143","v":2.6052844516776124E-2},2.3622016328096566E-2,{"$f":"'[1]Exec Summary'!$W143","v":2.375278674299543E-2},null,{"$f":"'[2]Exec Summary'!$J143","v":0},{"$f":"'[2]Exec Summary'!$K143","v":0},{"$f":"'[2]Exec Summary'!$L143","v":2.4867197939531557E-2},{"$f":"'[2]Exec Summary'!$M143","v":2.3231357971335981E-2},{"$f":"'[2]Exec Summary'!$N143","v":2.1313866079751945E-2},{"$f":"'[2]Exec Summary'!$O143","v":1.9162773430321779E-2},{"$f":"'[2]Exec Summary'!$P143","v":2.0033184017572411E-2},2.1721675887702734E-2,{"$f":"'[2]Exec Summary'!$W143","v":2.1636840803997467E-2},null,0,0,-3.0000000000000001E-3,-1E-3,2E-3,5.0000000000000001E-3,6.0000000000000001E-3,null,2E-3,null,0,0,-0.12064085416036678,-4.3045266713803404E-2,9.3835627591748308E-2,0.26092256521116947,0.29950306425264245,null,9.2434936232950168E-2]
[null,null,null,null,"Post-tax return on RCV - WR",0,"%",null,{"$f":"'[1]Exec Summary'!$J144","v":0},{"$f":"'[1]Exec Summary'!$K144","v":0},{"$f":"'[1]Exec Summary'!$L144","v":2.1389520880747383E-2},{"$f":"'[1]Exec Summary'!$M144","v":2.2617881220648482E-2},{"$f":"'[1]Exec Summary'!$N144","v":2.3721738299204334E-2},{"$f":"'[1]Exec Summary'!$O144","v":2.4328096723106495E-2},{"$f":"'[1]Exec Summary'!$P144","v":2.6052844516776124E-2},2.3622016328096566E-2,{"$f":"'[1]Exec Summary'!$W144","v":2.3752786742995427E-2},null,{"$f":"'[2]Exec Summary'!$J144","v":0},{"$f":"'[2]Exec Summary'!$K144","v":0},{"$f":"'[2]Exec Summary'!$L144","v":2.4867197939531557E-2},{"$f":"'[2]Exec Summary'!$M144","v":2.3231357971335981E-2},{"$f":"'[2]Exec Summary'!$N144","v":2.1313866079751945E-2},{"$f":"'[2]Exec Summary'!$O144","v":1.9162773430321779E-2},{"$f":"'[2]Exec Summary'!$P144","v":2.0033184017572411E-2},2.1721675887702734E-2,{"$f":"'[2]Exec Summary'!$W144","v":2.1636840803997463E-2},null,0,0,-3.0000000000000001E-3,-1E-3,2E-3,5.0000000000000001E-3,6.0000000000000001E-3,null,2E-3,null,0,0,-0.12064085416036678,-4.3045266713803404E-2,9.3835627591748308E-2,0.26092256521116947,0.29950306425264245,null,9.2434936232950182E-2]
[null,null,null,null,null,null,null,null,null,null,null,null,null,null,null,null,null,null,null,null,null,null,null,null,null,null,null,null,0,0,0,0,0,0,0,null,0,null,0,0,0,0,0,0,0,null,0]
[null,"Water network - Additional financial indicators",null,null,null,null,null,null,null,null,null,null,null,null,null,null,null,null,null,null,null,null,null,null,null,null,null,null,0,0,0,0,0,0,0,null,0,null,0,0,0,0,0,0,0,null,0]
[null,null,null,null,"RCV balance - forecast - WN - nominal",0,"£m",null,{"$f":"'[1]Exec Summary'!$J147","v":0},{"$f":"'[1]Exec Summary'!$K147","v":2853.1444362731609},{"$f":"'[1]Exec Summary'!$L147","v":3010.2796196131858},{"$f":"'[1]Exec Summary'!$M147","v":3251.6005511391832},{"$f":"'[1]Exec Summary'!$N147","v":3541.3495156485119},{"$f":"'[1]Exec Summary'!$O147","v":3826.6020256109905},{"$f":"'[1]Exec Summary'!$P147","v":3981.9072328525517},{"$f":"AVERAGE(K145:O145)","v":3522.3477889728842},{"$f":"'[1]Exec Summary'!$W147","v":3981.9072328525517},null,{"$f":"'[2]Exec Summary'!$J147","v":0},{"$f":"'[2]Exec Summary'!$K147","v":2825.835400698772},{"$f":"'[2]Exec Summary'!$L147","v":2928.5651676984685},{"$f":"'[2]Exec Summary'!$M147","v":3111.1379637900741},{"$f":"'[2]Exec Summary'!$N147","v":3316.9019057096821},{"$f":"'[2]Exec Summary'!$O147","v":3492.9949044570649},{"$f":"'[2]Exec Summary'!$P147","v":3597.6514876195638},{"$f":"AVERAGE(U145:Y145)","v":3289.4502858549704},{"$f":"'[2]Exec Summary'!$W147","v":3597.6514876195638},null,0,27.309000000000001,81.713999999999999,140.46299999999999,224.44800000000001,333.60700000000003,384.25599999999997,null,384.25599999999997,null,0,9.6640448319272373E-3,2.790240111481564E-2,4.5148431742603946E-2,6.7667964377733772E-2,9.5507439639925376E-2,0.10680745517522273,null,0.10680745517522273]
[null,null,null,null,"Average of RCV - WN - nominal",0,"£m",null,{"$f":"'[1]Exec Summary'!$J148","v":0},{"$f":"'[1]Exec Summary'!$K148","v":1426.5722181365804},{"$f":"'[1]Exec Summary'!$L148","v":2964.5739126923272},{"$f":"'[1]Exec Summary'!$M148","v":3168.0755383204673},{"$f":"'[1]Exec Summary'!$N148","v":3435.9514491706168},{"$f":"'[1]Exec Summary'!$O148","v":3726.2781717569574},{"$f":"'[1]Exec Summary'!$P148","v":3949.3387857275648},3448.8435715335863,{"$f":"'[1]Exec Summary'!$W148","v":3448.8435715335863},null,{"$f":"'[2]Exec Summary'!$J148","v":0},{"$f":"'[2]Exec Summary'!$K148","v":1412.917700349386},{"$f":"'[2]Exec Summary'!$L148","v":2908.3492785431786},{"$f":"'[2]Exec Summary'!$M148","v":3055.8358280281204},{"$f":"'[2]Exec Summary'!$N148","v":3253.6963770005268},{"$f":"'[2]Exec Summary'!$O148","v":3447.2758126234826},{"$f":"'[2]Exec Summary'!$P148","v":3589.43694658697},3250.9188485564555,{"$f":"'[2]Exec Summary'!$W148","v":3250.9188485564555},null,0,13.654999999999999,56.225000000000001,112.24,182.255,279.00200000000001,359.90199999999999,null,197.92500000000001,null,0,9.6643987095804615E-3,1.9332272232502855E-2,3.6729721855649093E-2,5.601475333971228E-2,8.0934052035619083E-2,0.10026697929384557,null,6.0882787058153427E-2]
[null,null,null,null,"Year average RCV Growth - WN",0,"%",null,{"$f":"'[1]Exec Summary'!$J149","v":0},{"$f":"'[1]Exec Summary'!$K149","v":0},{"$f":"'[1]Exec Summary'!$L149","v":0},{"$f":"'[1]Exec Summary'!$M149","v":6.8644476953966915E-2},{"$f":"'[1]Exec Summary'!$N149","v":8.4554773902948632E-2},{"$f":"'[1]Exec Summary'!$O149","v":8.4496747664004612E-2},{"$f":"'[1]Exec Summary'!$P149","v":5.9861503540255878E-2},5.9511500412235206E-2,{"$f":"'[1]Exec Summary'!$W149","v":7.4336984936040684E-2},null,{"$f":"'[2]Exec Summary'!$J149","v":0},{"$f":"'[2]Exec Summary'!$K149","v":0},{"$f":"'[2]Exec Summary'!$L149","v":0},{"$f":"'[2]Exec Summary'!$M149","v":5.0711429529131102E-2},{"$f":"'[2]Exec Summary'!$N149","v":6.4748422398098082E-2},{"$f":"'[2]Exec Summary'!$O149","v":5.9495236553513298E-2},{"$f":"'[2]Exec Summary'!$P149","v":4.1238688660452327E-2},4.3238755428238962E-2,{"$f":"'[2]Exec Summary'!$W149","v":5.4010510628180963E-2},null,0,0,0,1.7999999999999999E-2,0.02,2.5000000000000001E-2,1.9E-2,null,0.02,null,0,0,0,0.35494956792057947,0.30888783478047305,0.42020170770333221,0.46073240001496202,null,0.3702982950426808]
[null,null,null,null,"Pre-tax return on RCV - WN",0,"%",null,{"$f":"'[1]Exec Summary'!$J150","v":0},{"$f":"'[1]Exec Summary'!$K150","v":0},{"$f":"'[1]Exec Summary'!$L150","v":3.2302478481806091E-2},{"$f":"'[1]Exec Summary'!$M150","v":3.4635879636498293E-2},{"$f":"'[1]Exec Summary'!$N150","v":3.4080465074725466E-2},{"$f":"'[1]Exec Summary'!$O150","v":3.2917658268895214E-2},{"$f":"'[1]Exec Summary'!$P150","v":3.2136027889315764E-2},3.3214501870248166E-2,{"$f":"'[1]Exec Summary'!$W150","v":3.3180246791523468E-2},null,{"$f":"'[2]Exec Summary'!$J150","v":0},{"$f":"'[2]Exec Summary'!$K150","v":0},{"$f":"'[2]Exec Summary'!$L150","v":3.3102248763126743E-2},{"$f":"'[2]Exec Summary'!$M150","v":3.5360470502307957E-2},{"$f":"'[2]Exec Summary'!$N150","v":3.2310361143627911E-2},{"$f":"'[2]Exec Summary'!$O150","v":2.8926937376608702E-2},{"$f":"'[2]Exec Summary'!$P150","v":2.7213233402479844E-2},3.1382650237630226E-2,{"$f":"'[2]Exec Summary'!$W150","v":3.1182329644774728E-2},null,0,0,-1E-3,-1E-3,2E-3,4.0000000000000001E-3,5.0000000000000001E-3,null,2E-3,null,{"$f":"IF(S148 = 0, 0, AC148 / S148)","v":0},{"$f":"IF(T148 = 0, 0, AD148 / T148)","v":0},{"$f":"IF(U148 = 0, 0, AE148 / U148)","v":-3.0209427980431348E-2},{"$f":"IF(V148 = 0, 0, AF148 / V148)","v":-2.8280166688809488E-2},{"$f":"IF(W148 = 0, 0, AG148 / W148)","v":6.189964857122713E-2},{"$f":"IF(X148 = 0, 0, AH148 / X148)","v":0.13827941575434582},{"$f":"IF(Y148 = 0, 0, AI148 / Y148)","v":0.18373413868358501},null,{"$f":"IF(AA148 = 0, 0, AK148 / AA148)","v":6.4138889646275773E-2}]
[null,null,null,null,"Post-tax return on RCV - WN",0,"%",null,{"$f":"'[1]Exec Summary'!$J151","v":0},{"$f":"'[1]Exec Summary'!$K151","v":0},{"$f":"'[1]Exec Summary'!$L151","v":3.2302478481806091E-2},{"$f":"'[1]Exec Summary'!$M151","v":3.4635879636498293E-2},{"$f":"'[1]Exec Summary'!$N151","v":3.4080465074725466E-2},{"$f":"'[1]Exec Summary'!$O151","v":3.2917658268895214E-2},{"$f":"'[1]Exec Summary'!$P151","v":3.2136027889315764E-2},3.3214501870248166E-2,{"$f":"'[1]Exec Summary'!$W151","v":3.3180246791523461E-2},null,{"$f":"'[2]Exec Summary'!$J151","v":0},{"$f":"'[2]Exec Summary'!$K151","v":0},{"$f":"'[2]Exec Summary'!$L151","v":3.3102248763126743E-2},{"$f":"'[2]Exec Summary'!$M151","v":3.5360470502307957E-2},{"$f":"'[2]Exec Summary'!$N151","v":3.2310361143627911E-2},{"$f":"'[2]Exec Summary'!$O151","v":2.8926937376608702E-2},{"$f":"'[2]Exec Summary'!$P151","v":2.7213233402479844E-2},3.1382650237630226E-2,{"$f":"'[2]Exec Summary'!$W151","v":3.1182329644774735E-2},null,0,0,-1E-3,-1E-3,2E-3,4.0000000000000001E-3,5.0000000000000001E-3,null,2E-3,null,0,0,-3.0209427980431348E-2,-2.8280166688809488E-2,6.189964857122713E-2,0.13827941575434582,0.18373413868358501,null,6.413888964627576E-2]
[null,null,null,null,null,null,null,null,null,null,null,null,null,null,null,null,null,null,null,null,null,null,null,null,null,null,null,null,0,0,0,0,0,0,0,null,0,null,0,0,0,0,0,0,0,null,0]
[null,"Wastewater network - Additional financial indicators",null,null,null,null,null,null,null,null,null,null,null,null,null,null,null,null,null,null,null,null,null,null,null,null,null,null,{"$f":"ROUND(I151 - S151, 3)","v":0},{"$f":"ROUND(J151 - T151, 3)","v":0},{"$f":"ROUND(K151 - U151, 3)","v":0},{"$f":"ROUND(L151 - V151, 3)","v":0},{"$f":"ROUND(M151 - W151, 3)","v":0},{"$f":"ROUND(N151 - X151, 3)","v":0},{"$f":"ROUND(O151 - Y151, 3)","v":0},null,{"$f":"ROUND(Q151 - AA151, 3)","v":0},null,0,0,0,0,0,0,0,null,0]
[null,null,null,null,"RCV balance - forecast - WWN - nominal",0,"£m",null,{"$f":"'[1]Exec Summary'!$J154","v":0},{"$f":"'[1]Exec Summary'!$K154","v":4576.7266614179507},{"$f":"'[1]Exec Summary'!$L154","v":4684.5421153434054},{"$f":"'[1]Exec Summary'!$M154","v":4908.3787529091032},{"$f":"'[1]Exec Summary'!$N154","v":5135.7876149423055},{"$f":"'[1]Exec Summary'!$O154","v":5500.8026181097039},{"$f":"'[1]Exec Summary'!$P154","v":5763.159154805564},{"$f":"AVERAGE(K152:O152)","v":5198.5340512220164},{"$f":"'[1]Exec Summary'!$W154","v":5763.159154805564},null,{"$f":"'[2]Exec Summary'!$J154","v":0},{"$f":"'[2]Exec Summary'!$K154","v":4520.7023263112551},{"$f":"'[2]Exec Summary'!$L154","v":4574.4306810076541},{"$f":"'[2]Exec Summary'!$M154","v":4801.1207803835041},{"$f":"'[2]Exec Summary'!$N154","v":5017.7310669713761},{"$f":"'[2]Exec Summary'!$O154","v":5258.2406359425468},{"$f":"'[2]Exec Summary'!$P154","v":5394.4911900496718},{"$f":"AVERAGE(U152:Y152)","v":5009.2028708709504},{"$f":"'[2]Exec Summary'!$W154","v":5394.4911900496718},null,0,56.024000000000001,110.111,107.258,118.057,242.56200000000001,368.66800000000001,null,368.66800000000001,null,0,1.2392764653830624E-2,2.407097356555522E-2,2.2340200321190929E-2,2.3527964816029361E-2,4.6129878184344532E-2,6.8341570504373256E-2,null,6.8341570504373256E-2]
[null,null,null,null,"Average of RCV - WWN - nominal",0,"£m",null,{"$f":"'[1]Exec Summary'!$J155","v":0},{"$f":"'[1]Exec Summary'!$K155","v":2288.3633307089754},{"$f":"'[1]Exec Summary'!$L155","v":4683.3481108841033},{"$f":"'[1]Exec Summary'!$M155","v":4854.4522105102733},{"$f":"'[1]Exec Summary'!$N155","v":5082.0670728786654},{"$f":"'[1]Exec Summary'!$O155","v":5380.3122807200634},{"$f":"'[1]Exec Summary'!$P155","v":5697.4127075375291},5139.5184765061267,{"$f":"'[1]Exec Summary'!$W155","v":5139.5184765061267},null,{"$f":"'[2]Exec Summary'!$J155","v":0},{"$f":"'[2]Exec Summary'!$K155","v":2260.3511631556275},{"$f":"'[2]Exec Summary'!$L155","v":4597.3979026011202},{"$f":"'[2]Exec Summary'!$M155","v":4744.1071847753301},{"$f":"'[2]Exec Summary'!$N155","v":4970.7922644502751},{"$f":"'[2]Exec Summary'!$O155","v":5202.2454930997646},{"$f":"'[2]Exec Summary'!$P155","v":5392.917191524195},4981.4920072901368,{"$f":"'[2]Exec Summary'!$W155","v":4981.4920072901368},null,0,28.012,85.95,110.345,111.27500000000001,178.06700000000001,304.49599999999998,null,158.02600000000001,null,0,1.2392764653830624E-2,1.8695358074481899E-2,2.32593817344845E-2,2.2385767515534272E-2,3.4228872942691245E-2,5.6462205738772073E-2,null,3.1722624420301736E-2]
[null,null,null,null,"Year average RCV - Growth - WWN",0,"%",null,{"$f":"'[1]Exec Summary'!$J156","v":0},{"$f":"'[1]Exec Summary'!$K156","v":0},{"$f":"'[1]Exec Summary'!$L156","v":0},{"$f":"'[1]Exec Summary'!$M156","v":3.6534567914890514E-2},{"$f":"'[1]Exec Summary'!$N156","v":4.6887857269577893E-2},{"$f":"'[1]Exec Summary'!$O156","v":5.8685807086851671E-2},{"$f":"'[1]Exec Summary'!$P156","v":5.8937178786772515E-2},4.0209082211618521E-2,{"$f":"'[1]Exec Summary'!$W156","v":5.022006150356173E-2},null,{"$f":"'[2]Exec Summary'!$J156","v":0},{"$f":"'[2]Exec Summary'!$K156","v":0},{"$f":"'[2]Exec Summary'!$L156","v":0},{"$f":"'[2]Exec Summary'!$M156","v":3.1911373625329365E-2},{"$f":"'[2]Exec Summary'!$N156","v":4.7782453230065469E-2},{"$f":"'[2]Exec Summary'!$O156","v":4.6562643606086418E-2},{"$f":"'[2]Exec Summary'!$P156","v":3.6651807123930791E-2},3.2581655517082406E-2,{"$f":"'[2]Exec Summary'!$W156","v":4.0705655358492576E-2},null,0,0,0,5.0000000000000001E-3,-1E-3,1.2E-2,2.1999999999999999E-2,null,0.01,null,0,0,0,0.15668394782076367,-2.0928184561498912E-2,0.25771732596452973,0.60024325473533613,null,0.24566610982996157]
[null,null,null,null,"Pre-tax return on RCV - WWN",0,"%",null,{"$f":"'[1]Exec Summary'!$J157","v":0},{"$f":"'[1]Exec Summary'!$K157","v":0},{"$f":"'[1]Exec Summary'!$L157","v":4.131218402788954E-2},{"$f":"'[1]Exec Summary'!$M157","v":4.2084437223942374E-2},{"$f":"'[1]Exec Summary'!$N157","v":4.1875120854078587E-2},{"$f":"'[1]Exec Summary'!$O157","v":4.2125917816519934E-2},{"$f":"'[1]Exec Summary'!$P157","v":4.0660253711250351E-2},4.1611582726736158E-2,{"$f":"'[1]Exec Summary'!$W157","v":4.1595229017498729E-2},null,{"$f":"'[2]Exec Summary'!$J157","v":0},{"$f":"'[2]Exec Summary'!$K157","v":0},{"$f":"'[2]Exec Summary'!$L157","v":4.0303444790216934E-2},{"$f":"'[2]Exec Summary'!$M157","v":4.0647236401360413E-2},{"$f":"'[2]Exec Summary'!$N157","v":3.93295090636194E-2},{"$f":"'[2]Exec Summary'!$O157","v":3.8797830994296886E-2},{"$f":"'[2]Exec Summary'!$P157","v":3.6396066734161313E-2},3.9094817596730988E-2,{"$f":"'[2]Exec Summary'!$W157","v":3.9014072579930795E-2},null,0,0,1E-3,1E-3,3.0000000000000001E-3,3.0000000000000001E-3,4.0000000000000001E-3,null,3.0000000000000001E-3,null,0,0,2.4811774904231889E-2,2.4601918568971426E-2,7.627860279535148E-2,7.7323910206242893E-2,0.10990198554190483,null,7.6895330367105233E-2]
[null,null,null,null,"Post-tax return on RCV - WWN",0,"%",null,{"$f":"'[1]Exec Summary'!$J158","v":0},{"$f":"'[1]Exec Summary'!$K158","v":0},{"$f":"'[1]Exec Summary'!$L158","v":4.131218402788954E-2},{"$f":"'[1]Exec Summary'!$M158","v":4.2084437223942374E-2},{"$f":"'[1]Exec Summary'!$N158","v":4.1875120854078587E-2},{"$f":"'[1]Exec Summary'!$O158","v":4.2125917816519934E-2},{"$f":"'[1]Exec Summary'!$P158","v":4.0660253711250351E-2},4.1611582726736158E-2,{"$f":"'[1]Exec Summary'!$W158","v":4.1595229017498722E-2},null,{"$f":"'[2]Exec Summary'!$J158","v":0},{"$f":"'[2]Exec Summary'!$K158","v":0},{"$f":"'[2]Exec Summary'!$L158","v":4.0303444790216934E-2},{"$f":"'[2]Exec Summary'!$M158","v":4.0647236401360413E-2},{"$f":"'[2]Exec Summary'!$N158","v":3.93295090636194E-2},{"$f":"'[2]Exec Summary'!$O158","v":3.8797830994296886E-2},{"$f":"'[2]Exec Summary'!$P158","v":3.6396066734161313E-2},3.9094817596730988E-2,{"$f":"'[2]Exec Summary'!$W158","v":3.9014072579930795E-2},null,0,0,1E-3,1E-3,3.0000000000000001E-3,3.0000000000000001E-3,4.0000000000000001E-3,null,3.0000000000000001E-3,null,0,0,2.4811774904231889E-2,2.4601918568971426E-2,7.627860279535148E-2,7.7323910206242893E-2,0.10990198554190483,null,7.6895330367105233E-2]
[null,null,null,null,null,null,null,null,null,null,null,null,null,null,null,null,null,null,null,null,null,null,null,null,null,null,null,null,0,0,0,0,0,0,0,null,0,null,0,0,0,0,0,0,0,null,0]
[null,"Bio resources - Additional financial indicators",null,null,null,null,null,null,null,null,null,null,null,null,null,null,null,null,null,null,null,null,null,null,null,null,null,null,0,0,0,0,0,0,0,null,0,null,0,0,0,0,0,0,0,null,0]
[null,null,null,null,"RCV balance - forecast - BR - nominal",0,"£m",null,{"$f":"'[1]Exec Summary'!$J161","v":0},{"$f":"'[1]Exec Summary'!$K161","v":335.11565694142513},{"$f":"'[1]Exec Summary'!$L161","v":343.58588872483369},{"$f":"'[1]Exec Summary'!$M161","v":356.04820450827447},{"$f":"'[1]Exec Summary'!$N161","v":364.81516574248633},{"$f":"'[1]Exec Summary'!$O161","v":366.74297127665028},{"$f":"'[1]Exec Summary'!$P161","v":376.20394291002395},{"$f":"AVERAGE(K159:O159)","v":361.47923463245377},{"$f":"'[1]Exec Summary'!$W161","v":376.20394291002395},null,{"$f":"'[2]Exec Summary'!$J161","v":0},{"$f":"'[2]Exec Summary'!$K161","v":332.71666727675245},{"$f":"'[2]Exec Summary'!$L161","v":331.46958201557266},{"$f":"'[2]Exec Summary'!$M161","v":335.86310493992897},{"$f":"'[2]Exec Summary'!$N161","v":336.71970587372692},{"$f":"'[2]Exec Summary'!$O161","v":333.83815500127656},{"$f":"'[2]Exec Summary'!$P161","v":332.41421010899217},{"$f":"AVERAGE(U159:Y159)","v":334.06095158789947},{"$f":"'[2]Exec Summary'!$W161","v":332.41421010899217},null,0,2.399,12.116,20.184999999999999,28.094999999999999,32.905000000000001,43.79,null,43.79,null,0,7.2103391141644284E-3,3.6552373603411917E-2,6.0098890598924821E-2,8.3437350145868477E-2,9.8565725657914022E-2,0.13173323723327623,null,0.13173323723327623]
[null,null,null,null,"Average of RCV - BR - nominal",0,"£m",null,{"$f":"'[1]Exec Summary'!$J162","v":0},{"$f":"'[1]Exec Summary'!$K162","v":167.55782847071256},{"$f":"'[1]Exec Summary'!$L162","v":343.2105606363823},{"$f":"'[1]Exec Summary'!$M162","v":354.06095886708908},{"$f":"'[1]Exec Summary'!$N162","v":364.77452443679732},{"$f":"'[1]Exec Summary'!$O162","v":370.18469847225788},{"$f":"'[1]Exec Summary'!$P162","v":375.87427730126092},361.62100394275751,{"$f":"'[1]Exec Summary'!$W162","v":361.62100394275751},null,{"$f":"'[2]Exec Summary'!$J162","v":0},{"$f":"'[2]Exec Summary'!$K162","v":166.35833363837622},{"$f":"'[2]Exec Summary'!$L162","v":335.76063818385165},{"$f":"'[2]Exec Summary'!$M162","v":337.7524631192581},{"$f":"'[2]Exec Summary'!$N162","v":340.60958800319617},{"$f":"'[2]Exec Summary'!$O162","v":339.64116143230484},{"$f":"'[2]Exec Summary'!$P162","v":337.43342317720965},338.23945478316409,{"$f":"'[2]Exec Summary'!$W162","v":338.23945478316409},null,0,1.1990000000000001,7.45,16.308,24.164999999999999,30.544,38.441000000000003,null,23.382000000000001,null,0,7.2073335538834094E-3,2.2188425779440593E-2,4.828388177954384E-2,7.0946329319928725E-2,8.9930207137416826E-2,0.11392173199100071,null,6.912854094738756E-2]
[null,null,null,null,"Year average RCV - Growth - BR",0,"%",null,{"$f":"'[1]Exec Summary'!$J163","v":0},{"$f":"'[1]Exec Summary'!$K163","v":0},{"$f":"'[1]Exec Summary'!$L163","v":0},{"$f":"'[1]Exec Summary'!$M163","v":3.1614406650506188E-2},{"$f":"'[1]Exec Summary'!$N163","v":3.0259098896385339E-2},{"$f":"'[1]Exec Summary'!$O163","v":1.4831556682347147E-2},{"$f":"'[1]Exec Summary'!$P163","v":1.5369567819749852E-2},1.8414926009797706E-2,{"$f":"'[1]Exec Summary'!$W163","v":2.2987885831852184E-2},null,{"$f":"'[2]Exec Summary'!$J163","v":0},{"$f":"'[2]Exec Summary'!$K163","v":0},{"$f":"'[2]Exec Summary'!$L163","v":0},{"$f":"'[2]Exec Summary'!$M163","v":5.9322764758260593E-3},{"$f":"'[2]Exec Summary'!$N163","v":8.459227380761547E-3},{"$f":"'[2]Exec Summary'!$O163","v":-2.8432158253931528E-3},{"$f":"'[2]Exec Summary'!$P163","v":-6.5002081779043097E-3},1.0096159706580287E-3,{"$f":"'[2]Exec Summary'!$W163","v":1.2431987455219229E-3},null,0,0,0,2.5999999999999999E-2,2.1999999999999999E-2,1.7999999999999999E-2,2.1999999999999999E-2,null,2.1999999999999999E-2,null,0,0,0,4.3828031457990235,2.6007103261030249,-6.3308595285801079,-3.3845069877581793,null,17.696285553090629]
[null,null,null,null,"Pre-tax return on RCV - BR",0,"%",null,{"$f":"'[1]Exec Summary'!$J164","v":0},{"$f":"'[1]Exec Summary'!$K164","v":0},{"$f":"'[1]Exec Summary'!$L164","v":2.763449657992469E-2},{"$f":"'[1]Exec Summary'!$M164","v":2.7421289118360691E-2},{"$f":"'[1]Exec Summary'!$N164","v":2.7160101287550691E-2},{"$f":"'[1]Exec Summary'!$O164","v":2.6449378341601975E-2},{"$f":"'[1]Exec Summary'!$P164","v":2.5754804224124614E-2},2.6884013910312532E-2,{"$f":"'[1]Exec Summary'!$W164","v":2.686364732960686E-2},null,{"$f":"'[2]Exec Summary'!$J164","v":0},{"$f":"'[2]Exec Summary'!$K164","v":0},{"$f":"'[2]Exec Summary'!$L164","v":3.6075270906475977E-2},{"$f":"'[2]Exec Summary'!$M164","v":3.338253606006808E-2},{"$f":"'[2]Exec Summary'!$N164","v":2.9123159313857287E-2},{"$f":"'[2]Exec Summary'!$O164","v":1.8283297818517751E-2},{"$f":"'[2]Exec Summary'!$P164","v":1.6511490479361311E-2},2.667515091565608E-2,{"$f":"'[2]Exec Summary'!$W164","v":2.6660760996035468E-2},null,0,0,-8.0000000000000002E-3,-6.0000000000000001E-3,-2E-3,8.0000000000000002E-3,8.9999999999999993E-3,null,0,null,0,0,-0.22175855645657527,-0.17973469688473284,-6.8673868052782541E-2,0.43755782350695033,0.54507495923821248,null,0]
[null,null,null,null,"Post-tax return on RCV - BR",0,"%",null,{"$f":"'[1]Exec Summary'!$J165","v":0},{"$f":"'[1]Exec Summary'!$K165","v":0},{"$f":"'[1]Exec Summary'!$L165","v":2.763449657992469E-2},{"$f":"'[1]Exec Summary'!$M165","v":2.7421289118360691E-2},{"$f":"'[1]Exec Summary'!$N165","v":2.7160101287550691E-2},{"$f":"'[1]Exec Summary'!$O165","v":2.6449378341601975E-2},{"$f":"'[1]Exec Summary'!$P165","v":2.5754804224124614E-2},2.6884013910312532E-2,{"$f":"'[1]Exec Summary'!$W165","v":2.686364732960686E-2},null,{"$f":"'[2]Exec Summary'!$J165","v":0},{"$f":"'[2]Exec Summary'!$K165","v":0},{"$f":"'[2]Exec Summary'!$L165","v":3.6075270906475977E-2},{"$f":"'[2]Exec Summary'!$M165","v":3.338253606006808E-2},{"$f":"'[2]Exec Summary'!$N165","v":2.9123159313857287E-2},{"$f":"'[2]Exec Summary'!$O165","v":1.8283297818517751E-2},{"$f":"'[2]Exec Summary'!$P165","v":1.6511490479361311E-2},2.667515091565608E-2,{"$f":"'[2]Exec Summary'!$W165","v":2.6660760996035468E-2},null,0,0,-8.0000000000000002E-3,-6.0000000000000001E-3,-2E-3,8.0000000000000002E-3,8.9999999999999993E-3,null,0,null,0,0,-0.22175855645657527,-0.17973469688473284,-6.8673868052782541E-2,0.43755782350695033,0.54507495923821248,null,0]
[null,null,null,null,null,null,null,null,null,null,null,null,null,null,null,null,null,null,null,null,null,null,null,null,null,null,null,null,0,0,0,0,0,0,0,null,0,null,0,0,0,0,0,0,0,null,0]
[null,"Dummy control - Additional financial indicators",null,null,null,null,null,null,null,null,null,null,null,null,null,null,null,null,null,null,null,null,null,null,null,null,null,null,0,0,0,0,0,0,0,null,0,null,0,0,0,0,0,0,0,null,0]
[null,null,null,null,"RCV balance - forecast - DMMY - nominal",0,"£m",null,{"$f":"'[1]Exec Summary'!$J168","v":0},{"$f":"'[1]Exec Summary'!$K168","v":0},{"$f":"'[1]Exec Summary'!$L168","v":0},{"$f":"'[1]Exec Summary'!$M168","v":0},{"$f":"'[1]Exec Summary'!$N168","v":0},{"$f":"'[1]Exec Summary'!$O168","v":0},{"$f":"'[1]Exec Summary'!$P168","v":0},{"$f":"AVERAGE(K166:O166)","v":0},{"$f":"'[1]Exec Summary'!$W168","v":0},null,{"$f":"'[2]Exec Summary'!$J168","v":0},{"$f":"'[2]Exec Summary'!$K168","v":0},{"$f":"'[2]Exec Summary'!$L168","v":0},{"$f":"'[2]Exec Summary'!$M168","v":0},{"$f":"'[2]Exec Summary'!$N168","v":0},{"$f":"'[2]Exec Summary'!$O168","v":0},{"$f":"'[2]Exec Summary'!$P168","v":0},{"$f":"AVERAGE(U166:Y166)","v":0},{"$f":"'[2]Exec Summary'!$W168","v":0},null,0,0,0,0,0,0,0,null,0,null,0,0,0,0,0,0,0,null,0]
[null,null,null,null,"Average of RCV - DMMY - nominal",0,"£m",null,{"$f":"'[1]Exec Summary'!$J169","v":0},{"$f":"'[1]Exec Summary'!$K169","v":0},{"$f":"'[1]Exec Summary'!$L169","v":0},{"$f":"'[1]Exec Summary'!$M169","v":0},{"$f":"'[1]Exec Summary'!$N169","v":0},{"$f":"'[1]Exec Summary'!$O169","v":0},{"$f":"'[1]Exec Summary'!$P169","v":0},0,{"$f":"'[1]Exec Summary'!$W169","v":0},null,{"$f":"'[2]Exec Summary'!$J169","v":0},{"$f":"'[2]Exec Summary'!$K169","v":0},{"$f":"'[2]Exec Summary'!$L169","v":0},{"$f":"'[2]Exec Summary'!$M169","v":0},{"$f":"'[2]Exec Summary'!$N169","v":0},{"$f":"'[2]Exec Summary'!$O169","v":0},{"$f":"'[2]Exec Summary'!$P169","v":0},0,{"$f":"'[2]Exec Summary'!$W169","v":0},null,0,0,0,0,0,0,0,null,0,null,0,0,0,0,0,0,0,null,0]
[null,null,null,null,"Year average RCV - Growth - DMMY",0,"%",null,{"$f":"'[1]Exec Summary'!$J170","v":0},{"$f":"'[1]Exec Summary'!$K170","v":0},{"$f":"'[1]Exec Summary'!$L170","v":0},{"$f":"'[1]Exec Summary'!$M170","v":0},{"$f":"'[1]Exec Summary'!$N170","v":0},{"$f":"'[1]Exec Summary'!$O170","v":0},{"$f":"'[1]Exec Summary'!$P170","v":0},0,{"$f":"'[1]Exec Summary'!$W170","v":0},null,{"$f":"'[2]Exec Summary'!$J170","v":0},{"$f":"'[2]Exec Summary'!$K170","v":0},{"$f":"'[2]Exec Summary'!$L170","v":0},{"$f":"'[2]Exec Summary'!$M170","v":0},{"$f":"'[2]Exec Summary'!$N170","v":0},{"$f":"'[2]Exec Summary'!$O170","v":0},{"$f":"'[2]Exec Summary'!$P170","v":0},0,{"$f":"'[2]Exec Summary'!$W170","v":0},null,0,0,0,0,0,0,0,null,0,null,0,0,0,0,0,0,0,null,0]
[null,null,null,null,"Pre-tax return on RCV - DMMY",0,"%",null,{"$f":"'[1]Exec Summary'!$J171","v":0},{"$f":"'[1]Exec Summary'!$K171","v":0},{"$f":"'[1]Exec Summary'!$L171","v":0},{"$f":"'[1]Exec Summary'!$M171","v":0},{"$f":"'[1]Exec Summary'!$N171","v":0},{"$f":"'[1]Exec Summary'!$O171","v":0},{"$f":"'[1]Exec Summary'!$P171","v":0},0,{"$f":"'[1]Exec Summary'!$W171","v":0},null,{"$f":"'[2]Exec Summary'!$J171","v":0},{"$f":"'[2]Exec Summary'!$K171","v":0},{"$f":"'[2]Exec Summary'!$L171","v":0},{"$f":"'[2]Exec Summary'!$M171","v":0},{"$f":"'[2]Exec Summary'!$N171","v":0},{"$f":"'[2]Exec Summary'!$O171","v":0},{"$f":"'[2]Exec Summary'!$P171","v":0},0,{"$f":"'[2]Exec Summary'!$W171","v":0},null,0,0,0,0,0,0,0,null,0,null,0,0,0,0,0,0,0,null,0]
[null,null,null,null,"Post-tax return on RCV - DMMY",0,"%",null,{"$f":"'[1]Exec Summary'!$J172","v":0},{"$f":"'[1]Exec Summary'!$K172","v":0},{"$f":"'[1]Exec Summary'!$L172","v":0},{"$f":"'[1]Exec Summary'!$M172","v":0},{"$f":"'[1]Exec Summary'!$N172","v":0},{"$f":"'[1]Exec Summary'!$O172","v":0},{"$f":"'[1]Exec Summary'!$P172","v":0},0,{"$f":"'[1]Exec Summary'!$W172","v":0},null,{"$f":"'[2]Exec Summary'!$J172","v":0},{"$f":"'[2]Exec Summary'!$K172","v":0},{"$f":"'[2]Exec Summary'!$L172","v":0},{"$f":"'[2]Exec Summary'!$M172","v":0},{"$f":"'[2]Exec Summary'!$N172","v":0},{"$f":"'[2]Exec Summary'!$O172","v":0},{"$f":"'[2]Exec Summary'!$P172","v":0},0,{"$f":"'[2]Exec Summary'!$W172","v":0},null,0,0,0,0,0,0,0,null,0,null,0,0,0,0,0,0,0,null,0]
[null,null,null,null,null,null,null,null,null,null,null,null,null,null,null,null,null,null,null,null,null,null,null,null,null,null,null,null,0,0,0,0,0,0,0,null,0,null,0,0,0,0,0,0,0,null,0]
[null,"Retail - Additional financial indicators",null,null,null,null,null,null,null,null,null,null,null,null,null,null,null,null,null,null,null,null,null,null,null,null,null,null,0,0,0,0,0,0,0,null,0,null,0,0,0,0,0,0,0,null,0]
[null,null,null,null,"Residential net margin %",0,"%",null,{"$f":"'[1]Exec Summary'!$J175","v":0},{"$f":"'[1]Exec Summary'!$K175","v":0},{"$f":"'[1]Exec Summary'!$L175","v":3.0799813186152904E-2},{"$f":"'[1]Exec Summary'!$M175","v":9.9999999999999239E-3},{"$f":"'[1]Exec Summary'!$N175","v":1.0000000000000089E-2},{"$f":"'[1]Exec Summary'!$O175","v":1.0000000000000066E-2},{"$f":"'[1]Exec Summary'!$P175","v":9.999999999999969E-3},{"$f":"AVERAGE(K173:O173)","v":1.4159962637230589E-2},{"$f":"'[1]Exec Summary'!$W175","v":1.390720772446297E-2},null,{"$f":"'[2]Exec Summary'!$J175","v":0},{"$f":"'[2]Exec Summary'!$K175","v":0},{"$f":"'[2]Exec Summary'!$L175","v":2.5053098381982188E-2},{"$f":"'[2]Exec Summary'!$M175","v":1.0000000000000016E-2},{"$f":"'[2]Exec Summary'!$N175","v":1.0000000000000026E-2},{"$f":"'[2]Exec Summary'!$O175","v":9.9999999999999534E-3},{"$f":"'[2]Exec Summary'!$P175","v":1.0000000000000028E-2},{"$f":"AVERAGE(U173:Y173)","v":1.301061967639644E-2},{"$f":"'[2]Exec Summary'!$W175","v":1.2855733406207003E-2},null,0,0,6.0000000000000001E-3,0,0,0,0,null,1E-3,null,0,0,0.23949133590259278,0,0,0,0,null,7.7786305020698401E-2]
[null,null,null,null,"Business aggregate net margin %",0,"%",null,{"$f":"'[1]Exec Summary'!$J176","v":0},{"$f":"'[1]Exec Summary'!$K176","v":0},{"$f":"'[1]Exec Summary'!$L176","v":0},{"$f":"'[1]Exec Summary'!$M176","v":0},{"$f":"'[1]Exec Summary'!$N176","v":0},{"$f":"'[1]Exec Summary'!$O176","v":0},{"$f":"'[1]Exec Summary'!$P176","v":0},0,{"$f":"'[1]Exec Summary'!$W176","v":0},null,{"$f":"'[2]Exec Summary'!$J176","v":0},{"$f":"'[2]Exec Summary'!$K176","v":0},{"$f":"'[2]Exec Summary'!$L176","v":0},{"$f":"'[2]Exec Summary'!$M176","v":0},{"$f":"'[2]Exec Summary'!$N176","v":0},{"$f":"'[2]Exec Summary'!$O176","v":0},{"$f":"'[2]Exec Summary'!$P176","v":0},0,{"$f":"'[2]Exec Summary'!$W176","v":0},null,0,0,0,0,0,0,0,null,0,null,0,0,0,0,0,0,0,null,0]
[null,null,null,null,null,null,null,null,null,null,null,null,null,null,null,null,null,null,null,null,null,null,null,null,null,null,null,null,0,0,0,0,0,0,0,null,0,null,0,0,0,0,0,0,0,null,0]
[null,null,null,null,"Headroom - Residential - nominal",0,"£m",null,{"$f":"'[1]Exec Summary'!$J178","v":0},{"$f":"'[1]Exec Summary'!$K178","v":0},{"$f":"'[1]Exec Summary'!$L178","v":27.794880358819508},{"$f":"'[1]Exec Summary'!$M178","v":10.019899820807375},{"$f":"'[1]Exec Summary'!$N178","v":10.616540082978743},{"$f":"'[1]Exec Summary'!$O178","v":11.208628757702881},{"$f":"'[1]Exec Summary'!$P178","v":11.744739476695237},{"$f":"AVERAGE(K176:O176)","v":14.276937699400747},{"$f":"'[1]Exec Summary'!$W178","v":71.384688497003737},null,{"$f":"'[2]Exec Summary'!$J178","v":0},{"$f":"'[2]Exec Summary'!$K178","v":0},{"$f":"'[2]Exec Summary'!$L178","v":20.804453151181765},{"$f":"'[2]Exec Summary'!$M178","v":9.4720793905621878},{"$f":"'[2]Exec Summary'!$N178","v":9.9441947703746045},{"$f":"'[2]Exec Summary'!$O178","v":10.447238023591606},{"$f":"'[2]Exec Summary'!$P178","v":10.939134038546475},{"$f":"AVERAGE(U176:Y176)","v":12.321419874851328},{"$f":"'[2]Exec Summary'!$W178","v":61.607099374256642},null,0,0,6.99,0.54800000000000004,0.67200000000000004,0.76100000000000001,0.80600000000000005,null,9.7780000000000005,null,0,0,0.33598575983733292,5.7854244818304368E-2,6.7577115645602481E-2,7.2842218994296395E-2,7.3680420877912225E-2,null,0.1587154743416774]
[null,null,null,null,"Headroom - Business - nominal",0,"£m",null,{"$f":"'[1]Exec Summary'!$J179","v":0},{"$f":"'[1]Exec Summary'!$K179","v":0},{"$f":"'[1]Exec Summary'!$L179","v":0},{"$f":"'[1]Exec Summary'!$M179","v":0},{"$f":"'[1]Exec Summary'!$N179","v":0},{"$f":"'[1]Exec Summary'!$O179","v":0},{"$f":"'[1]Exec Summary'!$P179","v":0},0,{"$f":"'[1]Exec Summary'!$W179","v":0},null,{"$f":"'[2]Exec Summary'!$J179","v":0},{"$f":"'[2]Exec Summary'!$K179","v":0},{"$f":"'[2]Exec Summary'!$L179","v":0},{"$f":"'[2]Exec Summary'!$M179","v":0},{"$f":"'[2]Exec Summary'!$N179","v":0},{"$f":"'[2]Exec Summary'!$O179","v":0},{"$f":"'[2]Exec Summary'!$P179","v":0},0,{"$f":"'[2]Exec Summary'!$W179","v":0},null,0,0,0,0,0,0,0,null,0,null,0,0,0,0,0,0,0,null,0]
[null,null,null,null,null,null,null,null,null,null,null,null,null,null,null,null,null,null,null,null,null,null,null,null,null,null,null,null,0,0,0,0,0,0,0,null,0,null,0,0,0,0,0,0,0,null,0]
[null,null,null,null,"Residential Headroom (% of net margin)",0,"%",null,{"$f":"'[1]Exec Summary'!$J181","v":0},{"$f":"'[1]Exec Summary'!$K181","v":0},{"$f":"'[1]Exec Summary'!$L181","v":0.83000000000000018},{"$f":"'[1]Exec Summary'!$M181","v":0.83000000000000007},{"$f":"'[1]Exec Summary'!$N181","v":0.8300000000000024},{"$f":"'[1]Exec Summary'!$O181","v":0.82999999999999929},{"$f":"'[1]Exec Summary'!$P181","v":0.82999999999999896},{"$f":"AVERAGE(K179:O179)","v":0.83000000000000007},{"$f":"'[1]Exec Summary'!$W181","v":0.83000000000000007},null,{"$f":"'[2]Exec Summary'!$J181","v":0},{"$f":"'[2]Exec Summary'!$K181","v":0},{"$f":"'[2]Exec Summary'!$L181","v":0.82999999999999952},{"$f":"'[2]Exec Summary'!$M181","v":0.82999999999999929},{"$f":"'[2]Exec Summary'!$N181","v":0.82999999999999918},{"$f":"'[2]Exec Summary'!$O181","v":0.83000000000000074},{"$f":"'[2]Exec Summary'!$P181","v":0.83000000000000129},{"$f":"AVERAGE(U179:Y179)","v":0.82999999999999985},{"$f":"'[2]Exec Summary'!$W181","v":0.83},null,0,0,0,0,0,0,0,null,0,null,0,0,0,0,0,0,0,null,0]
[null,null,null,null,"Business Headroom (% of net margin)",0,"%",null,{"$f":"'[1]Exec Summary'!$J182","v":0},{"$f":"'[1]Exec Summary'!$K182","v":0},{"$f":"'[1]Exec Summary'!$L182","v":0},{"$f":"'[1]Exec Summary'!$M182","v":0},{"$f":"'[1]Exec Summary'!$N182","v":0},{"$f":"'[1]Exec Summary'!$O182","v":0},{"$f":"'[1]Exec Summary'!$P182","v":0},0,{"$f":"'[1]Exec Summary'!$W182","v":0},null,{"$f":"'[2]Exec Summary'!$J182","v":0},{"$f":"'[2]Exec Summary'!$K182","v":0},{"$f":"'[2]Exec Summary'!$L182","v":0},{"$f":"'[2]Exec Summary'!$M182","v":0},{"$f":"'[2]Exec Summary'!$N182","v":0},{"$f":"'[2]Exec Summary'!$O182","v":0},{"$f":"'[2]Exec Summary'!$P182","v":0},0,{"$f":"'[2]Exec Summary'!$W182","v":0},null,0,0,0,0,0,0,0,null,0,null,0,0,0,0,0,0,0,null,0]
[]
[]
["WHOLESALE - ALLOWED REVENUE BREAKDOWN (REAL) POST FINANCEABILITY ADJUSTMENTS AND REPROFILING"]
[]
[null,"Water Resources"]
[null,null,null,null,"PAYG - WR - real",0,"£m",null,{"$f":"'[1]Exec Summary'!$J188","v":0},{"$f":"'[1]Exec Summary'!$K188","v":0},{"$f":"'[1]Exec Summary'!$L188","v":46.758947762000005},{"$f":"'[1]Exec Summary'!$M188","v":47.59289914},{"$f":"'[1]Exec Summary'!$N188","v":44.734631615999994},{"$f":"'[1]Exec Summary'!$O188","v":43.096373643000007},{"$f":"'[1]Exec Summary'!$P188","v":39.807944161999998},{"$f":"AVERAGE(K186:O186)","v":44.398159264600011},{"$f":"'[1]Exec Summary'!$W188","v":221.99079632300004},null,{"$f":"'[2]Exec Summary'!$J188","v":0},{"$f":"'[2]Exec Summary'!$K188","v":0},{"$f":"'[2]Exec Summary'!$L188","v":39.992604377773183},{"$f":"'[2]Exec Summary'!$M188","v":39.431805311330066},{"$f":"'[2]Exec Summary'!$N188","v":41.547783092996852},{"$f":"'[2]Exec Summary'!$O188","v":42.710841114171792},{"$f":"'[2]Exec Summary'!$P188","v":42.350315333979204},{"$f":"AVERAGE(U186:Y186)","v":41.206669846050218},{"$f":"'[2]Exec Summary'!$W188","v":206.0333492302511},null,{"$f":"ROUND(I186 - S186, 3)","v":0},{"$f":"ROUND(J186 - T186, 3)","v":0},{"$f":"ROUND(K186 - U186, 3)","v":6.766},{"$f":"ROUND(L186 - V186, 3)","v":8.1609999999999996},{"$f":"ROUND(M186 - W186, 3)","v":3.1869999999999998},{"$f":"ROUND(N186 - X186, 3)","v":0.38600000000000001},{"$f":"ROUND(O186 - Y186, 3)","v":-2.5419999999999998},null,{"$f":"ROUND(Q186 - AA186, 3)","v":15.957000000000001},null,{"$f":"IF(S186 = 0, 0, AC186 / S186)","v":0},{"$f":"IF(T186 = 0, 0, AD186 / T186)","v":0},{"$f":"IF(U186 = 0, 0, AE186 / U186)","v":0.1691812800208721},{"$f":"IF(V186 = 0, 0, AF186 / V186)","v":0.20696490905160442},{"$f":"IF(W186 = 0, 0, AG186 / W186)","v":7.6706860456706036E-2},{"$f":"IF(X186 = 0, 0, AH186 / X186)","v":9.0375181085329218E-3},{"$f":"IF(Y186 = 0, 0, AI186 / Y186)","v":-6.0023165824233199E-2},null,{"$f":"IF(AA186 = 0, 0, AK186 / AA186)","v":7.7448626931591394E-2}]
[null,null,null,null,"Wholesale Water resources service defined benefit pension deficit recovery  per IN13/17 - real",0,"£m",null,{"$f":"'[1]Exec Summary'!$J189","v":0},{"$f":"'[1]Exec Summary'!$K189","v":0},{"$f":"'[1]Exec Summary'!$L189","v":0.47599999999999998},{"$f":"'[1]Exec Summary'!$M189","v":0.48},{"$f":"'[1]Exec Summary'!$N189","v":0.48499999999999999},{"$f":"'[1]Exec Summary'!$O189","v":0.48899999999999999},{"$f":"'[1]Exec Summary'!$P189","v":0.49399999999999999},0.4847999999999999,{"$f":"'[1]Exec Summary'!$W189","v":2.4239999999999995},null,{"$f":"'[2]Exec Summary'!$J189","v":0},{"$f":"'[2]Exec Summary'!$K189","v":0},{"$f":"'[2]Exec Summary'!$L189","v":0.99001354921970297},{"$f":"'[2]Exec Summary'!$M189","v":0.98873270377672395},{"$f":"'[2]Exec Summary'!$N189","v":0.989341985970138},{"$f":"'[2]Exec Summary'!$O189","v":0},{"$f":"'[2]Exec Summary'!$P189","v":0},0.59361764779331305,{"$f":"'[2]Exec Summary'!$W189","v":2.968088238966565},null,0,0,-0.51400000000000001,-0.50900000000000001,-0.504,0.48899999999999999,0.49399999999999999,null,-0.54400000000000004,null,0,0,-0.51918481358676194,-0.51480040870069432,-0.50942950683103083,0,0,null,-0.18328296068091662]
[null,null,null,null,"Return on Capital - WR - real",0,"£m",null,{"$f":"'[1]Exec Summary'!$J190","v":0},{"$f":"'[1]Exec Summary'!$K190","v":0},{"$f":"'[1]Exec Summary'!$L190","v":5.6412578338693526},{"$f":"'[1]Exec Summary'!$M190","v":6.0685385393674771},{"$f":"'[1]Exec Summary'!$N190","v":6.5142632292426166},{"$f":"'[1]Exec Summary'!$O190","v":6.8495303061976394},{"$f":"'[1]Exec Summary'!$P190","v":6.9070902809962718},6.3961360379346717,{"$f":"'[1]Exec Summary'!$W190","v":31.980680189673357},null,{"$f":"'[2]Exec Summary'!$J190","v":0},{"$f":"'[2]Exec Summary'!$K190","v":0},{"$f":"'[2]Exec Summary'!$L190","v":4.648935098840183},{"$f":"'[2]Exec Summary'!$M190","v":4.6906562351933561},{"$f":"'[2]Exec Summary'!$N190","v":4.8370073225713917},{"$f":"'[2]Exec Summary'!$O190","v":4.9620398032603639},{"$f":"'[2]Exec Summary'!$P190","v":4.9424906381978362},4.816225819612626,{"$f":"'[2]Exec Summary'!$W190","v":24.08112909806313},null,0,0,0.99199999999999999,1.3779999999999999,1.677,1.887,1.9650000000000001,null,7.9,null,0,0,0.21338220020483492,0.29377552540752255,0.34670197669010216,0.38028715504460997,0.39757283196726328,null,0.32805770725407579]
[null,null,null,null,"Depreciation - WR - real",0,"£m",null,{"$f":"'[1]Exec Summary'!$J191","v":0},{"$f":"'[1]Exec Summary'!$K191","v":0},{"$f":"'[1]Exec Summary'!$L191","v":10.152080718761921},{"$f":"'[1]Exec Summary'!$M191","v":10.751019815923867},{"$f":"'[1]Exec Summary'!$N191","v":11.380738011047967},{"$f":"'[1]Exec Summary'!$O191","v":11.842646417163898},{"$f":"'[1]Exec Summary'!$P191","v":11.879108817244102},11.201118756028352,{"$f":"'[1]Exec Summary'!$W191","v":56.005593780141758},null,{"$f":"'[2]Exec Summary'!$J191","v":0},{"$f":"'[2]Exec Summary'!$K191","v":0},{"$f":"'[2]Exec Summary'!$L191","v":9.7379733376546955},{"$f":"'[2]Exec Summary'!$M191","v":9.7439313500659051},{"$f":"'[2]Exec Summary'!$N191","v":9.9366362382413964},{"$f":"'[2]Exec Summary'!$O191","v":10.095011151317314},{"$f":"'[2]Exec Summary'!$P191","v":10.003852905906101},9.9034809966370823,{"$f":"'[2]Exec Summary'!$W191","v":49.517404983185415},null,0,0,0.41399999999999998,1.0069999999999999,1.444,1.748,1.875,null,6.4880000000000004,null,0,0,4.2513979618238329E-2,0.10334637671612791,0.14532080730124036,0.17315483596785336,0.18742778583769787,null,0.1310246367353686]
[null,null,null,null,"Tax WR - real ",0,"£m",null,{"$f":"'[1]Exec Summary'!$J192","v":0},{"$f":"'[1]Exec Summary'!$K192","v":0},{"$f":"'[1]Exec Summary'!$L192","v":0},{"$f":"'[1]Exec Summary'!$M192","v":0},{"$f":"'[1]Exec Summary'!$N192","v":0},{"$f":"'[1]Exec Summary'!$O192","v":0},{"$f":"'[1]Exec Summary'!$P192","v":0},0,{"$f":"'[1]Exec Summary'!$W192","v":0},null,{"$f":"'[2]Exec Summary'!$J192","v":0},{"$f":"'[2]Exec Summary'!$K192","v":0},{"$f":"'[2]Exec Summary'!$L192","v":0},{"$f":"'[2]Exec Summary'!$M192","v":0},{"$f":"'[2]Exec Summary'!$N192","v":0},{"$f":"'[2]Exec Summary'!$O192","v":0},{"$f":"'[2]Exec Summary'!$P192","v":0},0,{"$f":"'[2]Exec Summary'!$W192","v":0},null,0,0,0,0,0,0,0,null,0,null,0,0,0,0,0,0,0,null,0]
[null,null,null,null,"Water resources: operating income - CALC - real",0,"£m",null,{"$f":"'[1]Exec Summary'!$J193","v":0},{"$f":"'[1]Exec Summary'!$K193","v":0},{"$f":"'[1]Exec Summary'!$L193","v":0},{"$f":"'[1]Exec Summary'!$M193","v":0},{"$f":"'[1]Exec Summary'!$N193","v":0},{"$f":"'[1]Exec Summary'!$O193","v":0},{"$f":"'[1]Exec Summary'!$P193","v":0},0,{"$f":"'[1]Exec Summary'!$W193","v":0},null,{"$f":"'[2]Exec Summary'!$J193","v":0},{"$f":"'[2]Exec Summary'!$K193","v":0},{"$f":"'[2]Exec Summary'!$L193","v":0},{"$f":"'[2]Exec Summary'!$M193","v":0},{"$f":"'[2]Exec Summary'!$N193","v":0},{"$f":"'[2]Exec Summary'!$O193","v":0},{"$f":"'[2]Exec Summary'!$P193","v":0},0,{"$f":"'[2]Exec Summary'!$W193","v":0},null,0,0,0,0,0,0,0,null,0,null,0,0,0,0,0,0,0,null,0]
[null,null,null,null,"Third party & principle service revenues - WR - real",0,"£m",null,{"$f":"'[1]Exec Summary'!$J194","v":0},{"$f":"'[1]Exec Summary'!$K194","v":0},{"$f":"'[1]Exec Summary'!$L194","v":-6.3119453335697342},{"$f":"'[1]Exec Summary'!$M194","v":-6.4469541367669985},{"$f":"'[1]Exec Summary'!$N194","v":-6.4903390372077405},{"$f":"'[1]Exec Summary'!$O194","v":-6.4264402605925275},{"$f":"'[1]Exec Summary'!$P194","v":-6.2529598683877623},-6.3857277273049524,{"$f":"'[1]Exec Summary'!$W194","v":-31.928638636524763},null,{"$f":"'[2]Exec Summary'!$J194","v":0},{"$f":"'[2]Exec Summary'!$K194","v":0},{"$f":"'[2]Exec Summary'!$L194","v":-6.311945333569736},{"$f":"'[2]Exec Summary'!$M194","v":-6.4469541367669994},{"$f":"'[2]Exec Summary'!$N194","v":-6.4903390372077396},{"$f":"'[2]Exec Summary'!$O194","v":-6.4264402605925266},{"$f":"'[2]Exec Summary'!$P194","v":-6.2529598683877605},-6.3857277273049533,{"$f":"'[2]Exec Summary'!$W194","v":-31.928638636524767},null,0,0,0,0,0,0,0,null,0,null,0,0,0,0,0,0,0,null,0]
[null,null,null,null,"Adjustment to Wholesale revenue requirement - WR - real",0,"£m",null,{"$f":"'[1]Exec Summary'!$J195","v":"na"},{"$f":"'[1]Exec Summary'!$K195","v":"na"},{"$f":"'[1]Exec Summary'!$L195","v":"na"},{"$f":"'[1]Exec Summary'!$M195","v":"na"},{"$f":"'[1]Exec Summary'!$N195","v":"na"},{"$f":"'[1]Exec Summary'!$O195","v":"na"},{"$f":"'[1]Exec Summary'!$P195","v":"na"},{"$error":"#DIV/0!"},{"$f":"'[1]Exec Summary'!$W195","v":0},null,{"$f":"'[2]Exec Summary'!$J195","v":"na"},{"$f":"'[2]Exec Summary'!$K195","v":"na"},{"$f":"'[2]Exec Summary'!$L195","v":"na"},{"$f":"'[2]Exec Summary'!$M195","v":"na"},{"$f":"'[2]Exec Summary'!$N195","v":"na"},{"$f":"'[2]Exec Summary'!$O195","v":"na"},{"$f":"'[2]Exec Summary'!$P195","v":"na"},{"$error":"#DIV/0!"},{"$f":"'[2]Exec Summary'!$W195","v":0},null,{"$error":"#VALUE!"},{"$error":"#VALUE!"},{"$error":"#VALUE!"},{"$error":"#VALUE!"},{"$error":"#VALUE!"},{"$error":"#VALUE!"},{"$error":"#VALUE!"},null,0,null,{"$error":"#VALUE!"},{"$error":"#VALUE!"},{"$error":"#VALUE!"},{"$error":"#VALUE!"},{"$error":"#VALUE!"},{"$error":"#VALUE!"},{"$error":"#VALUE!"},null,0]
[null,null,null,null,"Allowed revenues - WR - real",null,"£m",null,{"$f":"'[1]Exec Summary'!$J196","v":0},{"$f":"'[1]Exec Summary'!$K196","v":0},{"$f":"'[1]Exec Summary'!$L196","v":56.716340981061549},{"$f":"'[1]Exec Summary'!$M196","v":58.445503358524341},{"$f":"'[1]Exec Summary'!$N196","v":56.624293819082837},{"$f":"'[1]Exec Summary'!$O196","v":55.851110105769017},{"$f":"'[1]Exec Summary'!$P196","v":52.83518339185261},56.094486331258075,{"$f":"'[1]Exec Summary'!$W196","v":280.47243165629038},null,{"$f":"'[2]Exec Summary'!$J196","v":0},{"$f":"'[2]Exec Summary'!$K196","v":0},{"$f":"'[2]Exec Summary'!$L196","v":49.057581029918026},{"$f":"'[2]Exec Summary'!$M196","v":48.408171463599061},{"$f":"'[2]Exec Summary'!$N196","v":50.820429602572034},{"$f":"'[2]Exec Summary'!$O196","v":51.34145180815694},{"$f":"'[2]Exec Summary'!$P196","v":51.043699009695381},50.134266582788293,{"$f":"'[2]Exec Summary'!$W196","v":250.67133291394148},null,0,0,7.6589999999999998,10.037000000000001,5.8040000000000003,4.51,1.7909999999999999,null,29.800999999999998,null,0,0,0.15612265911213841,0.20734102727981388,0.11420603968499822,8.7843250262032282E-2,3.5087582497887009E-2,null,0.11888475500399978]
[null,null,null,null,null,null,null,null,null,null,null,null,null,null,null,null,null,null,null,null,null,null,null,null,null,null,null,null,0,0,0,0,0,0,0,null,0,null,0,0,0,0,0,0,0,null,0]
[null,null,null,null,"Revenue solving adjustment - WR - real",null,"£m",null,{"$f":"'[1]Exec Summary'!$J198","v":0},{"$f":"'[1]Exec Summary'!$K198","v":0},{"$f":"'[1]Exec Summary'!$L198","v":0},{"$f":"'[1]Exec Summary'!$M198","v":0},{"$f":"'[1]Exec Summary'!$N198","v":0},{"$f":"'[1]Exec Summary'!$O198","v":0},{"$f":"'[1]Exec Summary'!$P198","v":0},0,{"$f":"'[1]Exec Summary'!$W198","v":0},null,{"$f":"'[2]Exec Summary'!$J198","v":0},{"$f":"'[2]Exec Summary'!$K198","v":0},{"$f":"'[2]Exec Summary'!$L198","v":0.28704314141356235},{"$f":"'[2]Exec Summary'!$M198","v":-6.1588776288701297E-3},{"$f":"'[2]Exec Summary'!$N198","v":-0.50481777589418897},{"$f":"'[2]Exec Summary'!$O198","v":0.12935016316109937},{"$f":"'[2]Exec Summary'!$P198","v":8.6251000229395913E-2},{"$f":"AVERAGE(U196:Y196)","v":-1.6664697438002918E-3},{"$f":"'[2]Exec Summary'!$W198","v":-8.3323487190014589E-3},null,0,0,-0.28699999999999998,6.0000000000000001E-3,0.505,-0.129,-8.5999999999999993E-2,null,8.0000000000000002E-3,null,0,0,-0.99984970407810503,-0.97420347692485709,-1.0003609700658584,-0.99729290514567603,-0.99708988616099115,null,-0.96011344097450513]
[null,null,null,null,"Allowed Revenues (post revenue solving adjustment) - WR - real",0,"£m",null,{"$f":"'[1]Exec Summary'!$J199","v":0},{"$f":"'[1]Exec Summary'!$K199","v":0},{"$f":"'[1]Exec Summary'!$L199","v":56.716340981061549},{"$f":"'[1]Exec Summary'!$M199","v":58.445503358524348},{"$f":"'[1]Exec Summary'!$N199","v":56.624293819082837},{"$f":"'[1]Exec Summary'!$O199","v":55.851110105769017},{"$f":"'[1]Exec Summary'!$P199","v":52.835183391852603},56.094486331258068,{"$f":"'[1]Exec Summary'!$W199","v":280.47243165629038},null,{"$f":"'[2]Exec Summary'!$J199","v":0},{"$f":"'[2]Exec Summary'!$K199","v":0},{"$f":"'[2]Exec Summary'!$L199","v":49.344624171331589},{"$f":"'[2]Exec Summary'!$M199","v":48.402012585970191},{"$f":"'[2]Exec Summary'!$N199","v":50.315611826677845},{"$f":"'[2]Exec Summary'!$O199","v":51.470801971318039},{"$f":"'[2]Exec Summary'!$P199","v":51.129950009924777},50.132600113044489,{"$f":"'[2]Exec Summary'!$W199","v":250.66300056522249},null,0,0,7.3719999999999999,10.042999999999999,6.3090000000000002,4.38,1.7050000000000001,null,29.809000000000001,null,0,0,0.14939823990559462,0.20749137202015983,0.12538851801569278,8.5096789485439583E-2,3.3346404595917742E-2,null,0.11892062224095057]
[null,null,null,null,null,null,null,null,null,null,null,null,null,null,null,null,null,null,null,null,null,null,null,null,null,null,null,null,0,0,0,0,0,0,0,null,0,null,0,0,0,0,0,0,0,null,0]
[null,null,null,null,"Allowed Revenues (post revenue solving adjustment) - WR - real",0,"£m",null,{"$f":"'[1]Exec Summary'!$J201","v":0},{"$f":"'[1]Exec Summary'!$K201","v":0},{"$f":"'[1]Exec Summary'!$L201","v":56.716340981061549},{"$f":"'[1]Exec Summary'!$M201","v":58.445503358524348},{"$f":"'[1]Exec Summary'!$N201","v":56.624293819082837},{"$f":"'[1]Exec Summary'!$O201","v":55.851110105769017},{"$f":"'[1]Exec Summary'!$P201","v":52.835183391852603},56.094486331258068,{"$f":"'[1]Exec Summary'!$W201","v":280.47243165629033},null,{"$f":"'[2]Exec Summary'!$J201","v":0},{"$f":"'[2]Exec Summary'!$K201","v":0},{"$f":"'[2]Exec Summary'!$L201","v":49.344624171331589},{"$f":"'[2]Exec Summary'!$M201","v":48.402012585970191},{"$f":"'[2]Exec Summary'!$N201","v":50.315611826677845},{"$f":"'[2]Exec Summary'!$O201","v":51.470801971318039},{"$f":"'[2]Exec Summary'!$P201","v":51.129950009924777},{"$f":"AVERAGE(U199:Y199)","v":50.132600113044489},{"$f":"'[2]Exec Summary'!$W201","v":250.66300056522246},null,0,0,7.3719999999999999,10.042999999999999,6.3090000000000002,4.38,1.7050000000000001,null,29.809000000000001,null,0,0,0.14939823990559462,0.20749137202015983,0.12538851801569278,8.5096789485439583E-2,3.3346404595917742E-2,null,0.11892062224095058]
[null,null,null,null,"Post financeability adjustments - WR - real",0,"£m",null,{"$f":"'[1]Exec Summary'!$J202","v":0},{"$f":"'[1]Exec Summary'!$K202","v":0},{"$f":"'[1]Exec Summary'!$L202","v":0},{"$f":"'[1]Exec Summary'!$M202","v":0},{"$f":"'[1]Exec Summary'!$N202","v":0},{"$f":"'[1]Exec Summary'!$O202","v":0},{"$f":"'[1]Exec Summary'!$P202","v":0},0,{"$f":"'[1]Exec Summary'!$W202","v":0},null,{"$f":"'[2]Exec Summary'!$J202","v":0},{"$f":"'[2]Exec Summary'!$K202","v":0},{"$f":"'[2]Exec Summary'!$L202","v":0},{"$f":"'[2]Exec Summary'!$M202","v":0},{"$f":"'[2]Exec Summary'!$N202","v":0},{"$f":"'[2]Exec Summary'!$O202","v":0},{"$f":"'[2]Exec Summary'!$P202","v":0},0,{"$f":"'[2]Exec Summary'!$W202","v":0},null,0,0,0,0,0,0,0,null,0,null,0,0,0,0,0,0,0,null,0]
[null,null,null,null,"Allowed Revenues (pre profiling) - WR - real",null,"£m",null,{"$f":"'[1]Exec Summary'!$J203","v":0},{"$f":"'[1]Exec Summary'!$K203","v":0},{"$f":"'[1]Exec Summary'!$L203","v":56.716340981061549},{"$f":"'[1]Exec Summary'!$M203","v":58.445503358524348},{"$f":"'[1]Exec Summary'!$N203","v":56.624293819082837},{"$f":"'[1]Exec Summary'!$O203","v":55.851110105769017},{"$f":"'[1]Exec Summary'!$P203","v":52.835183391852603},56.094486331258068,{"$f":"'[1]Exec Summary'!$W203","v":280.47243165629033},null,{"$f":"'[2]Exec Summary'!$J203","v":0},{"$f":"'[2]Exec Summary'!$K203","v":0},{"$f":"'[2]Exec Summary'!$L203","v":49.344624171331589},{"$f":"'[2]Exec Summary'!$M203","v":48.402012585970191},{"$f":"'[2]Exec Summary'!$N203","v":50.315611826677845},{"$f":"'[2]Exec Summary'!$O203","v":51.470801971318039},{"$f":"'[2]Exec Summary'!$P203","v":51.129950009924777},50.132600113044489,{"$f":"'[2]Exec Summary'!$W203","v":250.66300056522246},null,0,0,7.3719999999999999,10.042999999999999,6.3090000000000002,4.38,1.7050000000000001,null,29.809000000000001,null,0,0,0.14939823990559462,0.20749137202015983,0.12538851801569278,8.5096789485439583E-2,3.3346404595917742E-2,null,0.11892062224095058]
[null,null,null,null,null,null,null,null,null,null,null,null,null,null,null,null,null,null,null,null,null,null,null,null,null,null,null,null,0,0,0,0,0,0,0,null,0,null,0,0,0,0,0,0,0,null,0]
[null,null,null,null,"Profiling adjustment - WR - real",null,"£m",null,{"$f":"'[1]Exec Summary'!$J205","v":0},{"$f":"'[1]Exec Summary'!$K205","v":0},{"$f":"'[1]Exec Summary'!$L205","v":0},{"$f":"'[1]Exec Summary'!$M205","v":0},{"$f":"'[1]Exec Summary'!$N205","v":0},{"$f":"'[1]Exec Summary'!$O205","v":0},{"$f":"'[1]Exec Summary'!$P205","v":0},0,{"$f":"'[1]Exec Summary'!$W205","v":0},null,{"$f":"'[2]Exec Summary'!$J205","v":0},{"$f":"'[2]Exec Summary'!$K205","v":0},{"$f":"'[2]Exec Summary'!$L205","v":0},{"$f":"'[2]Exec Summary'!$M205","v":0},{"$f":"'[2]Exec Summary'!$N205","v":0},{"$f":"'[2]Exec Summary'!$O205","v":0},{"$f":"'[2]Exec Summary'!$P205","v":0},{"$f":"AVERAGE(U203:Y203)","v":0},{"$f":"'[2]Exec Summary'!$W205","v":0},null,0,0,0,0,0,0,0,null,0,null,0,0,0,0,0,0,0,null,0]
[null,null,null,null,"Re-profiled allowed revenue adjusted - WR - real",0,"£m",null,{"$f":"'[1]Exec Summary'!$J206","v":0},{"$f":"'[1]Exec Summary'!$K206","v":0},{"$f":"'[1]Exec Summary'!$L206","v":56.716340981061549},{"$f":"'[1]Exec Summary'!$M206","v":58.445503358524348},{"$f":"'[1]Exec Summary'!$N206","v":56.624293819082837},{"$f":"'[1]Exec Summary'!$O206","v":55.851110105769017},{"$f":"'[1]Exec Summary'!$P206","v":52.835183391852603},56.094486331258068,{"$f":"'[1]Exec Summary'!$W206","v":280.47243165629033},null,{"$f":"'[2]Exec Summary'!$J206","v":0},{"$f":"'[2]Exec Summary'!$K206","v":0},{"$f":"'[2]Exec Summary'!$L206","v":49.344624171331589},{"$f":"'[2]Exec Summary'!$M206","v":48.402012585970191},{"$f":"'[2]Exec Summary'!$N206","v":50.315611826677845},{"$f":"'[2]Exec Summary'!$O206","v":51.470801971318039},{"$f":"'[2]Exec Summary'!$P206","v":51.129950009924777},50.132600113044489,{"$f":"'[2]Exec Summary'!$W206","v":250.66300056522246},null,0,0,7.3719999999999999,10.042999999999999,6.3090000000000002,4.38,1.7050000000000001,null,29.809000000000001,null,0,0,0.14939823990559462,0.20749137202015983,0.12538851801569278,8.5096789485439583E-2,3.3346404595917742E-2,null,0.11892062224095058]
[null,null,null,null,null,null,null,null,null,null,null,null,null,null,null,null,null,null,null,null,null,null,null,null,null,null,null,null,0,0,0,0,0,0,0,null,0,null,0,0,0,0,0,0,0,null,0]
[null,null,null,null,"Contributions from connection charges and revenue from infrastructure charges - forecast - WR - real",0,"£m",null,{"$f":"'[1]Exec Summary'!$J208","v":0},{"$f":"'[1]Exec Summary'!$K208","v":0},{"$f":"'[1]Exec Summary'!$L208","v":0},{"$f":"'[1]Exec Summary'!$M208","v":0},{"$f":"'[1]Exec Summary'!$N208","v":0},{"$f":"'[1]Exec Summary'!$O208","v":0},{"$f":"'[1]Exec Summary'!$P208","v":0},0,{"$f":"'[1]Exec Summary'!$W208","v":0},null,{"$f":"'[2]Exec Summary'!$J208","v":0},{"$f":"'[2]Exec Summary'!$K208","v":0},{"$f":"'[2]Exec Summary'!$L208","v":0},{"$f":"'[2]Exec Summary'!$M208","v":0},{"$f":"'[2]Exec Summary'!$N208","v":0},{"$f":"'[2]Exec Summary'!$O208","v":0},{"$f":"'[2]Exec Summary'!$P208","v":0},{"$f":"AVERAGE(U206:Y206)","v":0},{"$f":"'[2]Exec Summary'!$W208","v":0},null,0,0,0,0,0,0,0,null,0,null,0,0,0,0,0,0,0,null,0]
[null,null,null,null,"Final Allowed Revenues - WR - real",null,"£m",null,{"$f":"'[1]Exec Summary'!$J209","v":0},{"$f":"'[1]Exec Summary'!$K209","v":0},{"$f":"'[1]Exec Summary'!$L209","v":56.716340981061549},{"$f":"'[1]Exec Summary'!$M209","v":58.445503358524348},{"$f":"'[1]Exec Summary'!$N209","v":56.624293819082837},{"$f":"'[1]Exec Summary'!$O209","v":55.851110105769017},{"$f":"'[1]Exec Summary'!$P209","v":52.835183391852603},56.094486331258068,{"$f":"'[1]Exec Summary'!$W209","v":280.47243165629033},null,{"$f":"'[2]Exec Summary'!$J209","v":0},{"$f":"'[2]Exec Summary'!$K209","v":0},{"$f":"'[2]Exec Summary'!$L209","v":49.344624171331589},{"$f":"'[2]Exec Summary'!$M209","v":48.402012585970191},{"$f":"'[2]Exec Summary'!$N209","v":50.315611826677845},{"$f":"'[2]Exec Summary'!$O209","v":51.470801971318039},{"$f":"'[2]Exec Summary'!$P209","v":51.129950009924777},50.132600113044489,{"$f":"'[2]Exec Summary'!$W209","v":250.66300056522246},null,0,0,7.3719999999999999,10.042999999999999,6.3090000000000002,4.38,1.7050000000000001,null,29.809000000000001,null,0,0,0.14939823990559462,0.20749137202015983,0.12538851801569278,8.5096789485439583E-2,3.3346404595917742E-2,null,0.11892062224095058]
[null,null,null,null,null,null,null,null,null,null,null,null,null,null,null,null,null,null,null,null,null,null,null,null,null,null,null,null,0,0,0,0,0,0,0,null,0,null,0,0,0,0,0,0,0,null,0]
[null,"Water Network",null,null,null,null,null,null,null,null,null,null,null,null,null,null,null,null,null,null,null,null,null,null,null,null,null,null,0,0,0,0,0,0,0,null,0,null,0,0,0,0,0,0,0,null,0]
[null,null,null,null,"PAYG - WN - real",0,"£m",null,{"$f":"'[1]Exec Summary'!$J212","v":0},{"$f":"'[1]Exec Summary'!$K212","v":0},{"$f":"'[1]Exec Summary'!$L212","v":225.74501528899998},{"$f":"'[1]Exec Summary'!$M212","v":226.13227904899998},{"$f":"'[1]Exec Summary'!$N212","v":227.88862548499998},{"$f":"'[1]Exec Summary'!$O212","v":229.10522927399998},{"$f":"'[1]Exec Summary'!$P212","v":221.60406317299996},{"$f":"AVERAGE(K210:O210)","v":226.09504245399995},{"$f":"'[1]Exec Summary'!$W212","v":1130.4752122699997},null,{"$f":"'[2]Exec Summary'!$J212","v":0},{"$f":"'[2]Exec Summary'!$K212","v":0},{"$f":"'[2]Exec Summary'!$L212","v":202.38870341157579},{"$f":"'[2]Exec Summary'!$M212","v":207.24922197420642},{"$f":"'[2]Exec Summary'!$N212","v":210.50516515151398},{"$f":"'[2]Exec Summary'!$O212","v":210.78024182615391},{"$f":"'[2]Exec Summary'!$P212","v":205.11914131402258},{"$f":"AVERAGE(U210:Y210)","v":207.20849473549453},{"$f":"'[2]Exec Summary'!$W212","v":1036.0424736774726},null,0,0,23.356000000000002,18.882999999999999,17.382999999999999,18.324999999999999,16.484999999999999,null,94.433000000000007,null,0,0,0.11540169785318233,9.1112525393943905E-2,8.2577546196970261E-2,8.6938888774565432E-2,8.0367926144750454E-2,null,9.1147807545772175E-2]
[null,null,null,null,"Wholesale Water network service defined benefit pension deficit recovery  per IN13/17 - real",0,"£m",null,{"$f":"'[1]Exec Summary'!$J213","v":0},{"$f":"'[1]Exec Summary'!$K213","v":0},{"$f":"'[1]Exec Summary'!$L213","v":3.9219999999999997},{"$f":"'[1]Exec Summary'!$M213","v":3.96},{"$f":"'[1]Exec Summary'!$N213","v":3.9989999999999997},{"$f":"'[1]Exec Summary'!$O213","v":4.0380000000000003},{"$f":"'[1]Exec Summary'!$P213","v":4.077},3.9992000000000005,{"$f":"'[1]Exec Summary'!$W213","v":19.996000000000002},null,{"$f":"'[2]Exec Summary'!$J213","v":0},{"$f":"'[2]Exec Summary'!$K213","v":0},{"$f":"'[2]Exec Summary'!$L213","v":8.1572124790749498},{"$f":"'[2]Exec Summary'!$M213","v":8.1570448061579697},{"$f":"'[2]Exec Summary'!$N213","v":8.1574816533908905},{"$f":"'[2]Exec Summary'!$O213","v":0},{"$f":"'[2]Exec Summary'!$P213","v":0},4.8943477877247616,{"$f":"'[2]Exec Summary'!$W213","v":24.471738938623808},null,0,0,-4.2350000000000003,-4.1970000000000001,-4.1580000000000004,4.0380000000000003,4.077,null,-4.476,null,0,0,-0.51917245147943736,-0.51452457351117808,-0.50971613258506177,0,0,null,-0.18290486063234018]
[null,null,null,null,"Return on Capital - WN - real",0,"£m",null,{"$f":"'[1]Exec Summary'!$J214","v":0},{"$f":"'[1]Exec Summary'!$K214","v":0},{"$f":"'[1]Exec Summary'!$L214","v":78.322711915983831},{"$f":"'[1]Exec Summary'!$M214","v":83.102259619597888},{"$f":"'[1]Exec Summary'!$N214","v":89.579296320960196},{"$f":"'[1]Exec Summary'!$O214","v":96.424302185005885},{"$f":"'[1]Exec Summary'!$P214","v":101.04041364955076},89.693796738219717,{"$f":"'[1]Exec Summary'!$W214","v":448.46898369109857},null,{"$f":"'[2]Exec Summary'!$J214","v":0},{"$f":"'[2]Exec Summary'!$K214","v":0},{"$f":"'[2]Exec Summary'!$L214","v":66.587696748865355},{"$f":"'[2]Exec Summary'!$M214","v":69.392924766716746},{"$f":"'[2]Exec Summary'!$N214","v":73.317040260485939},{"$f":"'[2]Exec Summary'!$O214","v":76.916631840192863},{"$f":"'[2]Exec Summary'!$P214","v":79.034275877676933},73.049713898787559,{"$f":"'[2]Exec Summary'!$W214","v":365.24856949393779},null,0,0,11.734999999999999,13.709,16.262,19.507999999999999,22.006,null,83.22,null,0,0,0.17623375748013032,0.1975561636303203,0.22180382544389712,0.25362525026487281,0.27843615640964642,null,0.22784483486219717]
[null,null,null,null,"Depreciation - WN - real",0,"£m",null,{"$f":"'[1]Exec Summary'!$J215","v":0},{"$f":"'[1]Exec Summary'!$K215","v":0},{"$f":"'[1]Exec Summary'!$L215","v":110.86327877673018},{"$f":"'[1]Exec Summary'!$M215","v":116.1504221193732},{"$f":"'[1]Exec Summary'!$N215","v":123.5014654905969},{"$f":"'[1]Exec Summary'!$O215","v":131.3107231924418},{"$f":"'[1]Exec Summary'!$P215","v":136.44233383696053},123.65364468322052,{"$f":"'[1]Exec Summary'!$W215","v":618.26822341610261},null,{"$f":"'[2]Exec Summary'!$J215","v":0},{"$f":"'[2]Exec Summary'!$K215","v":0},{"$f":"'[2]Exec Summary'!$L215","v":109.1858466553831},{"$f":"'[2]Exec Summary'!$M215","v":112.46872082074323},{"$f":"'[2]Exec Summary'!$N215","v":117.3164303015316},{"$f":"'[2]Exec Summary'!$O215","v":121.73966608612623},{"$f":"'[2]Exec Summary'!$P215","v":124.15284062044984},116.9727008968468,{"$f":"'[2]Exec Summary'!$W215","v":584.863504484234},null,0,0,1.677,3.6819999999999999,6.1849999999999996,9.5709999999999997,12.289,null,33.405000000000001,null,0,0,1.5359133544964092E-2,3.2737991266642986E-2,5.2720663116863117E-2,7.8618582650201108E-2,9.8982833889149191E-2,null,5.7115890705915114E-2]
[null,null,null,null,"Tax WN - real ",0,"£m",null,{"$f":"'[1]Exec Summary'!$J216","v":0},{"$f":"'[1]Exec Summary'!$K216","v":0},{"$f":"'[1]Exec Summary'!$L216","v":0},{"$f":"'[1]Exec Summary'!$M216","v":0},{"$f":"'[1]Exec Summary'!$N216","v":0},{"$f":"'[1]Exec Summary'!$O216","v":0},{"$f":"'[1]Exec Summary'!$P216","v":0},0,{"$f":"'[1]Exec Summary'!$W216","v":0},null,{"$f":"'[2]Exec Summary'!$J216","v":0},{"$f":"'[2]Exec Summary'!$K216","v":0},{"$f":"'[2]Exec Summary'!$L216","v":0},{"$f":"'[2]Exec Summary'!$M216","v":0},{"$f":"'[2]Exec Summary'!$N216","v":0},{"$f":"'[2]Exec Summary'!$O216","v":0},{"$f":"'[2]Exec Summary'!$P216","v":0},0,{"$f":"'[2]Exec Summary'!$W216","v":0},null,0,0,0,0,0,0,0,null,0,null,0,0,0,0,0,0,0,null,0]
[null,null,null,null,"Water network: operating income - CALC - real",0,"£m",null,{"$f":"'[1]Exec Summary'!$J217","v":0},{"$f":"'[1]Exec Summary'!$K217","v":0},{"$f":"'[1]Exec Summary'!$L217","v":0},{"$f":"'[1]Exec Summary'!$M217","v":0},{"$f":"'[1]Exec Summary'!$N217","v":0},{"$f":"'[1]Exec Summary'!$O217","v":0},{"$f":"'[1]Exec Summary'!$P217","v":0},0,{"$f":"'[1]Exec Summary'!$W217","v":0},null,{"$f":"'[2]Exec Summary'!$J217","v":0},{"$f":"'[2]Exec Summary'!$K217","v":0},{"$f":"'[2]Exec Summary'!$L217","v":0},{"$f":"'[2]Exec Summary'!$M217","v":0},{"$f":"'[2]Exec Summary'!$N217","v":0},{"$f":"'[2]Exec Summary'!$O217","v":0},{"$f":"'[2]Exec Summary'!$P217","v":0},0,{"$f":"'[2]Exec Summary'!$W217","v":0},null,0,0,0,0,0,0,0,null,0,null,0,0,0,0,0,0,0,null,0]
[null,null,null,null,"Third party & principle service revenues - WN - real",0,"£m",null,{"$f":"'[1]Exec Summary'!$J218","v":0},{"$f":"'[1]Exec Summary'!$K218","v":0},{"$f":"'[1]Exec Summary'!$L218","v":-17.219456943447803},{"$f":"'[1]Exec Summary'!$M218","v":-17.637814254640293},{"$f":"'[1]Exec Summary'!$N218","v":-17.71870772367884},{"$f":"'[1]Exec Summary'!$O218","v":-17.910312991451672},{"$f":"'[1]Exec Summary'!$P218","v":-17.913187337158522},-17.679895850075425,{"$f":"'[1]Exec Summary'!$W218","v":-88.399479250377127},null,{"$f":"'[2]Exec Summary'!$J218","v":0},{"$f":"'[2]Exec Summary'!$K218","v":0},{"$f":"'[2]Exec Summary'!$L218","v":-17.21945694344781},{"$f":"'[2]Exec Summary'!$M218","v":-17.63781425464029},{"$f":"'[2]Exec Summary'!$N218","v":-17.718707723678847},{"$f":"'[2]Exec Summary'!$O218","v":-17.910312991451654},{"$f":"'[2]Exec Summary'!$P218","v":-17.913187337158547},-17.679895850075429,{"$f":"'[2]Exec Summary'!$W218","v":-88.399479250377141},null,0,0,0,0,0,0,0,null,0,null,0,0,0,0,0,0,0,null,0]
[null,null,null,null,"Adjustment to Wholesale revenue requirement - WN - real",0,"£m",null,{"$f":"'[1]Exec Summary'!$J219","v":0},{"$f":"'[1]Exec Summary'!$K219","v":0},{"$f":"'[1]Exec Summary'!$L219","v":0},{"$f":"'[1]Exec Summary'!$M219","v":0},{"$f":"'[1]Exec Summary'!$N219","v":0},{"$f":"'[1]Exec Summary'!$O219","v":0},{"$f":"'[1]Exec Summary'!$P219","v":0},0,{"$f":"'[1]Exec Summary'!$W219","v":0},null,{"$f":"'[2]Exec Summary'!$J219","v":0},{"$f":"'[2]Exec Summary'!$K219","v":0},{"$f":"'[2]Exec Summary'!$L219","v":0},{"$f":"'[2]Exec Summary'!$M219","v":0},{"$f":"'[2]Exec Summary'!$N219","v":0},{"$f":"'[2]Exec Summary'!$O219","v":0},{"$f":"'[2]Exec Summary'!$P219","v":0},0,{"$f":"'[2]Exec Summary'!$W219","v":0},null,0,0,0,0,0,0,0,null,0,null,0,0,0,0,0,0,0,null,0]
[null,null,null,null,"Allowed revenues - WN - real",null,"£m",null,{"$f":"'[1]Exec Summary'!$J220","v":0},{"$f":"'[1]Exec Summary'!$K220","v":0},{"$f":"'[1]Exec Summary'!$L220","v":401.63354903826615},{"$f":"'[1]Exec Summary'!$M220","v":411.70714653333079},{"$f":"'[1]Exec Summary'!$N220","v":427.24967957287822},{"$f":"'[1]Exec Summary'!$O220","v":442.96794165999597},{"$f":"'[1]Exec Summary'!$P220","v":445.25062332235268},425.76178802536481,{"$f":"'[1]Exec Summary'!$W220","v":2128.8089401268239},null,{"$f":"'[2]Exec Summary'!$J220","v":0},{"$f":"'[2]Exec Summary'!$K220","v":0},{"$f":"'[2]Exec Summary'!$L220","v":369.10000235145139},{"$f":"'[2]Exec Summary'!$M220","v":379.63009811318409},{"$f":"'[2]Exec Summary'!$N220","v":391.57740964324358},{"$f":"'[2]Exec Summary'!$O220","v":391.52622676102141},{"$f":"'[2]Exec Summary'!$P220","v":390.39307047499085},384.44536146877829,{"$f":"'[2]Exec Summary'!$W220","v":1922.2268073438909},null,{"$f":"ROUND(I218 - S218, 3)","v":0},{"$f":"ROUND(J218 - T218, 3)","v":0},{"$f":"ROUND(K218 - U218, 3)","v":32.533999999999999},{"$f":"ROUND(L218 - V218, 3)","v":32.076999999999998},{"$f":"ROUND(M218 - W218, 3)","v":35.671999999999997},{"$f":"ROUND(N218 - X218, 3)","v":51.442},{"$f":"ROUND(O218 - Y218, 3)","v":54.857999999999997},null,{"$f":"ROUND(Q218 - AA218, 3)","v":206.58199999999999},null,{"$f":"IF(S218 = 0, 0, AC218 / S218)","v":0},{"$f":"IF(T218 = 0, 0, AD218 / T218)","v":0},{"$f":"IF(U218 = 0, 0, AE218 / U218)","v":8.8144133819380521E-2},{"$f":"IF(V218 = 0, 0, AF218 / V218)","v":8.4495407923205451E-2},{"$f":"IF(W218 = 0, 0, AG218 / W218)","v":9.1098207203780895E-2},{"$f":"IF(X218 = 0, 0, AH218 / X218)","v":0.1313883885265214},{"$f":"IF(Y218 = 0, 0, AI218 / Y218)","v":0.14051991223423696},null,{"$f":"IF(AA218 = 0, 0, AK218 / AA218)","v":0.10747014827321674}]
[null,null,null,null,null,null,null,null,null,null,null,null,null,null,null,null,null,null,null,null,null,null,null,null,null,null,null,null,0,0,0,0,0,0,0,null,0,null,0,0,0,0,0,0,0,null,0]
[null,null,null,null,"Revenue solving adjustment - WN - real",null,"£m",null,{"$f":"'[1]Exec Summary'!$J222","v":0},{"$f":"'[1]Exec Summary'!$K222","v":0},{"$f":"'[1]Exec Summary'!$L222","v":0},{"$f":"'[1]Exec Summary'!$M222","v":0},{"$f":"'[1]Exec Summary'!$N222","v":0},{"$f":"'[1]Exec Summary'!$O222","v":0},{"$f":"'[1]Exec Summary'!$P222","v":0},{"$f":"AVERAGE(K220:O220)","v":0},{"$f":"'[1]Exec Summary'!$W222","v":0},null,{"$f":"'[2]Exec Summary'!$J222","v":0},{"$f":"'[2]Exec Summary'!$K222","v":0},{"$f":"'[2]Exec Summary'!$L222","v":2.2095963654963384},{"$f":"'[2]Exec Summary'!$M222","v":-2.9840927943780571E-2},{"$f":"'[2]Exec Summary'!$N222","v":-3.9292967854369181},{"$f":"'[2]Exec Summary'!$O222","v":1.0070078799914768},{"$f":"'[2]Exec Summary'!$P222","v":0.67904515026884837},{"$f":"AVERAGE(U220:Y220)","v":-1.2697663524807012E-2},{"$f":"'[2]Exec Summary'!$W222","v":-6.3488317624035062E-2},null,0,0,-2.21,0.03,3.9289999999999998,-1.0069999999999999,-0.67900000000000005,null,6.3E-2,null,0,0,-1.000182673410386,-1.0053306672138049,-0.99992446856190187,-0.99999217484626146,-0.99993350918001478,null,-0.9923085436453557]
[null,null,null,null,"Allowed Revenues (post revenue solving adjustment) - WN - real",0,"£m",null,{"$f":"'[1]Exec Summary'!$J223","v":0},{"$f":"'[1]Exec Summary'!$K223","v":0},{"$f":"'[1]Exec Summary'!$L223","v":401.63354903826627},{"$f":"'[1]Exec Summary'!$M223","v":411.70714653333079},{"$f":"'[1]Exec Summary'!$N223","v":427.24967957287822},{"$f":"'[1]Exec Summary'!$O223","v":442.96794165999592},{"$f":"'[1]Exec Summary'!$P223","v":445.25062332235274},425.76178802536481,{"$f":"'[1]Exec Summary'!$W223","v":2128.8089401268239},null,{"$f":"'[2]Exec Summary'!$J223","v":0},{"$f":"'[2]Exec Summary'!$K223","v":0},{"$f":"'[2]Exec Summary'!$L223","v":371.30959871694773},{"$f":"'[2]Exec Summary'!$M223","v":379.60025718524031},{"$f":"'[2]Exec Summary'!$N223","v":387.64811285780667},{"$f":"'[2]Exec Summary'!$O223","v":392.53323464101288},{"$f":"'[2]Exec Summary'!$P223","v":391.0721156252597},384.43266380525347,{"$f":"'[2]Exec Summary'!$W223","v":1922.1633190262669},null,0,0,30.324000000000002,32.106999999999999,39.601999999999997,50.435000000000002,54.179000000000002,null,206.64599999999999,null,0,0,8.1667697535382666E-2,8.4581080734969505E-2,0.1021596615240751,0.12848593583706305,0.13853966528239103,null,0.10750699378899974]
[null,null,null,null,null,null,null,null,null,null,null,null,null,null,null,null,null,null,null,null,null,null,null,null,null,null,null,null,0,0,0,0,0,0,0,null,0,null,0,0,0,0,0,0,0,null,0]
[null,null,null,null,"Allowed Revenues (post revenue solving adjustment) - WN - real",0,"£m",null,{"$f":"'[1]Exec Summary'!$J225","v":0},{"$f":"'[1]Exec Summary'!$K225","v":0},{"$f":"'[1]Exec Summary'!$L225","v":401.63354903826627},{"$f":"'[1]Exec Summary'!$M225","v":411.70714653333079},{"$f":"'[1]Exec Summary'!$N225","v":427.24967957287822},{"$f":"'[1]Exec Summary'!$O225","v":442.96794165999592},{"$f":"'[1]Exec Summary'!$P225","v":445.25062332235274},{"$f":"AVERAGE(K223:O223)","v":425.76178802536481},{"$f":"'[1]Exec Summary'!$W225","v":2128.8089401268239},null,{"$f":"'[2]Exec Summary'!$J225","v":0},{"$f":"'[2]Exec Summary'!$K225","v":0},{"$f":"'[2]Exec Summary'!$L225","v":371.30959871694773},{"$f":"'[2]Exec Summary'!$M225","v":379.60025718524031},{"$f":"'[2]Exec Summary'!$N225","v":387.64811285780667},{"$f":"'[2]Exec Summary'!$O225","v":392.53323464101288},{"$f":"'[2]Exec Summary'!$P225","v":391.0721156252597},{"$f":"AVERAGE(U223:Y223)","v":384.43266380525347},{"$f":"'[2]Exec Summary'!$W225","v":1922.1633190262673},null,0,0,30.324000000000002,32.106999999999999,39.601999999999997,50.435000000000002,54.179000000000002,null,206.64599999999999,null,0,0,8.1667697535382666E-2,8.4581080734969505E-2,0.1021596615240751,0.12848593583706305,0.13853966528239103,null,0.10750699378899971]
[null,null,null,null,"Post financeability adjustments - WN - real",0,"£m",null,{"$f":"'[1]Exec Summary'!$J226","v":0},{"$f":"'[1]Exec Summary'!$K226","v":0},{"$f":"'[1]Exec Summary'!$L226","v":2.9991592750295522},{"$f":"'[1]Exec Summary'!$M226","v":8.5976625314620652},{"$f":"'[1]Exec Summary'!$N226","v":2.9991592750295522},{"$f":"'[1]Exec Summary'!$O226","v":0},{"$f":"'[1]Exec Summary'!$P226","v":0},2.9191962163042335,{"$f":"'[1]Exec Summary'!$W226","v":14.595981081521169},null,{"$f":"'[2]Exec Summary'!$J226","v":0},{"$f":"'[2]Exec Summary'!$K226","v":0},{"$f":"'[2]Exec Summary'!$L226","v":5.7668535792865105},{"$f":"'[2]Exec Summary'!$M226","v":13.358693652604789},{"$f":"'[2]Exec Summary'!$N226","v":5.7668535792865105},{"$f":"'[2]Exec Summary'!$O226","v":1.6879972711414899},{"$f":"'[2]Exec Summary'!$P226","v":1.6879972711414899},5.6536790706921582,{"$f":"'[2]Exec Summary'!$W226","v":28.268395353460793},null,0,0,-2.7679999999999998,-4.7610000000000001,-2.7679999999999998,-1.6879999999999999,-1.6879999999999999,null,-13.672000000000001,null,0,0,-0.47998444245960264,-0.35639712413583652,-0.47998444245960264,-1.0000016166249535,-1.0000016166249535,null,-0.48364966702385492]
[null,null,null,null,"Allowed Revenues (pre profiling) - WN - real",null,"£m",null,{"$f":"'[1]Exec Summary'!$J227","v":0},{"$f":"'[1]Exec Summary'!$K227","v":0},{"$f":"'[1]Exec Summary'!$L227","v":404.63270831329584},{"$f":"'[1]Exec Summary'!$M227","v":420.30480906479283},{"$f":"'[1]Exec Summary'!$N227","v":430.24883884790779},{"$f":"'[1]Exec Summary'!$O227","v":442.96794165999592},{"$f":"'[1]Exec Summary'!$P227","v":445.25062332235274},428.68098424166902,{"$f":"'[1]Exec Summary'!$W227","v":2143.4049212083451},null,{"$f":"'[2]Exec Summary'!$J227","v":0},{"$f":"'[2]Exec Summary'!$K227","v":0},{"$f":"'[2]Exec Summary'!$L227","v":377.07645229623427},{"$f":"'[2]Exec Summary'!$M227","v":392.95895083784512},{"$f":"'[2]Exec Summary'!$N227","v":393.4149664370932},{"$f":"'[2]Exec Summary'!$O227","v":394.22123191215439},{"$f":"'[2]Exec Summary'!$P227","v":392.76011289640121},390.0863428759456,{"$f":"'[2]Exec Summary'!$W227","v":1950.4317143797282},null,0,0,27.556000000000001,27.346,36.834000000000003,48.747,52.491,null,192.97300000000001,null,0,0,7.3078018614516363E-2,6.9589965928233438E-2,9.3626331335540935E-2,0.12365391829241316,0.13364646326457699,null,9.8938608605105074E-2]
[null,null,null,null,null,null,null,null,null,null,null,null,null,null,null,null,null,null,null,null,null,null,null,null,null,null,null,null,0,0,0,0,0,0,0,null,0,null,0,0,0,0,0,0,0,null,0]
[null,null,null,null,"Profiling adjustment - WN - real",null,"£m",null,{"$f":"'[1]Exec Summary'!$J229","v":0},{"$f":"'[1]Exec Summary'!$K229","v":0},{"$f":"'[1]Exec Summary'!$L229","v":0},{"$f":"'[1]Exec Summary'!$M229","v":0},{"$f":"'[1]Exec Summary'!$N229","v":0},{"$f":"'[1]Exec Summary'!$O229","v":0},{"$f":"'[1]Exec Summary'!$P229","v":0},{"$f":"AVERAGE(K227:O227)","v":0},{"$f":"'[1]Exec Summary'!$W229","v":0},null,{"$f":"'[2]Exec Summary'!$J229","v":0},{"$f":"'[2]Exec Summary'!$K229","v":0},{"$f":"'[2]Exec Summary'!$L229","v":0},{"$f":"'[2]Exec Summary'!$M229","v":0},{"$f":"'[2]Exec Summary'!$N229","v":0},{"$f":"'[2]Exec Summary'!$O229","v":0},{"$f":"'[2]Exec Summary'!$P229","v":0},{"$f":"AVERAGE(U227:Y227)","v":0},{"$f":"'[2]Exec Summary'!$W229","v":0},null,0,0,0,0,0,0,0,null,0,null,0,0,0,0,0,0,0,null,0]
[null,null,null,null,"Re-profiled allowed revenue adjusted - WN - real",0,"£m",null,{"$f":"'[1]Exec Summary'!$J230","v":0},{"$f":"'[1]Exec Summary'!$K230","v":0},{"$f":"'[1]Exec Summary'!$L230","v":404.63270831329578},{"$f":"'[1]Exec Summary'!$M230","v":420.30480906479283},{"$f":"'[1]Exec Summary'!$N230","v":430.24883884790779},{"$f":"'[1]Exec Summary'!$O230","v":442.96794165999592},{"$f":"'[1]Exec Summary'!$P230","v":445.25062332235274},428.68098424166902,{"$f":"'[1]Exec Summary'!$W230","v":2143.4049212083451},null,{"$f":"'[2]Exec Summary'!$J230","v":0},{"$f":"'[2]Exec Summary'!$K230","v":0},{"$f":"'[2]Exec Summary'!$L230","v":377.07645229623421},{"$f":"'[2]Exec Summary'!$M230","v":392.95895083784512},{"$f":"'[2]Exec Summary'!$N230","v":393.4149664370932},{"$f":"'[2]Exec Summary'!$O230","v":394.22123191215439},{"$f":"'[2]Exec Summary'!$P230","v":392.76011289640121},390.0863428759456,{"$f":"'[2]Exec Summary'!$W230","v":1950.4317143797282},null,0,0,27.556000000000001,27.346,36.834000000000003,48.747,52.491,null,192.97300000000001,null,0,0,7.3078018614516377E-2,6.9589965928233438E-2,9.3626331335540935E-2,0.12365391829241316,0.13364646326457699,null,9.8938608605105074E-2]
[null,null,null,null,null,null,null,null,null,null,null,null,null,null,null,null,null,null,null,null,null,null,null,null,null,null,null,null,0,0,0,0,0,0,0,null,0,null,0,0,0,0,0,0,0,null,0]
[null,null,null,null,"Contributions from connection charges and revenue from infrastructure charges - forecast - WN - real",0,"£m",null,{"$f":"'[1]Exec Summary'!$J232","v":0},{"$f":"'[1]Exec Summary'!$K232","v":0},{"$f":"'[1]Exec Summary'!$L232","v":34.00622260618708},{"$f":"'[1]Exec Summary'!$M232","v":40.339584817276972},{"$f":"'[1]Exec Summary'!$N232","v":40.006048473587875},{"$f":"'[1]Exec Summary'!$O232","v":39.415651929220147},{"$f":"'[1]Exec Summary'!$P232","v":36.79890837843611},{"$f":"AVERAGE(K230:O230)","v":38.113283240941641},{"$f":"'[1]Exec Summary'!$W232","v":190.56641620470822},null,{"$f":"'[2]Exec Summary'!$J232","v":0},{"$f":"'[2]Exec Summary'!$K232","v":0},{"$f":"'[2]Exec Summary'!$L232","v":21.654563753944601},{"$f":"'[2]Exec Summary'!$M232","v":22.155529157271001},{"$f":"'[2]Exec Summary'!$N232","v":21.176372071796699},{"$f":"'[2]Exec Summary'!$O232","v":20.235340120918899},{"$f":"'[2]Exec Summary'!$P232","v":19.005065493919499},{"$f":"AVERAGE(U230:Y230)","v":20.845374119570138},{"$f":"'[2]Exec Summary'!$W232","v":104.22687059785069},null,0,0,12.352,18.184000000000001,18.829999999999998,19.18,17.794,null,86.34,null,0,0,0.57041093694394818,0.82074320459334982,0.88919858114310024,0.9478466823580638,0.93627669979316996,null,0.8283852283461004]
[null,null,null,null,"Final Allowed Revenues - WN - real",null,"£m",null,{"$f":"'[1]Exec Summary'!$J233","v":0},{"$f":"'[1]Exec Summary'!$K233","v":0},{"$f":"'[1]Exec Summary'!$L233","v":438.63893091948285},{"$f":"'[1]Exec Summary'!$M233","v":460.64439388206983},{"$f":"'[1]Exec Summary'!$N233","v":470.25488732149569},{"$f":"'[1]Exec Summary'!$O233","v":482.38359358921605},{"$f":"'[1]Exec Summary'!$P233","v":482.04953170078886},466.79426748261068,{"$f":"'[1]Exec Summary'!$W233","v":2333.9713374130533},null,{"$f":"'[2]Exec Summary'!$J233","v":0},{"$f":"'[2]Exec Summary'!$K233","v":0},{"$f":"'[2]Exec Summary'!$L233","v":398.73101605017882},{"$f":"'[2]Exec Summary'!$M233","v":415.11447999511614},{"$f":"'[2]Exec Summary'!$N233","v":414.59133850888992},{"$f":"'[2]Exec Summary'!$O233","v":414.45657203307331},{"$f":"'[2]Exec Summary'!$P233","v":411.76517839032073},410.93171699551584,{"$f":"'[2]Exec Summary'!$W233","v":2054.6585849775788},null,0,0,39.908000000000001,45.53,55.664000000000001,67.927000000000007,70.284000000000006,null,279.31299999999999,null,0,0,0.10008752365273166,0.10968058739009939,0.13426233215628652,0.16389413169826508,0.17068951841618901,null,0.13594131990695085]
[null,null,null,null,null,null,null,null,null,null,null,null,null,null,null,null,null,null,null,null,null,null,null,null,null,null,null,null,0,0,0,0,0,0,0,null,0,null,0,0,0,0,0,0,0,null,0]
[null,"Wastewater network",null,null,null,null,null,null,null,null,null,null,null,null,null,null,null,null,null,null,null,null,null,null,null,null,null,null,0,0,0,0,0,0,0,null,0,null,0,0,0,0,0,0,0,null,0]
[null,null,null,null,"PAYG - WWN - real",0,"£m",null,{"$f":"'[1]Exec Summary'!$J236","v":0},{"$f":"'[1]Exec Summary'!$K236","v":0},{"$f":"'[1]Exec Summary'!$L236","v":217.57362382700001},{"$f":"'[1]Exec Summary'!$M236","v":217.99280630500007},{"$f":"'[1]Exec Summary'!$N236","v":221.41133840300006},{"$f":"'[1]Exec Summary'!$O236","v":214.48318295199996},{"$f":"'[1]Exec Summary'!$P236","v":210.05435536299998},{"$f":"AVERAGE(K234:O234)","v":216.30306137000002},{"$f":"'[1]Exec Summary'!$W236","v":1081.5153068500001},null,{"$f":"'[2]Exec Summary'!$J236","v":0},{"$f":"'[2]Exec Summary'!$K236","v":0},{"$f":"'[2]Exec Summary'!$L236","v":186.8507336422355},{"$f":"'[2]Exec Summary'!$M236","v":192.62708016142378},{"$f":"'[2]Exec Summary'!$N236","v":194.17430074186598},{"$f":"'[2]Exec Summary'!$O236","v":194.73546663694651},{"$f":"'[2]Exec Summary'!$P236","v":195.65377371551409},{"$f":"AVERAGE(U234:Y234)","v":192.80827097959718},{"$f":"'[2]Exec Summary'!$W236","v":964.04135489798591},null,0,0,30.722999999999999,25.366,27.236999999999998,19.748000000000001,14.401,null,117.474,null,0,0,0.16442536457376483,0.13168449617127037,0.14027087980200162,0.1014093649248651,7.3604509264101628E-2,null,0.12185576832690026]
[null,null,null,null,"Wholesale Wastewater network service defined benefit pension deficit recovery per IN13/17 - real",0,"£m",null,{"$f":"'[1]Exec Summary'!$J237","v":0},{"$f":"'[1]Exec Summary'!$K237","v":0},{"$f":"'[1]Exec Summary'!$L237","v":4.894064526333632},{"$f":"'[1]Exec Summary'!$M237","v":4.9420000000000002},{"$f":"'[1]Exec Summary'!$N237","v":4.99},{"$f":"'[1]Exec Summary'!$O237","v":5.04},{"$f":"'[1]Exec Summary'!$P237","v":5.0888295309860165},4.99097881146393,{"$f":"'[1]Exec Summary'!$W237","v":24.954894057319649},null,{"$f":"'[2]Exec Summary'!$J237","v":0},{"$f":"'[2]Exec Summary'!$K237","v":0},{"$f":"'[2]Exec Summary'!$L237","v":10.178970991230701},{"$f":"'[2]Exec Summary'!$M237","v":10.1798271293012},{"$f":"'[2]Exec Summary'!$N237","v":10.1790031133835},{"$f":"'[2]Exec Summary'!$O237","v":0},{"$f":"'[2]Exec Summary'!$P237","v":0},6.1075602467830805,{"$f":"'[2]Exec Summary'!$W237","v":30.537801233915403},null,0,0,-5.2850000000000001,-5.2380000000000004,-5.1890000000000001,5.04,5.0890000000000004,null,-5.5830000000000002,null,0,0,-0.51920768853286725,-0.51454704814418251,-0.50977487109493347,0,0,null,-0.1828225928001489]
[null,null,null,null,"Return on Capital - WWN - real",0,"£m",null,{"$f":"'[1]Exec Summary'!$J238","v":0},{"$f":"'[1]Exec Summary'!$K238","v":0},{"$f":"'[1]Exec Summary'!$L238","v":123.53029628090694},{"$f":"'[1]Exec Summary'!$M238","v":126.7699342124746},{"$f":"'[1]Exec Summary'!$N238","v":131.50724539961811},{"$f":"'[1]Exec Summary'!$O238","v":138.06177630413021},{"$f":"'[1]Exec Summary'!$P238","v":144.83894281419191},132.94163900226437,{"$f":"'[1]Exec Summary'!$W238","v":664.70819501132178},null,{"$f":"'[2]Exec Summary'!$J238","v":0},{"$f":"'[2]Exec Summary'!$K238","v":0},{"$f":"'[2]Exec Summary'!$L238","v":105.13020627560496},{"$f":"'[2]Exec Summary'!$M238","v":107.48549551814256},{"$f":"'[2]Exec Summary'!$N238","v":111.69595583352066},{"$f":"'[2]Exec Summary'!$O238","v":115.76854788160875},{"$f":"'[2]Exec Summary'!$P238","v":118.58604997601603},111.73325109697859,{"$f":"'[2]Exec Summary'!$W238","v":558.66625548489299},null,0,0,18.399999999999999,19.283999999999999,19.811,22.292999999999999,26.253,null,106.042,null,0,0,0.17502105866475071,0.17941025351411288,0.17736541893716976,0.19256525548543668,0.22138354389331338,null,0.18981278886794606]
[null,null,null,null,"Depreciation - WWN - real",0,"£m",null,{"$f":"'[1]Exec Summary'!$J239","v":0},{"$f":"'[1]Exec Summary'!$K239","v":0},{"$f":"'[1]Exec Summary'!$L239","v":227.87376615625462},{"$f":"'[1]Exec Summary'!$M239","v":231.56768209991395},{"$f":"'[1]Exec Summary'!$N239","v":237.6719554180996},{"$f":"'[1]Exec Summary'!$O239","v":246.68620190560881},{"$f":"'[1]Exec Summary'!$P239","v":256.10312812897013},239.98054674176942,{"$f":"'[1]Exec Summary'!$W239","v":1199.9027337088471},null,{"$f":"'[2]Exec Summary'!$J239","v":0},{"$f":"'[2]Exec Summary'!$K239","v":0},{"$f":"'[2]Exec Summary'!$L239","v":224.56616978136947},{"$f":"'[2]Exec Summary'!$M239","v":227.17926180133122},{"$f":"'[2]Exec Summary'!$N239","v":233.19534889729829},{"$f":"'[2]Exec Summary'!$O239","v":239.0338303806073},{"$f":"'[2]Exec Summary'!$P239","v":242.69819023292007},233.33456021870524,{"$f":"'[2]Exec Summary'!$W239","v":1166.6728010935262},null,0,0,3.3079999999999998,4.3879999999999999,4.4770000000000003,7.6520000000000001,13.404999999999999,null,33.229999999999997,null,0,0,1.4730624845320932E-2,1.9315143315490283E-2,1.9198496115682473E-2,3.2012205083338713E-2,5.5233209556013074E-2,null,2.848270737849842E-2]
[null,null,null,null,"Tax WWN - real",0,"£m",null,{"$f":"'[1]Exec Summary'!$J240","v":0},{"$f":"'[1]Exec Summary'!$K240","v":0},{"$f":"'[1]Exec Summary'!$L240","v":0},{"$f":"'[1]Exec Summary'!$M240","v":0},{"$f":"'[1]Exec Summary'!$N240","v":0},{"$f":"'[1]Exec Summary'!$O240","v":0},{"$f":"'[1]Exec Summary'!$P240","v":0},0,{"$f":"'[1]Exec Summary'!$W240","v":0},null,{"$f":"'[2]Exec Summary'!$J240","v":0},{"$f":"'[2]Exec Summary'!$K240","v":0},{"$f":"'[2]Exec Summary'!$L240","v":0},{"$f":"'[2]Exec Summary'!$M240","v":0},{"$f":"'[2]Exec Summary'!$N240","v":0},{"$f":"'[2]Exec Summary'!$O240","v":0},{"$f":"'[2]Exec Summary'!$P240","v":0},0,{"$f":"'[2]Exec Summary'!$W240","v":0},null,0,0,0,0,0,0,0,null,0,null,0,0,0,0,0,0,0,null,0]
[null,null,null,null,"Wastewater network: operating income - CALC - real",0,"£m",null,{"$f":"'[1]Exec Summary'!$J241","v":0},{"$f":"'[1]Exec Summary'!$K241","v":0},{"$f":"'[1]Exec Summary'!$L241","v":0},{"$f":"'[1]Exec Summary'!$M241","v":0},{"$f":"'[1]Exec Summary'!$N241","v":0},{"$f":"'[1]Exec Summary'!$O241","v":0},{"$f":"'[1]Exec Summary'!$P241","v":0},0,{"$f":"'[1]Exec Summary'!$W241","v":0},null,{"$f":"'[2]Exec Summary'!$J241","v":0},{"$f":"'[2]Exec Summary'!$K241","v":0},{"$f":"'[2]Exec Summary'!$L241","v":0},{"$f":"'[2]Exec Summary'!$M241","v":0},{"$f":"'[2]Exec Summary'!$N241","v":0},{"$f":"'[2]Exec Summary'!$O241","v":0},{"$f":"'[2]Exec Summary'!$P241","v":0},0,{"$f":"'[2]Exec Summary'!$W241","v":0},null,0,0,0,0,0,0,0,null,0,null,0,0,0,0,0,0,0,null,0]
[null,null,null,null,"Third party & principle service revenues - WWN - real",0,"£m",null,{"$f":"'[1]Exec Summary'!$J242","v":0},{"$f":"'[1]Exec Summary'!$K242","v":0},{"$f":"'[1]Exec Summary'!$L242","v":-1.2286390667310019},{"$f":"'[1]Exec Summary'!$M242","v":-1.229270870753959},{"$f":"'[1]Exec Summary'!$N242","v":-1.2294055263428247},{"$f":"'[1]Exec Summary'!$O242","v":-1.2297223630225083},{"$f":"'[1]Exec Summary'!$P242","v":-1.2302012419909845},-1.2294478137682556,{"$f":"'[1]Exec Summary'!$W242","v":-6.1472390688412784},null,{"$f":"'[2]Exec Summary'!$J242","v":0},{"$f":"'[2]Exec Summary'!$K242","v":0},{"$f":"'[2]Exec Summary'!$L242","v":-1.2286390667310001},{"$f":"'[2]Exec Summary'!$M242","v":-1.2292708707539599},{"$f":"'[2]Exec Summary'!$N242","v":-1.2294055263428201},{"$f":"'[2]Exec Summary'!$O242","v":-1.22972236302251},{"$f":"'[2]Exec Summary'!$P242","v":-1.23020124199098},-1.2294478137682541,{"$f":"'[2]Exec Summary'!$W242","v":-6.1472390688412704},null,0,0,0,0,0,0,0,null,0,null,0,0,0,0,0,0,0,null,0]
[null,null,null,null,"Adjustment to Wholesale revenue requirement - WWN - real",0,"£m",null,{"$f":"'[1]Exec Summary'!$J243","v":"na"},{"$f":"'[1]Exec Summary'!$K243","v":"na"},{"$f":"'[1]Exec Summary'!$L243","v":"na"},{"$f":"'[1]Exec Summary'!$M243","v":"na"},{"$f":"'[1]Exec Summary'!$N243","v":"na"},{"$f":"'[1]Exec Summary'!$O243","v":"na"},{"$f":"'[1]Exec Summary'!$P243","v":"na"},{"$error":"#DIV/0!"},{"$f":"'[1]Exec Summary'!$W243","v":0},null,{"$f":"'[2]Exec Summary'!$J243","v":"na"},{"$f":"'[2]Exec Summary'!$K243","v":"na"},{"$f":"'[2]Exec Summary'!$L243","v":"na"},{"$f":"'[2]Exec Summary'!$M243","v":"na"},{"$f":"'[2]Exec Summary'!$N243","v":"na"},{"$f":"'[2]Exec Summary'!$O243","v":"na"},{"$f":"'[2]Exec Summary'!$P243","v":"na"},{"$error":"#DIV/0!"},{"$f":"'[2]Exec Summary'!$W243","v":0},null,{"$error":"#VALUE!"},{"$error":"#VALUE!"},{"$error":"#VALUE!"},{"$error":"#VALUE!"},{"$error":"#VALUE!"},{"$error":"#VALUE!"},{"$error":"#VALUE!"},null,0,null,{"$error":"#VALUE!"},{"$error":"#VALUE!"},{"$error":"#VALUE!"},{"$error":"#VALUE!"},{"$error":"#VALUE!"},{"$error":"#VALUE!"},{"$error":"#VALUE!"},null,0]
[null,null,null,null,"Allowed Revenues - WWN - real",null,"£m",null,{"$f":"'[1]Exec Summary'!$J244","v":0},{"$f":"'[1]Exec Summary'!$K244","v":0},{"$f":"'[1]Exec Summary'!$L244","v":572.64311172376415},{"$f":"'[1]Exec Summary'!$M244","v":580.04315174663475},{"$f":"'[1]Exec Summary'!$N244","v":594.35113369437499},{"$f":"'[1]Exec Summary'!$O244","v":603.04143879871651},{"$f":"'[1]Exec Summary'!$P244","v":614.85505459515696},592.98677811172945,{"$f":"'[1]Exec Summary'!$W244","v":2964.9338905586474},null,{"$f":"'[2]Exec Summary'!$J244","v":0},{"$f":"'[2]Exec Summary'!$K244","v":0},{"$f":"'[2]Exec Summary'!$L244","v":525.49744162370962},{"$f":"'[2]Exec Summary'!$M244","v":536.24239373944488},{"$f":"'[2]Exec Summary'!$N244","v":548.01520305972554},{"$f":"'[2]Exec Summary'!$O244","v":548.3081225361401},{"$f":"'[2]Exec Summary'!$P244","v":555.70781268245923},542.75419472829583,{"$f":"'[2]Exec Summary'!$W244","v":2713.770973641479},null,0,0,47.146000000000001,43.801000000000002,46.335999999999999,54.732999999999997,59.146999999999998,null,251.16300000000001,null,0,0,8.9716897297017872E-2,8.1681345062178154E-2,8.4552398804436199E-2,9.9821610788544235E-2,0.10643543000500802,null,9.2551288387824573E-2]
[null,null,null,null,null,null,null,null,null,null,null,null,null,null,null,null,null,null,null,null,null,null,null,null,null,null,null,null,0,0,0,0,0,0,0,null,0,null,0,0,0,0,0,0,0,null,0]
[null,null,null,null,"Revenue solving adjustment - WWN - real",null,"£m",null,{"$f":"'[1]Exec Summary'!$J246","v":0},{"$f":"'[1]Exec Summary'!$K246","v":0},{"$f":"'[1]Exec Summary'!$L246","v":0},{"$f":"'[1]Exec Summary'!$M246","v":0},{"$f":"'[1]Exec Summary'!$N246","v":0},{"$f":"'[1]Exec Summary'!$O246","v":0},{"$f":"'[1]Exec Summary'!$P246","v":0},{"$f":"AVERAGE(K244:O244)","v":0},{"$f":"'[1]Exec Summary'!$W246","v":0},null,{"$f":"'[2]Exec Summary'!$J246","v":0},{"$f":"'[2]Exec Summary'!$K246","v":0},{"$f":"'[2]Exec Summary'!$L246","v":3.0995037451656344},{"$f":"'[2]Exec Summary'!$M246","v":-6.0269643325682409E-2},{"$f":"'[2]Exec Summary'!$N246","v":-5.4708588081570042},{"$f":"'[2]Exec Summary'!$O246","v":1.3925741994576128},{"$f":"'[2]Exec Summary'!$P246","v":0.94981056320227708},{"$f":"AVERAGE(U244:Y244)","v":-1.7847988731432451E-2},{"$f":"'[2]Exec Summary'!$W246","v":-8.9239943657162257E-2},null,0,0,-3.1,0.06,5.4710000000000001,-1.393,-0.95,null,8.8999999999999996E-2,null,0,0,-1.0001601078350493,-0.99552605074788103,-1.0000258079851714,-1.000305765066273,-1.000199446926642,null,-0.99731125270446086]
[null,null,null,null,"Allowed Revenues (post revenue solving adjustment) - WWN - real",0,"£m",null,{"$f":"'[1]Exec Summary'!$J247","v":0},{"$f":"'[1]Exec Summary'!$K247","v":0},{"$f":"'[1]Exec Summary'!$L247","v":572.64311172376415},{"$f":"'[1]Exec Summary'!$M247","v":580.04315174663463},{"$f":"'[1]Exec Summary'!$N247","v":594.35113369437488},{"$f":"'[1]Exec Summary'!$O247","v":603.0414387987164},{"$f":"'[1]Exec Summary'!$P247","v":614.85505459515707},592.98677811172934,{"$f":"'[1]Exec Summary'!$W247","v":2964.9338905586474},null,{"$f":"'[2]Exec Summary'!$J247","v":0},{"$f":"'[2]Exec Summary'!$K247","v":0},{"$f":"'[2]Exec Summary'!$L247","v":528.59694536887525},{"$f":"'[2]Exec Summary'!$M247","v":536.1821240961192},{"$f":"'[2]Exec Summary'!$N247","v":542.54434425156853},{"$f":"'[2]Exec Summary'!$O247","v":549.70069673559772},{"$f":"'[2]Exec Summary'!$P247","v":556.65762324566151},542.7363467395644,{"$f":"'[2]Exec Summary'!$W247","v":2713.681733697822},null,0,0,44.045999999999999,43.860999999999997,51.807000000000002,53.341000000000001,58.197000000000003,null,251.25200000000001,null,0,0,8.3326247693813305E-2,8.1802428743665487E-2,9.5488968872151733E-2,9.7036442407233581E-2,0.10454720742109873,null,9.2587128726267134E-2]
[null,null,null,null,null,null,null,null,null,null,null,null,null,null,null,null,null,null,null,null,null,null,null,null,null,null,null,null,0,0,0,0,0,0,0,null,0,null,0,0,0,0,0,0,0,null,0]
[null,null,null,null,"Allowed Revenues (post revenue solving adjustment) - WWN - real",0,"£m",null,{"$f":"'[1]Exec Summary'!$J249","v":0},{"$f":"'[1]Exec Summary'!$K249","v":0},{"$f":"'[1]Exec Summary'!$L249","v":572.64311172376415},{"$f":"'[1]Exec Summary'!$M249","v":580.04315174663463},{"$f":"'[1]Exec Summary'!$N249","v":594.35113369437488},{"$f":"'[1]Exec Summary'!$O249","v":603.0414387987164},{"$f":"'[1]Exec Summary'!$P249","v":614.85505459515707},{"$f":"AVERAGE(K247:O247)","v":592.98677811172934},{"$f":"'[1]Exec Summary'!$W249","v":2964.9338905586469},null,{"$f":"'[2]Exec Summary'!$J249","v":0},{"$f":"'[2]Exec Summary'!$K249","v":0},{"$f":"'[2]Exec Summary'!$L249","v":528.59694536887525},{"$f":"'[2]Exec Summary'!$M249","v":536.1821240961192},{"$f":"'[2]Exec Summary'!$N249","v":542.54434425156853},{"$f":"'[2]Exec Summary'!$O249","v":549.70069673559772},{"$f":"'[2]Exec Summary'!$P249","v":556.65762324566151},{"$f":"AVERAGE(U247:Y247)","v":542.7363467395644},{"$f":"'[2]Exec Summary'!$W249","v":2713.681733697822},null,0,0,44.045999999999999,43.860999999999997,51.807000000000002,53.341000000000001,58.197000000000003,null,251.25200000000001,null,0,0,8.3326247693813305E-2,8.1802428743665487E-2,9.5488968872151733E-2,9.7036442407233581E-2,0.10454720742109873,null,9.2587128726267134E-2]
[null,null,null,null,"Post financeability adjustments - WWN - real",0,"£m",null,{"$f":"'[1]Exec Summary'!$J250","v":0},{"$f":"'[1]Exec Summary'!$K250","v":0},{"$f":"'[1]Exec Summary'!$L250","v":1.3784182574633685},{"$f":"'[1]Exec Summary'!$M250","v":3.9514990429307058},{"$f":"'[1]Exec Summary'!$N250","v":1.3784182574633685},{"$f":"'[1]Exec Summary'!$O250","v":0},{"$f":"'[1]Exec Summary'!$P250","v":0},1.3416671115714887,{"$f":"'[1]Exec Summary'!$W250","v":6.7083355578574428},null,{"$f":"'[2]Exec Summary'!$J250","v":0},{"$f":"'[2]Exec Summary'!$K250","v":0},{"$f":"'[2]Exec Summary'!$L250","v":3.3286022200108043},{"$f":"'[2]Exec Summary'!$M250","v":4.8534314253588917},{"$f":"'[2]Exec Summary'!$N250","v":3.3286022200108043},{"$f":"'[2]Exec Summary'!$O250","v":2.5093595643420499},{"$f":"'[2]Exec Summary'!$P250","v":2.5093595643420499},3.30587099881292,{"$f":"'[2]Exec Summary'!$W250","v":16.529354994064601},null,0,0,-1.95,-0.90200000000000002,-1.95,-2.5089999999999999,-2.5089999999999999,null,-9.8209999999999997,null,0,0,-0.58583149055091077,-0.18584789212990699,-0.58583149055091077,-0.9998567107132994,-0.9998567107132994,null,-0.59415506555014075]
[null,null,null,null,"Allowed Revenues (pre profiling) - WWN - real",null,"£m",null,{"$f":"'[1]Exec Summary'!$J251","v":0},{"$f":"'[1]Exec Summary'!$K251","v":0},{"$f":"'[1]Exec Summary'!$L251","v":574.02152998122756},{"$f":"'[1]Exec Summary'!$M251","v":583.9946507895653},{"$f":"'[1]Exec Summary'!$N251","v":595.72955195183829},{"$f":"'[1]Exec Summary'!$O251","v":603.0414387987164},{"$f":"'[1]Exec Summary'!$P251","v":614.85505459515707},594.32844522330095,{"$f":"'[1]Exec Summary'!$W251","v":2971.6422261165044},null,{"$f":"'[2]Exec Summary'!$J251","v":0},{"$f":"'[2]Exec Summary'!$K251","v":0},{"$f":"'[2]Exec Summary'!$L251","v":531.92554758888605},{"$f":"'[2]Exec Summary'!$M251","v":541.03555552147805},{"$f":"'[2]Exec Summary'!$N251","v":545.87294647157933},{"$f":"'[2]Exec Summary'!$O251","v":552.21005629993977},{"$f":"'[2]Exec Summary'!$P251","v":559.16698281000356},546.0422177383773,{"$f":"'[2]Exec Summary'!$W251","v":2730.2110886918867},null,0,0,42.095999999999997,42.959000000000003,49.856999999999999,50.831000000000003,55.688000000000002,null,241.43100000000001,null,0,0,7.9138894890108002E-2,7.9401435934453327E-2,9.1334440225085939E-2,9.2050116473051904E-2,9.9591001815144617E-2,null,8.8429426208094297E-2]
[null,null,null,null,null,null,null,null,null,null,null,null,null,null,null,null,null,null,null,null,null,null,null,null,null,null,null,null,{"$f":"ROUND(I250 - S250, 3)","v":0},{"$f":"ROUND(J250 - T250, 3)","v":0},{"$f":"ROUND(K250 - U250, 3)","v":0},{"$f":"ROUND(L250 - V250, 3)","v":0},{"$f":"ROUND(M250 - W250, 3)","v":0},{"$f":"ROUND(N250 - X250, 3)","v":0},{"$f":"ROUND(O250 - Y250, 3)","v":0},null,{"$f":"ROUND(Q250 - AA250, 3)","v":0},null,{"$f":"IF(S250 = 0, 0, AC250 / S250)","v":0},{"$f":"IF(T250 = 0, 0, AD250 / T250)","v":0},{"$f":"IF(U250 = 0, 0, AE250 / U250)","v":0},{"$f":"IF(V250 = 0, 0, AF250 / V250)","v":0},{"$f":"IF(W250 = 0, 0, AG250 / W250)","v":0},{"$f":"IF(X250 = 0, 0, AH250 / X250)","v":0},{"$f":"IF(Y250 = 0, 0, AI250 / Y250)","v":0},null,{"$f":"IF(AA250 = 0, 0, AK250 / AA250)","v":0}]
[null,null,null,null,"Profiling adjustment - WWN - real",null,"£m",null,{"$f":"'[1]Exec Summary'!$J253","v":0},{"$f":"'[1]Exec Summary'!$K253","v":0},{"$f":"'[1]Exec Summary'!$L253","v":0},{"$f":"'[1]Exec Summary'!$M253","v":0},{"$f":"'[1]Exec Summary'!$N253","v":0},{"$f":"'[1]Exec Summary'!$O253","v":0},{"$f":"'[1]Exec Summary'!$P253","v":0},{"$f":"AVERAGE(K251:O251)","v":0},{"$f":"'[1]Exec Summary'!$W253","v":0},null,{"$f":"'[2]Exec Summary'!$J253","v":0},{"$f":"'[2]Exec Summary'!$K253","v":0},{"$f":"'[2]Exec Summary'!$L253","v":0},{"$f":"'[2]Exec Summary'!$M253","v":0},{"$f":"'[2]Exec Summary'!$N253","v":0},{"$f":"'[2]Exec Summary'!$O253","v":0},{"$f":"'[2]Exec Summary'!$P253","v":0},{"$f":"AVERAGE(U251:Y251)","v":0},{"$f":"'[2]Exec Summary'!$W253","v":0},null,0,0,0,0,0,0,0,null,0,null,0,0,0,0,0,0,0,null,0]
[null,null,null,null,"Re-profiled allowed revenue adjusted - WWN - real",0,"£m",null,{"$f":"'[1]Exec Summary'!$J254","v":0},{"$f":"'[1]Exec Summary'!$K254","v":0},{"$f":"'[1]Exec Summary'!$L254","v":574.02152998122745},{"$f":"'[1]Exec Summary'!$M254","v":583.9946507895653},{"$f":"'[1]Exec Summary'!$N254","v":595.72955195183829},{"$f":"'[1]Exec Summary'!$O254","v":603.0414387987164},{"$f":"'[1]Exec Summary'!$P254","v":614.85505459515707},594.32844522330095,{"$f":"'[1]Exec Summary'!$W254","v":2971.6422261165044},null,{"$f":"'[2]Exec Summary'!$J254","v":0},{"$f":"'[2]Exec Summary'!$K254","v":0},{"$f":"'[2]Exec Summary'!$L254","v":531.92554758888605},{"$f":"'[2]Exec Summary'!$M254","v":541.03555552147816},{"$f":"'[2]Exec Summary'!$N254","v":545.87294647157933},{"$f":"'[2]Exec Summary'!$O254","v":552.21005629993977},{"$f":"'[2]Exec Summary'!$P254","v":559.16698281000356},546.0422177383773,{"$f":"'[2]Exec Summary'!$W254","v":2730.2110886918867},null,0,0,42.095999999999997,42.959000000000003,49.856999999999999,50.831000000000003,55.688000000000002,null,241.43100000000001,null,0,0,7.9138894890108002E-2,7.9401435934453313E-2,9.1334440225085939E-2,9.2050116473051904E-2,9.9591001815144617E-2,null,8.8429426208094297E-2]
[null,null,null,null,null,null,null,null,null,null,null,null,null,null,null,null,null,null,null,null,null,null,null,null,null,null,null,null,0,0,0,0,0,0,0,null,0,null,0,0,0,0,0,0,0,null,0]
[null,null,null,null,"Contributions from connection charges and revenue from infrastructure charges - forecast - WWN - real",0,"£m",null,{"$f":"'[1]Exec Summary'!$J256","v":0},{"$f":"'[1]Exec Summary'!$K256","v":0},{"$f":"'[1]Exec Summary'!$L256","v":25.709940023666167},{"$f":"'[1]Exec Summary'!$M256","v":27.328955008167028},{"$f":"'[1]Exec Summary'!$N256","v":26.982976243770757},{"$f":"'[1]Exec Summary'!$O256","v":30.257934878096744},{"$f":"'[1]Exec Summary'!$P256","v":33.74277344696312},{"$f":"AVERAGE(K254:O254)","v":28.804515920132765},{"$f":"'[1]Exec Summary'!$W256","v":144.02257960066382},null,{"$f":"'[2]Exec Summary'!$J256","v":0},{"$f":"'[2]Exec Summary'!$K256","v":0},{"$f":"'[2]Exec Summary'!$L256","v":26.015181978919301},{"$f":"'[2]Exec Summary'!$M256","v":21.612452373219},{"$f":"'[2]Exec Summary'!$N256","v":16.3242237431955},{"$f":"'[2]Exec Summary'!$O256","v":26.6081859305412},{"$f":"'[2]Exec Summary'!$P256","v":41.224328766942897},{"$f":"AVERAGE(U254:Y254)","v":26.356874558563579},{"$f":"'[2]Exec Summary'!$W256","v":131.78437279281789},null,0,0,-0.30499999999999999,5.7169999999999996,10.659000000000001,3.65,-7.4820000000000002,null,12.238,null,0,0,-1.1723923370866616E-2,0.26452342849736948,0.65295600989560321,0.13717583038272765,-0.18149476835144229,null,9.2863817922021155E-2]
[null,null,null,null,"Final Allowed Revenues - WWN - real",null,"£m",null,{"$f":"'[1]Exec Summary'!$J257","v":0},{"$f":"'[1]Exec Summary'!$K257","v":0},{"$f":"'[1]Exec Summary'!$L257","v":599.73147000489359},{"$f":"'[1]Exec Summary'!$M257","v":611.32360579773228},{"$f":"'[1]Exec Summary'!$N257","v":622.71252819560902},{"$f":"'[1]Exec Summary'!$O257","v":633.29937367681316},{"$f":"'[1]Exec Summary'!$P257","v":648.59782804212023},623.13296114343359,{"$f":"'[1]Exec Summary'!$W257","v":3115.6648057171683},null,{"$f":"'[2]Exec Summary'!$J257","v":0},{"$f":"'[2]Exec Summary'!$K257","v":0},{"$f":"'[2]Exec Summary'!$L257","v":557.94072956780531},{"$f":"'[2]Exec Summary'!$M257","v":562.64800789469712},{"$f":"'[2]Exec Summary'!$N257","v":562.19717021477481},{"$f":"'[2]Exec Summary'!$O257","v":578.81824223048102},{"$f":"'[2]Exec Summary'!$P257","v":600.39131157694646},572.39909229694092,{"$f":"'[2]Exec Summary'!$W257","v":2861.9954614847047},null,0,0,41.790999999999997,48.676000000000002,60.515000000000001,54.481000000000002,48.207000000000001,null,253.66900000000001,null,0,0,7.4902221302919292E-2,8.651234753702354E-2,0.10764017182242594,9.4124538629012461E-2,8.0292634271110316E-2,null,8.8633613649549692E-2]
[null,null,null,null,null,null,null,null,null,null,null,null,null,null,null,null,null,null,null,null,null,null,null,null,null,null,null,null,0,0,0,0,0,0,0,null,0,null,0,0,0,0,0,0,0,null,0]
[null,"Bio resources",null,null,null,null,null,null,null,null,null,null,null,null,null,null,null,null,null,null,null,null,null,null,null,null,null,null,0,0,0,0,0,0,0,null,0,null,0,0,0,0,0,0,0,null,0]
[null,null,null,null,"PAYG - BR - real",0,"£m",null,{"$f":"'[1]Exec Summary'!$J260","v":0},{"$f":"'[1]Exec Summary'!$K260","v":0},{"$f":"'[1]Exec Summary'!$L260","v":79.556761988999995},{"$f":"'[1]Exec Summary'!$M260","v":80.706357622999988},{"$f":"'[1]Exec Summary'!$N260","v":78.318493185999998},{"$f":"'[1]Exec Summary'!$O260","v":77.276534411000014},{"$f":"'[1]Exec Summary'!$P260","v":75.570564302999998},{"$f":"AVERAGE(K258:O258)","v":78.285742302399996},{"$f":"'[1]Exec Summary'!$W260","v":391.42871151199995},null,{"$f":"'[2]Exec Summary'!$J260","v":0},{"$f":"'[2]Exec Summary'!$K260","v":0},{"$f":"'[2]Exec Summary'!$L260","v":68.114621883674289},{"$f":"'[2]Exec Summary'!$M260","v":66.936467007453601},{"$f":"'[2]Exec Summary'!$N260","v":66.476468935527194},{"$f":"'[2]Exec Summary'!$O260","v":66.375434983565967},{"$f":"'[2]Exec Summary'!$P260","v":66.232603782934831},{"$f":"AVERAGE(U258:Y258)","v":66.82711931863119},{"$f":"'[2]Exec Summary'!$W260","v":334.13559659315592},null,0,0,11.442,13.77,11.842000000000001,10.901,9.3379999999999992,null,57.292999999999999,null,0,0,0.16798155349875646,0.20571746038622959,0.17813822228561915,0.16423244537228271,0.14098796463753072,null,0.17146631662163206]
[null,null,null,null,"Wholesale Bio resources service defined benefit pension deficit recovery per IN13/17 - real",0,"£m",null,{"$f":"'[1]Exec Summary'!$J261","v":0},{"$f":"'[1]Exec Summary'!$K261","v":0},{"$f":"'[1]Exec Summary'!$L261","v":1.9319537471810804},{"$f":"'[1]Exec Summary'!$M261","v":1.9510000000000001},{"$f":"'[1]Exec Summary'!$N261","v":1.9700000000000002},{"$f":"'[1]Exec Summary'!$O261","v":1.988},{"$f":"'[1]Exec Summary'!$P261","v":2.0088380993454766},1.9699583693053113,{"$f":"'[1]Exec Summary'!$W261","v":9.849791846526557},null,{"$f":"'[2]Exec Summary'!$J261","v":0},{"$f":"'[2]Exec Summary'!$K261","v":0},{"$f":"'[2]Exec Summary'!$L261","v":4.0181940886030398},{"$f":"'[2]Exec Summary'!$M261","v":4.0187864688924799},{"$f":"'[2]Exec Summary'!$N261","v":4.0185643553838597},{"$f":"'[2]Exec Summary'!$O261","v":0},{"$f":"'[2]Exec Summary'!$P261","v":0},2.4111089825758762,{"$f":"'[2]Exec Summary'!$W261","v":12.05554491287938},null,0,0,-2.0859999999999999,-2.0680000000000001,-2.0489999999999999,1.988,2.0089999999999999,null,-2.206,null,0,0,-0.519138686186564,-0.51458319968164701,-0.50988358498100406,0,0,null,-0.18298633665602701]
[null,null,null,null,"Return on Capital - BR - real",0,"£m",null,{"$f":"'[1]Exec Summary'!$J262","v":0},{"$f":"'[1]Exec Summary'!$K262","v":0},{"$f":"'[1]Exec Summary'!$L262","v":9.0616333326362284},{"$f":"'[1]Exec Summary'!$M262","v":9.2623256648200307},{"$f":"'[1]Exec Summary'!$N262","v":9.4460658721859669},{"$f":"'[1]Exec Summary'!$O262","v":9.4628077311171293},{"$f":"'[1]Exec Summary'!$P262","v":9.4818825921939194},9.342943038590656,{"$f":"'[1]Exec Summary'!$W262","v":46.714715192953278},null,{"$f":"'[2]Exec Summary'!$J262","v":0},{"$f":"'[2]Exec Summary'!$K262","v":0},{"$f":"'[2]Exec Summary'!$L262","v":7.6734935625404814},{"$f":"'[2]Exec Summary'!$M262","v":7.6254517982260941},{"$f":"'[2]Exec Summary'!$N262","v":7.5897624195684985},{"$f":"'[2]Exec Summary'!$O262","v":7.4496803709408566},{"$f":"'[2]Exec Summary'!$P262","v":7.2795647167406177},7.5235905736033102,{"$f":"'[2]Exec Summary'!$W262","v":37.617952868016552},null,0,0,1.3879999999999999,1.637,1.8560000000000001,2.0129999999999999,2.202,null,9.0969999999999995,null,0,0,0.18088240886468815,0.21467580457079471,0.24453993384756298,0.27021293528943285,0.30249061388741011,null,0.24182602471530101]
[null,null,null,null,"Depreciation - BR - real",0,"£m",null,{"$f":"'[1]Exec Summary'!$J263","v":0},{"$f":"'[1]Exec Summary'!$K263","v":0},{"$f":"'[1]Exec Summary'!$L263","v":19.90738833326505},{"$f":"'[1]Exec Summary'!$M263","v":20.134067258218071},{"$f":"'[1]Exec Summary'!$N263","v":20.336574500559767},{"$f":"'[1]Exec Summary'!$O263","v":20.23352701763686},{"$f":"'[1]Exec Summary'!$P263","v":20.141674101340367},20.150646242204026,{"$f":"'[1]Exec Summary'!$W263","v":100.75323121102012},null,{"$f":"'[2]Exec Summary'!$J263","v":0},{"$f":"'[2]Exec Summary'!$K263","v":0},{"$f":"'[2]Exec Summary'!$L263","v":19.551396145302373},{"$f":"'[2]Exec Summary'!$M263","v":19.280951920034621},{"$f":"'[2]Exec Summary'!$N263","v":19.048768097074738},{"$f":"'[2]Exec Summary'!$O263","v":18.603925894384805},{"$f":"'[2]Exec Summary'!$P263","v":18.102836927664026},18.917575796892113,{"$f":"'[2]Exec Summary'!$W263","v":94.587878984460559},null,0,0,0.35599999999999998,0.85299999999999998,1.288,1.63,2.0390000000000001,null,6.165,null,0,0,1.8208418332597509E-2,4.4240554280603604E-2,6.7615921063042095E-2,8.7615915546727707E-2,0.11263427981744024,null,6.5177484326642124E-2]
[null,null,null,null,"Tax BR - real",0,"£m",null,{"$f":"'[1]Exec Summary'!$J264","v":0},{"$f":"'[1]Exec Summary'!$K264","v":0},{"$f":"'[1]Exec Summary'!$L264","v":0},{"$f":"'[1]Exec Summary'!$M264","v":0},{"$f":"'[1]Exec Summary'!$N264","v":0},{"$f":"'[1]Exec Summary'!$O264","v":0},{"$f":"'[1]Exec Summary'!$P264","v":0},0,{"$f":"'[1]Exec Summary'!$W264","v":0},null,{"$f":"'[2]Exec Summary'!$J264","v":0},{"$f":"'[2]Exec Summary'!$K264","v":0},{"$f":"'[2]Exec Summary'!$L264","v":0},{"$f":"'[2]Exec Summary'!$M264","v":0},{"$f":"'[2]Exec Summary'!$N264","v":0},{"$f":"'[2]Exec Summary'!$O264","v":0},{"$f":"'[2]Exec Summary'!$P264","v":0},0,{"$f":"'[2]Exec Summary'!$W264","v":0},null,0,0,0,0,0,0,0,null,0,null,0,0,0,0,0,0,0,null,0]
[null,null,null,null,"Bio resources: operating income - CALC - real",0,"£m",null,{"$f":"'[1]Exec Summary'!$J265","v":0},{"$f":"'[1]Exec Summary'!$K265","v":0},{"$f":"'[1]Exec Summary'!$L265","v":0},{"$f":"'[1]Exec Summary'!$M265","v":0},{"$f":"'[1]Exec Summary'!$N265","v":0},{"$f":"'[1]Exec Summary'!$O265","v":0},{"$f":"'[1]Exec Summary'!$P265","v":0},0,{"$f":"'[1]Exec Summary'!$W265","v":0},null,{"$f":"'[2]Exec Summary'!$J265","v":0},{"$f":"'[2]Exec Summary'!$K265","v":0},{"$f":"'[2]Exec Summary'!$L265","v":0},{"$f":"'[2]Exec Summary'!$M265","v":0},{"$f":"'[2]Exec Summary'!$N265","v":0},{"$f":"'[2]Exec Summary'!$O265","v":0},{"$f":"'[2]Exec Summary'!$P265","v":0},0,{"$f":"'[2]Exec Summary'!$W265","v":0},null,0,0,0,0,0,0,0,null,0,null,0,0,0,0,0,0,0,null,0]
[null,null,null,null,"Third party & principle service revenues - BR - real",0,"£m",null,{"$f":"'[1]Exec Summary'!$J266","v":0},{"$f":"'[1]Exec Summary'!$K266","v":0},{"$f":"'[1]Exec Summary'!$L266","v":-0.41612541349791626},{"$f":"'[1]Exec Summary'!$M266","v":-0.41633939799297404},{"$f":"'[1]Exec Summary'!$N266","v":-0.41638500423659253},{"$f":"'[1]Exec Summary'!$O266","v":-0.41649231304510659},{"$f":"'[1]Exec Summary'!$P266","v":-0.41665450364621032},-0.41639932648375994,{"$f":"'[1]Exec Summary'!$W266","v":-2.0819966324187997},null,{"$f":"'[2]Exec Summary'!$J266","v":0},{"$f":"'[2]Exec Summary'!$K266","v":0},{"$f":"'[2]Exec Summary'!$L266","v":-0.41612541349791599},{"$f":"'[2]Exec Summary'!$M266","v":-0.41633939799297398},{"$f":"'[2]Exec Summary'!$N266","v":-0.41638500423659303},{"$f":"'[2]Exec Summary'!$O266","v":-0.41649231304510698},{"$f":"'[2]Exec Summary'!$P266","v":-0.41665450364620998},-0.41639932648376005,{"$f":"'[2]Exec Summary'!$W266","v":-2.0819966324188002},null,0,0,0,0,0,0,0,null,0,null,0,0,0,0,0,0,0,null,0]
[null,null,null,null,"Adjustment to Wholesale revenue requirement - BR - real",0,"£m",null,{"$f":"'[1]Exec Summary'!$J267","v":0},{"$f":"'[1]Exec Summary'!$K267","v":0},{"$f":"'[1]Exec Summary'!$L267","v":0},{"$f":"'[1]Exec Summary'!$M267","v":0},{"$f":"'[1]Exec Summary'!$N267","v":0},{"$f":"'[1]Exec Summary'!$O267","v":0},{"$f":"'[1]Exec Summary'!$P267","v":0},0,{"$f":"'[1]Exec Summary'!$W267","v":0},null,{"$f":"'[2]Exec Summary'!$J267","v":0},{"$f":"'[2]Exec Summary'!$K267","v":0},{"$f":"'[2]Exec Summary'!$L267","v":0},{"$f":"'[2]Exec Summary'!$M267","v":0},{"$f":"'[2]Exec Summary'!$N267","v":0},{"$f":"'[2]Exec Summary'!$O267","v":0},{"$f":"'[2]Exec Summary'!$P267","v":0},0,{"$f":"'[2]Exec Summary'!$W267","v":0},null,0,0,0,0,0,0,0,null,0,null,0,0,0,0,0,0,0,null,0]
[null,null,null,null,"Allowed Revenues - BR - real",null,"£m",null,{"$f":"'[1]Exec Summary'!$J268","v":0},{"$f":"'[1]Exec Summary'!$K268","v":0},{"$f":"'[1]Exec Summary'!$L268","v":110.04161198858444},{"$f":"'[1]Exec Summary'!$M268","v":111.6374111480451},{"$f":"'[1]Exec Summary'!$N268","v":109.65474855450914},{"$f":"'[1]Exec Summary'!$O268","v":108.54437684670889},{"$f":"'[1]Exec Summary'!$P268","v":106.78630459223355},109.33289062601622,{"$f":"'[1]Exec Summary'!$W268","v":546.66445313008103},null,{"$f":"'[2]Exec Summary'!$J268","v":0},{"$f":"'[2]Exec Summary'!$K268","v":0},{"$f":"'[2]Exec Summary'!$L268","v":98.941580266622282},{"$f":"'[2]Exec Summary'!$M268","v":97.445317796613836},{"$f":"'[2]Exec Summary'!$N268","v":96.717178803317708},{"$f":"'[2]Exec Summary'!$O268","v":92.01254893584651},{"$f":"'[2]Exec Summary'!$P268","v":91.198350923693269},95.262995345218727,{"$f":"'[2]Exec Summary'!$W268","v":476.31497672609368},null,0,0,11.1,14.192,12.938000000000001,16.532,15.587999999999999,null,70.349000000000004,null,0,0,0.11218741372523397,0.14564065591762237,0.13377147844966075,0.17967114476446611,0.17092414327801456,null,0.14769428516301808]
[null,null,null,null,null,null,null,null,null,null,null,null,null,null,null,null,null,null,null,null,null,null,null,null,null,null,null,null,0,0,0,0,0,0,0,null,0,null,0,0,0,0,0,0,0,null,0]
[null,null,null,null,"Revenue solving adjustment - BR - real",null,"£m",null,{"$f":"'[1]Exec Summary'!$J270","v":0},{"$f":"'[1]Exec Summary'!$K270","v":0},{"$f":"'[1]Exec Summary'!$L270","v":0},{"$f":"'[1]Exec Summary'!$M270","v":0},{"$f":"'[1]Exec Summary'!$N270","v":0},{"$f":"'[1]Exec Summary'!$O270","v":0},{"$f":"'[1]Exec Summary'!$P270","v":0},0,{"$f":"'[1]Exec Summary'!$W270","v":0},null,{"$f":"'[2]Exec Summary'!$J270","v":0},{"$f":"'[2]Exec Summary'!$K270","v":0},{"$f":"'[2]Exec Summary'!$L270","v":0.57775096498646406},{"$f":"'[2]Exec Summary'!$M270","v":-1.3600610476416364E-2},{"$f":"'[2]Exec Summary'!$N270","v":-0.96284284730231207},{"$f":"'[2]Exec Summary'!$O270","v":0.22877926536929749},{"$f":"'[2]Exec Summary'!$P270","v":0.15101850632895264},{"$f":"AVERAGE(U268:Y268)","v":-3.7789442188028489E-3},{"$f":"'[2]Exec Summary'!$W270","v":-1.8894721094014244E-2},null,0,0,-0.57799999999999996,1.4E-2,0.96299999999999997,-0.22900000000000001,-0.151,null,1.9E-2,null,0,0,-1.0004310421420788,-1.029365558573726,-1.0001632173912163,-1.0009648366968318,-0.99987745654885285,null,-1.00557186874905]
[null,null,null,null,"Allowed Revenues (post revenue solving adjustment) - BR - real",0,"£m",null,{"$f":"'[1]Exec Summary'!$J271","v":0},{"$f":"'[1]Exec Summary'!$K271","v":0},{"$f":"'[1]Exec Summary'!$L271","v":110.04161198858444},{"$f":"'[1]Exec Summary'!$M271","v":111.63741114804512},{"$f":"'[1]Exec Summary'!$N271","v":109.65474855450914},{"$f":"'[1]Exec Summary'!$O271","v":108.54437684670891},{"$f":"'[1]Exec Summary'!$P271","v":106.78630459223355},109.33289062601622,{"$f":"'[1]Exec Summary'!$W271","v":546.66445313008103},null,{"$f":"'[2]Exec Summary'!$J271","v":0},{"$f":"'[2]Exec Summary'!$K271","v":0},{"$f":"'[2]Exec Summary'!$L271","v":99.519331231608746},{"$f":"'[2]Exec Summary'!$M271","v":97.431717186137419},{"$f":"'[2]Exec Summary'!$N271","v":95.754335956015396},{"$f":"'[2]Exec Summary'!$O271","v":92.241328201215808},{"$f":"'[2]Exec Summary'!$P271","v":91.349369430022222},95.259216400999918,{"$f":"'[2]Exec Summary'!$W271","v":476.29608200499968},null,0,0,10.522,14.206,13.9,16.303000000000001,15.436999999999999,null,70.367999999999995,null,0,0,0.10572820244855166,0.14580467644699613,0.14516313920640569,0.17674290166807372,0.16898857754924565,null,0.14774003536577768]
[null,null,null,null,null,null,null,null,null,null,null,null,null,null,null,null,null,null,null,null,null,null,null,null,null,null,null,null,0,0,0,0,0,0,0,null,0,null,0,0,0,0,0,0,0,null,0]
[null,null,null,null,"Allowed Revenues (post revenue solving adjustment) - BR - real",0,"£m",null,{"$f":"'[1]Exec Summary'!$J273","v":0},{"$f":"'[1]Exec Summary'!$K273","v":0},{"$f":"'[1]Exec Summary'!$L273","v":110.04161198858444},{"$f":"'[1]Exec Summary'!$M273","v":111.63741114804512},{"$f":"'[1]Exec Summary'!$N273","v":109.65474855450914},{"$f":"'[1]Exec Summary'!$O273","v":108.54437684670891},{"$f":"'[1]Exec Summary'!$P273","v":106.78630459223355},109.33289062601622,{"$f":"'[1]Exec Summary'!$W273","v":546.66445313008114},null,{"$f":"'[2]Exec Summary'!$J273","v":0},{"$f":"'[2]Exec Summary'!$K273","v":0},{"$f":"'[2]Exec Summary'!$L273","v":99.519331231608746},{"$f":"'[2]Exec Summary'!$M273","v":97.431717186137419},{"$f":"'[2]Exec Summary'!$N273","v":95.754335956015396},{"$f":"'[2]Exec Summary'!$O273","v":92.241328201215808},{"$f":"'[2]Exec Summary'!$P273","v":91.349369430022222},{"$f":"AVERAGE(U271:Y271)","v":95.259216400999918},{"$f":"'[2]Exec Summary'!$W273","v":476.29608200499956},null,0,0,10.522,14.206,13.9,16.303000000000001,15.436999999999999,null,70.367999999999995,null,0,0,0.10572820244855166,0.14580467644699613,0.14516313920640569,0.17674290166807372,0.16898857754924565,null,0.14774003536577771]
[null,null,null,null,"Post financeability adjustments - BR - real",0,"£m",null,{"$f":"'[1]Exec Summary'!$J274","v":0},{"$f":"'[1]Exec Summary'!$K274","v":0},{"$f":"'[1]Exec Summary'!$L274","v":0},{"$f":"'[1]Exec Summary'!$M274","v":0},{"$f":"'[1]Exec Summary'!$N274","v":0},{"$f":"'[1]Exec Summary'!$O274","v":0},{"$f":"'[1]Exec Summary'!$P274","v":0},0,{"$f":"'[1]Exec Summary'!$W274","v":0},null,{"$f":"'[2]Exec Summary'!$J274","v":0},{"$f":"'[2]Exec Summary'!$K274","v":0},{"$f":"'[2]Exec Summary'!$L274","v":0},{"$f":"'[2]Exec Summary'!$M274","v":0},{"$f":"'[2]Exec Summary'!$N274","v":0},{"$f":"'[2]Exec Summary'!$O274","v":0},{"$f":"'[2]Exec Summary'!$P274","v":0},0,{"$f":"'[2]Exec Summary'!$W274","v":0},null,0,0,0,0,0,0,0,null,0,null,0,0,0,0,0,0,0,null,0]
[null,null,null,null,"Allowed Revenues (pre profiling) - BR - real",null,"£m",null,{"$f":"'[1]Exec Summary'!$J275","v":0},{"$f":"'[1]Exec Summary'!$K275","v":0},{"$f":"'[1]Exec Summary'!$L275","v":110.04161198858444},{"$f":"'[1]Exec Summary'!$M275","v":111.63741114804512},{"$f":"'[1]Exec Summary'!$N275","v":109.65474855450914},{"$f":"'[1]Exec Summary'!$O275","v":108.54437684670891},{"$f":"'[1]Exec Summary'!$P275","v":106.78630459223355},109.33289062601622,{"$f":"'[1]Exec Summary'!$W275","v":546.66445313008114},null,{"$f":"'[2]Exec Summary'!$J275","v":0},{"$f":"'[2]Exec Summary'!$K275","v":0},{"$f":"'[2]Exec Summary'!$L275","v":99.519331231608746},{"$f":"'[2]Exec Summary'!$M275","v":97.431717186137419},{"$f":"'[2]Exec Summary'!$N275","v":95.754335956015396},{"$f":"'[2]Exec Summary'!$O275","v":92.241328201215808},{"$f":"'[2]Exec Summary'!$P275","v":91.349369430022222},95.259216400999918,{"$f":"'[2]Exec Summary'!$W275","v":476.29608200499956},null,0,0,10.522,14.206,13.9,16.303000000000001,15.436999999999999,null,70.367999999999995,null,0,0,0.10572820244855166,0.14580467644699613,0.14516313920640569,0.17674290166807372,0.16898857754924565,null,0.14774003536577771]
[null,null,null,null,null,null,null,null,null,null,null,null,null,null,null,null,null,null,null,null,null,null,null,null,null,null,null,null,0,0,0,0,0,0,0,null,0,null,0,0,0,0,0,0,0,null,0]
[null,null,null,null,"Profiling adjustment - BR - real",null,"£m",null,{"$f":"'[1]Exec Summary'!$J277","v":0},{"$f":"'[1]Exec Summary'!$K277","v":0},{"$f":"'[1]Exec Summary'!$L277","v":0},{"$f":"'[1]Exec Summary'!$M277","v":0},{"$f":"'[1]Exec Summary'!$N277","v":0},{"$f":"'[1]Exec Summary'!$O277","v":0},{"$f":"'[1]Exec Summary'!$P277","v":0},0,{"$f":"'[1]Exec Summary'!$W277","v":0},null,{"$f":"'[2]Exec Summary'!$J277","v":0},{"$f":"'[2]Exec Summary'!$K277","v":0},{"$f":"'[2]Exec Summary'!$L277","v":0},{"$f":"'[2]Exec Summary'!$M277","v":0},{"$f":"'[2]Exec Summary'!$N277","v":0},{"$f":"'[2]Exec Summary'!$O277","v":0},{"$f":"'[2]Exec Summary'!$P277","v":0},{"$f":"AVERAGE(U275:Y275)","v":0},{"$f":"'[2]Exec Summary'!$W277","v":0},null,0,0,0,0,0,0,0,null,0,null,0,0,0,0,0,0,0,null,0]
[null,null,null,null,"Re-profiled allowed revenue adjusted - BR - real",0,"£m",null,{"$f":"'[1]Exec Summary'!$J278","v":0},{"$f":"'[1]Exec Summary'!$K278","v":0},{"$f":"'[1]Exec Summary'!$L278","v":110.04161198858444},{"$f":"'[1]Exec Summary'!$M278","v":111.63741114804512},{"$f":"'[1]Exec Summary'!$N278","v":109.65474855450914},{"$f":"'[1]Exec Summary'!$O278","v":108.54437684670891},{"$f":"'[1]Exec Summary'!$P278","v":106.78630459223355},109.33289062601622,{"$f":"'[1]Exec Summary'!$W278","v":546.66445313008114},null,{"$f":"'[2]Exec Summary'!$J278","v":0},{"$f":"'[2]Exec Summary'!$K278","v":0},{"$f":"'[2]Exec Summary'!$L278","v":99.519331231608746},{"$f":"'[2]Exec Summary'!$M278","v":97.431717186137419},{"$f":"'[2]Exec Summary'!$N278","v":95.754335956015396},{"$f":"'[2]Exec Summary'!$O278","v":92.241328201215808},{"$f":"'[2]Exec Summary'!$P278","v":91.349369430022222},95.259216400999918,{"$f":"'[2]Exec Summary'!$W278","v":476.29608200499956},null,0,0,10.522,14.206,13.9,16.303000000000001,15.436999999999999,null,70.367999999999995,null,0,0,0.10572820244855166,0.14580467644699613,0.14516313920640569,0.17674290166807372,0.16898857754924565,null,0.14774003536577771]
[null,null,null,null,null,null,null,null,null,null,null,null,null,null,null,null,null,null,null,null,null,null,null,null,null,null,null,null,0,0,0,0,0,0,0,null,0,null,0,0,0,0,0,0,0,null,0]
[null,null,null,null,"Contributions from connection charges and revenue from infrastructure charges - forecast - BR - real",0,"£m",null,{"$f":"'[1]Exec Summary'!$J280","v":0},{"$f":"'[1]Exec Summary'!$K280","v":0},{"$f":"'[1]Exec Summary'!$L280","v":0},{"$f":"'[1]Exec Summary'!$M280","v":0},{"$f":"'[1]Exec Summary'!$N280","v":0},{"$f":"'[1]Exec Summary'!$O280","v":0},{"$f":"'[1]Exec Summary'!$P280","v":0},0,{"$f":"'[1]Exec Summary'!$W280","v":0},null,{"$f":"'[2]Exec Summary'!$J280","v":0},{"$f":"'[2]Exec Summary'!$K280","v":0},{"$f":"'[2]Exec Summary'!$L280","v":0},{"$f":"'[2]Exec Summary'!$M280","v":0},{"$f":"'[2]Exec Summary'!$N280","v":0},{"$f":"'[2]Exec Summary'!$O280","v":0},{"$f":"'[2]Exec Summary'!$P280","v":0},{"$f":"AVERAGE(U278:Y278)","v":0},{"$f":"'[2]Exec Summary'!$W280","v":0},null,0,0,0,0,0,0,0,null,0,null,0,0,0,0,0,0,0,null,0]
[null,null,null,null,"Final Allowed Revenues - BR - real",null,"£m",null,{"$f":"'[1]Exec Summary'!$J281","v":0},{"$f":"'[1]Exec Summary'!$K281","v":0},{"$f":"'[1]Exec Summary'!$L281","v":110.04161198858444},{"$f":"'[1]Exec Summary'!$M281","v":111.63741114804512},{"$f":"'[1]Exec Summary'!$N281","v":109.65474855450914},{"$f":"'[1]Exec Summary'!$O281","v":108.54437684670891},{"$f":"'[1]Exec Summary'!$P281","v":106.78630459223355},109.33289062601622,{"$f":"'[1]Exec Summary'!$W281","v":546.66445313008114},null,{"$f":"'[2]Exec Summary'!$J281","v":0},{"$f":"'[2]Exec Summary'!$K281","v":0},{"$f":"'[2]Exec Summary'!$L281","v":99.519331231608746},{"$f":"'[2]Exec Summary'!$M281","v":97.431717186137419},{"$f":"'[2]Exec Summary'!$N281","v":95.754335956015396},{"$f":"'[2]Exec Summary'!$O281","v":92.241328201215808},{"$f":"'[2]Exec Summary'!$P281","v":91.349369430022222},95.259216400999918,{"$f":"'[2]Exec Summary'!$W281","v":476.29608200499956},null,0,0,10.522,14.206,13.9,16.303000000000001,15.436999999999999,null,70.367999999999995,null,0,0,0.10572820244855166,0.14580467644699613,0.14516313920640569,0.17674290166807372,0.16898857754924565,null,0.14774003536577771]
[null,null,null,null,null,null,null,null,null,null,null,null,null,null,null,null,null,null,null,null,null,null,null,null,null,null,null,null,0,0,0,0,0,0,0,null,0,null,0,0,0,0,0,0,0,null,0]
[null,"Dummy control",null,null,null,null,null,null,null,null,null,null,null,null,null,null,null,null,null,null,null,null,null,null,null,null,null,null,0,0,0,0,0,0,0,null,0,null,0,0,0,0,0,0,0,null,0]
[null,null,null,null,"PAYG - DMMY - real",0,"£m",null,{"$f":"'[1]Exec Summary'!$J284","v":0},{"$f":"'[1]Exec Summary'!$K284","v":0},{"$f":"'[1]Exec Summary'!$L284","v":0},{"$f":"'[1]Exec Summary'!$M284","v":0},{"$f":"'[1]Exec Summary'!$N284","v":0},{"$f":"'[1]Exec Summary'!$O284","v":0},{"$f":"'[1]Exec Summary'!$P284","v":0},{"$f":"AVERAGE(K282:O282)","v":0},{"$f":"'[1]Exec Summary'!$W284","v":0},null,{"$f":"'[2]Exec Summary'!$J284","v":0},{"$f":"'[2]Exec Summary'!$K284","v":0},{"$f":"'[2]Exec Summary'!$L284","v":0},{"$f":"'[2]Exec Summary'!$M284","v":0},{"$f":"'[2]Exec Summary'!$N284","v":0},{"$f":"'[2]Exec Summary'!$O284","v":0},{"$f":"'[2]Exec Summary'!$P284","v":0},{"$f":"AVERAGE(U282:Y282)","v":0},{"$f":"'[2]Exec Summary'!$W284","v":0},null,{"$f":"ROUND(I282 - S282, 3)","v":0},{"$f":"ROUND(J282 - T282, 3)","v":0},{"$f":"ROUND(K282 - U282, 3)","v":0},{"$f":"ROUND(L282 - V282, 3)","v":0},{"$f":"ROUND(M282 - W282, 3)","v":0},{"$f":"ROUND(N282 - X282, 3)","v":0},{"$f":"ROUND(O282 - Y282, 3)","v":0},null,{"$f":"ROUND(Q282 - AA282, 3)","v":0},null,{"$f":"IF(S282 = 0, 0, AC282 / S282)","v":0},{"$f":"IF(T282 = 0, 0, AD282 / T282)","v":0},{"$f":"IF(U282 = 0, 0, AE282 / U282)","v":0},{"$f":"IF(V282 = 0, 0, AF282 / V282)","v":0},{"$f":"IF(W282 = 0, 0, AG282 / W282)","v":0},{"$f":"IF(X282 = 0, 0, AH282 / X282)","v":0},{"$f":"IF(Y282 = 0, 0, AI282 / Y282)","v":0},null,{"$f":"IF(AA282 = 0, 0, AK282 / AA282)","v":0}]
[null,null,null,null,"Wholesale Dummy control service defined benefit pension deficit recovery per IN13/17 - real",0,"£m",null,{"$f":"'[1]Exec Summary'!$J285","v":0},{"$f":"'[1]Exec Summary'!$K285","v":0},{"$f":"'[1]Exec Summary'!$L285","v":0},{"$f":"'[1]Exec Summary'!$M285","v":0},{"$f":"'[1]Exec Summary'!$N285","v":0},{"$f":"'[1]Exec Summary'!$O285","v":0},{"$f":"'[1]Exec Summary'!$P285","v":0},0,{"$f":"'[1]Exec Summary'!$W285","v":0},null,{"$f":"'[2]Exec Summary'!$J285","v":0},{"$f":"'[2]Exec Summary'!$K285","v":0},{"$f":"'[2]Exec Summary'!$L285","v":0},{"$f":"'[2]Exec Summary'!$M285","v":0},{"$f":"'[2]Exec Summary'!$N285","v":0},{"$f":"'[2]Exec Summary'!$O285","v":0},{"$f":"'[2]Exec Summary'!$P285","v":0},0,{"$f":"'[2]Exec Summary'!$W285","v":0},null,0,0,0,0,0,0,0,null,0,null,0,0,0,0,0,0,0,null,0]
[null,null,null,null,"Return on Capital - DMMY - real",0,"£m",null,{"$f":"'[1]Exec Summary'!$J286","v":0},{"$f":"'[1]Exec Summary'!$K286","v":0},{"$f":"'[1]Exec Summary'!$L286","v":0},{"$f":"'[1]Exec Summary'!$M286","v":0},{"$f":"'[1]Exec Summary'!$N286","v":0},{"$f":"'[1]Exec Summary'!$O286","v":0},{"$f":"'[1]Exec Summary'!$P286","v":0},0,{"$f":"'[1]Exec Summary'!$W286","v":0},null,{"$f":"'[2]Exec Summary'!$J286","v":0},{"$f":"'[2]Exec Summary'!$K286","v":0},{"$f":"'[2]Exec Summary'!$L286","v":0},{"$f":"'[2]Exec Summary'!$M286","v":0},{"$f":"'[2]Exec Summary'!$N286","v":0},{"$f":"'[2]Exec Summary'!$O286","v":0},{"$f":"'[2]Exec Summary'!$P286","v":0},0,{"$f":"'[2]Exec Summary'!$W286","v":0},null,0,0,0,0,0,0,0,null,0,null,0,0,0,0,0,0,0,null,0]
[null,null,null,null,"Depreciation - DMMY - real",0,"£m",null,{"$f":"'[1]Exec Summary'!$J287","v":0},{"$f":"'[1]Exec Summary'!$K287","v":0},{"$f":"'[1]Exec Summary'!$L287","v":0},{"$f":"'[1]Exec Summary'!$M287","v":0},{"$f":"'[1]Exec Summary'!$N287","v":0},{"$f":"'[1]Exec Summary'!$O287","v":0},{"$f":"'[1]Exec Summary'!$P287","v":0},0,{"$f":"'[1]Exec Summary'!$W287","v":0},null,{"$f":"'[2]Exec Summary'!$J287","v":0},{"$f":"'[2]Exec Summary'!$K287","v":0},{"$f":"'[2]Exec Summary'!$L287","v":0},{"$f":"'[2]Exec Summary'!$M287","v":0},{"$f":"'[2]Exec Summary'!$N287","v":0},{"$f":"'[2]Exec Summary'!$O287","v":0},{"$f":"'[2]Exec Summary'!$P287","v":0},0,{"$f":"'[2]Exec Summary'!$W287","v":0},null,0,0,0,0,0,0,0,null,0,null,0,0,0,0,0,0,0,null,0]
[null,null,null,null,"Tax DMMY - real",0,"£m",null,{"$f":"'[1]Exec Summary'!$J288","v":0},{"$f":"'[1]Exec Summary'!$K288","v":0},{"$f":"'[1]Exec Summary'!$L288","v":0},{"$f":"'[1]Exec Summary'!$M288","v":0},{"$f":"'[1]Exec Summary'!$N288","v":0},{"$f":"'[1]Exec Summary'!$O288","v":0},{"$f":"'[1]Exec Summary'!$P288","v":0},0,{"$f":"'[1]Exec Summary'!$W288","v":0},null,{"$f":"'[2]Exec Summary'!$J288","v":0},{"$f":"'[2]Exec Summary'!$K288","v":0},{"$f":"'[2]Exec Summary'!$L288","v":0},{"$f":"'[2]Exec Summary'!$M288","v":0},{"$f":"'[2]Exec Summary'!$N288","v":0},{"$f":"'[2]Exec Summary'!$O288","v":0},{"$f":"'[2]Exec Summary'!$P288","v":0},0,{"$f":"'[2]Exec Summary'!$W288","v":0},null,0,0,0,0,0,0,0,null,0,null,0,0,0,0,0,0,0,null,0]
[null,null,null,null,"Dummy control: operating income - CALC - real",0,"£m",null,{"$f":"'[1]Exec Summary'!$J289","v":0},{"$f":"'[1]Exec Summary'!$K289","v":0},{"$f":"'[1]Exec Summary'!$L289","v":0},{"$f":"'[1]Exec Summary'!$M289","v":0},{"$f":"'[1]Exec Summary'!$N289","v":0},{"$f":"'[1]Exec Summary'!$O289","v":0},{"$f":"'[1]Exec Summary'!$P289","v":0},0,{"$f":"'[1]Exec Summary'!$W289","v":0},null,{"$f":"'[2]Exec Summary'!$J289","v":0},{"$f":"'[2]Exec Summary'!$K289","v":0},{"$f":"'[2]Exec Summary'!$L289","v":0},{"$f":"'[2]Exec Summary'!$M289","v":0},{"$f":"'[2]Exec Summary'!$N289","v":0},{"$f":"'[2]Exec Summary'!$O289","v":0},{"$f":"'[2]Exec Summary'!$P289","v":0},0,{"$f":"'[2]Exec Summary'!$W289","v":0},null,0,0,0,0,0,0,0,null,0,null,0,0,0,0,0,0,0,null,0]
[null,null,null,null,"Third party & principle service revenues - DMMY - real",0,"£m",null,{"$f":"'[1]Exec Summary'!$J290","v":0},{"$f":"'[1]Exec Summary'!$K290","v":0},{"$f":"'[1]Exec Summary'!$L290","v":0},{"$f":"'[1]Exec Summary'!$M290","v":0},{"$f":"'[1]Exec Summary'!$N290","v":0},{"$f":"'[1]Exec Summary'!$O290","v":0},{"$f":"'[1]Exec Summary'!$P290","v":0},0,{"$f":"'[1]Exec Summary'!$W290","v":0},null,{"$f":"'[2]Exec Summary'!$J290","v":0},{"$f":"'[2]Exec Summary'!$K290","v":0},{"$f":"'[2]Exec Summary'!$L290","v":0},{"$f":"'[2]Exec Summary'!$M290","v":0},{"$f":"'[2]Exec Summary'!$N290","v":0},{"$f":"'[2]Exec Summary'!$O290","v":0},{"$f":"'[2]Exec Summary'!$P290","v":0},0,{"$f":"'[2]Exec Summary'!$W290","v":0},null,0,0,0,0,0,0,0,null,0,null,0,0,0,0,0,0,0,null,0]
[null,null,null,null,"Adjustment to Wholesale revenue requirement - DMMY - real",0,"£m",null,{"$f":"'[1]Exec Summary'!$J291","v":0},{"$f":"'[1]Exec Summary'!$K291","v":0},{"$f":"'[1]Exec Summary'!$L291","v":0},{"$f":"'[1]Exec Summary'!$M291","v":0},{"$f":"'[1]Exec Summary'!$N291","v":0},{"$f":"'[1]Exec Summary'!$O291","v":0},{"$f":"'[1]Exec Summary'!$P291","v":0},0,{"$f":"'[1]Exec Summary'!$W291","v":0},null,{"$f":"'[2]Exec Summary'!$J291","v":0},{"$f":"'[2]Exec Summary'!$K291","v":0},{"$f":"'[2]Exec Summary'!$L291","v":0},{"$f":"'[2]Exec Summary'!$M291","v":0},{"$f":"'[2]Exec Summary'!$N291","v":0},{"$f":"'[2]Exec Summary'!$O291","v":0},{"$f":"'[2]Exec Summary'!$P291","v":0},0,{"$f":"'[2]Exec Summary'!$W291","v":0},null,0,0,0,0,0,0,0,null,0,null,0,0,0,0,0,0,0,null,0]
[null,null,null,null,"Allowed Revenues - DMMY - real",null,"£m",null,{"$f":"'[1]Exec Summary'!$J292","v":0},{"$f":"'[1]Exec Summary'!$K292","v":0},{"$f":"'[1]Exec Summary'!$L292","v":0},{"$f":"'[1]Exec Summary'!$M292","v":0},{"$f":"'[1]Exec Summary'!$N292","v":0},{"$f":"'[1]Exec Summary'!$O292","v":0},{"$f":"'[1]Exec Summary'!$P292","v":0},0,{"$f":"'[1]Exec Summary'!$W292","v":0},null,{"$f":"'[2]Exec Summary'!$J292","v":0},{"$f":"'[2]Exec Summary'!$K292","v":0},{"$f":"'[2]Exec Summary'!$L292","v":0},{"$f":"'[2]Exec Summary'!$M292","v":0},{"$f":"'[2]Exec Summary'!$N292","v":0},{"$f":"'[2]Exec Summary'!$O292","v":0},{"$f":"'[2]Exec Summary'!$P292","v":0},0,{"$f":"'[2]Exec Summary'!$W292","v":0},null,0,0,0,0,0,0,0,null,0,null,0,0,0,0,0,0,0,null,0]
[null,null,null,null,null,null,null,null,null,null,null,null,null,null,null,null,null,null,null,null,null,null,null,null,null,null,null,null,0,0,0,0,0,0,0,null,0,null,0,0,0,0,0,0,0,null,0]
[null,null,null,null,"Revenue solving adjustment - DMMY - real",null,"£m",null,{"$f":"'[1]Exec Summary'!$J294","v":0},{"$f":"'[1]Exec Summary'!$K294","v":0},{"$f":"'[1]Exec Summary'!$L294","v":0},{"$f":"'[1]Exec Summary'!$M294","v":0},{"$f":"'[1]Exec Summary'!$N294","v":0},{"$f":"'[1]Exec Summary'!$O294","v":0},{"$f":"'[1]Exec Summary'!$P294","v":0},0,{"$f":"'[1]Exec Summary'!$W294","v":0},null,{"$f":"'[2]Exec Summary'!$J294","v":0},{"$f":"'[2]Exec Summary'!$K294","v":0},{"$f":"'[2]Exec Summary'!$L294","v":0},{"$f":"'[2]Exec Summary'!$M294","v":0},{"$f":"'[2]Exec Summary'!$N294","v":0},{"$f":"'[2]Exec Summary'!$O294","v":0},{"$f":"'[2]Exec Summary'!$P294","v":0},{"$f":"AVERAGE(U292:Y292)","v":0},{"$f":"'[2]Exec Summary'!$W294","v":0},null,0,0,0,0,0,0,0,null,0,null,0,0,0,0,0,0,0,null,0]
[null,null,null,null,"Allowed Revenues (post revenue solving adjustment) - DMMY - real",0,"£m",null,{"$f":"'[1]Exec Summary'!$J295","v":0},{"$f":"'[1]Exec Summary'!$K295","v":0},{"$f":"'[1]Exec Summary'!$L295","v":0},{"$f":"'[1]Exec Summary'!$M295","v":0},{"$f":"'[1]Exec Summary'!$N295","v":0},{"$f":"'[1]Exec Summary'!$O295","v":0},{"$f":"'[1]Exec Summary'!$P295","v":0},0,{"$f":"'[1]Exec Summary'!$W295","v":0},null,{"$f":"'[2]Exec Summary'!$J295","v":0},{"$f":"'[2]Exec Summary'!$K295","v":0},{"$f":"'[2]Exec Summary'!$L295","v":0},{"$f":"'[2]Exec Summary'!$M295","v":0},{"$f":"'[2]Exec Summary'!$N295","v":0},{"$f":"'[2]Exec Summary'!$O295","v":0},{"$f":"'[2]Exec Summary'!$P295","v":0},0,{"$f":"'[2]Exec Summary'!$W295","v":0},null,0,0,0,0,0,0,0,null,0,null,0,0,0,0,0,0,0,null,0]
[null,null,null,null,null,null,null,null,null,null,null,null,null,null,null,null,null,null,null,null,null,null,null,null,null,null,null,null,0,0,0,0,0,0,0,null,0,null,0,0,0,0,0,0,0,null,0]
[null,null,null,null,"Allowed Revenues (post revenue solving adjustment) - DMMY - real",0,"£m",null,{"$f":"'[1]Exec Summary'!$J297","v":0},{"$f":"'[1]Exec Summary'!$K297","v":0},{"$f":"'[1]Exec Summary'!$L297","v":0},{"$f":"'[1]Exec Summary'!$M297","v":0},{"$f":"'[1]Exec Summary'!$N297","v":0},{"$f":"'[1]Exec Summary'!$O297","v":0},{"$f":"'[1]Exec Summary'!$P297","v":0},0,{"$f":"'[1]Exec Summary'!$W297","v":0},null,{"$f":"'[2]Exec Summary'!$J297","v":0},{"$f":"'[2]Exec Summary'!$K297","v":0},{"$f":"'[2]Exec Summary'!$L297","v":0},{"$f":"'[2]Exec Summary'!$M297","v":0},{"$f":"'[2]Exec Summary'!$N297","v":0},{"$f":"'[2]Exec Summary'!$O297","v":0},{"$f":"'[2]Exec Summary'!$P297","v":0},{"$f":"AVERAGE(U295:Y295)","v":0},{"$f":"'[2]Exec Summary'!$W297","v":0},null,0,0,0,0,0,0,0,null,0,null,0,0,0,0,0,0,0,null,0]
[null,null,null,null,"Post financeability adjustments - DMMY - real",0,"£m",null,{"$f":"'[1]Exec Summary'!$J298","v":0},{"$f":"'[1]Exec Summary'!$K298","v":0},{"$f":"'[1]Exec Summary'!$L298","v":0},{"$f":"'[1]Exec Summary'!$M298","v":0},{"$f":"'[1]Exec Summary'!$N298","v":0},{"$f":"'[1]Exec Summary'!$O298","v":0},{"$f":"'[1]Exec Summary'!$P298","v":0},0,{"$f":"'[1]Exec Summary'!$W298","v":0},null,{"$f":"'[2]Exec Summary'!$J298","v":0},{"$f":"'[2]Exec Summary'!$K298","v":0},{"$f":"'[2]Exec Summary'!$L298","v":0},{"$f":"'[2]Exec Summary'!$M298","v":0},{"$f":"'[2]Exec Summary'!$N298","v":0},{"$f":"'[2]Exec Summary'!$O298","v":0},{"$f":"'[2]Exec Summary'!$P298","v":0},0,{"$f":"'[2]Exec Summary'!$W298","v":0},null,0,0,0,0,0,0,0,null,0,null,0,0,0,0,0,0,0,null,0]
[null,null,null,null,"Allowed Revenues (pre profiling) - DMMY - real",null,"£m",null,{"$f":"'[1]Exec Summary'!$J299","v":0},{"$f":"'[1]Exec Summary'!$K299","v":0},{"$f":"'[1]Exec Summary'!$L299","v":0},{"$f":"'[1]Exec Summary'!$M299","v":0},{"$f":"'[1]Exec Summary'!$N299","v":0},{"$f":"'[1]Exec Summary'!$O299","v":0},{"$f":"'[1]Exec Summary'!$P299","v":0},0,{"$f":"'[1]Exec Summary'!$W299","v":0},null,{"$f":"'[2]Exec Summary'!$J299","v":0},{"$f":"'[2]Exec Summary'!$K299","v":0},{"$f":"'[2]Exec Summary'!$L299","v":0},{"$f":"'[2]Exec Summary'!$M299","v":0},{"$f":"'[2]Exec Summary'!$N299","v":0},{"$f":"'[2]Exec Summary'!$O299","v":0},{"$f":"'[2]Exec Summary'!$P299","v":0},0,{"$f":"'[2]Exec Summary'!$W299","v":0},null,0,0,0,0,0,0,0,null,0,null,0,0,0,0,0,0,0,null,0]
[null,null,null,null,null,null,null,null,null,null,null,null,null,null,null,null,null,null,null,null,null,null,null,null,null,null,null,null,0,0,0,0,0,0,0,null,0,null,0,0,0,0,0,0,0,null,0]
[null,null,null,null,"Profiling adjustment - DMMY - real",null,"£m",null,{"$f":"'[1]Exec Summary'!$J301","v":0},{"$f":"'[1]Exec Summary'!$K301","v":0},{"$f":"'[1]Exec Summary'!$L301","v":0},{"$f":"'[1]Exec Summary'!$M301","v":0},{"$f":"'[1]Exec Summary'!$N301","v":0},{"$f":"'[1]Exec Summary'!$O301","v":0},{"$f":"'[1]Exec Summary'!$P301","v":0},0,{"$f":"'[1]Exec Summary'!$W301","v":0},null,{"$f":"'[2]Exec Summary'!$J301","v":0},{"$f":"'[2]Exec Summary'!$K301","v":0},{"$f":"'[2]Exec Summary'!$L301","v":0},{"$f":"'[2]Exec Summary'!$M301","v":0},{"$f":"'[2]Exec Summary'!$N301","v":0},{"$f":"'[2]Exec Summary'!$O301","v":0},{"$f":"'[2]Exec Summary'!$P301","v":0},{"$f":"AVERAGE(U299:Y299)","v":0},{"$f":"'[2]Exec Summary'!$W301","v":0},null,0,0,0,0,0,0,0,null,0,null,0,0,0,0,0,0,0,null,0]
[null,null,null,null,"Re-profiled allowed revenue adjusted - real - DMMY - real",0,"£m",null,{"$f":"'[1]Exec Summary'!$J302","v":0},{"$f":"'[1]Exec Summary'!$K302","v":0},{"$f":"'[1]Exec Summary'!$L302","v":0},{"$f":"'[1]Exec Summary'!$M302","v":0},{"$f":"'[1]Exec Summary'!$N302","v":0},{"$f":"'[1]Exec Summary'!$O302","v":0},{"$f":"'[1]Exec Summary'!$P302","v":0},0,{"$f":"'[1]Exec Summary'!$W302","v":0},null,{"$f":"'[2]Exec Summary'!$J302","v":0},{"$f":"'[2]Exec Summary'!$K302","v":0},{"$f":"'[2]Exec Summary'!$L302","v":0},{"$f":"'[2]Exec Summary'!$M302","v":0},{"$f":"'[2]Exec Summary'!$N302","v":0},{"$f":"'[2]Exec Summary'!$O302","v":0},{"$f":"'[2]Exec Summary'!$P302","v":0},0,{"$f":"'[2]Exec Summary'!$W302","v":0},null,0,0,0,0,0,0,0,null,0,null,0,0,0,0,0,0,0,null,0]
[null,null,null,null,null,null,null,null,null,null,null,null,null,null,null,null,null,null,null,null,null,null,null,null,null,null,null,null,0,0,0,0,0,0,0,null,0,null,0,0,0,0,0,0,0,null,0]
[null,null,null,null,"Contributions from connection charges and revenue from infrastructure charges - forecast - DMMY - real",0,"£m",null,{"$f":"'[1]Exec Summary'!$J304","v":0},{"$f":"'[1]Exec Summary'!$K304","v":0},{"$f":"'[1]Exec Summary'!$L304","v":0},{"$f":"'[1]Exec Summary'!$M304","v":0},{"$f":"'[1]Exec Summary'!$N304","v":0},{"$f":"'[1]Exec Summary'!$O304","v":0},{"$f":"'[1]Exec Summary'!$P304","v":0},0,{"$f":"'[1]Exec Summary'!$W304","v":0},null,{"$f":"'[2]Exec Summary'!$J304","v":0},{"$f":"'[2]Exec Summary'!$K304","v":0},{"$f":"'[2]Exec Summary'!$L304","v":0},{"$f":"'[2]Exec Summary'!$M304","v":0},{"$f":"'[2]Exec Summary'!$N304","v":0},{"$f":"'[2]Exec Summary'!$O304","v":0},{"$f":"'[2]Exec Summary'!$P304","v":0},{"$f":"AVERAGE(U302:Y302)","v":0},{"$f":"'[2]Exec Summary'!$W304","v":0},null,0,0,0,0,0,0,0,null,0,null,0,0,0,0,0,0,0,null,0]
[null,null,null,null,"Final Allowed Revenues - DMMY - real",null,"£m",null,{"$f":"'[1]Exec Summary'!$J305","v":0},{"$f":"'[1]Exec Summary'!$K305","v":0},{"$f":"'[1]Exec Summary'!$L305","v":0},{"$f":"'[1]Exec Summary'!$M305","v":0},{"$f":"'[1]Exec Summary'!$N305","v":0},{"$f":"'[1]Exec Summary'!$O305","v":0},{"$f":"'[1]Exec Summary'!$P305","v":0},0,{"$f":"'[1]Exec Summary'!$W305","v":0},null,{"$f":"'[2]Exec Summary'!$J305","v":0},{"$f":"'[2]Exec Summary'!$K305","v":0},{"$f":"'[2]Exec Summary'!$L305","v":0},{"$f":"'[2]Exec Summary'!$M305","v":0},{"$f":"'[2]Exec Summary'!$N305","v":0},{"$f":"'[2]Exec Summary'!$O305","v":0},{"$f":"'[2]Exec Summary'!$P305","v":0},0,{"$f":"'[2]Exec Summary'!$W305","v":0},null,0,0,0,0,0,0,0,null,0,null,0,0,0,0,0,0,0,null,0]
[]
["TOTEX"]
[]
[null,null,null,"Water totex",null,null,null,null,null,null,null,null,null,null,null,null,"Net totex",null,null,null,null,null,null,null,null,null,"Net totex"]
[null,null,null,null,"Water resources operating expenditure (amount for totex CR) (post override) - real",null,"£m",null,{"$f":"[1]InpActive!$J218","v":0},{"$f":"[1]InpActive!$K218","v":0},{"$f":"[1]InpActive!$L218","v":46.758947762000005},{"$f":"[1]InpActive!$M218","v":47.59289914},{"$f":"[1]InpActive!$N218","v":44.734631615999994},{"$f":"[1]InpActive!$O218","v":43.096373643},{"$f":"[1]InpActive!$P218","v":39.807944162000005},{"$f":"AVERAGE(K308:O308)","v":44.398159264600004},null,null,{"$f":"[2]InpActive!$J234","v":0},{"$f":"[2]InpActive!$K234","v":0},{"$f":"[2]InpActive!$L234","v":39.0860056654126},{"$f":"[2]InpActive!$M234","v":38.468993457314902},{"$f":"[2]InpActive!$N234","v":40.4692523267897},{"$f":"[2]InpActive!$O234","v":41.7036454900704},{"$f":"[2]InpActive!$P234","v":41.442003344288203},{"$f":"AVERAGE(U308:Y308)","v":40.23398005677516},null,null,{"$f":"ROUND(I308 - S308, 3)","v":0},0,7.673,9.1240000000000006,4.2649999999999997,1.393,-1.6339999999999999,null,null,null,{"$f":"IF(S308 = 0, 0, AC308 / S308)","v":0},0,0.19631067102847696,0.23717802780891495,0.10538865323134891,3.3402355684508972E-2,-3.942859582402905E-2]
[null,null,null,null,"Capital Expenditure (excluding Atypical expenditure) - Total gross capital expenditure - Water resources",null,"£m",null,{"$f":"[1]InpActive!$J219","v":31.90904108578458},{"$f":"[1]InpActive!$K219","v":12.272635153948237},{"$f":"[1]InpActive!$L219","v":21.369999999999997},{"$f":"[1]InpActive!$M219","v":21.271999999999998},{"$f":"[1]InpActive!$N219","v":23.882000000000001},{"$f":"[1]InpActive!$O219","v":15.835000000000001},{"$f":"[1]InpActive!$P219","v":7.7180000000000009},18.015400000000003,null,null,{"$f":"[2]InpActive!$J235","v":0},{"$f":"[2]InpActive!$K235","v":0},{"$f":"[2]InpActive!$L235","v":8.1607395639070504},{"$f":"[2]InpActive!$M235","v":11.707259553214399},{"$f":"[2]InpActive!$N235","v":15.737609251794},{"$f":"[2]InpActive!$O235","v":10.7856360401228},{"$f":"[2]InpActive!$P235","v":5.8940281110485797},10.457054504017366,null,null,31.908999999999999,12.273,13.209,9.5649999999999995,8.1440000000000001,5.0490000000000004,1.8240000000000001,null,null,null,{"$f":"IF(S309 = 0, 0, AC309 / S309)","v":0},{"$f":"IF(T309 = 0, 0, AD309 / T309)","v":0},{"$f":"IF(U309 = 0, 0, AE309 / U309)","v":1.6186033013993202},{"$f":"IF(V309 = 0, 0, AF309 / V309)","v":0.81701443079168679},{"$f":"IF(W309 = 0, 0, AG309 / W309)","v":0.51748647902613476},{"$f":"IF(X309 = 0, 0, AH309 / X309)","v":0.46812260132064637},{"$f":"IF(Y309 = 0, 0, AI309 / Y309)","v":0.30946577885857768}]
[null,null,null,null,"Grants & contributions - Capex -Water resources grants and contributions (price control)",null,"£m",null,{"$f":"[1]InpActive!$J221","v":0},{"$f":"[1]InpActive!$K221","v":0},{"$f":"[1]InpActive!$L221","v":0},{"$f":"[1]InpActive!$M221","v":0},{"$f":"[1]InpActive!$N221","v":0},{"$f":"[1]InpActive!$O221","v":0},{"$f":"[1]InpActive!$P221","v":0},0,null,null,{"$f":"[2]InpActive!$J237","v":0},{"$f":"[2]InpActive!$K237","v":0},{"$f":"[2]InpActive!$L237","v":0},{"$f":"[2]InpActive!$M237","v":0},{"$f":"[2]InpActive!$N237","v":0},{"$f":"[2]InpActive!$O237","v":0},{"$f":"[2]InpActive!$P237","v":0},0,null,null,0,0,0,0,0,0,0,null,null,null,0,0,0,0,0,0,0]
[null,null,null,null,"Grants & contributions - Capex -Water resources grants and contributions (non-price control)",null,"£m",null,{"$f":"[1]InpActive!$J222","v":0},{"$f":"[1]InpActive!$K222","v":0},{"$f":"[1]InpActive!$L222","v":0},{"$f":"[1]InpActive!$M222","v":0},{"$f":"[1]InpActive!$N222","v":0},{"$f":"[1]InpActive!$O222","v":0},{"$f":"[1]InpActive!$P222","v":0},0,null,null,{"$f":"[2]InpActive!$J238","v":0},{"$f":"[2]InpActive!$K238","v":0},{"$f":"[2]InpActive!$L238","v":0},{"$f":"[2]InpActive!$M238","v":0},{"$f":"[2]InpActive!$N238","v":0},{"$f":"[2]InpActive!$O238","v":0},{"$f":"[2]InpActive!$P238","v":0},0,null,null,{"$f":"ROUND(I311 - S311, 3)","v":0},{"$f":"ROUND(J311 - T311, 3)","v":0},{"$f":"ROUND(K311 - U311, 3)","v":0},{"$f":"ROUND(L311 - V311, 3)","v":0},{"$f":"ROUND(M311 - W311, 3)","v":0},{"$f":"ROUND(N311 - X311, 3)","v":0},{"$f":"ROUND(O311 - Y311, 3)","v":0}]
[null,null,null,null,"Grants & contributions - Opex - Water resources grants and contributions (price control)",null,"£m",null,{"$f":"[1]InpActive!$J225","v":0},{"$f":"[1]InpActive!$K225","v":0},{"$f":"[1]InpActive!$L225","v":0},{"$f":"[1]InpActive!$M225","v":0},{"$f":"[1]InpActive!$N225","v":0},{"$f":"[1]InpActive!$O225","v":0},{"$f":"[1]InpActive!$P225","v":0},0,null,null,{"$f":"[2]InpActive!$J241","v":0},{"$f":"[2]InpActive!$K241","v":0},{"$f":"[2]InpActive!$L241","v":0},{"$f":"[2]InpActive!$M241","v":0},{"$f":"[2]InpActive!$N241","v":0},{"$f":"[2]InpActive!$O241","v":0},{"$f":"[2]InpActive!$P241","v":0},0,null,null,0,0,0,0,0,0,0]
[null,null,null,null,"Grants & contributions - Opex - Water resources grants and contributions (non-price control)",null,"£m",null,{"$f":"[1]InpActive!$J226","v":0},{"$f":"[1]InpActive!$K226","v":0},{"$f":"[1]InpActive!$L226","v":0},{"$f":"[1]InpActive!$M226","v":0},{"$f":"[1]InpActive!$N226","v":0},{"$f":"[1]InpActive!$O226","v":0},{"$f":"[1]InpActive!$P226","v":0},0,null,null,{"$f":"[2]InpActive!$J242","v":0},{"$f":"[2]InpActive!$K242","v":0},{"$f":"[2]InpActive!$L242","v":0},{"$f":"[2]InpActive!$M242","v":0},{"$f":"[2]InpActive!$N242","v":0},{"$f":"[2]InpActive!$O242","v":0},{"$f":"[2]InpActive!$P242","v":0},0,null,null,0,0,0,0,0,0,0]
[null,null,null,null,"Gross Totex",null,"£m",null,{"$f":" SUM(I308:I313)","v":31.90904108578458},{"$f":" SUM(J308:J313)","v":12.272635153948237},68.128947761999996,68.864899140000006,68.616631615999992,58.931373643000001,47.525944162000009,null,{"$f":"SUM(K308:O309)-SUM(K310:O313)","v":312.06779632300004},null,{"$f":" SUM(S308:S313)","v":0},{"$f":" SUM(T308:T313)","v":0},{"$f":" SUM(U308:U313)","v":47.24674522931965},{"$f":" SUM(V308:V313)","v":50.176253010529301},{"$f":" SUM(W308:W313)","v":56.206861578583698},{"$f":" SUM(X308:X313)","v":52.489281530193196},{"$f":" SUM(Y308:Y313)","v":47.33603145533678},null,{"$f":"SUM(U308:Y309)-SUM(U310:Y313)","v":253.4551728039626},null,31.908999999999999,12.273,20.882000000000001,18.689,12.41,6.4420000000000002,0.19]
[null,null,null,null,"Net opex",null,null,null,null,null,{"$f":"SUM(K308,-K312,-K313)","v":46.758947762000005},{"$f":"SUM(L308,-L312,-L313)","v":47.59289914},44.734631615999994,43.096373643,39.807944162000005,{"$f":"SUM(K315:O315)","v":221.99079632300001},null,null,null,null,{"$f":"SUM(U308,-U312,-U313)","v":39.0860056654126},{"$f":"SUM(V308,-V312,-V313)","v":38.468993457314902},40.4692523267897,41.7036454900704,41.442003344288203,{"$f":"SUM(U315:Y315)","v":201.16990028387579}]
[null,null,null,null,"Net capex",null,null,null,null,null,{"$f":"SUM(K309,-K311,-K310)","v":21.369999999999997},{"$f":"SUM(L309,-L311,-L310)","v":21.271999999999998},23.882000000000001,15.835000000000001,7.7180000000000009,{"$f":"SUM(K316:O316)","v":90.077000000000012},null,null,null,null,{"$f":"SUM(U309,-U311,-U310)","v":8.1607395639070504},{"$f":"SUM(V309,-V311,-V310)","v":11.707259553214399},15.737609251794,10.7856360401228,5.8940281110485797,{"$f":"SUM(U316:Y316)","v":52.285272520086828}]
[]
[null,null,"Water network totex"]
[null,null,null,null,"Water network operating expenditure (amount for totex CR) (post override) - real",null,"£m",null,{"$f":"[1]InpActive!$J422","v":231.25833999999998},{"$f":"[1]InpActive!$K422","v":209.8196772},{"$f":"[1]InpActive!$L422","v":225.74501528899998},{"$f":"[1]InpActive!$M422","v":226.13227904899998},{"$f":"[1]InpActive!$N422","v":227.88862548499998},{"$f":"[1]InpActive!$O422","v":229.10522927399998},{"$f":"[1]InpActive!$P422","v":221.60406317299999},{"$f":"AVERAGE(K319:O319)","v":226.09504245399995},null,null,{"$f":"[2]InpActive!$J454","v":0},{"$f":"[2]InpActive!$K454","v":0},{"$f":"[2]InpActive!$L454","v":195.941871842311},{"$f":"[2]InpActive!$M454","v":199.417766853335},{"$f":"[2]InpActive!$N454","v":202.28403945161699},{"$f":"[2]InpActive!$O454","v":203.108515146402},{"$f":"[2]InpActive!$P454","v":198.79016532376301},{"$f":"AVERAGE(U319:Y319)","v":199.90847172348558},null,null,{"$f":"ROUND(I319 - S319, 3)","v":231.25800000000001},209.82,29.803000000000001,26.715,25.605,25.997,22.814,null,null,null,0,0,0.15210123145084931,0.13396499430087377,0.12657943785092493,0.12799561840753543,0.11476422871746994]
[null,null,null,null,"Total gross capital expenditure - WN - real",null,"£m",null,{"$f":"[1]InpActive!$J423","v":0},{"$f":"[1]InpActive!$K423","v":0},{"$f":"[1]InpActive!$L423","v":230.58800000000002},{"$f":"[1]InpActive!$M423","v":310.065},{"$f":"[1]InpActive!$N423","v":353.5},{"$f":"[1]InpActive!$O423","v":348.02599999999995},{"$f":"[1]InpActive!$P423","v":229.67000000000002},294.36980000000005,null,null,{"$f":"[2]InpActive!$J455","v":0},{"$f":"[2]InpActive!$K455","v":0},{"$f":"[2]InpActive!$L455","v":175.61141958912},{"$f":"[2]InpActive!$M455","v":244.793569095414},{"$f":"[2]InpActive!$N455","v":261.26827218772098},{"$f":"[2]InpActive!$O455","v":230.880858787644},{"$f":"[2]InpActive!$P455","v":163.998856934759},215.3105953189316,null,null,0,0,54.976999999999997,65.271000000000001,92.231999999999999,117.145,65.671000000000006,null,null,null,0,0,0.31306050670639923,0.26663690652167055,0.3530164578641658,0.50738290135929287,0.40043571783018483]
[null,null,null,null,"Grants & contributions - Capex -Water network plus grants and contributions (price control)",null,"£m",null,{"$f":"[1]InpActive!$J425","v":0},{"$f":"[1]InpActive!$K425","v":0},{"$f":"[1]InpActive!$L425","v":34.00622260618708},{"$f":"[1]InpActive!$M425","v":40.339584817276972},{"$f":"[1]InpActive!$N425","v":40.006048473587875},{"$f":"[1]InpActive!$O425","v":39.415651929220147},{"$f":"[1]InpActive!$P425","v":36.79890837843611},38.113283240941641,null,null,{"$f":"[2]InpActive!$J457","v":0},{"$f":"[2]InpActive!$K457","v":0},{"$f":"[2]InpActive!$L457","v":21.654563753944601},{"$f":"[2]InpActive!$M457","v":22.155529157271001},{"$f":"[2]InpActive!$N457","v":21.176372071796699},{"$f":"[2]InpActive!$O457","v":20.235340120918899},{"$f":"[2]InpActive!$P457","v":19.005065493919499},20.845374119570138,null,null,0,0,12.352,18.184000000000001,18.829999999999998,19.18,17.794,null,null,null,0,0,0.57041093694394818,0.82074320459334982,0.88919858114310024,0.9478466823580638,0.93627669979316996]
[null,null,null,null,"Grants & contributions - Capex -Water network plus grants and contributions (non-price control)",null,"£m",null,{"$f":"[1]InpActive!$J426","v":0},{"$f":"[1]InpActive!$K426","v":0},{"$f":"[1]InpActive!$L426","v":0},{"$f":"[1]InpActive!$M426","v":0},{"$f":"[1]InpActive!$N426","v":0},{"$f":"[1]InpActive!$O426","v":0},{"$f":"[1]InpActive!$P426","v":0},0,null,null,{"$f":"[2]InpActive!$J458","v":0},{"$f":"[2]InpActive!$K458","v":0},{"$f":"[2]InpActive!$L458","v":0},{"$f":"[2]InpActive!$M458","v":0},{"$f":"[2]InpActive!$N458","v":0},{"$f":"[2]InpActive!$O458","v":0},{"$f":"[2]InpActive!$P458","v":0},0,null,null,{"$f":"ROUND(I322 - S322, 3)","v":0},{"$f":"ROUND(J322 - T322, 3)","v":0},{"$f":"ROUND(K322 - U322, 3)","v":0},{"$f":"ROUND(L322 - V322, 3)","v":0},{"$f":"ROUND(M322 - W322, 3)","v":0},{"$f":"ROUND(N322 - X322, 3)","v":0},{"$f":"ROUND(O322 - Y322, 3)","v":0}]
[null,null,null,null,"Grants & contributions - Opex - Water network plus grants and contributions (price control)",null,"£m",null,{"$f":"[1]InpActive!$J429","v":0},{"$f":"[1]InpActive!$K429","v":0},{"$f":"[1]InpActive!$L429","v":0},{"$f":"[1]InpActive!$M429","v":0},{"$f":"[1]InpActive!$N429","v":0},{"$f":"[1]InpActive!$O429","v":0},{"$f":"[1]InpActive!$P429","v":0},0,null,null,{"$f":"[2]InpActive!$J461","v":0},{"$f":"[2]InpActive!$K461","v":0},{"$f":"[2]InpActive!$L461","v":0},{"$f":"[2]InpActive!$M461","v":0},{"$f":"[2]InpActive!$N461","v":0},{"$f":"[2]InpActive!$O461","v":0},{"$f":"[2]InpActive!$P461","v":0},0,null,null,0,0,0,0,0,0,0]
[null,null,null,null,"Grants & contributions - Opex - Water network plus grants and contributions (non-price control)",null,"£m",null,{"$f":"[1]InpActive!$J430","v":0},{"$f":"[1]InpActive!$K430","v":0},{"$f":"[1]InpActive!$L430","v":0},{"$f":"[1]InpActive!$M430","v":0},{"$f":"[1]InpActive!$N430","v":0},{"$f":"[1]InpActive!$O430","v":0},{"$f":"[1]InpActive!$P430","v":0},0,null,null,{"$f":"[2]InpActive!$J462","v":0},{"$f":"[2]InpActive!$K462","v":0},{"$f":"[2]InpActive!$L462","v":0.26220250238302301},{"$f":"[2]InpActive!$M462","v":0.26217257364461899},{"$f":"[2]InpActive!$N462","v":0.26241221721333902},{"$f":"[2]InpActive!$O462","v":0.26259356768810999},{"$f":"[2]InpActive!$P462","v":0.26271438955630599},0.26241905009707939,null,null,0,0,-0.26200000000000001,-0.26200000000000001,-0.26200000000000001,-0.26300000000000001,-0.26300000000000001]
[null,null,null,null,"Gross Totex",null,"£m",null,{"$f":" SUM(I319:I324)","v":231.25833999999998},{"$f":" SUM(J319:J324)","v":209.8196772},{"$f":" SUM(K319:K324)","v":490.33923789518707},{"$f":" SUM(L319:L324)","v":576.53686386627692},{"$f":" SUM(M319:M324)","v":621.39467395858776},{"$f":" SUM(N319:N324)","v":616.5468812032201},{"$f":" SUM(O319:O324)","v":488.07297155143613},null,{"$f":"SUM(K319:O320)-SUM(K321:O324)","v":2411.7577960652916},null,{"$f":" SUM(S319:S324)","v":0},{"$f":" SUM(T319:T324)","v":0},{"$f":" SUM(U319:U324)","v":393.4700576877587},{"$f":" SUM(V319:V324)","v":466.62903767966463},{"$f":" SUM(W319:W324)","v":484.99109592834805},{"$f":" SUM(X319:X324)","v":454.48730762265302},{"$f":" SUM(Y319:Y324)","v":382.05680214199782},null,{"$f":"SUM(U319:Y320)-SUM(U321:Y324)","v":1970.5563693637498},null,231.25800000000001,209.82,96.869,109.908,136.404,162.06,106.01600000000001]
[null,null,null,null,null,null,null,null,null,null,{"$f":"SUM(K319,-K323,-K324)","v":225.74501528899998},{"$f":"SUM(L319,-L323,-L324)","v":226.13227904899998},227.88862548499998,229.10522927399998,221.60406317299999,{"$f":"SUM(K326:O326)","v":1130.4752122699997},null,null,null,null,{"$f":"SUM(U319,-U323,-U324)","v":195.67966933992798},{"$f":"SUM(V319,-V323,-V324)","v":199.15559427969038},202.02162723440364,202.8459215787139,198.52745093420671,{"$f":"SUM(U326:Y326)","v":998.23026336694249}]
[null,null,null,null,null,null,null,null,null,null,{"$f":"SUM(K320,-K322,-K321)","v":196.58177739381296},{"$f":"SUM(L320,-L322,-L321)","v":269.72541518272305},313.4939515264121,308.61034807077982,192.87109162156389,{"$f":"SUM(K327:O327)","v":1281.2825837952919},null,null,null,null,{"$f":"SUM(U320,-U322,-U321)","v":153.95685583517542},{"$f":"SUM(V320,-V322,-V321)","v":222.63803993814301},240.09190011592429,210.64551866672511,144.99379144083952,{"$f":"SUM(U327:Y327)","v":972.32610599680743}]
[]
[null,null,"Wastewater totex"]
[null,null,null,null,"Wastewater network operating expenditure (amount for totex CR) (post override) - WWN - real",null,"£m",null,{"$f":"[1]InpActive!$J627","v":0},{"$f":"[1]InpActive!$K627","v":0},{"$f":"[1]InpActive!$L627","v":217.57362382700001},{"$f":"[1]InpActive!$M627","v":217.99280630500002},{"$f":"[1]InpActive!$N627","v":221.411338403},{"$f":"[1]InpActive!$O627","v":214.48318295199994},{"$f":"[1]InpActive!$P627","v":210.05435536300001},{"$f":"AVERAGE(K330:O330)","v":216.30306136999997},null,null,{"$f":"[2]InpActive!$J675","v":0},{"$f":"[2]InpActive!$K675","v":0},{"$f":"[2]InpActive!$L675","v":179.78597633653601},{"$f":"[2]InpActive!$M675","v":182.55228017034599},{"$f":"[2]InpActive!$N675","v":184.34499732757101},{"$f":"[2]InpActive!$O675","v":184.509088646344},{"$f":"[2]InpActive!$P675","v":187.19002393665801},{"$f":"AVERAGE(U330:Y330)","v":183.67647328349102},null,null,{"$f":"ROUND(I330 - S330, 3)","v":0},0,37.787999999999997,35.441000000000003,37.066000000000003,29.974,22.864000000000001,null,null,null,0,0,0.21018324548999176,0.19414164516010837,0.20106865137292412,0.16245270203167267,0.1221432612655512]
[null,null,null,null,"Total gross capital expenditure - WWN - real",null,"£m",null,{"$f":"[1]InpActive!$J628","v":208.40454404969987},{"$f":"[1]InpActive!$K628","v":347.51014705196133},{"$f":"[1]InpActive!$L628","v":257.23644576632057},{"$f":"[1]InpActive!$M628","v":359.60856018752054},{"$f":"[1]InpActive!$N628","v":363.09426794820621},{"$f":"[1]InpActive!$O628","v":491.47465689528036},{"$f":"[1]InpActive!$P628","v":405.25938425484401},375.33466301043433,null,null,{"$f":"[2]InpActive!$J676","v":0},{"$f":"[2]InpActive!$K676","v":0},{"$f":"[2]InpActive!$L676","v":215.81744438887301},{"$f":"[2]InpActive!$M676","v":365.65995759652202},{"$f":"[2]InpActive!$N676","v":345.82806547633402},{"$f":"[2]InpActive!$O676","v":376.63070796693},{"$f":"[2]InpActive!$P676","v":296.61643055030299},320.11052119579244,null,null,208.405,347.51,41.418999999999997,-6.0510000000000002,17.265999999999998,114.84399999999999,108.643,null,null,null,0,0,0.19191683099244156,-1.6548161411419345E-2,4.9926543631495859E-2,0.3049246850314814,0.36627438270509194]
[null,null,null,null,"Grants & contributions - Capex -Wastewater network plus grants and contributions (price control)",null,"£m",null,{"$f":"[1]InpActive!$J630","v":0},{"$f":"[1]InpActive!$K630","v":17.057827858588045},{"$f":"[1]InpActive!$L630","v":25.709940023666167},{"$f":"[1]InpActive!$M630","v":27.328955008167028},{"$f":"[1]InpActive!$N630","v":26.982976243770757},{"$f":"[1]InpActive!$O630","v":30.257934878096744},{"$f":"[1]InpActive!$P630","v":33.74277344696312},28.804515920132765,null,null,{"$f":"[2]InpActive!$J678","v":0},{"$f":"[2]InpActive!$K678","v":0},{"$f":"[2]InpActive!$L678","v":26.015181978919301},{"$f":"[2]InpActive!$M678","v":21.612452373219},{"$f":"[2]InpActive!$N678","v":16.3242237431955},{"$f":"[2]InpActive!$O678","v":26.6081859305412},{"$f":"[2]InpActive!$P678","v":41.224328766942897},26.356874558563579,null,null,0,17.058,-0.30499999999999999,5.7169999999999996,10.659000000000001,3.65,-7.4820000000000002,null,null,null,0,0,-1.1723923370866616E-2,0.26452342849736948,0.65295600989560321,0.13717583038272765,-0.18149476835144229]
[null,null,null,null,"Grants & contributions - Capex -Wastewater network plus grants and contributions (non-price control)",null,"£m",null,{"$f":"[1]InpActive!$J631","v":0},{"$f":"[1]InpActive!$K631","v":1.0273232358081881},{"$f":"[1]InpActive!$L631","v":1.4134509616620099},{"$f":"[1]InpActive!$M631","v":1.5587700855505737},{"$f":"[1]InpActive!$N631","v":1.6017027420514902},{"$f":"[1]InpActive!$O631","v":1.5912160480596751},{"$f":"[1]InpActive!$P631","v":1.4998430801782134},1.5329965835003923,null,null,{"$f":"[2]InpActive!$J679","v":0},{"$f":"[2]InpActive!$K679","v":0},{"$f":"[2]InpActive!$L679","v":1.4134509616620099},{"$f":"[2]InpActive!$M679","v":1.55877008555057},{"$f":"[2]InpActive!$N679","v":1.60170274205149},{"$f":"[2]InpActive!$O679","v":1.59121604805968},{"$f":"[2]InpActive!$P679","v":1.4998430801782101},1.532996583500392,null,null,{"$f":"ROUND(I333 - S333, 3)","v":0},{"$f":"ROUND(J333 - T333, 3)","v":1.0269999999999999},{"$f":"ROUND(K333 - U333, 3)","v":0},{"$f":"ROUND(L333 - V333, 3)","v":0},{"$f":"ROUND(M333 - W333, 3)","v":0},{"$f":"ROUND(N333 - X333, 3)","v":0},{"$f":"ROUND(O333 - Y333, 3)","v":0}]
[null,null,null,null,"Grants & contributions - Opex - Wastewater network plus grants and contributions (price control)",null,"£m",null,{"$f":"[1]InpActive!$J634","v":0},{"$f":"[1]InpActive!$K634","v":0},{"$f":"[1]InpActive!$L634","v":0},{"$f":"[1]InpActive!$M634","v":0},{"$f":"[1]InpActive!$N634","v":0},{"$f":"[1]InpActive!$O634","v":0},{"$f":"[1]InpActive!$P634","v":0},0,null,null,{"$f":"[2]InpActive!$J682","v":0},{"$f":"[2]InpActive!$K682","v":0},{"$f":"[2]InpActive!$L682","v":0},{"$f":"[2]InpActive!$M682","v":0},{"$f":"[2]InpActive!$N682","v":0},{"$f":"[2]InpActive!$O682","v":0},{"$f":"[2]InpActive!$P682","v":0},0,null,null,0,0,0,0,0,0,0]
[null,null,null,null,"Grants & contributions - Opex - Wastewater network plus grants and contributions (non-price control)",null,"£m",null,{"$f":"[1]InpActive!$J635","v":0},{"$f":"[1]InpActive!$K635","v":0},{"$f":"[1]InpActive!$L635","v":0},{"$f":"[1]InpActive!$M635","v":0},{"$f":"[1]InpActive!$N635","v":0},{"$f":"[1]InpActive!$O635","v":0},{"$f":"[1]InpActive!$P635","v":0},0,null,null,{"$f":"[2]InpActive!$J683","v":0},{"$f":"[2]InpActive!$K683","v":0},{"$f":"[2]InpActive!$L683","v":0},{"$f":"[2]InpActive!$M683","v":0},{"$f":"[2]InpActive!$N683","v":0},{"$f":"[2]InpActive!$O683","v":0},{"$f":"[2]InpActive!$P683","v":0},0,null,null,0,0,0,0,0,0,0]
[null,null,null,null,"Gross Totex",null,"£m",null,{"$f":" SUM(I330:I335)","v":208.40454404969987},{"$f":" SUM(J330:J335)","v":365.59529814635755},{"$f":" SUM(K330:K335)","v":501.93346057864875},{"$f":" SUM(L330:L335)","v":606.48909158623815},{"$f":" SUM(M330:M335)","v":613.09028533702849},{"$f":" SUM(N330:N335)","v":737.80699077343672},{"$f":" SUM(O330:O335)","v":650.55635614498544},null,{"$f":"SUM(K330:O331)-SUM(K332:O335)","v":2806.5010593840066},null,{"$f":" SUM(S330:S335)","v":0},{"$f":" SUM(T330:T335)","v":0},{"$f":" SUM(U330:U335)","v":423.03205366599036},{"$f":" SUM(V330:V335)","v":571.38346022563758},{"$f":" SUM(W330:W335)","v":548.09898928915209},{"$f":" SUM(X330:X335)","v":589.33919859187495},{"$f":" SUM(Y330:Y335)","v":526.53062633408217},null,{"$f":"SUM(U330:Y331)-SUM(U332:Y335)","v":2379.4856166860973}]
[null,null,null,null,null,null,null,null,null,null,{"$f":"SUM(K330,-K334,-K335)","v":217.57362382700001},{"$f":"SUM(L330,-L334,-L335)","v":217.99280630500002},221.411338403,214.48318295199994,210.05435536300001,{"$f":"SUM(K337:O337)","v":1081.5153068499999},null,null,null,null,{"$f":"SUM(U330,-U334,-U335)","v":179.78597633653601},{"$f":"SUM(V330,-V334,-V335)","v":182.55228017034599},184.34499732757101,184.509088646344,187.19002393665801,{"$f":"SUM(U337:Y337)","v":918.38236641745505}]
[null,null,null,null,null,null,null,null,null,null,{"$f":"SUM(K331,-K333,-K332)","v":230.11305478099237},{"$f":"SUM(L331,-L333,-L332)","v":330.72083509380292},334.50958896238399,459.62550596912394,370.0167677277027,{"$f":"SUM(K338:O338)","v":1724.985752534006},null,null,null,null,{"$f":"SUM(U331,-U333,-U332)","v":188.38881144829168},{"$f":"SUM(V331,-V333,-V332)","v":342.48873513775243},327.90213899108704,348.43130598832914,253.89225870318188,{"$f":"SUM(U338:Y338)","v":1461.1032502686421}]
[]
[null,null,"Bio resources totex"]
[null,null,null,null,"Bio resources operating expenditure (amount for totex CR) (post override) - real",null,"£m",null,{"$f":"[1]InpActive!$J823","v":61.429860000000005},{"$f":"[1]InpActive!$K823","v":63.311532399999997},{"$f":"[1]InpActive!$L823","v":79.556761988999995},{"$f":"[1]InpActive!$M823","v":80.706357622999988},{"$f":"[1]InpActive!$N823","v":78.318493185999998},{"$f":"[1]InpActive!$O823","v":77.276534411000014},{"$f":"[1]InpActive!$P823","v":75.570564302999998},{"$f":"AVERAGE(K341:O341)","v":78.285742302399996},null,null,{"$f":"[2]InpActive!$J887","v":0},{"$f":"[2]InpActive!$K887","v":0},{"$f":"[2]InpActive!$L887","v":66.587460545829501},{"$f":"[2]InpActive!$M887","v":65.348993002388497},{"$f":"[2]InpActive!$N887","v":64.970330605301896},{"$f":"[2]InpActive!$O887","v":64.942011295138897},{"$f":"[2]InpActive!$P887","v":64.781390987834001},{"$f":"AVERAGE(U341:Y341)","v":65.326037287298561},null,null,{"$f":"ROUND(I341 - S341, 3)","v":61.43},63.311999999999998,12.968999999999999,15.356999999999999,13.348000000000001,12.335000000000001,10.789,null,null,null,0,0,0.19476640036563569,0.2349997956271293,0.20544762317879814,0.18993868150990439,0.16654474125179225]
[null,null,null,null,"Total gross capital expenditure - BR - real",null,"£m",null,{"$f":"[1]InpActive!$J824","v":16.616826254335901},{"$f":"[1]InpActive!$K824","v":10.39231416},{"$f":"[1]InpActive!$L824","v":20.611295184253716},{"$f":"[1]InpActive!$M824","v":23.787957575153552},{"$f":"[1]InpActive!$N824","v":20.409835262940238},{"$f":"[1]InpActive!$O824","v":14.151055927534632},{"$f":"[1]InpActive!$P824","v":20.712859479489062},19.934600685874237,null,null,{"$f":"[2]InpActive!$J888","v":0},{"$f":"[2]InpActive!$K888","v":0},{"$f":"[2]InpActive!$L888","v":12.999463271159501},{"$f":"[2]InpActive!$M888","v":17.381082446528598},{"$f":"[2]InpActive!$N888","v":13.5209941650432},{"$f":"[2]InpActive!$O888","v":9.7598417843216403},{"$f":"[2]InpActive!$P888","v":10.8475286971856},12.901782072847706,null,null,16.617000000000001,10.391999999999999,7.6120000000000001,6.407,6.8890000000000002,4.391,9.8650000000000002,null,null,null,0,0,0.58556263756580773,0.36861915934813516,0.50950395480612132,0.44990483422116223,0.90942372916325931]
[null,null,null,null,"Grants & contributions - Capex -Bioresources grants and contributions (price control)",null,"£m",null,{"$f":"[1]InpActive!$J826","v":0},{"$f":"[1]InpActive!$K826","v":0},{"$f":"[1]InpActive!$L826","v":0},{"$f":"[1]InpActive!$M826","v":0},{"$f":"[1]InpActive!$N826","v":0},{"$f":"[1]InpActive!$O826","v":0},{"$f":"[1]InpActive!$P826","v":0},0,null,null,{"$f":"[2]InpActive!$J890","v":0},{"$f":"[2]InpActive!$K890","v":0},{"$f":"[2]InpActive!$L890","v":0},{"$f":"[2]InpActive!$M890","v":0},{"$f":"[2]InpActive!$N890","v":0},{"$f":"[2]InpActive!$O890","v":0},{"$f":"[2]InpActive!$P890","v":0},0,null,null,0,0,0,0,0,0,0,null,null,null,0,0,0,0,0,0,0]
[null,null,null,null,"Grants & contributions - Capex -Bioresources grants and contributions (non-price control)",null,"£m",null,{"$f":"[1]InpActive!$J827","v":0},{"$f":"[1]InpActive!$K827","v":0},{"$f":"[1]InpActive!$L827","v":0},{"$f":"[1]InpActive!$M827","v":0},{"$f":"[1]InpActive!$N827","v":0},{"$f":"[1]InpActive!$O827","v":0},{"$f":"[1]InpActive!$P827","v":0},0,null,null,{"$f":"[2]InpActive!$J891","v":0},{"$f":"[2]InpActive!$K891","v":0},{"$f":"[2]InpActive!$L891","v":0},{"$f":"[2]InpActive!$M891","v":0},{"$f":"[2]InpActive!$N891","v":0},{"$f":"[2]InpActive!$O891","v":0},{"$f":"[2]InpActive!$P891","v":0},0,null,null,{"$f":"ROUND(I344 - S344, 3)","v":0},{"$f":"ROUND(J344 - T344, 3)","v":0},{"$f":"ROUND(K344 - U344, 3)","v":0},{"$f":"ROUND(L344 - V344, 3)","v":0},{"$f":"ROUND(M344 - W344, 3)","v":0},{"$f":"ROUND(N344 - X344, 3)","v":0},{"$f":"ROUND(O344 - Y344, 3)","v":0}]
[null,null,null,null,"Grants & contributions - Opex - Bioresources grants and contributions (price control)",null,"£m",null,{"$f":"[1]InpActive!$J830","v":0},{"$f":"[1]InpActive!$K830","v":0},{"$f":"[1]InpActive!$L830","v":0},{"$f":"[1]InpActive!$M830","v":0},{"$f":"[1]InpActive!$N830","v":0},{"$f":"[1]InpActive!$O830","v":0},{"$f":"[1]InpActive!$P830","v":0},0,null,null,{"$f":"[2]InpActive!$J894","v":0},{"$f":"[2]InpActive!$K894","v":0},{"$f":"[2]InpActive!$L894","v":0},{"$f":"[2]InpActive!$M894","v":0},{"$f":"[2]InpActive!$N894","v":0},{"$f":"[2]InpActive!$O894","v":0},{"$f":"[2]InpActive!$P894","v":0},0,null,null,0,0,0,0,0,0,0]
[null,null,null,null,"Grants & contributions - Opex - Bioresources grants and contributions (non-price control)",null,"£m",null,{"$f":"[1]InpActive!$J831","v":0},{"$f":"[1]InpActive!$K831","v":0},{"$f":"[1]InpActive!$L831","v":0},{"$f":"[1]InpActive!$M831","v":0},{"$f":"[1]InpActive!$N831","v":0},{"$f":"[1]InpActive!$O831","v":0},{"$f":"[1]InpActive!$P831","v":0},0,null,null,{"$f":"[2]InpActive!$J895","v":0},{"$f":"[2]InpActive!$K895","v":0},{"$f":"[2]InpActive!$L895","v":0},{"$f":"[2]InpActive!$M895","v":0},{"$f":"[2]InpActive!$N895","v":0},{"$f":"[2]InpActive!$O895","v":0},{"$f":"[2]InpActive!$P895","v":0},0,null,null,0,0,0,0,0,0,0]
[null,null,null,null,"Gross Totex",null,"£m",null,{"$f":" SUM(I341:I346)","v":78.04668625433591},{"$f":" SUM(J341:J346)","v":73.703846560000002},{"$f":" SUM(K341:K346)","v":100.16805717325371},{"$f":" SUM(L341:L346)","v":104.49431519815354},{"$f":" SUM(M341:M346)","v":98.728328448940232},{"$f":" SUM(N341:N346)","v":91.427590338534642},{"$f":" SUM(O341:O346)","v":96.283423782489052},null,{"$f":"SUM(K341:O342)-SUM(K343:O346)","v":491.10171494137114},null,{"$f":" SUM(S341:S342)","v":0},{"$f":" SUM(T341:T342)","v":0},79.586923816989,82.730075448917091,78.491324770345102,74.701853079460534,75.628919685019596,null,{"$f":"SUM(U341:Y342)-SUM(U343:Y346)","v":391.13909680073135},null,78.046999999999997,73.703999999999994,20.581,21.763999999999999,20.236999999999998,16.725999999999999,20.655000000000001]
[null,null,null,null,null,null,null,null,null,null,{"$f":"SUM(K341,-K345,-K346)","v":79.556761988999995},{"$f":"SUM(L341,-L345,-L346)","v":80.706357622999988},78.318493185999998,77.276534411000014,75.570564302999998,{"$f":"SUM(K348:O348)","v":391.42871151199995},null,null,null,null,{"$f":"SUM(U341,-U345,-U346)","v":66.587460545829501},{"$f":"SUM(V341,-V345,-V346)","v":65.348993002388497},64.970330605301896,64.942011295138897,64.781390987834001,{"$f":"SUM(U348:Y348)","v":326.63018643649281}]
[null,null,null,null,null,null,null,null,null,null,{"$f":"SUM(K342,-K344,-K343)","v":20.611295184253716},{"$f":"SUM(L342,-L344,-L343)","v":23.787957575153552},20.409835262940238,14.151055927534632,20.712859479489062,{"$f":"SUM(K349:O349)","v":99.673003429371192},null,null,null,null,{"$f":"SUM(U342,-U344,-U343)","v":12.999463271159501},{"$f":"SUM(V342,-V344,-V343)","v":17.381082446528598},13.5209941650432,9.7598417843216403,10.8475286971856,{"$f":"SUM(U349:Y349)","v":64.508910364238531}]
[]
[null,null,"Dummy control totex"]
[null,null,null,null,"Dummy control operating expenditure (amount for totex CR) (post override) - real",null,{"$f":"[1]InpActive!G982","v":"£m"},null,{"$f":"[1]InpActive!$J1021","v":0},{"$f":"[1]InpActive!$K1021","v":0},{"$f":"[1]InpActive!$L1021","v":0},{"$f":"[1]InpActive!$M1021","v":0},{"$f":"[1]InpActive!$N1021","v":0},{"$f":"[1]InpActive!$O1021","v":0},{"$f":"[1]InpActive!$P1021","v":0},{"$f":"AVERAGE(K352:O352)","v":0},null,null,{"$f":"[2]InpActive!$J1101","v":0},{"$f":"[2]InpActive!$K1101","v":0},{"$f":"[2]InpActive!$L1101","v":0},{"$f":"[2]InpActive!$M1101","v":0},{"$f":"[2]InpActive!$N1101","v":0},{"$f":"[2]InpActive!$O1101","v":0},{"$f":"[2]InpActive!$P1101","v":0},{"$f":"AVERAGE(U352:Y352)","v":0},null,null,{"$f":"ROUND(I352 - S352, 3)","v":0},0,0,0,0,0,0,null,null,null,0,0,0,0,0,0,0]
[null,null,null,null,"Dummy control operating expenditure (amount for totex CR) (post override) - real",null,"£m",null,{"$f":"[1]InpActive!$J1022","v":0},{"$f":"[1]InpActive!$K1022","v":0},{"$f":"[1]InpActive!$L1022","v":0},{"$f":"[1]InpActive!$M1022","v":0},{"$f":"[1]InpActive!$N1022","v":0},{"$f":"[1]InpActive!$O1022","v":0},{"$f":"[1]InpActive!$P1022","v":0},0,null,null,{"$f":"[2]InpActive!$J1102","v":0},{"$f":"[2]InpActive!$K1102","v":0},{"$f":"[2]InpActive!$L1102","v":0},{"$f":"[2]InpActive!$M1102","v":0},{"$f":"[2]InpActive!$N1102","v":0},{"$f":"[2]InpActive!$O1102","v":0},{"$f":"[2]InpActive!$P1102","v":0},0,null,null,0,0,0,0,0,0,0,null,null,null,0,0,0,0,0,0,0]
[null,null,null,null,"Grants & contributions - Capex -Dummy grants and contributions (price control)",null,{"$f":"[1]InpActive!G984","v":"£m"},null,{"$f":"[1]InpActive!$J1024","v":0},{"$f":"[1]InpActive!$K1024","v":0},{"$f":"[1]InpActive!$L1024","v":0},{"$f":"[1]InpActive!$M1024","v":0},{"$f":"[1]InpActive!$N1024","v":0},{"$f":"[1]InpActive!$O1024","v":0},{"$f":"[1]InpActive!$P1024","v":0},0,null,null,{"$f":"[2]InpActive!$J1104","v":0},{"$f":"[2]InpActive!$K1104","v":0},{"$f":"[2]InpActive!$L1104","v":0},{"$f":"[2]InpActive!$M1104","v":0},{"$f":"[2]InpActive!$N1104","v":0},{"$f":"[2]InpActive!$O1104","v":0},{"$f":"[2]InpActive!$P1104","v":0},0,null,null,0,0,0,0,0,0,0,null,null,null,0,0,0,0,0,0,0]
[null,null,null,null,"Grants & contributions - Capex -Dummy grants and contributions (non-price control)",null,"£m",null,{"$f":"[1]InpActive!$J1025","v":0},{"$f":"[1]InpActive!$K1025","v":0},{"$f":"[1]InpActive!$L1025","v":0},{"$f":"[1]InpActive!$M1025","v":0},{"$f":"[1]InpActive!$N1025","v":0},{"$f":"[1]InpActive!$O1025","v":0},{"$f":"[1]InpActive!$P1025","v":0},0,null,null,{"$f":"[2]InpActive!$J1105","v":0},{"$f":"[2]InpActive!$K1105","v":0},{"$f":"[2]InpActive!$L1105","v":0},{"$f":"[2]InpActive!$M1105","v":0},{"$f":"[2]InpActive!$N1105","v":0},{"$f":"[2]InpActive!$O1105","v":0},{"$f":"[2]InpActive!$P1105","v":0},0,null,null,{"$f":"ROUND(I355 - S355, 3)","v":0},{"$f":"ROUND(J355 - T355, 3)","v":0},{"$f":"ROUND(K355 - U355, 3)","v":0},{"$f":"ROUND(L355 - V355, 3)","v":0},{"$f":"ROUND(M355 - W355, 3)","v":0},{"$f":"ROUND(N355 - X355, 3)","v":0},{"$f":"ROUND(O355 - Y355, 3)","v":0}]
[null,null,null,null,"Grants & contributions - Opex - Dummy grants and contributions (price control)",null,"£m",null,{"$f":"[1]InpActive!$J1028","v":0},{"$f":"[1]InpActive!$K1028","v":0},{"$f":"[1]InpActive!$L1028","v":0},{"$f":"[1]InpActive!$M1028","v":0},{"$f":"[1]InpActive!$N1028","v":0},{"$f":"[1]InpActive!$O1028","v":0},{"$f":"[1]InpActive!$P1028","v":0},0,null,null,{"$f":"[2]InpActive!$J1108","v":0},{"$f":"[2]InpActive!$K1108","v":0},{"$f":"[2]InpActive!$L1108","v":0},{"$f":"[2]InpActive!$M1108","v":0},{"$f":"[2]InpActive!$N1108","v":0},{"$f":"[2]InpActive!$O1108","v":0},{"$f":"[2]InpActive!$P1108","v":0},0,null,null,0,0,0,0,0,0,0]
[null,null,null,null,"Grants & contributions - Opex - Dummy grants and contributions (non-price control)",null,"£m",null,{"$f":"[1]InpActive!$J1029","v":0},{"$f":"[1]InpActive!$K1029","v":0},{"$f":"[1]InpActive!$L1029","v":0},{"$f":"[1]InpActive!$M1029","v":0},{"$f":"[1]InpActive!$N1029","v":0},{"$f":"[1]InpActive!$O1029","v":0},{"$f":"[1]InpActive!$P1029","v":0},0,null,null,{"$f":"[2]InpActive!$J1109","v":0},{"$f":"[2]InpActive!$K1109","v":0},{"$f":"[2]InpActive!$L1109","v":0},{"$f":"[2]InpActive!$M1109","v":0},{"$f":"[2]InpActive!$N1109","v":0},{"$f":"[2]InpActive!$O1109","v":0},{"$f":"[2]InpActive!$P1109","v":0},0,null,null,0,0,0,0,0,0,0]
[null,null,null,null,"Gross Totex",null,"£m",null,{"$f":" SUM(I352:I357)","v":0},{"$f":" SUM(J352:J357)","v":0},{"$f":" SUM(K352:K357)","v":0},{"$f":" SUM(L352:L357)","v":0},{"$f":" SUM(M352:M357)","v":0},{"$f":" SUM(N352:N357)","v":0},{"$f":" SUM(O352:O357)","v":0},null,null,null,{"$f":" SUM(S352:S357)","v":0},{"$f":" SUM(T352:T357)","v":0},{"$f":" SUM(U352:U357)","v":0},{"$f":" SUM(V352:V357)","v":0},{"$f":" SUM(W352:W357)","v":0},{"$f":" SUM(X352:X357)","v":0},{"$f":" SUM(Y352:Y357)","v":0},null,null,null,0,0,0,0,0,0,0]
[]
[]
[]
["RCV opening balance"]
[]
[null,null,null,null,"Water resources RCV ~ 1 April 2020 + Water resources IFRS16 RCV adjustment - real",0,"£m",null,null,{"$f":"[1]InpActive!$K$1615","v":193.41842661461493},null,null,null,null,null,null,null,null,null,{"$f":"[2]InpActive!$K$1697","v":0},null,null,null,null,null,null,null,null,null,{"$f":"ROUND(J364 - T364, 3)","v":193.41800000000001},null,null,null,null,null,null,null,null,null,{"$f":"IF(T364 = 0, 0, AD364 / T364)","v":0}]
[null,null,null,null,"Water network plus RCV ~ 1 April 2020 + Water network plus IFRS16 RCV adjustment",0,"£m",null,null,{"$f":"[1]InpActive!$K$1650","v":2728.9655862370309},null,null,null,null,null,null,null,null,null,{"$f":"[2]InpActive!$K$1732","v":0},null,null,null,null,null,null,null,null,null,{"$f":"ROUND(J365 - T365, 3)","v":2728.9659999999999},null,null,null,null,null,null,null,null,null,{"$f":"IF(T365 = 0, 0, AD365 / T365)","v":0}]
[null,null,null,null,"Wastewater Network RCV ~ 1 April 2020 - real",0,"£m",null,null,{"$f":"[1]InpActive!$K$1685","v":4377.5314694328772},null,null,null,null,null,null,null,null,null,{"$f":"[2]InpActive!$K$1767","v":0},null,null,null,null,null,null,null,null,null,{"$f":"ROUND(J366 - T366, 3)","v":4377.5309999999999},null,null,null,null,null,null,null,null,null,0]
[null,null,null,null,"Bioresources RCV ~ 1 April 2020",0,"£m",null,null,{"$f":"[1]InpActive!$K$1718","v":320.53024851308567},null,null,null,null,null,null,null,null,null,{"$f":"[2]InpActive!$K$1800","v":0},null,null,null,null,null,null,null,null,null,{"$f":"ROUND(J367 - T367, 3)","v":320.52999999999997},null,null,null,null,null,null,null,null,null,0]
[null,null,null,null,"Dummy RCV ~ 1 April 2020",0,"£m",null,null,{"$f":"[1]InpActive!$K$1750","v":0},null,null,null,null,null,null,null,null,null,{"$f":"[2]InpActive!$K$1832","v":0},null,null,null,null,null,null,null,null,null,{"$f":"ROUND(J368 - T368, 3)","v":0},null,null,null,null,null,null,null,null,null,0]
[]
["Post-financeability adjustments"]
[]
[null,null,"Water: Post-financeability adjustments"]
[null,null,null,null,"Water resources - End of Period ODIs (+ or -) Value Chosen - active - real",0,"£m",null,{"$f":"[1]InpActive!$J200","v":0},{"$f":"[1]InpActive!$K200","v":0},{"$f":"[1]InpActive!$L200","v":0},{"$f":"[1]InpActive!$M200","v":0},{"$f":"[1]InpActive!$N200","v":0},{"$f":"[1]InpActive!$O200","v":0},{"$f":"[1]InpActive!$P200","v":0},{"$f":"AVERAGE(K373:O373)","v":0},null,null,{"$f":"[2]InpActive!$J200","v":0},{"$f":"[2]InpActive!$K200","v":0},{"$f":"[2]InpActive!$L200","v":0},{"$f":"[2]InpActive!$M200","v":0},{"$f":"[2]InpActive!$N200","v":0},{"$f":"[2]InpActive!$O200","v":0},{"$f":"[2]InpActive!$P200","v":0},{"$f":"AVERAGE(U373:Y373)","v":0},null,null,{"$f":"ROUND(I373 - S373, 3)","v":0},0,0,0,0,0,0,null,null,null,{"$f":"IF(S373 = 0, 0, AC373 / S373)","v":0},{"$f":"IF(T373 = 0, 0, AD373 / T373)","v":0},{"$f":"IF(U373 = 0, 0, AE373 / U373)","v":0},{"$f":"IF(V373 = 0, 0, AF373 / V373)","v":0},{"$f":"IF(W373 = 0, 0, AG373 / W373)","v":0},{"$f":"IF(X373 = 0, 0, AH373 / X373)","v":0},{"$f":"IF(Y373 = 0, 0, AI373 / Y373)","v":0}]
[null,null,null,null,"Water resources - In period ODIs (+ or -) Value Chosen - active - real",0,"£m",null,{"$f":"[1]InpActive!$J201","v":0},{"$f":"[1]InpActive!$K201","v":0},{"$f":"[1]InpActive!$L201","v":0},{"$f":"[1]InpActive!$M201","v":0},{"$f":"[1]InpActive!$N201","v":0},{"$f":"[1]InpActive!$O201","v":0},{"$f":"[1]InpActive!$P201","v":0},0,null,null,{"$f":"[2]InpActive!$J201","v":0},{"$f":"[2]InpActive!$K201","v":0},{"$f":"[2]InpActive!$L201","v":0},{"$f":"[2]InpActive!$M201","v":0},{"$f":"[2]InpActive!$N201","v":0},{"$f":"[2]InpActive!$O201","v":0},{"$f":"[2]InpActive!$P201","v":0},0,null,null,0,0,0,0,0,0,0,null,null,null,0,0,0,0,0,0,0]
[null,null,null,null,"Water resources - Totex (+ or -) Value Chosen - active - real",0,"£m",null,{"$f":"[1]InpActive!$J202","v":0},{"$f":"[1]InpActive!$K202","v":0},{"$f":"[1]InpActive!$L202","v":0},{"$f":"[1]InpActive!$M202","v":0},{"$f":"[1]InpActive!$N202","v":0},{"$f":"[1]InpActive!$O202","v":0},{"$f":"[1]InpActive!$P202","v":0},0,null,null,{"$f":"[2]InpActive!$J202","v":0},{"$f":"[2]InpActive!$K202","v":0},{"$f":"[2]InpActive!$L202","v":0},{"$f":"[2]InpActive!$M202","v":0},{"$f":"[2]InpActive!$N202","v":0},{"$f":"[2]InpActive!$O202","v":0},{"$f":"[2]InpActive!$P202","v":0},0,null,null,0,0,0,0,0,0,0,null,null,null,0,0,0,0,0,0,0]
[null,null,null,null,"Water resources - WRFIM (+ or -) Value Chosen - active - real",0,"£m",null,{"$f":"[1]InpActive!$J203","v":0},{"$f":"[1]InpActive!$K203","v":0},{"$f":"[1]InpActive!$L203","v":0},{"$f":"[1]InpActive!$M203","v":0},{"$f":"[1]InpActive!$N203","v":0},{"$f":"[1]InpActive!$O203","v":0},{"$f":"[1]InpActive!$P203","v":0},0,null,null,{"$f":"[2]InpActive!$J203","v":0},{"$f":"[2]InpActive!$K203","v":0},{"$f":"[2]InpActive!$L203","v":0},{"$f":"[2]InpActive!$M203","v":0},{"$f":"[2]InpActive!$N203","v":0},{"$f":"[2]InpActive!$O203","v":0},{"$f":"[2]InpActive!$P203","v":0},0,null,null,0,0,0,0,0,0,0,null,null,null,0,0,0,0,0,0,0]
[null,null,null,null,"Water resources - Residential retail mechanism (+ or -) Value Chosen - active - real",0,"£m",null,{"$f":"[1]InpActive!$J204","v":0},{"$f":"[1]InpActive!$K204","v":0},{"$f":"[1]InpActive!$L204","v":0},{"$f":"[1]InpActive!$M204","v":0},{"$f":"[1]InpActive!$N204","v":0},{"$f":"[1]InpActive!$O204","v":0},{"$f":"[1]InpActive!$P204","v":0},0,null,null,{"$f":"[2]InpActive!$J204","v":0},{"$f":"[2]InpActive!$K204","v":0},{"$f":"[2]InpActive!$L204","v":0},{"$f":"[2]InpActive!$M204","v":0},{"$f":"[2]InpActive!$N204","v":0},{"$f":"[2]InpActive!$O204","v":0},{"$f":"[2]InpActive!$P204","v":0},0,null,null,0,0,0,0,0,0,0,null,null,null,0,0,0,0,0,0,0]
[null,null,null,null,"Water resources - Blind year (+ or -) Value Chosen - active - real",0,"£m",null,{"$f":"[1]InpActive!$J205","v":0},{"$f":"[1]InpActive!$K205","v":0},{"$f":"[1]InpActive!$L205","v":0},{"$f":"[1]InpActive!$M205","v":0},{"$f":"[1]InpActive!$N205","v":0},{"$f":"[1]InpActive!$O205","v":0},{"$f":"[1]InpActive!$P205","v":0},0,null,null,{"$f":"[2]InpActive!$J205","v":0},{"$f":"[2]InpActive!$K205","v":0},{"$f":"[2]InpActive!$L205","v":0},{"$f":"[2]InpActive!$M205","v":0},{"$f":"[2]InpActive!$N205","v":0},{"$f":"[2]InpActive!$O205","v":0},{"$f":"[2]InpActive!$P205","v":0},0,null,null,0,0,0,0,0,0,0,null,null,null,0,0,0,0,0,0,0]
[null,null,null,null,"Water resources - Water trading incentive (+ or -) Value Chosen - active - real",0,"£m",null,{"$f":"[1]InpActive!$J206","v":0},{"$f":"[1]InpActive!$K206","v":0},{"$f":"[1]InpActive!$L206","v":0},{"$f":"[1]InpActive!$M206","v":0},{"$f":"[1]InpActive!$N206","v":0},{"$f":"[1]InpActive!$O206","v":0},{"$f":"[1]InpActive!$P206","v":0},0,null,null,{"$f":"[2]InpActive!$J206","v":0},{"$f":"[2]InpActive!$K206","v":0},{"$f":"[2]InpActive!$L206","v":0},{"$f":"[2]InpActive!$M206","v":0},{"$f":"[2]InpActive!$N206","v":0},{"$f":"[2]InpActive!$O206","v":0},{"$f":"[2]InpActive!$P206","v":0},0,null,null,0,0,0,0,0,0,0,null,null,null,0,0,0,0,0,0,0]
[null,null,null,null,"Water resources - Other revenue adjustments (+ or -) Value Chosen - active - real",0,"£m",null,null,null,null,null,null,null,null,null,null,null,{"$f":"[2]InpActive!$J207","v":0},{"$f":"[2]InpActive!$K207","v":0},{"$f":"[2]InpActive!$L207","v":0},{"$f":"[2]InpActive!$M207","v":0},{"$f":"[2]InpActive!$N207","v":0},{"$f":"[2]InpActive!$O207","v":0},{"$f":"[2]InpActive!$P207","v":0},{"$f":"AVERAGE(U380:Y380)","v":0}]
[null,null,null,null,"Water resources - Innovation funding(+ or -) Value Chosen - active - real",0,"£m",null,null,null,null,null,null,null,null,null,null,null,{"$f":"[2]InpActive!$J208","v":0},{"$f":"[2]InpActive!$K208","v":0},{"$f":"[2]InpActive!$L208","v":0},{"$f":"[2]InpActive!$M208","v":0},{"$f":"[2]InpActive!$N208","v":0},{"$f":"[2]InpActive!$O208","v":0},{"$f":"[2]InpActive!$P208","v":0},0]
[]
[null,null,"Water network: Post-financeability adjustments"]
[null,null,null,null,"Water network - End of Period ODIs (+ or -) Value Chosen - active - real",0,"£m",null,{"$f":"[1]InpActive!$J403","v":0},{"$f":"[1]InpActive!$K403","v":0},{"$f":"[1]InpActive!$L403","v":4.4818024720656169},{"$f":"[1]InpActive!$M403","v":12.8479422577892},{"$f":"[1]InpActive!$N403","v":4.4818024720656169},{"$f":"[1]InpActive!$O403","v":0},{"$f":"[1]InpActive!$P403","v":0},{"$f":"AVERAGE(K384:O384)","v":4.3623094403840863},null,null,{"$f":"[2]InpActive!$J419","v":0},{"$f":"[2]InpActive!$K419","v":0},{"$f":"[2]InpActive!$L419","v":4.5308709909967799},{"$f":"[2]InpActive!$M419","v":12.964031013769899},{"$f":"[2]InpActive!$N419","v":4.5308709909967799},{"$f":"[2]InpActive!$O419","v":0},{"$f":"[2]InpActive!$P419","v":0},{"$f":"AVERAGE(U384:Y384)","v":4.4051545991526924},null,null,{"$f":"ROUND(I384 - S384, 3)","v":0},0,-4.9000000000000002E-2,-0.11600000000000001,-4.9000000000000002E-2,0,0,null,null,null,0,0,-1.0814697681167065E-2,-8.9478341942247144E-3,-1.0814697681167065E-2,0,0]
[null,null,null,null,"Water network - In period ODIs (+ or -) Value Chosen - active - real",0,"£m",null,{"$f":"[1]InpActive!$J404","v":0},{"$f":"[1]InpActive!$K404","v":0},{"$f":"[1]InpActive!$L404","v":0.50035297487834218},{"$f":"[1]InpActive!$M404","v":1.434357308207552},{"$f":"[1]InpActive!$N404","v":0.50035297487834218},{"$f":"[1]InpActive!$O404","v":0},{"$f":"[1]InpActive!$P404","v":0},0.48701265159284723,null,null,{"$f":"[2]InpActive!$J420","v":0},{"$f":"[2]InpActive!$K420","v":0},{"$f":"[2]InpActive!$L420","v":1.6241550409716501},{"$f":"[2]InpActive!$M420","v":4.6471409943400497},{"$f":"[2]InpActive!$N420","v":1.6241550409716501},{"$f":"[2]InpActive!$O420","v":0},{"$f":"[2]InpActive!$P420","v":0},1.5790902152566699,null,null,0,0,-1.1240000000000001,-3.2130000000000001,-1.1240000000000001,0,0,null,null,null,0,0,-0.69205215736520298,-0.69139283785735128,-0.69205215736520298,0,0]
[null,null,null,null,"Water network - Totex (+ or -) Value Chosen - active - real",0,"£m",null,{"$f":"[1]InpActive!$J405","v":0},{"$f":"[1]InpActive!$K405","v":0},{"$f":"[1]InpActive!$L405","v":-1.5390831028096803},{"$f":"[1]InpActive!$M405","v":-4.4120754892895038},{"$f":"[1]InpActive!$N405","v":-1.5390831028096803},{"$f":"[1]InpActive!$O405","v":0},{"$f":"[1]InpActive!$P405","v":0},-1.4980483389817729,null,null,{"$f":"[2]InpActive!$J421","v":0},{"$f":"[2]InpActive!$K421","v":0},{"$f":"[2]InpActive!$L421","v":-1.8308925302363399},{"$f":"[2]InpActive!$M421","v":-5.2386721211061902},{"$f":"[2]InpActive!$N421","v":-1.8308925302363399},{"$f":"[2]InpActive!$O421","v":0},{"$f":"[2]InpActive!$P421","v":0},-1.780091436315774,null,null,0,0,0.29199999999999998,0.82699999999999996,0.29199999999999998,0,0,null,null,null,0,0,-0.15948505724817572,-0.15786443222283053,-0.15948505724817572,0,0]
[null,null,null,null,"Water network - WRFIM (+ or -) Value Chosen - active - real",0,"£m",null,{"$f":"[1]InpActive!$J406","v":0},{"$f":"[1]InpActive!$K406","v":0},{"$f":"[1]InpActive!$L406","v":-2.3206955441662105},{"$f":"[1]InpActive!$M406","v":-6.6527167440322721},{"$f":"[1]InpActive!$N406","v":-2.3206955441662105},{"$f":"[1]InpActive!$O406","v":0},{"$f":"[1]InpActive!$P406","v":0},-2.2588215664729381,null,null,{"$f":"[2]InpActive!$J422","v":0},{"$f":"[2]InpActive!$K422","v":0},{"$f":"[2]InpActive!$L422","v":-2.1197604980487501},{"$f":"[2]InpActive!$M422","v":-6.0652004643422197},{"$f":"[2]InpActive!$N422","v":-2.1197604980487501},{"$f":"[2]InpActive!$O422","v":0},{"$f":"[2]InpActive!$P422","v":0},-2.0609442920879442,null,null,0,0,-0.20100000000000001,-0.58799999999999997,-0.20100000000000001,0,0,null,null,null,0,0,9.482203304808326E-2,9.694650711990431E-2,9.482203304808326E-2,0,0]
[null,null,null,null,"Water network - Residential retail mechanism (+ or -) Value Chosen - active - real",0,"£m",null,{"$f":"[1]InpActive!$J407","v":0},{"$f":"[1]InpActive!$K407","v":0},{"$f":"[1]InpActive!$L407","v":0},{"$f":"[1]InpActive!$M407","v":0},{"$f":"[1]InpActive!$N407","v":0},{"$f":"[1]InpActive!$O407","v":0},{"$f":"[1]InpActive!$P407","v":0},0,null,null,{"$f":"[2]InpActive!$J423","v":0},{"$f":"[2]InpActive!$K423","v":0},{"$f":"[2]InpActive!$L423","v":0},{"$f":"[2]InpActive!$M423","v":0},{"$f":"[2]InpActive!$N423","v":0},{"$f":"[2]InpActive!$O423","v":0},{"$f":"[2]InpActive!$P423","v":0},0,null,null,0,0,0,0,0,0,0,null,null,null,0,0,0,0,0,0,0]
[null,null,null,null,"Water network - Blind year (+ or -) Value Chosen - active - real",0,"£m",null,{"$f":"[1]InpActive!$J408","v":0},{"$f":"[1]InpActive!$K408","v":0},{"$f":"[1]InpActive!$L408","v":1.8767824750614843},{"$f":"[1]InpActive!$M408","v":5.3801551987870884},{"$f":"[1]InpActive!$N408","v":1.8767824750614843},{"$f":"[1]InpActive!$O408","v":0},{"$f":"[1]InpActive!$P408","v":0},1.8267440297820112,null,null,{"$f":"[2]InpActive!$J424","v":0},{"$f":"[2]InpActive!$K424","v":0},{"$f":"[2]InpActive!$L424","v":1.87448330446168},{"$f":"[2]InpActive!$M424","v":5.3633969588017596},{"$f":"[2]InpActive!$N424","v":1.87448330446168},{"$f":"[2]InpActive!$O424","v":0},{"$f":"[2]InpActive!$P424","v":0},1.822472713545024,null,null,0,0,2E-3,1.7000000000000001E-2,2E-3,0,0,null,null,null,0,0,1.0669606900416573E-3,3.1696330013577783E-3,1.0669606900416573E-3,0,0]
[null,null,null,null,"Water network - Water trading incentive (+ or -) Value Chosen - active - real",0,"£m",null,{"$f":"[1]InpActive!$J409","v":0},{"$f":"[1]InpActive!$K409","v":0},{"$f":"[1]InpActive!$L409","v":0},{"$f":"[1]InpActive!$M409","v":0},{"$f":"[1]InpActive!$N409","v":0},{"$f":"[1]InpActive!$O409","v":0},{"$f":"[1]InpActive!$P409","v":0},0,null,null,{"$f":"[2]InpActive!$J425","v":0},{"$f":"[2]InpActive!$K425","v":0},{"$f":"[2]InpActive!$L425","v":0},{"$f":"[2]InpActive!$M425","v":0},{"$f":"[2]InpActive!$N425","v":0},{"$f":"[2]InpActive!$O425","v":0},{"$f":"[2]InpActive!$P425","v":0},0,null,null,0,0,0,0,0,0,0,null,null,null,0,0,0,0,0,0,0]
[null,null,null,null,"Water network - Other revenue adjustments (+ or -) Value Chosen - active - real",0,"£m",null,null,null,null,null,null,null,null,null,null,null,{"$f":"[2]InpActive!$J426","v":0},{"$f":"[2]InpActive!$K426","v":0},{"$f":"[2]InpActive!$L426","v":0},{"$f":"[2]InpActive!$M426","v":0},{"$f":"[2]InpActive!$N426","v":0},{"$f":"[2]InpActive!$O426","v":0},{"$f":"[2]InpActive!$P426","v":0},0,null,null,{"$f":"ROUND(I391 - S391, 3)","v":0},{"$f":"ROUND(J391 - T391, 3)","v":0},{"$f":"ROUND(K391 - U391, 3)","v":0},{"$f":"ROUND(L391 - V391, 3)","v":0},{"$f":"ROUND(M391 - W391, 3)","v":0},{"$f":"ROUND(N391 - X391, 3)","v":0},{"$f":"ROUND(O391 - Y391, 3)","v":0},null,null,null,{"$f":"IF(S391 = 0, 0, AC391 / S391)","v":0},{"$f":"IF(T391 = 0, 0, AD391 / T391)","v":0},{"$f":"IF(U391 = 0, 0, AE391 / U391)","v":0},{"$f":"IF(V391 = 0, 0, AF391 / V391)","v":0},{"$f":"IF(W391 = 0, 0, AG391 / W391)","v":0},{"$f":"IF(X391 = 0, 0, AH391 / X391)","v":0},{"$f":"IF(Y391 = 0, 0, AI391 / Y391)","v":0}]
[null,null,null,null,"Water network - Innovation funding(+ or -) Value Chosen - active - real",0,"£m",null,null,null,null,null,null,null,null,null,null,null,{"$f":"[2]InpActive!$J427","v":0},{"$f":"[2]InpActive!$K427","v":0},{"$f":"[2]InpActive!$L427","v":1.6879972711414899},{"$f":"[2]InpActive!$M427","v":1.6879972711414899},{"$f":"[2]InpActive!$N427","v":1.6879972711414899},{"$f":"[2]InpActive!$O427","v":1.6879972711414899},{"$f":"[2]InpActive!$P427","v":1.6879972711414899},1.6879972711414901,null,null,0,0,-1.6879999999999999,-1.6879999999999999,-1.6879999999999999,-1.6879999999999999,-1.6879999999999999,null,null,null,0,0,-1.0000016166249535,-1.0000016166249535,-1.0000016166249535,-1.0000016166249535,-1.0000016166249535]
[]
[null,null,"Wastewater network: Post-financeability adjustments"]
[null,null,null,null,"Wastewater network - End of Period ODIs (+ or -) Value Chosen - active - real",0,"£m",null,{"$f":"[1]InpActive!$J608","v":0},{"$f":"[1]InpActive!$K608","v":0},{"$f":"[1]InpActive!$L608","v":5.7455580683238754},{"$f":"[1]InpActive!$M608","v":16.470738895946425},{"$f":"[1]InpActive!$N608","v":5.7455580683238754},{"$f":"[1]InpActive!$O608","v":0},{"$f":"[1]InpActive!$P608","v":0},{"$f":"AVERAGE(K395:O395)","v":5.5923710065188343},null,null,{"$f":"[2]InpActive!$J640","v":0},{"$f":"[2]InpActive!$K640","v":0},{"$f":"[2]InpActive!$L640","v":5.6614963806834799},{"$f":"[2]InpActive!$M640","v":16.199051972428801},{"$f":"[2]InpActive!$N640","v":5.6614963806834799},{"$f":"[2]InpActive!$O640","v":0},{"$f":"[2]InpActive!$P640","v":0},{"$f":"AVERAGE(U395:Y395)","v":5.5044089467591526},null,null,{"$f":"ROUND(I395 - S395, 3)","v":0},0,8.4000000000000005E-2,0.27200000000000002,8.4000000000000005E-2,0,0,null,null,null,0,0,1.4837066802091493E-2,1.6791106076019198E-2,1.4837066802091493E-2,0,0]
[null,null,null,null,"Wastewater network - In period ODIs (+ or -) Value Chosen - active - real",0,"£m",null,{"$f":"[1]InpActive!$J609","v":0},{"$f":"[1]InpActive!$K609","v":0},{"$f":"[1]InpActive!$L609","v":0},{"$f":"[1]InpActive!$M609","v":0},{"$f":"[1]InpActive!$N609","v":0},{"$f":"[1]InpActive!$O609","v":0},{"$f":"[1]InpActive!$P609","v":0},0,null,null,{"$f":"[2]InpActive!$J641","v":0},{"$f":"[2]InpActive!$K641","v":0},{"$f":"[2]InpActive!$L641","v":0},{"$f":"[2]InpActive!$M641","v":0},{"$f":"[2]InpActive!$N641","v":0},{"$f":"[2]InpActive!$O641","v":0},{"$f":"[2]InpActive!$P641","v":0},0,null,null,0,0,0,0,0,0,0,null,null,null,0,0,0,0,0,0,0]
[null,null,null,null,"Wastewater network - Totex (+ or -) Value Chosen - active - real",0,"£m",null,{"$f":"[1]InpActive!$J610","v":0},{"$f":"[1]InpActive!$K610","v":0},{"$f":"[1]InpActive!$L610","v":-4.6471892632780669},{"$f":"[1]InpActive!$M610","v":-13.32205506328267},{"$f":"[1]InpActive!$N610","v":-4.6471892632780669},{"$f":"[1]InpActive!$O610","v":0},{"$f":"[1]InpActive!$P610","v":0},-4.5232867179677614,null,null,{"$f":"[2]InpActive!$J642","v":0},{"$f":"[2]InpActive!$K642","v":0},{"$f":"[2]InpActive!$L642","v":-4.7437491555569302},{"$f":"[2]InpActive!$M642","v":-13.5731322512574},{"$f":"[2]InpActive!$N642","v":-4.7437491555569302},{"$f":"[2]InpActive!$O642","v":0},{"$f":"[2]InpActive!$P642","v":0},-4.6121261124742521,null,null,0,0,9.7000000000000003E-2,0.251,9.7000000000000003E-2,0,0,null,null,null,0,0,-2.0447961479238864E-2,-1.8492415409622761E-2,-2.0447961479238864E-2,0,0]
[null,null,null,null,"Wastewater network - WRFIM (+ or -) Value Chosen - active - real",0,"£m",null,{"$f":"[1]InpActive!$J611","v":0},{"$f":"[1]InpActive!$K611","v":0},{"$f":"[1]InpActive!$L611","v":-0.66709399841380701},{"$f":"[1]InpActive!$M611","v":-1.9123522791463241},{"$f":"[1]InpActive!$N611","v":-0.66709399841380701},{"$f":"[1]InpActive!$O611","v":0},{"$f":"[1]InpActive!$P611","v":0},-0.64930805519478763,null,null,{"$f":"[2]InpActive!$J643","v":0},{"$f":"[2]InpActive!$K643","v":0},{"$f":"[2]InpActive!$L643","v":-1.04448771300535},{"$f":"[2]InpActive!$M643","v":-2.9885580789674999},{"$f":"[2]InpActive!$N643","v":-1.04448771300535},{"$f":"[2]InpActive!$O643","v":0},{"$f":"[2]InpActive!$P643","v":0},-1.01550670099564,null,null,0,0,0.377,1.0760000000000001,0.377,0,0,null,null,null,0,0,-0.36094249391909211,-0.36003984917426846,-0.36094249391909211,0,0]
[null,null,null,null,"Wastewater network - Residential retail mechanism (+ or -) Value Chosen - active - real",0,"£m",null,{"$f":"[1]InpActive!$J612","v":0},{"$f":"[1]InpActive!$K612","v":0},{"$f":"[1]InpActive!$L612","v":0},{"$f":"[1]InpActive!$M612","v":0},{"$f":"[1]InpActive!$N612","v":0},{"$f":"[1]InpActive!$O612","v":0},{"$f":"[1]InpActive!$P612","v":0},0,null,null,{"$f":"[2]InpActive!$J644","v":0},{"$f":"[2]InpActive!$K644","v":0},{"$f":"[2]InpActive!$L644","v":0},{"$f":"[2]InpActive!$M644","v":0},{"$f":"[2]InpActive!$N644","v":0},{"$f":"[2]InpActive!$O644","v":0},{"$f":"[2]InpActive!$P644","v":0},0,null,null,0,0,0,0,0,0,0,null,null,null,0,0,0,0,0,0,0]
[null,null,null,null,"Wastewater network - Blind year (+ or -) Value Chosen - active - real",0,"£m",null,{"$f":"[1]InpActive!$J613","v":0},{"$f":"[1]InpActive!$K613","v":0},{"$f":"[1]InpActive!$L613","v":0.94714345083136708},{"$f":"[1]InpActive!$M613","v":2.7151674894132749},{"$f":"[1]InpActive!$N613","v":0.94714345083136708},{"$f":"[1]InpActive!$O613","v":0},{"$f":"[1]InpActive!$P613","v":0},0.92189087821520188,null,null,{"$f":"[2]InpActive!$J645","v":0},{"$f":"[2]InpActive!$K645","v":0},{"$f":"[2]InpActive!$L645","v":0.94598314354755497},{"$f":"[2]InpActive!$M645","v":2.7067102188129399},{"$f":"[2]InpActive!$N645","v":0.94598314354755497},{"$f":"[2]InpActive!$O645","v":0},{"$f":"[2]InpActive!$P645","v":0},0.91973530118160995,null,null,0,0,1E-3,8.0000000000000002E-3,1E-3,0,0,null,null,null,0,0,1.0571012885598312E-3,2.9556174666930161E-3,1.0571012885598312E-3,0,0]
[null,null,null,null,"Wastewater network - Water trading incentive (+ or -) Value Chosen - active - real",0,"£m",null,{"$f":"[1]InpActive!$J614","v":0},{"$f":"[1]InpActive!$K614","v":0},{"$f":"[1]InpActive!$L614","v":0},{"$f":"[1]InpActive!$M614","v":0},{"$f":"[1]InpActive!$N614","v":0},{"$f":"[1]InpActive!$O614","v":0},{"$f":"[1]InpActive!$P614","v":0},0,null,null,{"$f":"[2]InpActive!$J646","v":0},{"$f":"[2]InpActive!$K646","v":0},{"$f":"[2]InpActive!$L646","v":0},{"$f":"[2]InpActive!$M646","v":0},{"$f":"[2]InpActive!$N646","v":0},{"$f":"[2]InpActive!$O646","v":0},{"$f":"[2]InpActive!$P646","v":0},0,null,null,0,0,0,0,0,0,0,null,null,null,0,0,0,0,0,0,0]
[null,null,null,null,"Wastewater network - Other revenue adjustments (+ or -) Value Chosen - active - real",0,"£m",null,null,null,null,null,null,null,null,null,null,null,{"$f":"[2]InpActive!$J647","v":0},{"$f":"[2]InpActive!$K647","v":0},{"$f":"[2]InpActive!$L647","v":0},{"$f":"[2]InpActive!$M647","v":0},{"$f":"[2]InpActive!$N647","v":0},{"$f":"[2]InpActive!$O647","v":0},{"$f":"[2]InpActive!$P647","v":0},0,null,null,{"$f":"ROUND(I402 - S402, 3)","v":0},{"$f":"ROUND(J402 - T402, 3)","v":0},{"$f":"ROUND(K402 - U402, 3)","v":0},{"$f":"ROUND(L402 - V402, 3)","v":0},{"$f":"ROUND(M402 - W402, 3)","v":0},{"$f":"ROUND(N402 - X402, 3)","v":0},{"$f":"ROUND(O402 - Y402, 3)","v":0},null,null,null,{"$f":"IF(S402 = 0, 0, AC402 / S402)","v":0},{"$f":"IF(T402 = 0, 0, AD402 / T402)","v":0},{"$f":"IF(U402 = 0, 0, AE402 / U402)","v":0},{"$f":"IF(V402 = 0, 0, AF402 / V402)","v":0},{"$f":"IF(W402 = 0, 0, AG402 / W402)","v":0},{"$f":"IF(X402 = 0, 0, AH402 / X402)","v":0},{"$f":"IF(Y402 = 0, 0, AI402 / Y402)","v":0}]
[null,null,null,null,"Wastewater network - Innovation funding(+ or -) Value Chosen - active - real",0,"£m",null,null,null,null,null,null,null,null,null,null,null,{"$f":"[2]InpActive!$J648","v":0},{"$f":"[2]InpActive!$K648","v":0},{"$f":"[2]InpActive!$L648","v":2.5093595643420499},{"$f":"[2]InpActive!$M648","v":2.5093595643420499},{"$f":"[2]InpActive!$N648","v":2.5093595643420499},{"$f":"[2]InpActive!$O648","v":2.5093595643420499},{"$f":"[2]InpActive!$P648","v":2.5093595643420499},2.5093595643420499,null,null,0,0,-2.5089999999999999,-2.5089999999999999,-2.5089999999999999,-2.5089999999999999,-2.5089999999999999,null,null,null,0,0,-0.9998567107132994,-0.9998567107132994,-0.9998567107132994,-0.9998567107132994,-0.9998567107132994]
[]
[null,null,"Bio resources: Post-financeability adjustments"]
[null,null,null,null,"Bio resources - End of Period ODIs (+ or -) Value Chosen - active - real",0,"£m",null,{"$f":"[1]InpActive!$J804","v":0},{"$f":"[1]InpActive!$K804","v":0},{"$f":"[1]InpActive!$L804","v":0},{"$f":"[1]InpActive!$M804","v":0},{"$f":"[1]InpActive!$N804","v":0},{"$f":"[1]InpActive!$O804","v":0},{"$f":"[1]InpActive!$P804","v":0},{"$f":"AVERAGE(K406:O406)","v":0},null,null,{"$f":"[2]InpActive!$J852","v":0},{"$f":"[2]InpActive!$K852","v":0},{"$f":"[2]InpActive!$L852","v":0},{"$f":"[2]InpActive!$M852","v":0},{"$f":"[2]InpActive!$N852","v":0},{"$f":"[2]InpActive!$O852","v":0},{"$f":"[2]InpActive!$P852","v":0},{"$f":"AVERAGE(U406:Y406)","v":0},null,null,{"$f":"ROUND(I406 - S406, 3)","v":0},0,0,0,0,0,0,null,null,null,0,0,0,0,0,0,0]
[null,null,null,null,"Bio resources - In period ODIs (+ or -) Value Chosen - active - real",0,"£m",null,{"$f":"[1]InpActive!$J805","v":0},{"$f":"[1]InpActive!$K805","v":0},{"$f":"[1]InpActive!$L805","v":0},{"$f":"[1]InpActive!$M805","v":0},{"$f":"[1]InpActive!$N805","v":0},{"$f":"[1]InpActive!$O805","v":0},{"$f":"[1]InpActive!$P805","v":0},0,null,null,{"$f":"[2]InpActive!$J853","v":0},{"$f":"[2]InpActive!$K853","v":0},{"$f":"[2]InpActive!$L853","v":0},{"$f":"[2]InpActive!$M853","v":0},{"$f":"[2]InpActive!$N853","v":0},{"$f":"[2]InpActive!$O853","v":0},{"$f":"[2]InpActive!$P853","v":0},0,null,null,0,0,0,0,0,0,0,null,null,null,0,0,0,0,0,0,0]
[null,null,null,null,"Bio resources - Totex (+ or -) Value Chosen - active - real",0,"£m",null,{"$f":"[1]InpActive!$J806","v":0},{"$f":"[1]InpActive!$K806","v":0},{"$f":"[1]InpActive!$L806","v":0},{"$f":"[1]InpActive!$M806","v":0},{"$f":"[1]InpActive!$N806","v":0},{"$f":"[1]InpActive!$O806","v":0},{"$f":"[1]InpActive!$P806","v":0},0,null,null,{"$f":"[2]InpActive!$J854","v":0},{"$f":"[2]InpActive!$K854","v":0},{"$f":"[2]InpActive!$L854","v":0},{"$f":"[2]InpActive!$M854","v":0},{"$f":"[2]InpActive!$N854","v":0},{"$f":"[2]InpActive!$O854","v":0},{"$f":"[2]InpActive!$P854","v":0},0,null,null,0,0,0,0,0,0,0,null,null,null,0,0,0,0,0,0,0]
[null,null,null,null,"Bio resources - WRFIM (+ or -) Value Chosen - active - real",0,"£m",null,{"$f":"[1]InpActive!$J807","v":0},{"$f":"[1]InpActive!$K807","v":0},{"$f":"[1]InpActive!$L807","v":0},{"$f":"[1]InpActive!$M807","v":0},{"$f":"[1]InpActive!$N807","v":0},{"$f":"[1]InpActive!$O807","v":0},{"$f":"[1]InpActive!$P807","v":0},0,null,null,{"$f":"[2]InpActive!$J855","v":0},{"$f":"[2]InpActive!$K855","v":0},{"$f":"[2]InpActive!$L855","v":0},{"$f":"[2]InpActive!$M855","v":0},{"$f":"[2]InpActive!$N855","v":0},{"$f":"[2]InpActive!$O855","v":0},{"$f":"[2]InpActive!$P855","v":0},0,null,null,0,0,0,0,0,0,0,null,null,null,0,0,0,0,0,0,0]
[null,null,null,null,"Bio resources - Residential retail mechanism (+ or -) Value Chosen - active - real",0,"£m",null,{"$f":"[1]InpActive!$J808","v":0},{"$f":"[1]InpActive!$K808","v":0},{"$f":"[1]InpActive!$L808","v":0},{"$f":"[1]InpActive!$M808","v":0},{"$f":"[1]InpActive!$N808","v":0},{"$f":"[1]InpActive!$O808","v":0},{"$f":"[1]InpActive!$P808","v":0},0,null,null,{"$f":"[2]InpActive!$J856","v":0},{"$f":"[2]InpActive!$K856","v":0},{"$f":"[2]InpActive!$L856","v":0},{"$f":"[2]InpActive!$M856","v":0},{"$f":"[2]InpActive!$N856","v":0},{"$f":"[2]InpActive!$O856","v":0},{"$f":"[2]InpActive!$P856","v":0},0,null,null,0,0,0,0,0,0,0,null,null,null,0,0,0,0,0,0,0]
[null,null,null,null,"Bio resources - Blind year (+ or -) Value Chosen - active - real",0,"£m",null,{"$f":"[1]InpActive!$J809","v":0},{"$f":"[1]InpActive!$K809","v":0},{"$f":"[1]InpActive!$L809","v":0},{"$f":"[1]InpActive!$M809","v":0},{"$f":"[1]InpActive!$N809","v":0},{"$f":"[1]InpActive!$O809","v":0},{"$f":"[1]InpActive!$P809","v":0},0,null,null,{"$f":"[2]InpActive!$J857","v":0},{"$f":"[2]InpActive!$K857","v":0},{"$f":"[2]InpActive!$L857","v":0},{"$f":"[2]InpActive!$M857","v":0},{"$f":"[2]InpActive!$N857","v":0},{"$f":"[2]InpActive!$O857","v":0},{"$f":"[2]InpActive!$P857","v":0},0,null,null,0,0,0,0,0,0,0,null,null,null,0,0,0,0,0,0,0]
[null,null,null,null,"Bio resources - Water trading incentive (+ or -) Value Chosen - active - real",0,"£m",null,{"$f":"[1]InpActive!$J810","v":0},{"$f":"[1]InpActive!$K810","v":0},{"$f":"[1]InpActive!$L810","v":0},{"$f":"[1]InpActive!$M810","v":0},{"$f":"[1]InpActive!$N810","v":0},{"$f":"[1]InpActive!$O810","v":0},{"$f":"[1]InpActive!$P810","v":0},0,null,null,{"$f":"[2]InpActive!$J858","v":0},{"$f":"[2]InpActive!$K858","v":0},{"$f":"[2]InpActive!$L858","v":0},{"$f":"[2]InpActive!$M858","v":0},{"$f":"[2]InpActive!$N858","v":0},{"$f":"[2]InpActive!$O858","v":0},{"$f":"[2]InpActive!$P858","v":0},0,null,null,0,0,0,0,0,0,0,null,null,null,0,0,0,0,0,0,0]
[null,null,null,null,"Bio resources - Other revenue adjustments (+ or -) Value Chosen - active - real",0,"£m",null,null,null,null,null,null,null,null,null,null,null,{"$f":"[2]InpActive!$J859","v":0},{"$f":"[2]InpActive!$K859","v":0},{"$f":"[2]InpActive!$L859","v":0},{"$f":"[2]InpActive!$M859","v":0},{"$f":"[2]InpActive!$N859","v":0},{"$f":"[2]InpActive!$O859","v":0},{"$f":"[2]InpActive!$P859","v":0},0,null,null,{"$f":"ROUND(I413 - S413, 3)","v":0},{"$f":"ROUND(J413 - T413, 3)","v":0},{"$f":"ROUND(K413 - U413, 3)","v":0},{"$f":"ROUND(L413 - V413, 3)","v":0},{"$f":"ROUND(M413 - W413, 3)","v":0},{"$f":"ROUND(N413 - X413, 3)","v":0},{"$f":"ROUND(O413 - Y413, 3)","v":0},null,null,null,{"$f":"IF(S413 = 0, 0, AC413 / S413)","v":0},{"$f":"IF(T413 = 0, 0, AD413 / T413)","v":0},{"$f":"IF(U413 = 0, 0, AE413 / U413)","v":0},{"$f":"IF(V413 = 0, 0, AF413 / V413)","v":0},{"$f":"IF(W413 = 0, 0, AG413 / W413)","v":0},{"$f":"IF(X413 = 0, 0, AH413 / X413)","v":0},{"$f":"IF(Y413 = 0, 0, AI413 / Y413)","v":0}]
[null,null,null,null,"Bio resources - Innovation funding(+ or -) Value Chosen - active - real",0,"£m",null,null,null,null,null,null,null,null,null,null,null,{"$f":"[2]InpActive!$J860","v":0},{"$f":"[2]InpActive!$K860","v":0},{"$f":"[2]InpActive!$L860","v":0},{"$f":"[2]InpActive!$M860","v":0},{"$f":"[2]InpActive!$N860","v":0},{"$f":"[2]InpActive!$O860","v":0},{"$f":"[2]InpActive!$P860","v":0},0,null,null,0,0,0,0,0,0,0,null,null,null,0,0,0,0,0,0,0]
[]
[null,null,"Dummy control: Post-financeability adjustments"]
[null,null,null,null,"Dummy control - End of Period ODIs (+ or -) Value Chosen - active - real",0,"£m",null,{"$f":"[1]InpActive!$J1002","v":0},{"$f":"[1]InpActive!$K1002","v":0},{"$f":"[1]InpActive!$L1002","v":0},{"$f":"[1]InpActive!$M1002","v":0},{"$f":"[1]InpActive!$N1002","v":0},{"$f":"[1]InpActive!$O1002","v":0},{"$f":"[1]InpActive!$P1002","v":0},{"$f":"AVERAGE(K417:O417)","v":0},null,null,{"$f":"[2]InpActive!$J1066","v":0},{"$f":"[2]InpActive!$K1066","v":0},{"$f":"[2]InpActive!$L1066","v":0},{"$f":"[2]InpActive!$M1066","v":0},{"$f":"[2]InpActive!$N1066","v":0},{"$f":"[2]InpActive!$O1066","v":0},{"$f":"[2]InpActive!$P1066","v":0},{"$f":"AVERAGE(U417:Y417)","v":0},null,null,{"$f":"ROUND(I417 - S417, 3)","v":0},0,0,0,0,0,0,null,null,null,0,0,0,0,0,0,0]
[null,null,null,null,"Dummy control - In period ODIs (+ or -) Value Chosen - active - real",0,"£m",null,{"$f":"[1]InpActive!$J1003","v":0},{"$f":"[1]InpActive!$K1003","v":0},{"$f":"[1]InpActive!$L1003","v":0},{"$f":"[1]InpActive!$M1003","v":0},{"$f":"[1]InpActive!$N1003","v":0},{"$f":"[1]InpActive!$O1003","v":0},{"$f":"[1]InpActive!$P1003","v":0},0,null,null,{"$f":"[2]InpActive!$J1067","v":0},{"$f":"[2]InpActive!$K1067","v":0},{"$f":"[2]InpActive!$L1067","v":0},{"$f":"[2]InpActive!$M1067","v":0},{"$f":"[2]InpActive!$N1067","v":0},{"$f":"[2]InpActive!$O1067","v":0},{"$f":"[2]InpActive!$P1067","v":0},0,null,null,0,0,0,0,0,0,0,null,null,null,0,0,0,0,0,0,0]
[null,null,null,null,"Dummy control - Totex (+ or -) Value Chosen - active - real",0,"£m",null,{"$f":"[1]InpActive!$J1004","v":0},{"$f":"[1]InpActive!$K1004","v":0},{"$f":"[1]InpActive!$L1004","v":0},{"$f":"[1]InpActive!$M1004","v":0},{"$f":"[1]InpActive!$N1004","v":0},{"$f":"[1]InpActive!$O1004","v":0},{"$f":"[1]InpActive!$P1004","v":0},0,null,null,{"$f":"[2]InpActive!$J1068","v":0},{"$f":"[2]InpActive!$K1068","v":0},{"$f":"[2]InpActive!$L1068","v":0},{"$f":"[2]InpActive!$M1068","v":0},{"$f":"[2]InpActive!$N1068","v":0},{"$f":"[2]InpActive!$O1068","v":0},{"$f":"[2]InpActive!$P1068","v":0},0,null,null,0,0,0,0,0,0,0,null,null,null,0,0,0,0,0,0,0]
[null,null,null,null,"Dummy control - WRFIM (+ or -) Value Chosen - active - real",0,"£m",null,{"$f":"[1]InpActive!$J1005","v":0},{"$f":"[1]InpActive!$K1005","v":0},{"$f":"[1]InpActive!$L1005","v":0},{"$f":"[1]InpActive!$M1005","v":0},{"$f":"[1]InpActive!$N1005","v":0},{"$f":"[1]InpActive!$O1005","v":0},{"$f":"[1]InpActive!$P1005","v":0},0,null,null,{"$f":"[2]InpActive!$J1069","v":0},{"$f":"[2]InpActive!$K1069","v":0},{"$f":"[2]InpActive!$L1069","v":0},{"$f":"[2]InpActive!$M1069","v":0},{"$f":"[2]InpActive!$N1069","v":0},{"$f":"[2]InpActive!$O1069","v":0},{"$f":"[2]InpActive!$P1069","v":0},0,null,null,0,0,0,0,0,0,0,null,null,null,0,0,0,0,0,0,0]
[null,null,null,null,"Dummy control - Residential retail mechanism (+ or -) Value Chosen - active - real",0,"£m",null,{"$f":"[1]InpActive!$J1006","v":0},{"$f":"[1]InpActive!$K1006","v":0},{"$f":"[1]InpActive!$L1006","v":0},{"$f":"[1]InpActive!$M1006","v":0},{"$f":"[1]InpActive!$N1006","v":0},{"$f":"[1]InpActive!$O1006","v":0},{"$f":"[1]InpActive!$P1006","v":0},0,null,null,{"$f":"[2]InpActive!$J1070","v":0},{"$f":"[2]InpActive!$K1070","v":0},{"$f":"[2]InpActive!$L1070","v":0},{"$f":"[2]InpActive!$M1070","v":0},{"$f":"[2]InpActive!$N1070","v":0},{"$f":"[2]InpActive!$O1070","v":0},{"$f":"[2]InpActive!$P1070","v":0},0,null,null,0,0,0,0,0,0,0,null,null,null,0,0,0,0,0,0,0]
[null,null,null,null,"Dummy control - Blind year (+ or -) Value Chosen - active - real",0,"£m",null,{"$f":"[1]InpActive!$J1007","v":0},{"$f":"[1]InpActive!$K1007","v":0},{"$f":"[1]InpActive!$L1007","v":0},{"$f":"[1]InpActive!$M1007","v":0},{"$f":"[1]InpActive!$N1007","v":0},{"$f":"[1]InpActive!$O1007","v":0},{"$f":"[1]InpActive!$P1007","v":0},0,null,null,{"$f":"[2]InpActive!$J1071","v":0},{"$f":"[2]InpActive!$K1071","v":0},{"$f":"[2]InpActive!$L1071","v":0},{"$f":"[2]InpActive!$M1071","v":0},{"$f":"[2]InpActive!$N1071","v":0},{"$f":"[2]InpActive!$O1071","v":0},{"$f":"[2]InpActive!$P1071","v":0},0,null,null,0,0,0,0,0,0,0,null,null,null,0,0,0,0,0,0,0]
[null,null,null,null,"Dummy control - Water trading incentive (+ or -) Value Chosen - active - real",0,"£m",null,{"$f":"[1]InpActive!$J1008","v":0},{"$f":"[1]InpActive!$K1008","v":0},{"$f":"[1]InpActive!$L1008","v":0},{"$f":"[1]InpActive!$M1008","v":0},{"$f":"[1]InpActive!$N1008","v":0},{"$f":"[1]InpActive!$O1008","v":0},{"$f":"[1]InpActive!$P1008","v":0},0,null,null,{"$f":"[2]InpActive!$J1072","v":0},{"$f":"[2]InpActive!$K1072","v":0},{"$f":"[2]InpActive!$L1072","v":0},{"$f":"[2]InpActive!$M1072","v":0},{"$f":"[2]InpActive!$N1072","v":0},{"$f":"[2]InpActive!$O1072","v":0},{"$f":"[2]InpActive!$P1072","v":0},0,null,null,0,0,0,0,0,0,0,null,null,null,0,0,0,0,0,0,0]
[null,null,null,null,"Dummy control - Other revenue adjustments (+ or -) Value Chosen - active - real",0,"£m",null,null,null,null,null,null,null,null,null,null,null,{"$f":"[2]InpActive!$J1073","v":0},{"$f":"[2]InpActive!$K1073","v":0},{"$f":"[2]InpActive!$L1073","v":0},{"$f":"[2]InpActive!$M1073","v":0},{"$f":"[2]InpActive!$N1073","v":0},{"$f":"[2]InpActive!$O1073","v":0},{"$f":"[2]InpActive!$P1073","v":0},0,null,null,{"$f":"ROUND(I424 - S424, 3)","v":0},{"$f":"ROUND(J424 - T424, 3)","v":0},{"$f":"ROUND(K424 - U424, 3)","v":0},{"$f":"ROUND(L424 - V424, 3)","v":0},{"$f":"ROUND(M424 - W424, 3)","v":0},{"$f":"ROUND(N424 - X424, 3)","v":0},{"$f":"ROUND(O424 - Y424, 3)","v":0},null,null,null,{"$f":"IF(S424 = 0, 0, AC424 / S424)","v":0},{"$f":"IF(T424 = 0, 0, AD424 / T424)","v":0},{"$f":"IF(U424 = 0, 0, AE424 / U424)","v":0},{"$f":"IF(V424 = 0, 0, AF424 / V424)","v":0},{"$f":"IF(W424 = 0, 0, AG424 / W424)","v":0},{"$f":"IF(X424 = 0, 0, AH424 / X424)","v":0},{"$f":"IF(Y424 = 0, 0, AI424 / Y424)","v":0}]
[null,null,null,null,"Dummy control - Innovation funding(+ or -) Value Chosen - active - real",0,"£m",null,null,null,null,null,null,null,null,null,null,null,{"$f":"[2]InpActive!$J1074","v":0},{"$f":"[2]InpActive!$K1074","v":0},{"$f":"[2]InpActive!$L1074","v":0},{"$f":"[2]InpActive!$M1074","v":0},{"$f":"[2]InpActive!$N1074","v":0},{"$f":"[2]InpActive!$O1074","v":0},{"$f":"[2]InpActive!$P1074","v":0},0,null,null,0,0,0,0,0,0,0,null,null,null,0,0,0,0,0,0,0]
[]
["End of sheet"]

{"sheet":"Waterfall","index":2,"n_rows":227,"n_cols":12,"rows_kept":227,"cut":false,"hidden":false,"merged":[]}
[{"$f":" RIGHT(CELL(\"FILENAME\", $A$1), LEN(CELL(\"FILENAME\", $A$1)) - SEARCH(\"]\", CELL(\"FILENAME\", $A$1)))","v":"Waterfall"},null,null,null,null,null,null,"Model 1","Model 2","Delta"]
[]
["PAYG Revenue"]
[null,null,null,null,{"$f":"'Exec Summary'!E186","v":"PAYG - WR - real"},null,{"$f":"'Exec Summary'!G186","v":"£m"},{"$f":"'Exec Summary'!Q186","v":221.99079632300004},{"$f":"'Exec Summary'!AA186","v":206.0333492302511}]
[null,null,null,null,{"$f":"'Exec Summary'!E210","v":"PAYG - WN - real"},null,{"$f":"'Exec Summary'!G210","v":"£m"},{"$f":"'Exec Summary'!Q210","v":1130.4752122699997},{"$f":"'Exec Summary'!AA210","v":1036.0424736774726}]
[null,null,null,null,{"$f":"'Exec Summary'!E234","v":"PAYG - WWN - real"},null,{"$f":"'Exec Summary'!G234","v":"£m"},{"$f":"'Exec Summary'!Q234","v":1081.5153068500001},{"$f":"'Exec Summary'!AA234","v":964.04135489798591}]
[null,null,null,null,{"$f":"'Exec Summary'!E258","v":"PAYG - BR - real"},null,{"$f":"'Exec Summary'!G258","v":"£m"},{"$f":"'Exec Summary'!Q258","v":391.42871151199995},{"$f":"'Exec Summary'!AA258","v":334.13559659315592}]
[null,null,null,null,{"$f":"'Exec Summary'!E282","v":"PAYG - DMMY - real"},null,{"$f":"'Exec Summary'!G282","v":"£m"},{"$f":"'Exec Summary'!Q282","v":0},{"$f":"'Exec Summary'!AA282","v":0}]
[null,null,null,null,"Total PAYG Revenue",null,"£m",{"$f":"SUM(H4:H8)","v":2825.4100269549999},{"$f":"SUM(I4:I8)","v":2540.2527743988658},{"$f":"I9-H9","v":-285.15725255613415}]
[]
["Pension Deficit Recovery Revenue"]
[null,null,null,null,{"$f":"'Exec Summary'!E187","v":"Wholesale Water resources service defined benefit pension deficit recovery  per IN13/17 - real"},null,{"$f":"'Exec Summary'!G187","v":"£m"},{"$f":"'Exec Summary'!Q187","v":2.4239999999999995},{"$f":"'Exec Summary'!AA187","v":2.968088238966565}]
[null,null,null,null,{"$f":"'Exec Summary'!E211","v":"Wholesale Water network service defined benefit pension deficit recovery  per IN13/17 - real"},null,{"$f":"'Exec Summary'!G211","v":"£m"},{"$f":"'Exec Summary'!Q211","v":19.996000000000002},{"$f":"'Exec Summary'!AA211","v":24.471738938623808}]
[null,null,null,null,{"$f":"'Exec Summary'!E235","v":"Wholesale Wastewater network service defined benefit pension deficit recovery per IN13/17 - real"},null,{"$f":"'Exec Summary'!G235","v":"£m"},{"$f":"'Exec Summary'!Q235","v":24.954894057319649},{"$f":"'Exec Summary'!AA235","v":30.537801233915403}]
[null,null,null,null,{"$f":"'Exec Summary'!E259","v":"Wholesale Bio resources service defined benefit pension deficit recovery per IN13/17 - real"},null,{"$f":"'Exec Summary'!G259","v":"£m"},{"$f":"'Exec Summary'!Q259","v":9.849791846526557},{"$f":"'Exec Summary'!AA259","v":12.05554491287938}]
[null,null,null,null,{"$f":"'Exec Summary'!E283","v":"Wholesale Dummy control service defined benefit pension deficit recovery per IN13/17 - real"},null,{"$f":"'Exec Summary'!G283","v":"£m"},{"$f":"'Exec Summary'!Q283","v":0},{"$f":"'Exec Summary'!AA283","v":0}]
[null,null,null,null,"Total Pension Deficit Recovery Revenue",null,"£m",{"$f":"SUM(H12:H16)","v":57.224685903846208},{"$f":"SUM(I12:I16)","v":70.03317332438516},{"$f":"I17-H17","v":12.808487420538953}]
[]
["WACC Revenue"]
[null,null,null,null,{"$f":"'Exec Summary'!E188","v":"Return on Capital - WR - real"},null,{"$f":"'Exec Summary'!G188","v":"£m"},{"$f":"'Exec Summary'!Q188","v":31.980680189673357},{"$f":"'Exec Summary'!AA188","v":24.08112909806313}]
[null,null,null,null,{"$f":"'Exec Summary'!E212","v":"Return on Capital - WN - real"},null,{"$f":"'Exec Summary'!G212","v":"£m"},{"$f":"'Exec Summary'!Q212","v":448.46898369109857},{"$f":"'Exec Summary'!AA212","v":365.24856949393779}]
[null,null,null,null,{"$f":"'Exec Summary'!E236","v":"Return on Capital - WWN - real"},null,{"$f":"'Exec Summary'!G236","v":"£m"},{"$f":"'Exec Summary'!Q236","v":664.70819501132178},{"$f":"'Exec Summary'!AA236","v":558.66625548489299}]
[null,null,null,null,{"$f":"'Exec Summary'!E260","v":"Return on Capital - BR - real"},null,{"$f":"'Exec Summary'!G260","v":"£m"},{"$f":"'Exec Summary'!Q260","v":46.714715192953278},{"$f":"'Exec Summary'!AA260","v":37.617952868016552}]
[null,null,null,null,{"$f":"'Exec Summary'!E284","v":"Return on Capital - DMMY - real"},null,{"$f":"'Exec Summary'!G284","v":"£m"},{"$f":"'Exec Summary'!Q284","v":0},{"$f":"'Exec Summary'!AA284","v":0}]
[null,null,null,null,"Total WACC Revenue",null,"£m",{"$f":"SUM(H20:H24)","v":1191.8725740850471},{"$f":"SUM(I20:I24)","v":985.61390694491047},{"$f":"I25-H25","v":-206.25866714013659}]
[]
["RCV Run-off Revenue"]
[null,null,null,null,{"$f":"'Exec Summary'!E189","v":"Depreciation - WR - real"},null,{"$f":"'Exec Summary'!G189","v":"£m"},{"$f":"'Exec Summary'!Q189","v":56.005593780141758},{"$f":"'Exec Summary'!AA189","v":49.517404983185415}]
[null,null,null,null,{"$f":"'Exec Summary'!E213","v":"Depreciation - WN - real"},null,{"$f":"'Exec Summary'!G213","v":"£m"},{"$f":"'Exec Summary'!Q213","v":618.26822341610261},{"$f":"'Exec Summary'!AA213","v":584.863504484234}]
[null,null,null,null,{"$f":"'Exec Summary'!E237","v":"Depreciation - WWN - real"},null,{"$f":"'Exec Summary'!G237","v":"£m"},{"$f":"'Exec Summary'!Q237","v":1199.9027337088471},{"$f":"'Exec Summary'!AA237","v":1166.6728010935262}]
[null,null,null,null,{"$f":"'Exec Summary'!E261","v":"Depreciation - BR - real"},null,{"$f":"'Exec Summary'!G261","v":"£m"},{"$f":"'Exec Summary'!Q261","v":100.75323121102012},{"$f":"'Exec Summary'!AA261","v":94.587878984460559}]
[null,null,null,null,{"$f":"'Exec Summary'!E285","v":"Depreciation - DMMY - real"},null,{"$f":"'Exec Summary'!G285","v":"£m"},{"$f":"'Exec Summary'!Q285","v":0},{"$f":"'Exec Summary'!AA285","v":0}]
[null,null,null,null,"Total RCV Run-off Revenue",null,"£m",{"$f":"SUM(H28:H32)","v":1974.9297821161117},{"$f":"SUM(I28:I32)","v":1895.6415895454061},{"$f":"I33-H33","v":-79.288192570705633}]
[]
["Tax Revenue"]
[null,null,null,null,{"$f":"'Exec Summary'!E190","v":"Tax WR - real "},null,{"$f":"'Exec Summary'!G190","v":"£m"},{"$f":"'Exec Summary'!Q190","v":0},{"$f":"'Exec Summary'!AA190","v":0}]
[null,null,null,null,{"$f":"'Exec Summary'!E214","v":"Tax WN - real "},null,{"$f":"'Exec Summary'!G214","v":"£m"},{"$f":"'Exec Summary'!Q214","v":0},{"$f":"'Exec Summary'!AA214","v":0}]
[null,null,null,null,{"$f":"'Exec Summary'!E238","v":"Tax WWN - real"},null,{"$f":"'Exec Summary'!G238","v":"£m"},{"$f":"'Exec Summary'!Q238","v":0},{"$f":"'Exec Summary'!AA238","v":0}]
[null,null,null,null,{"$f":"'Exec Summary'!E262","v":"Tax BR - real"},null,{"$f":"'Exec Summary'!G262","v":"£m"},{"$f":"'Exec Summary'!Q262","v":0},{"$f":"'Exec Summary'!AA262","v":0}]
[null,null,null,null,{"$f":"'Exec Summary'!E286","v":"Tax DMMY - real"},null,{"$f":"'Exec Summary'!G286","v":"£m"},{"$f":"'Exec Summary'!Q286","v":0},{"$f":"'Exec Summary'!AA286","v":0}]
[null,null,null,null,"Total Tax Revenue",null,"£m",{"$f":"SUM(H36:H40)","v":0},{"$f":"SUM(I36:I40)","v":0},{"$f":"I41-H41","v":0}]
[]
["Operating Income Revenue"]
[null,null,null,null,{"$f":"'Exec Summary'!E191","v":"Water resources: operating income - CALC - real"},null,{"$f":"'Exec Summary'!G191","v":"£m"},{"$f":"'Exec Summary'!Q191","v":0},{"$f":"'Exec Summary'!AA191","v":0}]
[null,null,null,null,{"$f":"'Exec Summary'!E215","v":"Water network: operating income - CALC - real"},null,{"$f":"'Exec Summary'!G215","v":"£m"},{"$f":"'Exec Summary'!Q215","v":0},{"$f":"'Exec Summary'!AA215","v":0}]
[null,null,null,null,{"$f":"'Exec Summary'!E239","v":"Wastewater network: operating income - CALC - real"},null,{"$f":"'Exec Summary'!G239","v":"£m"},{"$f":"'Exec Summary'!Q239","v":0},{"$f":"'Exec Summary'!AA239","v":0}]
[null,null,null,null,{"$f":"'Exec Summary'!E263","v":"Bio resources: operating income - CALC - real"},null,{"$f":"'Exec Summary'!G263","v":"£m"},{"$f":"'Exec Summary'!Q263","v":0},{"$f":"'Exec Summary'!AA263","v":0}]
[null,null,null,null,{"$f":"'Exec Summary'!E287","v":"Dummy control: operating income - CALC - real"},null,{"$f":"'Exec Summary'!G287","v":"£m"},{"$f":"'Exec Summary'!Q287","v":0},{"$f":"'Exec Summary'!AA287","v":0}]
[null,null,null,null,"Total Operating Income Revenue",null,"£m",{"$f":"SUM(H44:H48)","v":0},{"$f":"SUM(I44:I48)","v":0},{"$f":"I49-H49","v":0}]
[]
["Third party & principle service Revenue"]
[null,null,null,null,{"$f":"'Exec Summary'!E192","v":"Third party & principle service revenues - WR - real"},null,{"$f":"'Exec Summary'!G192","v":"£m"},{"$f":"'Exec Summary'!Q192","v":-31.928638636524763},{"$f":"'Exec Summary'!AA192","v":-31.928638636524767}]
[null,null,null,null,{"$f":"'Exec Summary'!E216","v":"Third party & principle service revenues - WN - real"},null,{"$f":"'Exec Summary'!G216","v":"£m"},{"$f":"'Exec Summary'!Q216","v":-88.399479250377127},{"$f":"'Exec Summary'!AA216","v":-88.399479250377141}]
[null,null,null,null,{"$f":"'Exec Summary'!E240","v":"Third party & principle service revenues - WWN - real"},null,{"$f":"'Exec Summary'!G240","v":"£m"},{"$f":"'Exec Summary'!Q240","v":-6.1472390688412784},{"$f":"'Exec Summary'!AA240","v":-6.1472390688412704}]
[null,null,null,null,{"$f":"'Exec Summary'!E264","v":"Third party & principle service revenues - BR - real"},null,{"$f":"'Exec Summary'!G264","v":"£m"},{"$f":"'Exec Summary'!Q264","v":-2.0819966324187997},{"$f":"'Exec Summary'!AA264","v":-2.0819966324188002}]
[null,null,null,null,{"$f":"'Exec Summary'!E288","v":"Third party & principle service revenues - DMMY - real"},null,{"$f":"'Exec Summary'!G288","v":"£m"},{"$f":"'Exec Summary'!Q288","v":0},{"$f":"'Exec Summary'!AA288","v":0}]
[null,null,null,null,"Total Third party & principle service Revenue",null,"£m",{"$f":"SUM(H52:H56)","v":-128.55735358816196},{"$f":"SUM(I52:I56)","v":-128.55735358816199},{"$f":"I57-H57","v":0}]
[]
["Third party & principle service Revenue"]
[null,null,null,null,{"$f":"'Exec Summary'!E193","v":"Adjustment to Wholesale revenue requirement - WR - real"},null,{"$f":"'Exec Summary'!G193","v":"£m"},{"$f":"'Exec Summary'!Q193","v":0},{"$f":"'Exec Summary'!AA193","v":0}]
[null,null,null,null,{"$f":"'Exec Summary'!E217","v":"Adjustment to Wholesale revenue requirement - WN - real"},null,{"$f":"'Exec Summary'!G217","v":"£m"},{"$f":"'Exec Summary'!Q217","v":0},{"$f":"'Exec Summary'!AA217","v":0}]
[null,null,null,null,{"$f":"'Exec Summary'!E241","v":"Adjustment to Wholesale revenue requirement - WWN - real"},null,{"$f":"'Exec Summary'!G241","v":"£m"},{"$f":"'Exec Summary'!Q241","v":0},{"$f":"'Exec Summary'!AA241","v":0}]
[null,null,null,null,{"$f":"'Exec Summary'!E265","v":"Adjustment to Wholesale revenue requirement - BR - real"},null,{"$f":"'Exec Summary'!G265","v":"£m"},{"$f":"'Exec Summary'!Q265","v":0},{"$f":"'Exec Summary'!AA265","v":0}]
[null,null,null,null,{"$f":"'Exec Summary'!E289","v":"Adjustment to Wholesale revenue requirement - DMMY - real"},null,{"$f":"'Exec Summary'!G289","v":"£m"},{"$f":"'Exec Summary'!Q289","v":0},{"$f":"'Exec Summary'!AA289","v":0}]
[null,null,null,null,"Total Adjustment to Wholesale revenue requirement Revenue",null,"£m",{"$f":"SUM(H60:H64)","v":0},{"$f":"SUM(I60:I64)","v":0},{"$f":"I65-H65","v":0}]
[]
["Revenue Solving Adjustment Revenue"]
[null,null,null,null,{"$f":"'Exec Summary'!E196","v":"Revenue solving adjustment - WR - real"},null,{"$f":"'Exec Summary'!G196","v":"£m"},{"$f":"'Exec Summary'!Q196","v":0},{"$f":"'Exec Summary'!AA196","v":-8.3323487190014589E-3}]
[null,null,null,null,{"$f":"'Exec Summary'!E220","v":"Revenue solving adjustment - WN - real"},null,{"$f":"'Exec Summary'!G220","v":"£m"},{"$f":"'Exec Summary'!Q220","v":0},{"$f":"'Exec Summary'!AA220","v":-6.3488317624035062E-2}]
[null,null,null,null,{"$f":"'Exec Summary'!E244","v":"Revenue solving adjustment - WWN - real"},null,{"$f":"'Exec Summary'!G244","v":"£m"},{"$f":"'Exec Summary'!Q244","v":0},{"$f":"'Exec Summary'!AA244","v":-8.9239943657162257E-2}]
[null,null,null,null,{"$f":"'Exec Summary'!E268","v":"Revenue solving adjustment - BR - real"},null,{"$f":"'Exec Summary'!G268","v":"£m"},{"$f":"'Exec Summary'!Q268","v":0},{"$f":"'Exec Summary'!AA268","v":-1.8894721094014244E-2}]
[null,null,null,null,{"$f":"'Exec Summary'!E292","v":"Revenue solving adjustment - DMMY - real"},null,{"$f":"'Exec Summary'!G292","v":"£m"},{"$f":"'Exec Summary'!Q292","v":0},{"$f":"'Exec Summary'!AA292","v":0}]
[null,null,null,null,"Total Revenue solving adjustment Revenue",null,"£m",{"$f":"SUM(H68:H72)","v":0},{"$f":"SUM(I68:I72)","v":-0.17995533109421302},{"$f":"I73-H73","v":-0.17995533109421302}]
[]
["Post financeability adjustments Revenue"]
[null,null,null,null,{"$f":"'Exec Summary'!E200","v":"Post financeability adjustments - WR - real"},null,{"$f":"'Exec Summary'!G200","v":"£m"},{"$f":"'Exec Summary'!Q200","v":0},{"$f":"'Exec Summary'!AA200","v":0}]
[null,null,null,null,{"$f":"'Exec Summary'!E224","v":"Post financeability adjustments - WN - real"},null,{"$f":"'Exec Summary'!G224","v":"£m"},{"$f":"'Exec Summary'!Q224","v":14.595981081521169},{"$f":"'Exec Summary'!AA224","v":28.268395353460793}]
[null,null,null,null,{"$f":"'Exec Summary'!E248","v":"Post financeability adjustments - WWN - real"},null,{"$f":"'Exec Summary'!G248","v":"£m"},{"$f":"'Exec Summary'!Q248","v":6.7083355578574428},{"$f":"'Exec Summary'!AA248","v":16.529354994064601}]
[null,null,null,null,{"$f":"'Exec Summary'!E272","v":"Post financeability adjustments - BR - real"},null,{"$f":"'Exec Summary'!G272","v":"£m"},{"$f":"'Exec Summary'!Q272","v":0},{"$f":"'Exec Summary'!AA272","v":0}]
[null,null,null,null,{"$f":"'Exec Summary'!E296","v":"Post financeability adjustments - DMMY - real"},null,{"$f":"'Exec Summary'!G296","v":"£m"},{"$f":"'Exec Summary'!Q296","v":0},{"$f":"'Exec Summary'!AA296","v":0}]
[null,null,null,null,"Total Post financeability adjustments Revenue",null,"£m",{"$f":"SUM(H76:H80)","v":21.304316639378612},{"$f":"SUM(I76:I80)","v":44.797750347525394},{"$f":"I81-H81","v":23.493433708146782}]
[]
[]
["Profiling Adjustments Revenue"]
[null,null,null,null,{"$f":"'Exec Summary'!E203","v":"Profiling adjustment - WR - real"},null,{"$f":"'Exec Summary'!G203","v":"£m"},{"$f":"'Exec Summary'!Q203","v":0},{"$f":"'Exec Summary'!AA203","v":0}]
[null,null,null,null,{"$f":"'Exec Summary'!E227","v":"Profiling adjustment - WN - real"},null,{"$f":"'Exec Summary'!G227","v":"£m"},{"$f":"'Exec Summary'!Q227","v":0},{"$f":"'Exec Summary'!AA227","v":0}]
[null,null,null,null,{"$f":"'Exec Summary'!E251","v":"Profiling adjustment - WWN - real"},null,{"$f":"'Exec Summary'!G251","v":"£m"},{"$f":"'Exec Summary'!Q251","v":0},{"$f":"'Exec Summary'!AA251","v":0}]
[null,null,null,null,{"$f":"'Exec Summary'!E275","v":"Profiling adjustment - BR - real"},null,{"$f":"'Exec Summary'!G275","v":"£m"},{"$f":"'Exec Summary'!Q275","v":0},{"$f":"'Exec Summary'!AA275","v":0}]
[null,null,null,null,{"$f":"'Exec Summary'!E299","v":"Profiling adjustment - DMMY - real"},null,{"$f":"'Exec Summary'!G299","v":"£m"},{"$f":"'Exec Summary'!Q299","v":0},{"$f":"'Exec Summary'!AA299","v":0}]
[null,null,null,null,"Total profile adjustments Revenue",null,"£m",{"$f":"SUM(H85:H89)","v":0},{"$f":"SUM(I85:I89)","v":0},{"$f":"I90-H90","v":0}]
[]
["Connection charges and infrastructure charges"]
[null,null,null,null,{"$f":"'Exec Summary'!E206","v":"Contributions from connection charges and revenue from infrastructure charges - forecast - WR - real"},null,{"$f":"'Exec Summary'!G206","v":"£m"},{"$f":"'Exec Summary'!Q206","v":0},{"$f":"'Exec Summary'!AA206","v":0}]
[null,null,null,null,{"$f":"'Exec Summary'!E230","v":"Contributions from connection charges and revenue from infrastructure charges - forecast - WN - real"},null,{"$f":"'Exec Summary'!G230","v":"£m"},{"$f":"'Exec Summary'!Q230","v":190.56641620470822},{"$f":"'Exec Summary'!AA230","v":104.22687059785069}]
[null,null,null,null,{"$f":"'Exec Summary'!E254","v":"Contributions from connection charges and revenue from infrastructure charges - forecast - WWN - real"},null,{"$f":"'Exec Summary'!G254","v":"£m"},{"$f":"'Exec Summary'!Q254","v":144.02257960066382},{"$f":"'Exec Summary'!AA254","v":131.78437279281789}]
[null,null,null,null,{"$f":"'Exec Summary'!E278","v":"Contributions from connection charges and revenue from infrastructure charges - forecast - BR - real"},null,{"$f":"'Exec Summary'!G278","v":"£m"},{"$f":"'Exec Summary'!Q278","v":0},{"$f":"'Exec Summary'!AA278","v":0}]
[null,null,null,null,{"$f":"'Exec Summary'!E302","v":"Contributions from connection charges and revenue from infrastructure charges - forecast - DMMY - real"},null,{"$f":"'Exec Summary'!G302","v":"£m"},{"$f":"'Exec Summary'!Q302","v":0},{"$f":"'Exec Summary'!AA302","v":0}]
[null,null,null,null,"Total connection charges and revenue from infrastructure charges",null,"£m",{"$f":"SUM(H93:H97)","v":334.58899580537206},{"$f":"SUM(I93:I97)","v":236.0112433906686},{"$f":"I98-H98","v":-98.577752414703468}]
[]
["Final Allowed Revenues"]
[null,null,null,null,{"$f":"'Exec Summary'!E207","v":"Final Allowed Revenues - WR - real"},null,{"$f":"'Exec Summary'!G207","v":"£m"},{"$f":"'Exec Summary'!Q207","v":280.47243165629033},{"$f":"'Exec Summary'!AA207","v":250.66300056522246}]
[null,null,null,null,{"$f":"'Exec Summary'!E231","v":"Final Allowed Revenues - WN - real"},null,{"$f":"'Exec Summary'!G231","v":"£m"},{"$f":"'Exec Summary'!Q231","v":2333.9713374130533},{"$f":"'Exec Summary'!AA231","v":2054.6585849775788}]
[null,null,null,null,{"$f":"'Exec Summary'!E255","v":"Final Allowed Revenues - WWN - real"},null,{"$f":"'Exec Summary'!G255","v":"£m"},{"$f":"'Exec Summary'!Q255","v":3115.6648057171683},{"$f":"'Exec Summary'!AA255","v":2861.9954614847047}]
[null,null,null,null,{"$f":"'Exec Summary'!E279","v":"Final Allowed Revenues - BR - real"},null,{"$f":"'Exec Summary'!G279","v":"£m"},{"$f":"'Exec Summary'!Q279","v":546.66445313008114},{"$f":"'Exec Summary'!AA279","v":476.29608200499956}]
[null,null,null,null,{"$f":"'Exec Summary'!E303","v":"Final Allowed Revenues - DMMY - real"},null,{"$f":"'Exec Summary'!G303","v":"£m"},{"$f":"'Exec Summary'!Q303","v":0},{"$f":"'Exec Summary'!AA303","v":0}]
[null,null,null,null,"Total Final Allowed Revenue",null,"£m",{"$f":"SUM(H101:H105)","v":6276.7730279165926},{"$f":"SUM(I101:I105)","v":5643.6131290325047},{"$f":"I106-H106","v":-633.15989888408785}]
[]
["Wholesale Checks"]
[null,null,null,null,{"$f":" E$9","v":"Total PAYG Revenue"},0,"£m",2825.4100269549999,2540.2527743988658,-285.15725255613415]
[null,null,null,null,{"$f":" E$17","v":"Total Pension Deficit Recovery Revenue"},0,"£m",57.224685903846208,70.03317332438516,12.808487420538953]
[null,null,null,null,{"$f":" E$25","v":"Total WACC Revenue"},0,"£m",1191.8725740850471,985.61390694491047,-206.25866714013659]
[null,null,null,null,{"$f":" E$33","v":"Total RCV Run-off Revenue"},0,"£m",1974.9297821161117,1895.6415895454061,-79.288192570705633]
[null,null,null,null,{"$f":" E$41","v":"Total Tax Revenue"},0,"£m",0,0,0]
[null,null,null,null,{"$f":" E$49","v":"Total Operating Income Revenue"},0,"£m",0,0,0]
[null,null,null,null,{"$f":" E$57","v":"Total Third party & principle service Revenue"},0,"£m",-128.55735358816196,-128.55735358816199,0]
[null,null,null,null,{"$f":" E$65","v":"Total Adjustment to Wholesale revenue requirement Revenue"},0,"£m",0,0,0]
[null,null,null,null,{"$f":" E$73","v":"Total Revenue solving adjustment Revenue"},0,"£m",0,-0.17995533109421302,{"$f":" J$73","v":-0.17995533109421302}]
[null,null,null,null,{"$f":" E$81","v":"Total Post financeability adjustments Revenue"},0,"£m",21.304316639378612,44.797750347525394,23.493433708146782]
[null,null,null,null,{"$f":" E$90","v":"Total profile adjustments Revenue"},0,"£m",0,0,0]
[null,null,null,null,{"$f":" E$98","v":"Total connection charges and revenue from infrastructure charges"},0,"£m",334.58899580537206,236.0112433906686,-98.577752414703468]
[null,null,null,null,"Building Block totals and delta",null,"£m",{"$f":"SUM(H109:H120)","v":6276.7730279165935},{"$f":"SUM(I109:I120)","v":5643.6131290325065},{"$f":"SUM(J109:J120)","v":-633.15989888408831}]
[]
[null,null,null,null,{"$f":" E$121","v":"Building Block totals and delta"},0,"£m",6276.7730279165935,5643.6131290325065,-633.15989888408831]
[null,null,null,null,{"$f":" E$106","v":"Total Final Allowed Revenue"},0,"£m",6276.7730279165926,5643.6131290325047,-633.15989888408785]
[null,null,null,null,"Check of final allowed revenue against building blocks",null,null,{"$f":"H123=H124","v":true},{"$f":"I123=I124","v":false},{"$f":"J123=J124","v":true}]
[]
["Retail"]
[null,null,null,null,{"$f":"'Exec Summary'!E43","v":"Residential retail service revenue - real"},null,{"$f":"'Exec Summary'!G43","v":"£m"},{"$f":"'Exec Summary'!Q43","v":446.93598969292952},{"$f":"'Exec Summary'!AA43","v":425.98375020783124}]
[null,null,null,null,{"$f":"'Exec Summary'!E46","v":"Business retail service revenue - real"},null,{"$f":"'Exec Summary'!G46","v":"£m"},{"$f":"'Exec Summary'!Q46","v":0},{"$f":"'Exec Summary'!AA46","v":0}]
[null,null,null,null,"Retail Revenue",null,"£m",{"$f":"SUM(H128:H129)","v":446.93598969292952},{"$f":"SUM(I128:I129)","v":425.98375020783124},{"$f":"I130-H130","v":-20.952239485098289}]
[]
["Appointee"]
[]
[null,null,null,null,{"$f":" 'Exec Summary'!E$49","v":"Appointee Total Revenues - real"},null,{"$f":" 'Exec Summary'!G$49","v":"£m"},{"$f":"'Exec Summary'!Q$49","v":6788.2156360534136},{"$f":"'Exec Summary'!AA$49","v":6134.1034976842293}]
[null,null,null,null,"Appointee Revenue",null,"£m",{"$f":"SUM(H133:H134)","v":6788.2156360534136},{"$f":"SUM(I133:I134)","v":6134.1034976842293},{"$f":"I135-H135","v":-654.11213836918432}]
[]
["Chart data"]
[]
[null,null,null,null,"Add in retails element"]
[]
[]
[null,null,null,null,null,"Values","Ends","Blank","Up > 0","Up <0","Down > 0","Down < 0"]
[null,null,null,null,"1st April Business Plan Financial Model",{"$f":"H135","v":6788.2156360534136},{"$f":"F143","v":6788.2156360534136}]
[null,null,null,null,"Changes to opex/capex split",{"$f":"J224","v":121.52250581029767},null,{"$f":"MAX(0,MIN(SUM(F$143:F143),SUM(F$143:F144)))+MIN(0,MAX(SUM(F$143:F143),SUM(F$143:F144)))","v":6788.2156360534136},{"$f":"MAX(0,MIN(SUM(F$143:F144),F144))","v":121.52250581029767},{"$f":"-MAX(0,F144-I144)","v":0},{"$f":"MAX(0,L144-F144)","v":0},{"$f":"MIN(0,MAX(SUM(F$143:F144),F144))","v":0}]
[null,null,null,null,"Changes to Totex",{"$f":"J109 - (F144 +F146)","v":-406.67975836643183},null,{"$f":"MAX(0,MIN(SUM(F$143:F144),SUM(F$143:F145)))+MIN(0,MAX(SUM(F$143:F144),SUM(F$143:F145)))","v":6503.0583834972795},{"$f":"MAX(0,MIN(SUM(F$143:F145),F145))","v":0},{"$f":"-MAX(0,F145-I145)","v":0},{"$f":"MAX(0,L145-F145)","v":406.67975836643183},{"$f":"MIN(0,MAX(SUM(F$143:F145),F145))","v":0}]
[null,null,null,null,"PAYG adjustments for financeability",{"$f":"J227","v":0},null,{"$f":"MAX(0,MIN(SUM(F$143:F145),SUM(F$143:F146)))+MIN(0,MAX(SUM(F$143:F145),SUM(F$143:F146)))","v":6503.0583834972795},{"$f":"MAX(0,MIN(SUM(F$143:F146),F146))","v":0},0,0,{"$f":"MIN(0,MAX(SUM(F$143:F146),F146))","v":0}]
[null,null,null,null,"Pension Deficit Recovery revenue",{"$f":"J228","v":0},null,{"$f":"MAX(0,MIN(SUM(F$143:F146),SUM(F$143:F147)))+MIN(0,MAX(SUM(F$143:F146),SUM(F$143:F147)))","v":6503.0583834972795},{"$f":"MAX(0,MIN(SUM(F$143:F147),F147))","v":0},0,0,{"$f":"MIN(0,MAX(SUM(F$143:F147),F147))","v":0}]
[null,null,null,null,"WACC related revenue",{"$f":"J111","v":-206.25866714013659},null,{"$f":"MAX(0,MIN(SUM(F$143:F147),SUM(F$143:F148)))+MIN(0,MAX(SUM(F$143:F147),SUM(F$143:F148)))","v":6296.7997163571426},{"$f":"MAX(0,MIN(SUM(F$143:F148),F148))","v":0},0,206.25866714013659,{"$f":"MIN(0,MAX(SUM(F$143:F148),F148))","v":0}]
[null,null,null,null,"RCV Run-off revenue",-79.288192570705633,null,{"$f":"MAX(0,MIN(SUM(F$143:F148),SUM(F$143:F149)))+MIN(0,MAX(SUM(F$143:F148),SUM(F$143:F149)))","v":6217.5115237864375},{"$f":"MAX(0,MIN(SUM(F$143:F149),F149))","v":0},0,79.288192570705633,{"$f":"MIN(0,MAX(SUM(F$143:F149),F149))","v":0}]
[null,null,null,null,"Tax revenue",0,null,{"$f":"MAX(0,MIN(SUM(F$143:F149),SUM(F$143:F150)))+MIN(0,MAX(SUM(F$143:F149),SUM(F$143:F150)))","v":6217.5115237864375},{"$f":"MAX(0,MIN(SUM(F$143:F150),F150))","v":0},0,0,{"$f":"MIN(0,MAX(SUM(F$143:F150),F150))","v":0}]
[null,null,null,null,"Revenue profiling adjustments",{"$f":"J117 + J119","v":-0.17995533109421302},null,{"$f":"MAX(0,MIN(SUM(F$143:F150),SUM(F$143:F151)))+MIN(0,MAX(SUM(F$143:F150),SUM(F$143:F151)))","v":6217.3315684553436},{"$f":"MAX(0,MIN(SUM(F$143:F151),F151))","v":0},0,0.17995533109421302,{"$f":"MIN(0,MAX(SUM(F$143:F151),F151))","v":0}]
[null,null,null,null,"Post financeability adjustments",{"$f":"J118","v":23.493433708146782},null,{"$f":"MAX(0,MIN(SUM(F$143:F151),SUM(F$143:F152)))+MIN(0,MAX(SUM(F$143:F151),SUM(F$143:F152)))","v":6217.3315684553436},{"$f":"MAX(0,MIN(SUM(F$143:F152),F152))","v":23.493433708146782},0,0,{"$f":"MIN(0,MAX(SUM(F$143:F152),F152))","v":0}]
[null,null,null,null,"Other",{"$f":"J110 + J114 +J115 + J116","v":12.808487420538953},null,{"$f":"MAX(0,MIN(SUM(F$143:F152),SUM(F$143:F153)))+MIN(0,MAX(SUM(F$143:F152),SUM(F$143:F153)))","v":6240.8250021634904},{"$f":"MAX(0,MIN(SUM(F$143:F153),F153))","v":12.808487420538953},0,0,{"$f":"MIN(0,MAX(SUM(F$143:F153),F153))","v":0}]
[null,null,null,null,"Connection charges & revenue from infrastructure charges",{"$f":"J120","v":-98.577752414703468},null,{"$f":"MAX(0,MIN(SUM(F$143:F153),SUM(F$143:F154)))+MIN(0,MAX(SUM(F$143:F153),SUM(F$143:F154)))","v":6155.0557371693258},{"$f":"MAX(0,MIN(SUM(F$143:F154),F154))","v":0},0,98.577752414703468,{"$f":"MIN(0,MAX(SUM(F$143:F154),F154))","v":0}]
[null,null,null,null,"Retail revenue",{"$f":"J130","v":-20.952239485098289},null,{"$f":"MAX(0,MIN(SUM(F$143:F154),SUM(F$143:F155)))+MIN(0,MAX(SUM(F$143:F154),SUM(F$143:F155)))","v":6134.1034976842275},{"$f":"MAX(0,MIN(SUM(F$143:F155),F155))","v":0},0,20.952239485098289,{"$f":"MIN(0,MAX(SUM(F$143:F155),F155))","v":0}]
[null,null,null,null,"Final Determination",null,{"$f":"I135","v":6134.1034976842293}]
[]
[]
[null,null,null,null,"Revenue movements since draft determinations"]
[]
[]
[]
[]
[]
[]
[]
[]
[]
[]
[]
[]
[]
[]
[]
[]
[]
[]
[]
[]
[]
[]
[]
[]
[]
[]
[]
[]
[]
[]
[]
[]
[]
[]
[]
[]
[]
[]
[]
[]
[]
[]
[]
[]
[]
[]
[]
[]
[null,null,null,null,null,null,null,null,null,446]
[null,null,null,null,null,null,null,null,null,374]
[null,null,null,null,null,null,null,null,null,{"$f":"J208-J209","v":72},"totex "]
[null,null,null,null,null,null,null,{"$f":"I219/H219","v":0.82947698643477796},{"$f":"H219/I219","v":1.2055789568052475}]
[]
[]
[]
[]
[]
[null,null,null,null,"PAYG Revenue Breakdown"]
[null,null,null,null,null,null,null,"DD Model","FD Model","Delta"]
[null,null,null,null,"Totex",null,null,{"$f":"SUM('Exec Summary'!Q314,'Exec Summary'!Q325,'Exec Summary'!Q336,'Exec Summary'!Q347)","v":6021.4283667136697},{"$f":"SUM('Exec Summary'!AA314,'Exec Summary'!AA325,'Exec Summary'!AA336,'Exec Summary'!AA347)","v":4994.6362556545419},{"$f":"I219-H219","v":-1026.7921110591278},"Totex related revenue"]
[null,null,null,null,"Opex",null,null,{"$f":"SUM('Exec Summary'!P315,'Exec Summary'!P326,'Exec Summary'!P337,'Exec Summary'!P348)","v":2825.4100269549995},{"$f":"SUM('Exec Summary'!Z315,'Exec Summary'!Z326,'Exec Summary'!Z337,'Exec Summary'!Z348)","v":2444.4127165047662},{"$f":"I220-H220","v":-380.99731045023327}]
[null,null,null,null,"Capex",null,null,{"$f":"SUM('Exec Summary'!P316,'Exec Summary'!P327,'Exec Summary'!P338,'Exec Summary'!P349)","v":3196.0183397586688},{"$f":"SUM('Exec Summary'!Z316,'Exec Summary'!Z327,'Exec Summary'!Z338,'Exec Summary'!Z349)","v":2550.2235391497752},{"$f":"I221-H221","v":-645.79480060889364}]
[null,null,null,null,"Opex %",null,null,{"$f":"H220/SUM(H220:H221)","v":0.46922588045285202},{"$f":"I220/SUM(I220:I221)","v":0.48940755470178454}]
[null,null,null,null,null,null,null,null,null,{"$f":"J219*I222","v":-502.51981626053094}]
[null,null,null,null,null,null,null,null,null,{"$f":"J220-J223","v":121.52250581029767},"Opex capex split"]
[null,null,null,null,null,null,null,null,null,{"$f":"J223+J221","v":-1148.3146168694245}]
[null,null,null,null,"PAYG Pull",null,null,null,{"$f":"'[2]Adjustments workings sheet'!$M$50","v":0}]
[null,null,null,null,null,null,null,null,null,{"$f":"I219 * I226","v":0},"pull"]

{"sheet":"FinStat_Appointee","index":3,"n_rows":142,"n_cols":47,"rows_kept":142,"cut":false,"hidden":false,"merged":[[0,8,0,16],[0,18,0,26],[0,28,0,36],[0,38,0,46]]}
[null,null,null,null,{"$f":" RIGHT(CELL(\"FILENAME\", $A$1), LEN(CELL(\"FILENAME\", $A$1)) - SEARCH(\"]\", CELL(\"FILENAME\", $A$1)))","v":"FinStat_Appointee"},null,null,null,{"$f":"'Front sheet'!$F5 & \": \" & 'Front sheet'!$G5 & \" - \" & 'Front sheet'!$H5","v":"Model 1: ANH - Company 1 April NTN Post"},null,null,null,null,null,null,null,null,null,{"$f":"'Front sheet'!$F6 & \": \" & 'Front sheet'!$G6 & \" - \" & 'Front sheet'!$H6","v":"Model 2: ANH - Ofwat FD NTN Post "},null,null,null,null,null,null,null,null,null,{"$f":"\"Delta (\" & 'Front sheet'!$F5 & \" - \" & 'Front sheet'!$F6 & \")\"","v":"Delta (Model 1 - Model 2)"},null,null,null,null,null,null,null,null,null,{"$f":"\"Delta  (\" & 'Front sheet'!$F5 & \" - \" & 'Front sheet'!$F6 & \") - %\"","v":"Delta  (Model 1 - Model 2) - %"}]
[]
[null,null,null,"Model period ending",null,null,null,null,"2019-03-31","2020-03-31","2021-03-31","2022-03-31","2023-03-31","2024-03-31","2025-03-31","2021-25",null,null,"2019-03-31","2020-03-31","2021-03-31","2022-03-31","2023-03-31","2024-03-31","2025-03-31","2021-25",null,null,"2019-03-31","2020-03-31","2021-03-31","2022-03-31","2023-03-31","2024-03-31","2025-03-31",null,null,null,"2019-03-31","2020-03-31","2021-03-31","2022-03-31","2023-03-31","2024-03-31","2025-03-31"]
[null,null,null,"Timeline label",null,null,null,null,"Pre-Fcst","Pre-Fcst","Forecast","Forecast","Forecast","Forecast","Forecast","5y ave","Total",null,"Pre-Fcst","Pre-Fcst","Forecast","Forecast","Forecast","Forecast","Forecast","5y ave","Total",null,"Pre-Fcst","Pre-Fcst","Forecast","Forecast","Forecast","Forecast","Forecast",null,"Total",null,"Pre-Fcst","Pre-Fcst","Forecast","Forecast","Forecast","Forecast","Forecast",null,"Total"]
[null,null,null,"Financial year ending",null,null,null,null,2019,2020,2021,2022,2023,2024,2025,null,null,null,2019,2020,2021,2022,2023,2024,2025,null,null,null,2019,2020,2021,2022,2023,2024,2025,null,null,null,2019,2020,2021,2022,2023,2024,2025]
[null,null,null,"Model column counter",null,null,null,null,1,2,3,4,5,6,7,null,null,null,1,2,3,4,5,6,7,null,null,null,1,2,3,4,5,6,7,null,null,null,1,2,3,4,5,6,7]
[]
[null,null,null,null,{"$f":"'Front sheet'!$F5 & \": \" & 'Front sheet'!$G5 & \" - \" & 'Front sheet'!$I5","v":"Model 1: ANH - "}]
[null,null,null,null,{"$f":"'Front sheet'!$F6 & \": \" & 'Front sheet'!$G6 & \" - \" & 'Front sheet'!$I6","v":"Model 2: ANH - "}]
[null,null,null,null,"3rd model not in use"]
[]
[null,null,null,"Check Delta (numbers)",null,null,null,null,null,null,null,null,null,null,null,null,null,null,null,null,null,null,null,null,null,null,null,null,{"$f":"COUNTIF(AC19:AC311,\"<>0\") - COUNTBLANK(AC19:AC311) - AC13","v":0},29,61,62,61,62,62,null,{"$f":"COUNTIF(AK19:AK311,\"<>0\") - COUNTBLANK(AK19:AK311) - AK13","v":54},null,{"$f":"COUNTIF(AM19:AM311,\"<>0\") - COUNTBLANK(AM19:AM311) - AM13","v":0},16,61,62,61,61,61,null,{"$f":"COUNTIF(AU19:AU311,\"<>0\") - COUNTBLANK(AU19:AU311) - AU13","v":54}]
[null,null,null,"Check Delta (errors)",null,null,null,null,null,null,null,null,null,null,null,null,null,null,null,null,null,null,null,null,null,null,null,null,{"$f":"COUNT( IF( ISERROR(AC19:AC309), 1) )","v":1},{"$f":"COUNT( IF( ISERROR(AD19:AD309), 1) )","v":0},{"$f":"COUNT( IF( ISERROR(AE19:AE309), 1) )","v":0},{"$f":"COUNT( IF( ISERROR(AF19:AF309), 1) )","v":0},{"$f":"COUNT( IF( ISERROR(AG19:AG309), 1) )","v":0},{"$f":"COUNT( IF( ISERROR(AH19:AH309), 1) )","v":0},{"$f":"COUNT( IF( ISERROR(AI19:AI309), 1) )","v":0},null,{"$f":"COUNT( IF( ISERROR(AK19:AK309), 1) )","v":0},null,{"$f":"COUNT( IF( ISERROR(AM19:AM309), 1) )","v":1},{"$f":"COUNT( IF( ISERROR(AN19:AN309), 1) )","v":0},{"$f":"COUNT( IF( ISERROR(AO19:AO309), 1) )","v":0},{"$f":"COUNT( IF( ISERROR(AP19:AP309), 1) )","v":0},{"$f":"COUNT( IF( ISERROR(AQ19:AQ309), 1) )","v":0},{"$f":"COUNT( IF( ISERROR(AR19:AR309), 1) )","v":0},{"$f":"COUNT( IF( ISERROR(AS19:AS309), 1) )","v":0},null,{"$f":"COUNT( IF( ISERROR(AU19:AU309), 1) )","v":0}]
[]
["PROFIT & LOSS"]
[]
[null,null,null,null,"Revenue - Appointee - nominal","PL","£m",null,{"$f":"[1]FinStat_Appointee!$J9","v":0},{"$f":"[1]FinStat_Appointee!$K9","v":17.206152838999998},{"$f":"[1]FinStat_Appointee!$L9","v":1333.6960421529916},{"$f":"[1]FinStat_Appointee!$M9","v":1369.6740785114218},{"$f":"[1]FinStat_Appointee!$N9","v":1417.4610232762702},{"$f":"[1]FinStat_Appointee!$O9","v":1466.7748017458232},{"$f":"[1]FinStat_Appointee!$P9","v":1507.1134250627283},{"$f":"AVERAGE(K17:O17)","v":1418.9438741498473},{"$f":"SUM(I17:O17)","v":7111.9255235882347},null,{"$f":"[2]FinStat_Appointee!$J9","v":0},{"$f":"[2]FinStat_Appointee!$K9","v":0},{"$f":"[2]FinStat_Appointee!$L9","v":1226.9773218154755},{"$f":"[2]FinStat_Appointee!$M9","v":1259.4646226551229},{"$f":"[2]FinStat_Appointee!$N9","v":1291.5720381142226},{"$f":"[2]FinStat_Appointee!$O9","v":1323.863296419473},{"$f":"[2]FinStat_Appointee!$P9","v":1356.0208056427612},{"$f":"AVERAGE(U17:Y17)","v":1291.579616929411},{"$f":"SUM(S17:Y17)","v":6457.8980846470549},null,{"$f":"ROUND(I17 - S17, 3)","v":0},{"$f":"ROUND(J17 - T17, 3)","v":17.206},{"$f":"ROUND(K17 - U17, 3)","v":106.71899999999999},{"$f":"ROUND(L17 - V17, 3)","v":110.209},{"$f":"ROUND(M17 - W17, 3)","v":125.889},{"$f":"ROUND(N17 - X17, 3)","v":142.91200000000001},{"$f":"ROUND(O17 - Y17, 3)","v":151.09299999999999},null,{"$f":"ROUND(Q17 - AA17, 3)","v":654.02700000000004},null,{"$f":"IF(S17 = 0, 0, AC17 / S17)","v":0},{"$f":"IF(T17 = 0, 0, AD17 / T17)","v":0},{"$f":"IF(U17 = 0, 0, AE17 / U17)","v":8.697715768869721E-2},{"$f":"IF(V17 = 0, 0, AF17 / V17)","v":8.7504641271832176E-2},{"$f":"IF(W17 = 0, 0, AG17 / W17)","v":9.7469592314653977E-2},{"$f":"IF(X17 = 0, 0, AH17 / X17)","v":0.1079507229987571},{"$f":"IF(Y17 = 0, 0, AI17 / Y17)","v":0.11142380660478221},null,{"$f":"IF(AA17 = 0, 0, AK17 / AA17)","v":0.10127552207038967}]
[null,null,null,null,"Operating income - Appointee - nominal","PL","£m",null,{"$f":"[1]FinStat_Appointee!$J10","v":0},{"$f":"[1]FinStat_Appointee!$K10","v":0},{"$f":"[1]FinStat_Appointee!$L10","v":0},{"$f":"[1]FinStat_Appointee!$M10","v":0},{"$f":"[1]FinStat_Appointee!$N10","v":0},{"$f":"[1]FinStat_Appointee!$O10","v":0},{"$f":"[1]FinStat_Appointee!$P10","v":0},{"$f":"AVERAGE(K18:O18)","v":0},{"$f":"SUM(I18:O18)","v":0},null,{"$f":"[2]FinStat_Appointee!$J10","v":0},{"$f":"[2]FinStat_Appointee!$K10","v":0},{"$f":"[2]FinStat_Appointee!$L10","v":0},{"$f":"[2]FinStat_Appointee!$M10","v":0},{"$f":"[2]FinStat_Appointee!$N10","v":0},{"$f":"[2]FinStat_Appointee!$O10","v":0},{"$f":"[2]FinStat_Appointee!$P10","v":0},{"$f":"AVERAGE(U18:Y18)","v":0},{"$f":"SUM(S18:Y18)","v":0},null,0,0,0,0,0,0,0,null,0,null,0,0,0,0,0,0,0,null,0]
[null,null,null,null,"Opex - Appointee - nominal","PL","£m",null,{"$f":"[1]FinStat_Appointee!$J11","v":0},{"$f":"[1]FinStat_Appointee!$K11","v":0},{"$f":"[1]FinStat_Appointee!$L11","v":-684.20390697636094},{"$f":"[1]FinStat_Appointee!$M11","v":-701.49889112354401},{"$f":"[1]FinStat_Appointee!$N11","v":-715.65459270165161},{"$f":"[1]FinStat_Appointee!$O11","v":-720.96205671364999},{"$f":"[1]FinStat_Appointee!$P11","v":-716.61963894035352},-707.78781729111211,{"$f":"SUM(I19:O19)","v":-3538.9390864555603},null,{"$f":"[2]FinStat_Appointee!$J11","v":0},{"$f":"[2]FinStat_Appointee!$K11","v":0},{"$f":"[2]FinStat_Appointee!$L11","v":-591.39619804271479},{"$f":"[2]FinStat_Appointee!$M11","v":-607.38056078579507},{"$f":"[2]FinStat_Appointee!$N11","v":-627.06227466777557},{"$f":"[2]FinStat_Appointee!$O11","v":-642.88763653716398},{"$f":"[2]FinStat_Appointee!$P11","v":-653.90515455813443},-624.52636491831674,{"$f":"SUM(S19:Y19)","v":-3122.6318245915836},null,0,0,-92.808000000000007,-94.117999999999995,-88.591999999999999,-78.073999999999998,-62.713999999999999,null,-416.30700000000002,null,0,0,0.15693032912142049,0.15495721476208488,0.14128102355852457,0.1214426838576895,9.5906875122246049E-2,null,0.13331927149447079]
[null,null,null,null,"Depreciation - Appointee - nominal","PL","£m",null,{"$f":"[1]FinStat_Appointee!$J12","v":0},{"$f":"[1]FinStat_Appointee!$K12","v":0},{"$f":"[1]FinStat_Appointee!$L12","v":-339.57270932782166},{"$f":"[1]FinStat_Appointee!$M12","v":-356.09056367756568},{"$f":"[1]FinStat_Appointee!$N12","v":-373.23247569864662},{"$f":"[1]FinStat_Appointee!$O12","v":-397.72717305881196},{"$f":"[1]FinStat_Appointee!$P12","v":-432.67111152545436},-379.85880665766001,{"$f":"SUM(I20:O20)","v":-1899.2940332883002},null,{"$f":"[2]FinStat_Appointee!$J12","v":0},{"$f":"[2]FinStat_Appointee!$K12","v":0},{"$f":"[2]FinStat_Appointee!$L12","v":-338.52512951828606},{"$f":"[2]FinStat_Appointee!$M12","v":-352.72157781998624},{"$f":"[2]FinStat_Appointee!$N12","v":-367.41621141614473},{"$f":"[2]FinStat_Appointee!$O12","v":-387.4318099170066},{"$f":"[2]FinStat_Appointee!$P12","v":-416.68652412338446},-372.55625055896161,{"$f":"SUM(S20:Y20)","v":-1862.7812527948081},null,0,0,-1.048,-3.3690000000000002,-5.8159999999999998,-10.295,-15.984999999999999,null,-36.512999999999998,null,0,0,3.0957819925843655E-3,9.5514428712365068E-3,1.5829459395880204E-2,2.6572418001003417E-2,3.8362171739604191E-2,null,1.9601335339411444E-2]
[null,null,null,null,"Operating profit - Appointee - nominal",null,"£m",null,{"$f":"[1]FinStat_Appointee!$J13","v":0},{"$f":"[1]FinStat_Appointee!$K13","v":17.206152838999998},{"$f":"[1]FinStat_Appointee!$L13","v":309.919425848809},{"$f":"[1]FinStat_Appointee!$M13","v":312.08462371031214},{"$f":"[1]FinStat_Appointee!$N13","v":328.57395487597199},{"$f":"[1]FinStat_Appointee!$O13","v":348.08557197336125},{"$f":"[1]FinStat_Appointee!$P13","v":357.82267459692042},331.29725020107497,{"$f":"SUM(I21:O21)","v":1673.6924038443749},null,{"$f":"[2]FinStat_Appointee!$J13","v":0},{"$f":"[2]FinStat_Appointee!$K13","v":0},{"$f":"[2]FinStat_Appointee!$L13","v":297.05599425447468},{"$f":"[2]FinStat_Appointee!$M13","v":299.36248404934156},{"$f":"[2]FinStat_Appointee!$N13","v":297.09355203030225},{"$f":"[2]FinStat_Appointee!$O13","v":293.54384996530246},{"$f":"[2]FinStat_Appointee!$P13","v":285.42912696124228},294.49700145213262,{"$f":"SUM(S21:Y21)","v":1472.4850072606632},null,0,17.206,12.863,12.722,31.48,54.542000000000002,72.394000000000005,null,201.20699999999999,null,0,0,4.3301600535893707E-2,4.2496974998053307E-2,0.1059598896875055,0.18580528941910038,0.2536321389856972,null,0.13664451522960858]
[null,null,null,null,null,null,null,null,null,null,null,null,null,null,null,null,null,null,null,null,null,null,null,null,null,null,null,null,0,0,0,0,0,0,0,null,0,null,0,0,0,0,0,0,0,null,0]
[null,null,null,null,"Other Income (incl. 3rd party income) - Appointee - nominal","PL & CF","£m",null,{"$f":"[1]FinStat_Appointee!$J15","v":0},{"$f":"[1]FinStat_Appointee!$K15","v":0},{"$f":"[1]FinStat_Appointee!$L15","v":26.848218710355564},{"$f":"[1]FinStat_Appointee!$M15","v":27.988022848658403},{"$f":"[1]FinStat_Appointee!$N15","v":28.685869809687038},{"$f":"[1]FinStat_Appointee!$O15","v":29.40459100127967},{"$f":"[1]FinStat_Appointee!$P15","v":29.796488696837034},28.544638213363545,{"$f":"SUM(I23:O23)","v":142.72319106681772},null,{"$f":"[2]FinStat_Appointee!$J15","v":0},{"$f":"[2]FinStat_Appointee!$K15","v":0},{"$f":"[2]FinStat_Appointee!$L15","v":26.743677650647083},{"$f":"[2]FinStat_Appointee!$M15","v":27.880191141204822},{"$f":"[2]FinStat_Appointee!$N15","v":28.596395800973255},{"$f":"[2]FinStat_Appointee!$O15","v":29.341613344469298},{"$f":"[2]FinStat_Appointee!$P15","v":29.761821366277886},28.464739860714467,{"$f":"SUM(S23:Y23)","v":142.32369930357234},null,0,0,0.105,0.108,8.8999999999999996E-2,6.3E-2,3.5000000000000003E-2,null,0.39900000000000002,null,0,0,3.9261615912222691E-3,3.8737180621543207E-3,3.1122803243956694E-3,2.1471211981557614E-3,1.1760032952706759E-3,null,2.8034684451880678E-3]
[null,null,null,null,"Interest (income) /expense excl. indexation of index-linked loans - Appointee - nominal","PL & CF","£m",null,{"$f":"[1]FinStat_Appointee!$J16","v":0},{"$f":"[1]FinStat_Appointee!$K16","v":0},{"$f":"[1]FinStat_Appointee!$L16","v":-163.54339357396935},{"$f":"[1]FinStat_Appointee!$M16","v":-172.14280168335668},{"$f":"[1]FinStat_Appointee!$N16","v":-186.42705008364635},{"$f":"[1]FinStat_Appointee!$O16","v":-204.22211235449495},{"$f":"[1]FinStat_Appointee!$P16","v":-218.92913531907999},-189.05289860290947,{"$f":"SUM(I24:O24)","v":-945.26449301454727},null,{"$f":"[2]FinStat_Appointee!$J16","v":0},{"$f":"[2]FinStat_Appointee!$K16","v":0},{"$f":"[2]FinStat_Appointee!$L16","v":-151.56932395890348},{"$f":"[2]FinStat_Appointee!$M16","v":-155.65858219696909},{"$f":"[2]FinStat_Appointee!$N16","v":-165.24716057561909},{"$f":"[2]FinStat_Appointee!$O16","v":-175.40081098277915},{"$f":"[2]FinStat_Appointee!$P16","v":-180.59689973467914},-165.69455548978999,{"$f":"SUM(S24:Y24)","v":-828.47277744894996},null,0,0,-11.974,-16.484000000000002,-21.18,-28.821000000000002,-38.332000000000001,null,-116.792,null,0,0,7.9000154432612185E-2,0.10589843340048725,0.12817164256391428,0.16431508975650999,0.2122517056290269,null,0.14097264651184832]
[null,null,null,null,"Indexation of index-linked loans - Appointee - nominal","PL","£m",null,{"$f":"[1]FinStat_Appointee!$J17","v":0},{"$f":"[1]FinStat_Appointee!$K17","v":0},{"$f":"[1]FinStat_Appointee!$L17","v":-47.325206570391032},{"$f":"[1]FinStat_Appointee!$M17","v":-48.744962767502756},{"$f":"[1]FinStat_Appointee!$N17","v":-50.207311650527842},{"$f":"[1]FinStat_Appointee!$O17","v":-51.71353100004368},{"$f":"[1]FinStat_Appointee!$P17","v":-53.264936930044982},-50.25118978370206,{"$f":"SUM(I25:O25)","v":-251.25594891851028},null,{"$f":"[2]FinStat_Appointee!$J17","v":0},{"$f":"[2]FinStat_Appointee!$K17","v":0},{"$f":"[2]FinStat_Appointee!$L17","v":-46.80446748470554},{"$f":"[2]FinStat_Appointee!$M17","v":-48.208601509246705},{"$f":"[2]FinStat_Appointee!$N17","v":-49.654859554524116},{"$f":"[2]FinStat_Appointee!$O17","v":-51.144505341159842},{"$f":"[2]FinStat_Appointee!$P17","v":-52.678840501394632},-49.698254878206171,{"$f":"SUM(S25:Y25)","v":-248.49127439103086},null,0,0,-0.52100000000000002,-0.53600000000000003,-0.55200000000000005,-0.56899999999999995,-0.58599999999999997,null,-2.7650000000000001,null,0,0,1.1131416037801285E-2,1.111834783046324E-2,1.1116736709201037E-2,1.1125339783902118E-2,1.1124010977130108E-2,null,1.1127151272317677E-2]
[null,null,null,null,"Profit before tax - Appointee - nominal",null,"£m",null,{"$f":"[1]FinStat_Appointee!$J18","v":0},{"$f":"[1]FinStat_Appointee!$K18","v":17.206152838999998},{"$f":"[1]FinStat_Appointee!$L18","v":125.89904441480417},{"$f":"[1]FinStat_Appointee!$M18","v":119.18488210811111},{"$f":"[1]FinStat_Appointee!$N18","v":120.62546295148485},{"$f":"[1]FinStat_Appointee!$O18","v":121.5545196201023},{"$f":"[1]FinStat_Appointee!$P18","v":115.4250910446325},120.53780002782699,{"$f":"SUM(I26:O26)","v":619.89515297813489},null,{"$f":"[2]FinStat_Appointee!$J18","v":0},{"$f":"[2]FinStat_Appointee!$K18","v":0},{"$f":"[2]FinStat_Appointee!$L18","v":125.42588046151275},{"$f":"[2]FinStat_Appointee!$M18","v":123.37549148433058},{"$f":"[2]FinStat_Appointee!$N18","v":110.7879277011323},{"$f":"[2]FinStat_Appointee!$O18","v":96.340146985832746},{"$f":"[2]FinStat_Appointee!$P18","v":81.915208091446402},107.56893094485095,{"$f":"SUM(S26:Y26)","v":537.84465472425472},null,0,17.206,0.47299999999999998,-4.1909999999999998,9.8379999999999992,25.213999999999999,33.51,null,82.05,null,0,0,3.7711515219950257E-3,-3.3969469540328291E-2,8.880028902191886E-2,0.2617185128823587,0.40908154640333649,null,0.15255334282733712]
[null,null,null,null,null,null,null,null,null,null,null,null,null,null,null,null,null,null,null,null,null,null,null,null,null,null,null,null,0,0,0,0,0,0,0,null,0,null,0,0,0,0,0,0,0,null,0]
[null,null,null,null,"Current tax charge - Appointee - nominal","PL","£m",null,{"$f":"[1]FinStat_Appointee!$J20","v":0},{"$f":"[1]FinStat_Appointee!$K20","v":0},{"$f":"[1]FinStat_Appointee!$L20","v":-5.6929273024088092},{"$f":"[1]FinStat_Appointee!$M20","v":-2.0522686379966908},{"$f":"[1]FinStat_Appointee!$N20","v":-2.1744720651883811},{"$f":"[1]FinStat_Appointee!$O20","v":-2.2957432395295183},{"$f":"[1]FinStat_Appointee!$P20","v":-2.4055490494436196},-2.9241920589134036,{"$f":"SUM(I28:O28)","v":-14.620960294567018},null,{"$f":"[2]FinStat_Appointee!$J20","v":0},{"$f":"[2]FinStat_Appointee!$K20","v":0},{"$f":"[2]FinStat_Appointee!$L20","v":-4.2611530550613397},{"$f":"[2]FinStat_Appointee!$M20","v":-1.9400644534886509},{"$f":"[2]FinStat_Appointee!$N20","v":-2.036762784293606},{"$f":"[2]FinStat_Appointee!$O20","v":-2.1397957397717642},{"$f":"[2]FinStat_Appointee!$P20","v":-2.2405455259673293},-2.523664311716538,{"$f":"SUM(S28:Y28)","v":-12.618321558582691},null,0,0,-1.4319999999999999,-0.112,-0.13800000000000001,-0.156,-0.16500000000000001,null,-2.0030000000000001,null,0,0,0.33605927351027437,5.7730040771892935E-2,6.775457655853695E-2,7.2904154868837778E-2,7.3642779442637391E-2,null,0.15873743514149119]
[null,null,null,null,"Movement in deferred tax provision - Appointee - nominal","PL","£m",null,{"$f":"[1]FinStat_Appointee!$J21","v":0},{"$f":"[1]FinStat_Appointee!$K21","v":0},{"$f":"[1]FinStat_Appointee!$L21","v":-11.967224429745396},{"$f":"[1]FinStat_Appointee!$M21","v":-8.7829143354183756},{"$f":"[1]FinStat_Appointee!$N21","v":-7.1718665399213837},{"$f":"[1]FinStat_Appointee!$O21","v":-7.1553366434997274},{"$f":"[1]FinStat_Appointee!$P21","v":-1.7874675522018011},-7.3729619001573381,{"$f":"SUM(I29:O29)","v":-36.864809500786691},null,{"$f":"[2]FinStat_Appointee!$J21","v":0},{"$f":"[2]FinStat_Appointee!$K21","v":0},{"$f":"[2]FinStat_Appointee!$L21","v":-10.954636780233649},{"$f":"[2]FinStat_Appointee!$M21","v":-7.6286152464916661},{"$f":"[2]FinStat_Appointee!$N21","v":-5.2682536887697289},{"$f":"[2]FinStat_Appointee!$O21","v":-2.9388649412785082},{"$f":"[2]FinStat_Appointee!$P21","v":3.4586372141169313},-4.6663466885313252,{"$f":"SUM(S29:Y29)","v":-23.331733442656624},null,0,0,-1.0129999999999999,-1.1539999999999999,-1.9039999999999999,-4.2160000000000002,-5.2460000000000004,null,-13.532999999999999,null,0,0,9.2472258124325857E-2,0.15127253934201421,0.3614100824451057,1.4345674552046253,-1.5167823842835229,null,0.58002548474422699]
[null,null,null,null,"Profit after tax - Appointee - nominal",null,"£m",null,{"$f":"[1]FinStat_Appointee!$J22","v":0},{"$f":"[1]FinStat_Appointee!$K22","v":17.206152838999998},{"$f":"[1]FinStat_Appointee!$L22","v":108.23889268264996},{"$f":"[1]FinStat_Appointee!$M22","v":108.34969913469604},{"$f":"[1]FinStat_Appointee!$N22","v":111.27912434637508},{"$f":"[1]FinStat_Appointee!$O22","v":112.10343973707305},{"$f":"[1]FinStat_Appointee!$P22","v":111.23207444298707},110.24064606875622,{"$f":"SUM(I30:O30)","v":568.40938318278108},null,{"$f":"[2]FinStat_Appointee!$J22","v":0},{"$f":"[2]FinStat_Appointee!$K22","v":0},{"$f":"[2]FinStat_Appointee!$L22","v":110.21009062621776},{"$f":"[2]FinStat_Appointee!$M22","v":113.80681178435026},{"$f":"[2]FinStat_Appointee!$N22","v":103.48291122806897},{"$f":"[2]FinStat_Appointee!$O22","v":91.26148630478248},{"$f":"[2]FinStat_Appointee!$P22","v":83.133299779596001},100.3789199446031,{"$f":"SUM(S30:Y30)","v":501.89459972301552},null,0,17.206,-1.9710000000000001,-5.4569999999999999,7.7960000000000003,20.841999999999999,28.099,null,66.515000000000001,null,0,0,-1.7884024854717986E-2,-4.7949678182184166E-2,7.5336110160431916E-2,0.22837673200275055,0.33799933449648223,null,0.13252782563651441]
[null,null,null,null,null,null,null,null,null,null,null,null,null,null,null,null,null,null,null,null,null,null,null,null,null,null,null,null,0,0,0,0,0,0,0,null,0,null,0,0,0,0,0,0,0,null,0]
[null,null,null,null,"Dividend - Appointee - nominal","PL","£m",null,{"$f":"[1]FinStat_Appointee!$J24","v":0},{"$f":"[1]FinStat_Appointee!$K24","v":0},{"$f":"[1]FinStat_Appointee!$L24","v":-87.098001876101648},{"$f":"[1]FinStat_Appointee!$M24","v":-90.039301399457628},{"$f":"[1]FinStat_Appointee!$N24","v":-93.079928607717321},{"$f":"[1]FinStat_Appointee!$O24","v":-96.223237796799964},{"$f":"[1]FinStat_Appointee!$P24","v":-99.472696537197876},-93.182633243454887,{"$f":"SUM(I32:O32)","v":-465.91316621727447},null,{"$f":"[2]FinStat_Appointee!$J24","v":0},{"$f":"[2]FinStat_Appointee!$K24","v":0},{"$f":"[2]FinStat_Appointee!$L24","v":-59.918118153716563},{"$f":"[2]FinStat_Appointee!$M24","v":-61.840200219198934},{"$f":"[2]FinStat_Appointee!$N24","v":-63.86831862158845},{"$f":"[2]FinStat_Appointee!$O24","v":-65.979026041731018},{"$f":"[2]FinStat_Appointee!$P24","v":-68.159487698553008},-63.953030146957587,{"$f":"SUM(S32:Y32)","v":-319.76515073478794},null,0,0,-27.18,-28.199000000000002,-29.212,-30.244,-31.312999999999999,null,-146.148,null,0,0,0.45361905275915437,0.45599787678639064,0.4573785662509347,0.45838809413268694,0.45940779570537704,null,0.45704792928237081]
[null,null,null,null,"Net profit - Appointee - nominal",null,"£m",null,{"$f":"[1]FinStat_Appointee!$J25","v":0},{"$f":"[1]FinStat_Appointee!$K25","v":17.206152838999998},{"$f":"[1]FinStat_Appointee!$L25","v":21.140890806548313},{"$f":"[1]FinStat_Appointee!$M25","v":18.310397735238411},{"$f":"[1]FinStat_Appointee!$N25","v":18.199195738657764},{"$f":"[1]FinStat_Appointee!$O25","v":15.880201940273082},{"$f":"[1]FinStat_Appointee!$P25","v":11.759377905789194},17.058012825301354,{"$f":"SUM(I33:O33)","v":102.49621696550676},null,{"$f":"[2]FinStat_Appointee!$J25","v":0},{"$f":"[2]FinStat_Appointee!$K25","v":0},{"$f":"[2]FinStat_Appointee!$L25","v":50.2919724725012},{"$f":"[2]FinStat_Appointee!$M25","v":51.966611565151325},{"$f":"[2]FinStat_Appointee!$N25","v":39.614592606480521},{"$f":"[2]FinStat_Appointee!$O25","v":25.282460263051462},{"$f":"[2]FinStat_Appointee!$P25","v":14.973812081042993},36.425889797645503,{"$f":"SUM(S33:Y33)","v":182.12944898822752},null,0,17.206,-29.151,-33.655999999999999,-21.414999999999999,-9.4019999999999992,-3.214,null,-79.632999999999996,null,0,0,-0.57963524926247967,-0.64764661359159359,-0.54058362312923891,-0.37187836556161274,-0.21464140077388566,null,-0.43723297051838833]
[null,null,null,null,null,null,null,null,null,null,null,null,null,null,null,null,null,null,null,null,null,null,null,null,null,null,null,null,0,0,0,0,0,0,0,null,0,null,0,0,0,0,0,0,0,null,0]
[null,"Retained earnings balance - Appointee",null,null,null,null,null,null,null,null,null,null,null,null,null,null,null,null,null,null,null,null,null,null,null,null,null,null,0,0,0,0,0,0,0,null,0,null,0,0,0,0,0,0,0,null,0]
[null,null,null,null,"Retained earnings and other distributable reserves b/f - Appointee - nominal",0,"£m",null,{"$f":"[1]FinStat_Appointee!$J28","v":0},{"$f":"[1]FinStat_Appointee!$K28","v":2920.30287827148},{"$f":"[1]FinStat_Appointee!$L28","v":0},{"$f":"[1]FinStat_Appointee!$M28","v":0},{"$f":"[1]FinStat_Appointee!$N28","v":0},{"$f":"[1]FinStat_Appointee!$O28","v":0},{"$f":"[1]FinStat_Appointee!$P28","v":0},0,{"$f":"SUM(I36:O36)","v":2920.30287827148},null,{"$f":"[2]FinStat_Appointee!$J28","v":0},{"$f":"[2]FinStat_Appointee!$K28","v":2364.8617859164815},{"$f":"[2]FinStat_Appointee!$L28","v":0},{"$f":"[2]FinStat_Appointee!$M28","v":0},{"$f":"[2]FinStat_Appointee!$N28","v":0},{"$f":"[2]FinStat_Appointee!$O28","v":0},{"$f":"[2]FinStat_Appointee!$P28","v":0},0,{"$f":"SUM(S36:Y36)","v":2364.8617859164815},null,0,555.44100000000003,0,0,0,0,0,null,555.44100000000003,null,0,0.23487250007921445,0,0,0,0,0,null,0.23487250007921445]
[null,null,null,null,"Last pre-forecast period flag",0,"flag",null,{"$f":"[1]FinStat_Appointee!$J29","v":0},{"$f":"[1]FinStat_Appointee!$K29","v":1},{"$f":"[1]FinStat_Appointee!$L29","v":0},{"$f":"[1]FinStat_Appointee!$M29","v":0},{"$f":"[1]FinStat_Appointee!$N29","v":0},{"$f":"[1]FinStat_Appointee!$O29","v":0},{"$f":"[1]FinStat_Appointee!$P29","v":0},0,{"$f":"SUM(I37:O37)","v":1},null,{"$f":"[2]FinStat_Appointee!$J29","v":0},{"$f":"[2]FinStat_Appointee!$K29","v":1},{"$f":"[2]FinStat_Appointee!$L29","v":0},{"$f":"[2]FinStat_Appointee!$M29","v":0},{"$f":"[2]FinStat_Appointee!$N29","v":0},{"$f":"[2]FinStat_Appointee!$O29","v":0},{"$f":"[2]FinStat_Appointee!$P29","v":0},0,{"$f":"SUM(S37:Y37)","v":1},null,0,0,0,0,0,0,0,null,0,null,0,0,0,0,0,0,0,null,0]
[null,null,null,null,null,null,null,null,null,null,null,null,null,null,null,null,null,null,null,null,null,null,null,null,null,null,null,null,0,0,0,0,0,0,0,null,0,null,0,0,0,0,0,0,0,null,0]
[null,null,null,null,"Retained earnings balance - Appointee BEG - nominal",null,"£m",null,{"$f":"[1]FinStat_Appointee!$J31","v":0},{"$f":"[1]FinStat_Appointee!$K31","v":0},{"$f":"[1]FinStat_Appointee!$L31","v":2920.30287827148},{"$f":"[1]FinStat_Appointee!$M31","v":2941.4437690780283},{"$f":"[1]FinStat_Appointee!$N31","v":2959.7541668132667},{"$f":"[1]FinStat_Appointee!$O31","v":2977.9533625519243},{"$f":"[1]FinStat_Appointee!$P31","v":2993.8335644921972},2958.6575482413791,{"$f":"SUM(I39:O39)","v":14793.287741206896},null,{"$f":"[2]FinStat_Appointee!$J31","v":0},{"$f":"[2]FinStat_Appointee!$K31","v":0},{"$f":"[2]FinStat_Appointee!$L31","v":2364.8617859164815},{"$f":"[2]FinStat_Appointee!$M31","v":2415.1537583889826},{"$f":"[2]FinStat_Appointee!$N31","v":2467.1203699541338},{"$f":"[2]FinStat_Appointee!$O31","v":2506.7349625606143},{"$f":"[2]FinStat_Appointee!$P31","v":2532.0174228236656},2457.1776599287755,{"$f":"SUM(S39:Y39)","v":12285.888299643877},null,0,0,555.44100000000003,526.29,492.63400000000001,471.21800000000002,461.81599999999997,null,2507.3989999999999,null,0,0,0.23487250007921445,0.21791159182803307,0.19967975863664836,0.18798078258686499,0.18239053011135686,null,0.20408772559593272]
[null,null,null,"plus","Net profit - Appointee - nominal",0,"£m",null,{"$f":"[1]FinStat_Appointee!$J32","v":0},{"$f":"[1]FinStat_Appointee!$K32","v":17.206152838999998},{"$f":"[1]FinStat_Appointee!$L32","v":21.140890806548313},{"$f":"[1]FinStat_Appointee!$M32","v":18.310397735238411},{"$f":"[1]FinStat_Appointee!$N32","v":18.199195738657764},{"$f":"[1]FinStat_Appointee!$O32","v":15.880201940273082},{"$f":"[1]FinStat_Appointee!$P32","v":11.759377905789194},17.058012825301354,{"$f":"SUM(I40:O40)","v":102.49621696550676},null,{"$f":"[2]FinStat_Appointee!$J32","v":0},{"$f":"[2]FinStat_Appointee!$K32","v":0},{"$f":"[2]FinStat_Appointee!$L32","v":50.2919724725012},{"$f":"[2]FinStat_Appointee!$M32","v":51.966611565151325},{"$f":"[2]FinStat_Appointee!$N32","v":39.614592606480521},{"$f":"[2]FinStat_Appointee!$O32","v":25.282460263051462},{"$f":"[2]FinStat_Appointee!$P32","v":14.973812081042993},36.425889797645503,{"$f":"SUM(S40:Y40)","v":182.12944898822752},null,0,17.206,-29.151,-33.655999999999999,-21.414999999999999,-9.4019999999999992,-3.214,null,-79.632999999999996,null,0,0,-0.57963524926247967,-0.64764661359159359,-0.54058362312923891,-0.37187836556161274,-0.21464140077388566,null,-0.43723297051838833]
[null,null,null,null,"Retained earnings balance - Appointee - nominal",null,"£m",null,{"$f":"[1]FinStat_Appointee!$J33","v":0},{"$f":"[1]FinStat_Appointee!$K33","v":2920.30287827148},{"$f":"[1]FinStat_Appointee!$L33","v":2941.4437690780283},{"$f":"[1]FinStat_Appointee!$M33","v":2959.7541668132667},{"$f":"[1]FinStat_Appointee!$N33","v":2977.9533625519243},{"$f":"[1]FinStat_Appointee!$O33","v":2993.8335644921972},{"$f":"[1]FinStat_Appointee!$P33","v":3005.5929423979865},2975.7155610666805,{"$f":"SUM(I41:O41)","v":17798.880683604883},null,{"$f":"[2]FinStat_Appointee!$J33","v":0},{"$f":"[2]FinStat_Appointee!$K33","v":2364.8617859164815},{"$f":"[2]FinStat_Appointee!$L33","v":2415.1537583889826},{"$f":"[2]FinStat_Appointee!$M33","v":2467.1203699541338},{"$f":"[2]FinStat_Appointee!$N33","v":2506.7349625606143},{"$f":"[2]FinStat_Appointee!$O33","v":2532.0174228236656},{"$f":"[2]FinStat_Appointee!$P33","v":2546.9912349047086},2493.6035497264211,{"$f":"SUM(S41:Y41)","v":14832.879534548585},null,0,555.44100000000003,526.29,492.63400000000001,471.21800000000002,461.81599999999997,458.60199999999998,null,2966.0010000000002,null,0,0.23487250007921445,0.21791159182803307,0.19967975863664836,0.18798078258686499,0.18239053011135686,0.18005637150029605,null,0.19996124104504606]
[]
[]
[]
[]
["CASH FLOW "]
[]
[null,"Cash flow from operating activities"]
[null,null,null,null,"Operating profit - Appointee - nominal",0,"£m",null,{"$f":"[1]FinStat_Appointee!$J40","v":0},{"$f":"[1]FinStat_Appointee!$K40","v":17.206152838999998},{"$f":"[1]FinStat_Appointee!$L40","v":309.919425848809},{"$f":"[1]FinStat_Appointee!$M40","v":312.08462371031214},{"$f":"[1]FinStat_Appointee!$N40","v":328.57395487597199},{"$f":"[1]FinStat_Appointee!$O40","v":348.08557197336125},{"$f":"[1]FinStat_Appointee!$P40","v":357.82267459692042},{"$f":"AVERAGE(K49:O49)","v":331.29725020107497},{"$f":"SUM(I49:O49)","v":1673.6924038443749},null,{"$f":"[2]FinStat_Appointee!$J40","v":0},{"$f":"[2]FinStat_Appointee!$K40","v":0},{"$f":"[2]FinStat_Appointee!$L40","v":297.05599425447468},{"$f":"[2]FinStat_Appointee!$M40","v":299.36248404934156},{"$f":"[2]FinStat_Appointee!$N40","v":297.09355203030225},{"$f":"[2]FinStat_Appointee!$O40","v":293.54384996530246},{"$f":"[2]FinStat_Appointee!$P40","v":285.42912696124228},{"$f":"AVERAGE(U49:Y49)","v":294.49700145213262},{"$f":"SUM(S49:Y49)","v":1472.4850072606632},null,{"$f":"ROUND(I49 - S49, 3)","v":0},{"$f":"ROUND(J49 - T49, 3)","v":17.206},{"$f":"ROUND(K49 - U49, 3)","v":12.863},{"$f":"ROUND(L49 - V49, 3)","v":12.722},{"$f":"ROUND(M49 - W49, 3)","v":31.48},{"$f":"ROUND(N49 - X49, 3)","v":54.542000000000002},{"$f":"ROUND(O49 - Y49, 3)","v":72.394000000000005},null,{"$f":"ROUND(Q49 - AA49, 3)","v":201.20699999999999},null,{"$f":"IF(S49 = 0, 0, AC49 / S49)","v":0},{"$f":"IF(T49 = 0, 0, AD49 / T49)","v":0},{"$f":"IF(U49 = 0, 0, AE49 / U49)","v":4.3301600535893707E-2},{"$f":"IF(V49 = 0, 0, AF49 / V49)","v":4.2496974998053307E-2},{"$f":"IF(W49 = 0, 0, AG49 / W49)","v":0.1059598896875055},{"$f":"IF(X49 = 0, 0, AH49 / X49)","v":0.18580528941910038},{"$f":"IF(Y49 = 0, 0, AI49 / Y49)","v":0.2536321389856972},null,{"$f":"IF(AA49 = 0, 0, AK49 / AA49)","v":0.13664451522960858}]
[null,null,null,null,"Depreciation - Appointee - nominal POS","CF","£m",null,{"$f":"[1]FinStat_Appointee!$J41","v":0},{"$f":"[1]FinStat_Appointee!$K41","v":0},{"$f":"[1]FinStat_Appointee!$L41","v":339.57270932782166},{"$f":"[1]FinStat_Appointee!$M41","v":356.09056367756568},{"$f":"[1]FinStat_Appointee!$N41","v":373.23247569864662},{"$f":"[1]FinStat_Appointee!$O41","v":397.72717305881196},{"$f":"[1]FinStat_Appointee!$P41","v":432.67111152545436},379.85880665766001,1899.2940332883002,null,{"$f":"[2]FinStat_Appointee!$J41","v":0},{"$f":"[2]FinStat_Appointee!$K41","v":0},{"$f":"[2]FinStat_Appointee!$L41","v":338.52512951828606},{"$f":"[2]FinStat_Appointee!$M41","v":352.72157781998624},{"$f":"[2]FinStat_Appointee!$N41","v":367.41621141614473},{"$f":"[2]FinStat_Appointee!$O41","v":387.4318099170066},{"$f":"[2]FinStat_Appointee!$P41","v":416.68652412338446},372.55625055896161,1862.7812527948081,null,0,0,1.048,3.3690000000000002,5.8159999999999998,10.295,15.984999999999999,null,36.512999999999998,null,0,0,3.0957819925843655E-3,9.5514428712365068E-3,1.5829459395880204E-2,2.6572418001003417E-2,3.8362171739604191E-2,null,1.9601335339411444E-2]
[null,null,null,null,"Change in inventories - Appointee - nominal","CF","£m",null,{"$f":"[1]FinStat_Appointee!$J42","v":0},{"$f":"[1]FinStat_Appointee!$K42","v":0},{"$f":"[1]FinStat_Appointee!$L42","v":-0.20900000000000141},{"$f":"[1]FinStat_Appointee!$M42","v":-0.21299999999999919},{"$f":"[1]FinStat_Appointee!$N42","v":-0.21799999999999997},{"$f":"[1]FinStat_Appointee!$O42","v":-0.22199999999999953},{"$f":"[1]FinStat_Appointee!$P42","v":-0.22600000000000087},-0.21760000000000018,-1.088000000000001,null,{"$f":"[2]FinStat_Appointee!$J42","v":0},{"$f":"[2]FinStat_Appointee!$K42","v":0},{"$f":"[2]FinStat_Appointee!$L42","v":-0.20900000000000141},{"$f":"[2]FinStat_Appointee!$M42","v":-0.21299999999999919},{"$f":"[2]FinStat_Appointee!$N42","v":-0.21799999999999997},{"$f":"[2]FinStat_Appointee!$O42","v":-0.22199999999999953},{"$f":"[2]FinStat_Appointee!$P42","v":-0.22600000000000087},-0.21760000000000018,-1.088000000000001,null,0,0,0,0,0,0,0,null,0,null,0,0,0,0,0,0,0,null,0]
[null,null,null,null,"Change in trade and other receivables - Appointee - nominal","CF","£m",null,{"$f":"[1]FinStat_Appointee!$J43","v":0},{"$f":"[1]FinStat_Appointee!$K43","v":0},{"$f":"[1]FinStat_Appointee!$L43","v":-31.369999999999777},{"$f":"[1]FinStat_Appointee!$M43","v":-17.33600000000024},{"$f":"[1]FinStat_Appointee!$N43","v":-20.20900000000006},{"$f":"[1]FinStat_Appointee!$O43","v":-21.03899999999976},{"$f":"[1]FinStat_Appointee!$P43","v":-20.032000000000153},-21.997199999999999,-109.98599999999999,null,{"$f":"[2]FinStat_Appointee!$J43","v":0},{"$f":"[2]FinStat_Appointee!$K43","v":0},{"$f":"[2]FinStat_Appointee!$L43","v":4.4095339226895476},{"$f":"[2]FinStat_Appointee!$M43","v":-16.409898711179494},{"$f":"[2]FinStat_Appointee!$N43","v":-14.421869953863961},{"$f":"[2]FinStat_Appointee!$O43","v":-15.002281874419623},{"$f":"[2]FinStat_Appointee!$P43","v":-16.521432703355686},-11.589189864025844,-57.945949320129216,null,0,0,-35.78,-0.92600000000000005,-5.7869999999999999,-6.0369999999999999,-3.5110000000000001,null,-52.04,null,0,0,-8.1142362497523042,5.6429355006874501E-2,0.40126557918722083,0.40240545075304063,0.21251183617307459,null,0.89807830591399751]
[null,null,null,null,"Change in trade creditors and other payables - Appointee - nominal","CF","£m",null,{"$f":"[1]FinStat_Appointee!$J44","v":0},{"$f":"[1]FinStat_Appointee!$K44","v":0},{"$f":"[1]FinStat_Appointee!$L44","v":23.656495957357038},{"$f":"[1]FinStat_Appointee!$M44","v":11.612556416570897},{"$f":"[1]FinStat_Appointee!$N44","v":1.9014877364325002},{"$f":"[1]FinStat_Appointee!$O44","v":13.342505478002749},{"$f":"[1]FinStat_Appointee!$P44","v":12.188729131314631},12.540354943935563,62.701774719677815,null,{"$f":"[2]FinStat_Appointee!$J44","v":0},{"$f":"[2]FinStat_Appointee!$K44","v":0},{"$f":"[2]FinStat_Appointee!$L44","v":-45.417708457810477},{"$f":"[2]FinStat_Appointee!$M44","v":36.321768899953668},{"$f":"[2]FinStat_Appointee!$N44","v":-11.589407481889793},{"$f":"[2]FinStat_Appointee!$O44","v":-13.801406486739097},{"$f":"[2]FinStat_Appointee!$P44","v":6.9282927555593687},-5.5116921541852664,-27.558460770926331,null,0,0,69.073999999999998,-24.709,13.491,27.143999999999998,5.26,null,90.26,null,0,0,-1.5208605265535222,-0.68028074480787526,-1.1640802190346429,-1.9667560712801959,0.75920579363210294,null,-3.2752192058281659]
[null,null,null,null,"Pension contributions - Appointee - nominal","CF","£m",null,{"$f":"[1]FinStat_Appointee!$J45","v":0},{"$f":"[1]FinStat_Appointee!$K45","v":0},{"$f":"[1]FinStat_Appointee!$L45","v":-11.969451121053378},{"$f":"[1]FinStat_Appointee!$M45","v":-12.3273841840128},{"$f":"[1]FinStat_Appointee!$N45","v":-12.697086057873406},{"$f":"[1]FinStat_Appointee!$O45","v":-13.076645053014833},{"$f":"[1]FinStat_Appointee!$P45","v":-13.469386874973399},-12.707990658185562,-63.539953290927812,null,{"$f":"[2]FinStat_Appointee!$J45","v":0},{"$f":"[2]FinStat_Appointee!$K45","v":0},{"$f":"[2]FinStat_Appointee!$L45","v":-24.711161155649293},{"$f":"[2]FinStat_Appointee!$M45","v":-25.206421830113264},{"$f":"[2]FinStat_Appointee!$N45","v":-25.729486631335305},{"$f":"[2]FinStat_Appointee!$O45","v":0},{"$f":"[2]FinStat_Appointee!$P45","v":0},-15.129413923419571,-75.647069617097856,null,0,0,12.742000000000001,12.879,13.032,-13.077,-13.468999999999999,null,12.106999999999999,null,0,0,-0.51563744494811059,-0.51094122310584722,-0.50650058381377305,0,0,null,-0.16004585585776027]
[null,null,null,null,"Provision - Appointee - nominal","CF","£m",null,{"$f":"[1]FinStat_Appointee!$J46","v":0},{"$f":"[1]FinStat_Appointee!$K46","v":0},{"$f":"[1]FinStat_Appointee!$L46","v":0.33499999999999724},{"$f":"[1]FinStat_Appointee!$M46","v":0.33999999999999986},{"$f":"[1]FinStat_Appointee!$N46","v":0.3490000000000002},{"$f":"[1]FinStat_Appointee!$O46","v":0.35600000000000165},{"$f":"[1]FinStat_Appointee!$P46","v":0.36100000000000071},0.34819999999999995,1.7409999999999997,null,{"$f":"[2]FinStat_Appointee!$J46","v":0},{"$f":"[2]FinStat_Appointee!$K46","v":0},{"$f":"[2]FinStat_Appointee!$L46","v":0.33499999999999708},{"$f":"[2]FinStat_Appointee!$M46","v":0.34},{"$f":"[2]FinStat_Appointee!$N46","v":0.34900000000000003},{"$f":"[2]FinStat_Appointee!$O46","v":0.35600000000000198},{"$f":"[2]FinStat_Appointee!$P46","v":0.36100000000000099},0.34820000000000001,1.7410000000000001,null,0,0,0,0,0,0,0,null,0,null,0,0,0,0,0,0,0,null,0]
[null,null,null,null,"Other liability movement - Appointee - nominal","CF","£m",null,{"$f":"[1]FinStat_Appointee!$J47","v":0},{"$f":"[1]FinStat_Appointee!$K47","v":0},{"$f":"[1]FinStat_Appointee!$L47","v":0},{"$f":"[1]FinStat_Appointee!$M47","v":0},{"$f":"[1]FinStat_Appointee!$N47","v":0},{"$f":"[1]FinStat_Appointee!$O47","v":0},{"$f":"[1]FinStat_Appointee!$P47","v":0},0,0,null,{"$f":"[2]FinStat_Appointee!$J47","v":0},{"$f":"[2]FinStat_Appointee!$K47","v":0},{"$f":"[2]FinStat_Appointee!$L47","v":0},{"$f":"[2]FinStat_Appointee!$M47","v":0},{"$f":"[2]FinStat_Appointee!$N47","v":0},{"$f":"[2]FinStat_Appointee!$O47","v":0},{"$f":"[2]FinStat_Appointee!$P47","v":0},0,0,null,0,0,0,0,0,0,0,null,0,null,0,0,0,0,0,0,0,null,0]
[null,null,null,null,"Net cash generated / (used) in operations - Appointee - nominal",null,"£m",null,{"$f":"[1]FinStat_Appointee!$J48","v":0},{"$f":"[1]FinStat_Appointee!$K48","v":17.206152838999998},{"$f":"[1]FinStat_Appointee!$L48","v":629.93518001293467},{"$f":"[1]FinStat_Appointee!$M48","v":650.25135962043578},{"$f":"[1]FinStat_Appointee!$N48","v":670.93283225317771},{"$f":"[1]FinStat_Appointee!$O48","v":725.17360545716133},{"$f":"[1]FinStat_Appointee!$P48","v":769.3161283787158},689.12182114448512,3462.8152585614253,null,{"$f":"[2]FinStat_Appointee!$J48","v":0},{"$f":"[2]FinStat_Appointee!$K48","v":0},{"$f":"[2]FinStat_Appointee!$L48","v":569.98778808199063},{"$f":"[2]FinStat_Appointee!$M48","v":646.91651022798874},{"$f":"[2]FinStat_Appointee!$N48","v":612.89999937935806},{"$f":"[2]FinStat_Appointee!$O48","v":652.30597152115035},{"$f":"[2]FinStat_Appointee!$P48","v":692.65751113683041},634.95355606946362,3174.767780347318,null,0,17.206,59.947000000000003,3.335,58.033000000000001,72.867999999999995,76.659000000000006,null,288.04700000000003,null,0,0,0.10517242869662473,5.1552247427178307E-3,9.4685919495457752E-2,0.11170831355425868,0.11067374390293225,null,9.0730100570848002E-2]
[null,null,null,null,null,null,null,null,null,null,null,null,null,null,null,null,null,null,null,null,null,null,null,null,null,null,null,null,0,0,0,0,0,0,0,null,0,null,0,0,0,0,0,0,0,null,0]
[null,null,null,null,"Other Income (incl. 3rd party income) - Appointee - nominal","PL & CF","£m",null,{"$f":"[1]FinStat_Appointee!$J50","v":0},{"$f":"[1]FinStat_Appointee!$K50","v":0},{"$f":"[1]FinStat_Appointee!$L50","v":26.848218710355564},{"$f":"[1]FinStat_Appointee!$M50","v":27.988022848658403},{"$f":"[1]FinStat_Appointee!$N50","v":28.685869809687038},{"$f":"[1]FinStat_Appointee!$O50","v":29.40459100127967},{"$f":"[1]FinStat_Appointee!$P50","v":29.796488696837034},28.544638213363545,{"$f":"SUM(I59:O59)","v":142.72319106681772},null,{"$f":"[2]FinStat_Appointee!$J50","v":0},{"$f":"[2]FinStat_Appointee!$K50","v":0},{"$f":"[2]FinStat_Appointee!$L50","v":26.743677650647083},{"$f":"[2]FinStat_Appointee!$M50","v":27.880191141204822},{"$f":"[2]FinStat_Appointee!$N50","v":28.596395800973255},{"$f":"[2]FinStat_Appointee!$O50","v":29.341613344469298},{"$f":"[2]FinStat_Appointee!$P50","v":29.761821366277886},28.464739860714467,{"$f":"SUM(S59:Y59)","v":142.32369930357234},null,0,0,0.105,0.108,8.8999999999999996E-2,6.3E-2,3.5000000000000003E-2,null,0.39900000000000002,null,0,0,3.9261615912222691E-3,3.8737180621543207E-3,3.1122803243956694E-3,2.1471211981557614E-3,1.1760032952706759E-3,null,2.8034684451880678E-3]
[null,null,null,null,"Interest (income) /expense excl. indexation of index-linked loans - Appointee - nominal","PL & CF","£m",null,{"$f":"[1]FinStat_Appointee!$J51","v":0},{"$f":"[1]FinStat_Appointee!$K51","v":0},{"$f":"[1]FinStat_Appointee!$L51","v":-163.54339357396935},{"$f":"[1]FinStat_Appointee!$M51","v":-172.14280168335668},{"$f":"[1]FinStat_Appointee!$N51","v":-186.42705008364635},{"$f":"[1]FinStat_Appointee!$O51","v":-204.22211235449495},{"$f":"[1]FinStat_Appointee!$P51","v":-218.92913531907999},-189.05289860290947,{"$f":"SUM(I60:O60)","v":-945.26449301454727},null,{"$f":"[2]FinStat_Appointee!$J51","v":0},{"$f":"[2]FinStat_Appointee!$K51","v":0},{"$f":"[2]FinStat_Appointee!$L51","v":-151.56932395890348},{"$f":"[2]FinStat_Appointee!$M51","v":-155.65858219696909},{"$f":"[2]FinStat_Appointee!$N51","v":-165.24716057561909},{"$f":"[2]FinStat_Appointee!$O51","v":-175.40081098277915},{"$f":"[2]FinStat_Appointee!$P51","v":-180.59689973467914},-165.69455548978999,{"$f":"SUM(S60:Y60)","v":-828.47277744894996},null,0,0,-11.974,-16.484000000000002,-21.18,-28.821000000000002,-38.332000000000001,null,-116.792,null,0,0,7.9000154432612185E-2,0.10589843340048725,0.12817164256391428,0.16431508975650999,0.2122517056290269,null,0.14097264651184832]
[null,null,null,null,"Tax paid - Appointee - nominal","CF","£m",null,{"$f":"[1]FinStat_Appointee!$J52","v":0},{"$f":"[1]FinStat_Appointee!$K52","v":0},{"$f":"[1]FinStat_Appointee!$L52","v":-5.6929273024088092},{"$f":"[1]FinStat_Appointee!$M52","v":-2.0522686379966908},{"$f":"[1]FinStat_Appointee!$N52","v":-2.1744720651883811},{"$f":"[1]FinStat_Appointee!$O52","v":-2.2957432395295183},{"$f":"[1]FinStat_Appointee!$P52","v":-2.4055490494436196},-2.9241920589134036,{"$f":"SUM(I61:O61)","v":-14.620960294567018},null,{"$f":"[2]FinStat_Appointee!$J52","v":0},{"$f":"[2]FinStat_Appointee!$K52","v":0},{"$f":"[2]FinStat_Appointee!$L52","v":-4.2611530550613397},{"$f":"[2]FinStat_Appointee!$M52","v":-1.9400644534886509},{"$f":"[2]FinStat_Appointee!$N52","v":-2.036762784293606},{"$f":"[2]FinStat_Appointee!$O52","v":-2.1397957397717642},{"$f":"[2]FinStat_Appointee!$P52","v":-2.2405455259673293},-2.523664311716538,{"$f":"SUM(S61:Y61)","v":-12.618321558582691},null,0,0,-1.4319999999999999,-0.112,-0.13800000000000001,-0.156,-0.16500000000000001,null,-2.0030000000000001,null,0,0,0.33605927351027437,5.7730040771892935E-2,6.775457655853695E-2,7.2904154868837778E-2,7.3642779442637391E-2,null,0.15873743514149119]
[null,null,null,null,"Net cash generated / (used) in operating activities - Appointee - nominal",null,"£m",null,{"$f":"[1]FinStat_Appointee!$J53","v":0},{"$f":"[1]FinStat_Appointee!$K53","v":17.206152838999998},{"$f":"[1]FinStat_Appointee!$L53","v":487.54707784691209},{"$f":"[1]FinStat_Appointee!$M53","v":504.04431214774081},{"$f":"[1]FinStat_Appointee!$N53","v":511.01717991403001},{"$f":"[1]FinStat_Appointee!$O53","v":548.0603408644165},{"$f":"[1]FinStat_Appointee!$P53","v":577.77793270702921},525.68936869602578,{"$f":"SUM(I62:O62)","v":2645.6529963191288},null,{"$f":"[2]FinStat_Appointee!$J53","v":0},{"$f":"[2]FinStat_Appointee!$K53","v":0},{"$f":"[2]FinStat_Appointee!$L53","v":440.90098871867292},{"$f":"[2]FinStat_Appointee!$M53","v":517.19805471873588},{"$f":"[2]FinStat_Appointee!$N53","v":474.21247182041861},{"$f":"[2]FinStat_Appointee!$O53","v":504.10697814306877},{"$f":"[2]FinStat_Appointee!$P53","v":539.58188724246179},495.20007612867158,{"$f":"SUM(S62:Y62)","v":2476.0003806433579},null,0,17.206,46.646000000000001,-13.154,36.805,43.953000000000003,38.195999999999998,null,169.65299999999999,null,0,0,0.10579699568277348,-2.54331969735529E-2,7.7612889131135773E-2,8.7189826575909568E-2,7.078814338116686E-2,null,6.8518971695762737E-2]
[null,null,null,null,null,null,null,null,null,null,null,null,null,null,null,null,null,null,null,null,null,null,null,null,null,null,null,null,0,0,0,0,0,0,0,null,0,null,0,0,0,0,0,0,0,null,0]
[null,"Cash flow from investing activities",null,null,null,null,null,null,null,null,null,null,null,null,null,null,null,null,null,null,null,null,null,null,null,null,null,null,0,0,0,0,0,0,0,null,0,null,0,0,0,0,0,0,0,null,0]
[null,null,null,null,"Capex - Appointee - nominal","CF","£m",null,{"$f":"[1]FinStat_Appointee!$J56","v":0},{"$f":"[1]FinStat_Appointee!$K56","v":0},{"$f":"[1]FinStat_Appointee!$L56","v":-500.63782117557389},{"$f":"[1]FinStat_Appointee!$M56","v":-702.99744695604636},{"$f":"[1]FinStat_Appointee!$N56","v":-768.96778708385239},{"$f":"[1]FinStat_Appointee!$O56","v":-904.22248076016956},{"$f":"[1]FinStat_Appointee!$P56","v":-683.47455338067175},-712.06001787126274,{"$f":"SUM(I65:O65)","v":-3560.3000893563139},null,{"$f":"[2]FinStat_Appointee!$J56","v":0},{"$f":"[2]FinStat_Appointee!$K56","v":0},{"$f":"[2]FinStat_Appointee!$L56","v":-386.97011154704552},{"$f":"[2]FinStat_Appointee!$M56","v":-644.71241229235557},{"$f":"[2]FinStat_Appointee!$N56","v":-661.44856244882612},{"$f":"[2]FinStat_Appointee!$O56","v":-655.42932621253703},{"$f":"[2]FinStat_Appointee!$P56","v":-480.11138566923427},-565.73435963399959,{"$f":"SUM(S65:Y65)","v":-2828.6717981699981},null,0,0,-113.66800000000001,-58.284999999999997,-107.51900000000001,-248.79300000000001,-203.363,null,-731.62800000000004,null,0,0,0.2937384480304519,9.0404650024900862E-2,0.16255081060565213,0.37958783662866424,0.42357462470199359,null,0.25864718574750345]
[null,null,null,null,"Investment in other non-current assets - Appointee - nominal","CF","£m",null,{"$f":"[1]FinStat_Appointee!$J57","v":0},{"$f":"[1]FinStat_Appointee!$K57","v":0},{"$f":"[1]FinStat_Appointee!$L57","v":0},{"$f":"[1]FinStat_Appointee!$M57","v":0},{"$f":"[1]FinStat_Appointee!$N57","v":0},{"$f":"[1]FinStat_Appointee!$O57","v":0},{"$f":"[1]FinStat_Appointee!$P57","v":0},0,{"$f":"SUM(I66:O66)","v":0},null,{"$f":"[2]FinStat_Appointee!$J57","v":0},{"$f":"[2]FinStat_Appointee!$K57","v":0},{"$f":"[2]FinStat_Appointee!$L57","v":0},{"$f":"[2]FinStat_Appointee!$M57","v":0},{"$f":"[2]FinStat_Appointee!$N57","v":0},{"$f":"[2]FinStat_Appointee!$O57","v":0},{"$f":"[2]FinStat_Appointee!$P57","v":0},0,{"$f":"SUM(S66:Y66)","v":0},null,0,0,0,0,0,0,0,null,0,null,0,0,0,0,0,0,0,null,0]
[null,null,null,null,"Net cash generated / (used) in investing activities - Appointee - nominal",null,"£m",null,{"$f":"[1]FinStat_Appointee!$J58","v":0},{"$f":"[1]FinStat_Appointee!$K58","v":0},{"$f":"[1]FinStat_Appointee!$L58","v":-500.63782117557389},{"$f":"[1]FinStat_Appointee!$M58","v":-702.99744695604636},{"$f":"[1]FinStat_Appointee!$N58","v":-768.96778708385239},{"$f":"[1]FinStat_Appointee!$O58","v":-904.22248076016956},{"$f":"[1]FinStat_Appointee!$P58","v":-683.47455338067175},-712.06001787126274,{"$f":"SUM(I67:O67)","v":-3560.3000893563139},null,{"$f":"[2]FinStat_Appointee!$J58","v":0},{"$f":"[2]FinStat_Appointee!$K58","v":0},{"$f":"[2]FinStat_Appointee!$L58","v":-386.97011154704552},{"$f":"[2]FinStat_Appointee!$M58","v":-644.71241229235557},{"$f":"[2]FinStat_Appointee!$N58","v":-661.44856244882612},{"$f":"[2]FinStat_Appointee!$O58","v":-655.42932621253703},{"$f":"[2]FinStat_Appointee!$P58","v":-480.11138566923427},-565.73435963399959,{"$f":"SUM(S67:Y67)","v":-2828.6717981699981},null,0,0,-113.66800000000001,-58.284999999999997,-107.51900000000001,-248.79300000000001,-203.363,null,-731.62800000000004,null,0,0,0.2937384480304519,9.0404650024900862E-2,0.16255081060565213,0.37958783662866424,0.42357462470199359,null,0.25864718574750345]
[null,null,null,null,null,null,null,null,null,null,null,null,null,null,null,null,null,null,null,null,null,null,null,null,null,null,null,null,0,0,0,0,0,0,0,null,0,null,0,0,0,0,0,0,0,null,0]
[null,null,null,null,"Net cash generated before financing activities - Appointee - nominal",null,"£m",null,{"$f":"[1]FinStat_Appointee!$J60","v":0},{"$f":"[1]FinStat_Appointee!$K60","v":17.206152838999998},{"$f":"[1]FinStat_Appointee!$L60","v":-13.090743328661802},{"$f":"[1]FinStat_Appointee!$M60","v":-198.95313480830555},{"$f":"[1]FinStat_Appointee!$N60","v":-257.95060716982238},{"$f":"[1]FinStat_Appointee!$O60","v":-356.16213989575306},{"$f":"[1]FinStat_Appointee!$P60","v":-105.69662067364254},-186.37064917523705,{"$f":"SUM(I69:O69)","v":-914.6470930371853},null,{"$f":"[2]FinStat_Appointee!$J60","v":0},{"$f":"[2]FinStat_Appointee!$K60","v":0},{"$f":"[2]FinStat_Appointee!$L60","v":53.930877171627401},{"$f":"[2]FinStat_Appointee!$M60","v":-127.51435757361969},{"$f":"[2]FinStat_Appointee!$N60","v":-187.23609062840751},{"$f":"[2]FinStat_Appointee!$O60","v":-151.32234806946826},{"$f":"[2]FinStat_Appointee!$P60","v":59.470501573227523},-70.534283505328105,{"$f":"SUM(S69:Y69)","v":-352.67141752664054},null,0,17.206,-67.022000000000006,-71.438999999999993,-70.715000000000003,-204.84,-165.167,null,-561.976,null,0,0,-1.242738919055812,0.56024279429675272,0.37767825509849168,1.3536665443888245,-2.7772928700899846,null,1.5934832596904418]
[null,null,null,null,null,null,null,null,null,null,null,null,null,null,null,null,null,null,null,null,null,null,null,null,null,null,null,null,0,0,0,0,0,0,0,null,0,null,0,0,0,0,0,0,0,null,0]
[null,"Cash flows from financing activities",null,null,null,null,null,null,null,null,null,null,null,null,null,null,null,null,null,null,null,null,null,null,null,null,null,null,0,0,0,0,0,0,0,null,0,null,0,0,0,0,0,0,0,null,0]
[null,null,null,null,"Dividend paid - Appointee - nominal","CF","£m",null,{"$f":"[1]FinStat_Appointee!$J63","v":0},{"$f":"[1]FinStat_Appointee!$K63","v":0},{"$f":"[1]FinStat_Appointee!$L63","v":-87.098001876101648},{"$f":"[1]FinStat_Appointee!$M63","v":-90.039301399457628},{"$f":"[1]FinStat_Appointee!$N63","v":-93.079928607717321},{"$f":"[1]FinStat_Appointee!$O63","v":-96.223237796799964},{"$f":"[1]FinStat_Appointee!$P63","v":-99.472696537197876},-93.182633243454887,{"$f":"SUM(I72:O72)","v":-465.91316621727447},null,{"$f":"[2]FinStat_Appointee!$J63","v":0},{"$f":"[2]FinStat_Appointee!$K63","v":0},{"$f":"[2]FinStat_Appointee!$L63","v":-59.918118153716563},{"$f":"[2]FinStat_Appointee!$M63","v":-61.840200219198934},{"$f":"[2]FinStat_Appointee!$N63","v":-63.86831862158845},{"$f":"[2]FinStat_Appointee!$O63","v":-65.979026041731018},{"$f":"[2]FinStat_Appointee!$P63","v":-68.159487698553008},-63.953030146957587,{"$f":"SUM(S72:Y72)","v":-319.76515073478794},null,0,0,-27.18,-28.199000000000002,-29.212,-30.244,-31.312999999999999,null,-146.148,null,0,0,0.45361905275915437,0.45599787678639064,0.4573785662509347,0.45838809413268694,0.45940779570537704,null,0.45704792928237081]
[null,null,null,null,"Proceeds from share issues - Appointee - nominal","CF","£m",null,{"$f":"[1]FinStat_Appointee!$J64","v":0},{"$f":"[1]FinStat_Appointee!$K64","v":0},{"$f":"[1]FinStat_Appointee!$L64","v":0},{"$f":"[1]FinStat_Appointee!$M64","v":0},{"$f":"[1]FinStat_Appointee!$N64","v":0},{"$f":"[1]FinStat_Appointee!$O64","v":0},{"$f":"[1]FinStat_Appointee!$P64","v":0},0,{"$f":"SUM(I73:O73)","v":0},null,{"$f":"[2]FinStat_Appointee!$J64","v":0},{"$f":"[2]FinStat_Appointee!$K64","v":0},{"$f":"[2]FinStat_Appointee!$L64","v":0},{"$f":"[2]FinStat_Appointee!$M64","v":0},{"$f":"[2]FinStat_Appointee!$N64","v":0},{"$f":"[2]FinStat_Appointee!$O64","v":0},{"$f":"[2]FinStat_Appointee!$P64","v":0},0,{"$f":"SUM(S73:Y73)","v":0},null,0,0,0,0,0,0,0,null,0,null,0,0,0,0,0,0,0,null,0]
[null,null,null,null,"Net loans received - Appointee - nominal","CF","£m",null,{"$f":"[1]FinStat_Appointee!$J65","v":0},{"$f":"[1]FinStat_Appointee!$K65","v":0},{"$f":"[1]FinStat_Appointee!$L65","v":0},{"$f":"[1]FinStat_Appointee!$M65","v":0},{"$f":"[1]FinStat_Appointee!$N65","v":0},{"$f":"[1]FinStat_Appointee!$O65","v":0},{"$f":"[1]FinStat_Appointee!$P65","v":0},0,{"$f":"SUM(I74:O74)","v":0},null,{"$f":"[2]FinStat_Appointee!$J65","v":0},{"$f":"[2]FinStat_Appointee!$K65","v":0},{"$f":"[2]FinStat_Appointee!$L65","v":0},{"$f":"[2]FinStat_Appointee!$M65","v":0},{"$f":"[2]FinStat_Appointee!$N65","v":0},{"$f":"[2]FinStat_Appointee!$O65","v":0},{"$f":"[2]FinStat_Appointee!$P65","v":0},0,{"$f":"SUM(S74:Y74)","v":0},null,0,0,0,0,0,0,0,null,0,null,0,0,0,0,0,0,0,null,0]
[null,null,null,null,"Net cash generated / (used) in financing activities - Appointee - nominal",null,"£m",null,{"$f":"[1]FinStat_Appointee!$J66","v":0},{"$f":"[1]FinStat_Appointee!$K66","v":0},{"$f":"[1]FinStat_Appointee!$L66","v":-87.098001876101648},{"$f":"[1]FinStat_Appointee!$M66","v":-90.039301399457628},{"$f":"[1]FinStat_Appointee!$N66","v":-93.079928607717321},{"$f":"[1]FinStat_Appointee!$O66","v":-96.223237796799964},{"$f":"[1]FinStat_Appointee!$P66","v":-99.472696537197876},-93.182633243454887,{"$f":"SUM(I75:O75)","v":-465.91316621727447},null,{"$f":"[2]FinStat_Appointee!$J66","v":0},{"$f":"[2]FinStat_Appointee!$K66","v":0},{"$f":"[2]FinStat_Appointee!$L66","v":-59.918118153716563},{"$f":"[2]FinStat_Appointee!$M66","v":-61.840200219198934},{"$f":"[2]FinStat_Appointee!$N66","v":-63.86831862158845},{"$f":"[2]FinStat_Appointee!$O66","v":-65.979026041731018},{"$f":"[2]FinStat_Appointee!$P66","v":-68.159487698553008},-63.953030146957587,{"$f":"SUM(S75:Y75)","v":-319.76515073478794},null,0,0,-27.18,-28.199000000000002,-29.212,-30.244,-31.312999999999999,null,-146.148,null,0,0,0.45361905275915437,0.45599787678639064,0.4573785662509347,0.45838809413268694,0.45940779570537704,null,0.45704792928237081]
[null,null,null,null,null,null,null,null,null,null,null,null,null,null,null,null,null,null,null,null,null,null,null,null,null,null,null,null,0,0,0,0,0,0,0,null,0,null,0,0,0,0,0,0,0,null,0]
[null,null,null,null,"Increase / (decrease) in cash - Appointee - nominal",null,"£m",null,{"$f":"[1]FinStat_Appointee!$J68","v":0},{"$f":"[1]FinStat_Appointee!$K68","v":17.206152838999998},{"$f":"[1]FinStat_Appointee!$L68","v":-100.18874520476345},{"$f":"[1]FinStat_Appointee!$M68","v":-288.99243620776315},{"$f":"[1]FinStat_Appointee!$N68","v":-351.03053577753968},{"$f":"[1]FinStat_Appointee!$O68","v":-452.38537769255299},{"$f":"[1]FinStat_Appointee!$P68","v":-205.1693172108404},-279.55328241869194,{"$f":"SUM(I77:O77)","v":-1380.5602592544597},null,{"$f":"[2]FinStat_Appointee!$J68","v":0},{"$f":"[2]FinStat_Appointee!$K68","v":0},{"$f":"[2]FinStat_Appointee!$L68","v":-5.9872409820891619},{"$f":"[2]FinStat_Appointee!$M68","v":-189.35455779281864},{"$f":"[2]FinStat_Appointee!$N68","v":-251.10440924999597},{"$f":"[2]FinStat_Appointee!$O68","v":-217.30137411119927},{"$f":"[2]FinStat_Appointee!$P68","v":-8.688986125325485},-134.48731365228571,{"$f":"SUM(S77:Y77)","v":-672.43656826142853},null,0,17.206,-94.201999999999998,-99.638000000000005,-99.926000000000002,-235.084,-196.48,null,-708.12400000000002,null,0,0,15.733791287473711,0.52619805491568061,0.39794601894272236,1.0818339320749111,22.61253466930124,null,1.053071818849532]
[null,null,null,null,null,null,null,null,null,null,null,null,null,null,null,null,null,null,null,null,null,null,null,null,null,null,null,null,0,0,0,0,0,0,0,null,0,null,0,0,0,0,0,0,0,null,0]
[null,"Retained cash balance - Appointee",null,null,null,null,null,null,null,null,null,null,null,null,null,null,null,null,null,null,null,null,null,null,null,null,null,null,0,0,0,0,0,0,0,null,0,null,0,0,0,0,0,0,0,null,0]
[null,null,null,null,"Cash and cash equivalents b/f - Appointee - nominal",0,"£m",null,{"$f":"[1]FinStat_Appointee!$J71","v":0},{"$f":"[1]FinStat_Appointee!$K71","v":512.19100000000003},{"$f":"[1]FinStat_Appointee!$L71","v":224.774},{"$f":"[1]FinStat_Appointee!$M71","v":194.345},{"$f":"[1]FinStat_Appointee!$N71","v":128.239},{"$f":"[1]FinStat_Appointee!$O71","v":157.27600000000001},{"$f":"[1]FinStat_Appointee!$P71","v":424.83699999999999},225.89420000000001,{"$f":"SUM(I80:O80)","v":1641.662},null,{"$f":"[2]FinStat_Appointee!$J71","v":0},{"$f":"[2]FinStat_Appointee!$K71","v":512.19100000000003},{"$f":"[2]FinStat_Appointee!$L71","v":224.774},{"$f":"[2]FinStat_Appointee!$M71","v":194.345},{"$f":"[2]FinStat_Appointee!$N71","v":128.239},{"$f":"[2]FinStat_Appointee!$O71","v":157.27600000000001},{"$f":"[2]FinStat_Appointee!$P71","v":424.83699999999999},225.89420000000001,{"$f":"SUM(S80:Y80)","v":1641.662},null,0,0,0,0,0,0,0,null,0,null,0,0,0,0,0,0,0,null,0]
[null,null,null,null,"Last pre-forecast period flag",0,"flag",null,{"$f":"[1]FinStat_Appointee!$J72","v":0},{"$f":"[1]FinStat_Appointee!$K72","v":1},{"$f":"[1]FinStat_Appointee!$L72","v":0},{"$f":"[1]FinStat_Appointee!$M72","v":0},{"$f":"[1]FinStat_Appointee!$N72","v":0},{"$f":"[1]FinStat_Appointee!$O72","v":0},{"$f":"[1]FinStat_Appointee!$P72","v":0},0,{"$f":"SUM(I81:O81)","v":1},null,{"$f":"[2]FinStat_Appointee!$J72","v":0},{"$f":"[2]FinStat_Appointee!$K72","v":1},{"$f":"[2]FinStat_Appointee!$L72","v":0},{"$f":"[2]FinStat_Appointee!$M72","v":0},{"$f":"[2]FinStat_Appointee!$N72","v":0},{"$f":"[2]FinStat_Appointee!$O72","v":0},{"$f":"[2]FinStat_Appointee!$P72","v":0},0,{"$f":"SUM(S81:Y81)","v":1},null,0,0,0,0,0,0,0,null,0,null,0,0,0,0,0,0,0,null,0]
[null,null,null,null,null,null,null,null,null,null,null,null,null,null,null,null,null,null,null,null,null,null,null,null,null,null,null,null,0,0,0,0,0,0,0,null,0,null,0,0,0,0,0,0,0,null,0]
[null,null,null,null,"Retained cash balance - Appointee BEG - nominal",null,"£m",null,{"$f":"[1]FinStat_Appointee!$J74","v":0},{"$f":"[1]FinStat_Appointee!$K74","v":0},{"$f":"[1]FinStat_Appointee!$L74","v":512.19100000000003},{"$f":"[1]FinStat_Appointee!$M74","v":412.00225479523658},{"$f":"[1]FinStat_Appointee!$N74","v":123.00981858747343},{"$f":"[1]FinStat_Appointee!$O74","v":-228.02071719006625},{"$f":"[1]FinStat_Appointee!$P74","v":-680.4060948826193},27.755252262004888,{"$f":"SUM(I83:O83)","v":138.77626131002444},null,{"$f":"[2]FinStat_Appointee!$J74","v":0},{"$f":"[2]FinStat_Appointee!$K74","v":0},{"$f":"[2]FinStat_Appointee!$L74","v":512.19100000000003},{"$f":"[2]FinStat_Appointee!$M74","v":506.2037590179109},{"$f":"[2]FinStat_Appointee!$N74","v":316.84920122509226},{"$f":"[2]FinStat_Appointee!$O74","v":65.744791975096291},{"$f":"[2]FinStat_Appointee!$P74","v":-151.55658213610297},249.88643401639928,{"$f":"SUM(S83:Y83)","v":1249.4321700819964},null,0,0,0,-94.201999999999998,-193.839,-293.76600000000002,-528.85,null,-1110.6559999999999,null,0,0,0,-0.18609502265009231,-0.61177051812194783,-4.4682778844486526,3.4894558358743843,null,-0.88892860820696729]
[null,null,null,"plus","Increase / (decrease) in cash - Appointee - nominal",0,"£m",null,{"$f":"[1]FinStat_Appointee!$J75","v":0},{"$f":"[1]FinStat_Appointee!$K75","v":17.206152838999998},{"$f":"[1]FinStat_Appointee!$L75","v":-100.18874520476345},{"$f":"[1]FinStat_Appointee!$M75","v":-288.99243620776315},{"$f":"[1]FinStat_Appointee!$N75","v":-351.03053577753968},{"$f":"[1]FinStat_Appointee!$O75","v":-452.38537769255299},{"$f":"[1]FinStat_Appointee!$P75","v":-205.1693172108404},-279.55328241869194,{"$f":"SUM(I84:O84)","v":-1380.5602592544597},null,{"$f":"[2]FinStat_Appointee!$J75","v":0},{"$f":"[2]FinStat_Appointee!$K75","v":0},{"$f":"[2]FinStat_Appointee!$L75","v":-5.9872409820891619},{"$f":"[2]FinStat_Appointee!$M75","v":-189.35455779281864},{"$f":"[2]FinStat_Appointee!$N75","v":-251.10440924999597},{"$f":"[2]FinStat_Appointee!$O75","v":-217.30137411119927},{"$f":"[2]FinStat_Appointee!$P75","v":-8.688986125325485},-134.48731365228571,{"$f":"SUM(S84:Y84)","v":-672.43656826142853},null,0,17.206,-94.201999999999998,-99.638000000000005,-99.926000000000002,-235.084,-196.48,null,-708.12400000000002,null,0,0,15.733791287473711,0.52619805491568061,0.39794601894272236,1.0818339320749111,22.61253466930124,null,1.053071818849532]
[null,null,null,null,"Retained cash balance - Appointee - nominal",null,"£m",null,{"$f":"[1]FinStat_Appointee!$J76","v":0},{"$f":"[1]FinStat_Appointee!$K76","v":512.19100000000003},{"$f":"[1]FinStat_Appointee!$L76","v":412.00225479523658},{"$f":"[1]FinStat_Appointee!$M76","v":123.00981858747343},{"$f":"[1]FinStat_Appointee!$N76","v":-228.02071719006625},{"$f":"[1]FinStat_Appointee!$O76","v":-680.4060948826193},{"$f":"[1]FinStat_Appointee!$P76","v":-885.5754120934597},-251.79803015668705,{"$f":"SUM(I85:O85)","v":-746.79915078343527},null,{"$f":"[2]FinStat_Appointee!$J76","v":0},{"$f":"[2]FinStat_Appointee!$K76","v":512.19100000000003},{"$f":"[2]FinStat_Appointee!$L76","v":506.2037590179109},{"$f":"[2]FinStat_Appointee!$M76","v":316.84920122509226},{"$f":"[2]FinStat_Appointee!$N76","v":65.744791975096291},{"$f":"[2]FinStat_Appointee!$O76","v":-151.55658213610297},{"$f":"[2]FinStat_Appointee!$P76","v":-160.24556826142845},115.3991203641136,{"$f":"SUM(S85:Y85)","v":1089.1866018205681},null,0,0,-94.201999999999998,-193.839,-293.76600000000002,-528.85,-725.33,null,-1835.9860000000001,null,0,0,-0.18609502265009231,-0.61177051812194783,-4.4682778844486526,3.4894558358743843,4.5263654269469678,null,-1.6856487188982694]
[]
[]
["BALANCE SHEET"]
[]
[null,"Non-current assets"]
[null,null,null,null,"Fixed Assets balance - Appointee - nominal","BS","£m",null,{"$f":"[1]FinStat_Appointee!$J83","v":0},{"$f":"[1]FinStat_Appointee!$K83","v":9763.3407742705731},{"$f":"[1]FinStat_Appointee!$L83","v":9924.4058861183239},{"$f":"[1]FinStat_Appointee!$M83","v":10271.312769396805},{"$f":"[1]FinStat_Appointee!$N83","v":10667.048080782009},{"$f":"[1]FinStat_Appointee!$O83","v":11173.543388483367},{"$f":"[1]FinStat_Appointee!$P83","v":11424.346830338585},{"$f":"AVERAGE(K91:O91)","v":10692.131391023819},{"$f":"SUM(I91:O91)","v":63223.997729389666},null,{"$f":"[2]FinStat_Appointee!$J83","v":0},{"$f":"[2]FinStat_Appointee!$K83","v":9763.3407742705731},{"$f":"[2]FinStat_Appointee!$L83","v":9811.7857562993322},{"$f":"[2]FinStat_Appointee!$M83","v":10103.776590771702},{"$f":"[2]FinStat_Appointee!$N83","v":10397.808941804384},{"$f":"[2]FinStat_Appointee!$O83","v":10665.806458099914},{"$f":"[2]FinStat_Appointee!$P83","v":10729.231319645762},{"$f":"AVERAGE(U91:Y91)","v":10341.681813324218},{"$f":"SUM(S91:Y91)","v":61471.749840891665},null,{"$f":"ROUND(I91 - S91, 3)","v":0},{"$f":"ROUND(J91 - T91, 3)","v":0},{"$f":"ROUND(K91 - U91, 3)","v":112.62},{"$f":"ROUND(L91 - V91, 3)","v":167.536},{"$f":"ROUND(M91 - W91, 3)","v":269.23899999999998},{"$f":"ROUND(N91 - X91, 3)","v":507.73700000000002},{"$f":"ROUND(O91 - Y91, 3)","v":695.11599999999999},null,{"$f":"ROUND(Q91 - AA91, 3)","v":1752.248},null,{"$f":"IF(S91 = 0, 0, AC91 / S91)","v":0},{"$f":"IF(T91 = 0, 0, AD91 / T91)","v":0},{"$f":"IF(U91 = 0, 0, AE91 / U91)","v":1.147803292868437E-2},{"$f":"IF(V91 = 0, 0, AF91 / V91)","v":1.6581522611358927E-2},{"$f":"IF(W91 = 0, 0, AG91 / W91)","v":2.5893820660382087E-2},{"$f":"IF(X91 = 0, 0, AH91 / X91)","v":4.7604182768046593E-2},{"$f":"IF(Y91 = 0, 0, AI91 / Y91)","v":6.4787120278337898E-2},null,{"$f":"IF(AA91 = 0, 0, AK91 / AA91)","v":2.8504931200679536E-2}]
[null,null,null,null,"Intangible assets & investments balance - Appointee - nominal","BS","£m",null,{"$f":"[1]FinStat_Appointee!$J84","v":0},{"$f":"[1]FinStat_Appointee!$K84","v":1.2999999999999999E-2},{"$f":"[1]FinStat_Appointee!$L84","v":1.2999999999999999E-2},{"$f":"[1]FinStat_Appointee!$M84","v":1.2999999999999999E-2},{"$f":"[1]FinStat_Appointee!$N84","v":1.2999999999999999E-2},{"$f":"[1]FinStat_Appointee!$O84","v":1.2999999999999999E-2},{"$f":"[1]FinStat_Appointee!$P84","v":1.2999999999999999E-2},1.3000000000000001E-2,{"$f":"SUM(I92:O92)","v":7.8E-2},null,{"$f":"[2]FinStat_Appointee!$J84","v":0},{"$f":"[2]FinStat_Appointee!$K84","v":1.2999999999999998E-2},{"$f":"[2]FinStat_Appointee!$L84","v":1.2999999999999998E-2},{"$f":"[2]FinStat_Appointee!$M84","v":1.2999999999999998E-2},{"$f":"[2]FinStat_Appointee!$N84","v":1.2999999999999998E-2},{"$f":"[2]FinStat_Appointee!$O84","v":1.2999999999999998E-2},{"$f":"[2]FinStat_Appointee!$P84","v":1.2999999999999998E-2},1.2999999999999998E-2,{"$f":"SUM(S92:Y92)","v":7.7999999999999986E-2},null,0,0,0,0,0,0,0,null,0,null,0,0,0,0,0,0,0,null,0]
[null,null,null,null,"Retirement benefit asset balance - Appointee - nominal","BS","£m",null,{"$f":"[1]FinStat_Appointee!$J85","v":0},{"$f":"[1]FinStat_Appointee!$K85","v":34.465000000000003},{"$f":"[1]FinStat_Appointee!$L85","v":46.434451121053385},{"$f":"[1]FinStat_Appointee!$M85","v":58.761835305066185},{"$f":"[1]FinStat_Appointee!$N85","v":71.458921362939591},{"$f":"[1]FinStat_Appointee!$O85","v":84.53556641595442},{"$f":"[1]FinStat_Appointee!$P85","v":98.004953290927816},{"$f":"AVERAGE(K93:O93)","v":71.839145499188277},{"$f":"SUM(I93:O93)","v":393.66072749594139},null,{"$f":"[2]FinStat_Appointee!$J85","v":0},{"$f":"[2]FinStat_Appointee!$K85","v":34.465000000000003},{"$f":"[2]FinStat_Appointee!$L85","v":59.176161155649297},{"$f":"[2]FinStat_Appointee!$M85","v":84.382582985762554},{"$f":"[2]FinStat_Appointee!$N85","v":110.11206961709786},{"$f":"[2]FinStat_Appointee!$O85","v":110.11206961709786},{"$f":"[2]FinStat_Appointee!$P85","v":110.11206961709786},{"$f":"AVERAGE(U93:Y93)","v":94.778990598541085},{"$f":"SUM(S93:Y93)","v":508.35995299270542},null,0,0,-12.742000000000001,-25.620999999999999,-38.652999999999999,-25.577000000000002,-12.106999999999999,null,-114.699,null,{"$f":"IF(S93 = 0, 0, AC93 / S93)","v":0},{"$f":"IF(T93 = 0, 0, AD93 / T93)","v":0},{"$f":"IF(U93 = 0, 0, AE93 / U93)","v":-0.21532319351512338},{"$f":"IF(V93 = 0, 0, AF93 / V93)","v":-0.30362900842135754},{"$f":"IF(W93 = 0, 0, AG93 / W93)","v":-0.35103327123367484},{"$f":"IF(X93 = 0, 0, AH93 / X93)","v":-0.23228152998069238},{"$f":"IF(Y93 = 0, 0, AI93 / Y93)","v":-0.10995161604082739},null,{"$f":"IF(AA93 = 0, 0, AK93 / AA93)","v":-0.22562556181848936}]
[null,null,null,null,"Non-current assets - Appointee - nominal",null,"£m",null,{"$f":"[1]FinStat_Appointee!$J86","v":0},{"$f":"[1]FinStat_Appointee!$K86","v":9797.8187742705741},{"$f":"[1]FinStat_Appointee!$L86","v":9970.8533372393777},{"$f":"[1]FinStat_Appointee!$M86","v":10330.087604701872},{"$f":"[1]FinStat_Appointee!$N86","v":10738.520002144949},{"$f":"[1]FinStat_Appointee!$O86","v":11258.091954899322},{"$f":"[1]FinStat_Appointee!$P86","v":11522.364783629513},10763.983536523006,{"$f":"SUM(I94:O94)","v":63617.736456885614},null,{"$f":"[2]FinStat_Appointee!$J86","v":0},{"$f":"[2]FinStat_Appointee!$K86","v":9797.8187742705741},{"$f":"[2]FinStat_Appointee!$L86","v":9870.9749174549816},{"$f":"[2]FinStat_Appointee!$M86","v":10188.172173757466},{"$f":"[2]FinStat_Appointee!$N86","v":10507.934011421483},{"$f":"[2]FinStat_Appointee!$O86","v":10775.931527717014},{"$f":"[2]FinStat_Appointee!$P86","v":10839.356389262861},10436.473803922761,{"$f":"SUM(S94:Y94)","v":61980.187793884383},null,0,0,99.878,141.91499999999999,230.58600000000001,482.16,683.00800000000004,null,1637.549,null,0,0,1.0118352121773134E-2,1.39293876840384E-2,2.1943990107795415E-2,4.4744159589342747E-2,6.3011859327419761E-2,null,2.6420523368623574E-2]
[null,null,null,null,null,null,null,null,null,null,null,null,null,null,null,null,null,null,null,null,null,null,null,null,null,null,null,null,0,0,0,0,0,0,0,null,0,null,0,0,0,0,0,0,0,null,0]
[null,"Current assets",null,null,null,null,null,null,null,null,null,null,null,null,null,null,null,null,null,null,null,null,null,null,null,null,null,null,0,0,0,0,0,0,0,null,0,null,0,0,0,0,0,0,0,null,0]
[null,null,null,null,"Inventories balance - Appointee - nominal","BS","£m",null,{"$f":"[1]FinStat_Appointee!$J89","v":0},{"$f":"[1]FinStat_Appointee!$K89","v":10.308999999999999},{"$f":"[1]FinStat_Appointee!$L89","v":10.518000000000001},{"$f":"[1]FinStat_Appointee!$M89","v":10.731},{"$f":"[1]FinStat_Appointee!$N89","v":10.949},{"$f":"[1]FinStat_Appointee!$O89","v":11.170999999999999},{"$f":"[1]FinStat_Appointee!$P89","v":11.397},{"$f":"AVERAGE(K97:O97)","v":10.953199999999999},{"$f":"SUM(I97:O97)","v":65.075000000000003},null,{"$f":"[2]FinStat_Appointee!$J89","v":0},{"$f":"[2]FinStat_Appointee!$K89","v":10.308999999999999},{"$f":"[2]FinStat_Appointee!$L89","v":10.518000000000001},{"$f":"[2]FinStat_Appointee!$M89","v":10.731},{"$f":"[2]FinStat_Appointee!$N89","v":10.949},{"$f":"[2]FinStat_Appointee!$O89","v":11.170999999999999},{"$f":"[2]FinStat_Appointee!$P89","v":11.397},{"$f":"AVERAGE(U97:Y97)","v":10.953199999999999},{"$f":"SUM(S97:Y97)","v":65.075000000000003},null,0,0,0,0,0,0,0,null,0,null,0,0,0,0,0,0,0,null,0]
[null,null,null,null,"Trade debtor and other receivables balance - Appointee - nominal","BS","£m",null,{"$f":"[1]FinStat_Appointee!$J90","v":0},{"$f":"[1]FinStat_Appointee!$K90","v":517.71699999999998},{"$f":"[1]FinStat_Appointee!$L90","v":549.08699999999976},{"$f":"[1]FinStat_Appointee!$M90","v":566.423},{"$f":"[1]FinStat_Appointee!$N90","v":586.63200000000006},{"$f":"[1]FinStat_Appointee!$O90","v":607.67099999999982},{"$f":"[1]FinStat_Appointee!$P90","v":627.70299999999997},587.50319999999988,{"$f":"SUM(I98:O98)","v":3455.2329999999993},null,{"$f":"[2]FinStat_Appointee!$J90","v":0},{"$f":"[2]FinStat_Appointee!$K90","v":517.71699999999998},{"$f":"[2]FinStat_Appointee!$L90","v":513.30746607731044},{"$f":"[2]FinStat_Appointee!$M90","v":529.71736478848993},{"$f":"[2]FinStat_Appointee!$N90","v":544.13923474235389},{"$f":"[2]FinStat_Appointee!$O90","v":559.14151661677352},{"$f":"[2]FinStat_Appointee!$P90","v":575.6629493201292},544.39370630901135,{"$f":"SUM(S98:Y98)","v":3239.6855315450566},null,0,0,35.78,36.706000000000003,42.493000000000002,48.529000000000003,52.04,null,215.547,null,0,0,6.9704811179604184E-2,6.9293556224376912E-2,7.8092144963816362E-2,8.6791981202964386E-2,9.0400120524449942E-2,null,6.6533309452785766E-2]
[null,null,null,null,"Retained cash balance - Appointee - nominal","BS","£m",null,{"$f":"[1]FinStat_Appointee!$J91","v":0},{"$f":"[1]FinStat_Appointee!$K91","v":512.19100000000003},{"$f":"[1]FinStat_Appointee!$L91","v":412.00225479523658},{"$f":"[1]FinStat_Appointee!$M91","v":123.0098185874734},{"$f":"[1]FinStat_Appointee!$N91","v":-228.02071719006631},{"$f":"[1]FinStat_Appointee!$O91","v":-680.4060948826193},{"$f":"[1]FinStat_Appointee!$P91","v":-885.5754120934597},-251.79803015668705,{"$f":"SUM(I99:O99)","v":-746.79915078343527},null,{"$f":"[2]FinStat_Appointee!$J91","v":0},{"$f":"[2]FinStat_Appointee!$K91","v":512.19100000000003},{"$f":"[2]FinStat_Appointee!$L91","v":506.20375901791078},{"$f":"[2]FinStat_Appointee!$M91","v":316.84920122509214},{"$f":"[2]FinStat_Appointee!$N91","v":65.744791975096234},{"$f":"[2]FinStat_Appointee!$O91","v":-151.55658213610309},{"$f":"[2]FinStat_Appointee!$P91","v":-160.24556826142856},115.39912036411347,{"$f":"SUM(S99:Y99)","v":1089.1866018205674},null,0,0,-94.201999999999998,-193.839,-293.76600000000002,-528.85,-725.33,null,-1835.9860000000001,null,0,0,-0.18609502265009234,-0.61177051812194805,-4.468277884448657,3.4894558358743821,4.5263654269469642,null,-1.6856487188982705]
[null,null,null,null,"Current assets - Appointee - nominal",null,"£m",null,{"$f":"[1]FinStat_Appointee!$J92","v":0},{"$f":"[1]FinStat_Appointee!$K92","v":1040.2170000000001},{"$f":"[1]FinStat_Appointee!$L92","v":971.60725479523637},{"$f":"[1]FinStat_Appointee!$M92","v":700.16381858747343},{"$f":"[1]FinStat_Appointee!$N92","v":369.56028280993371},{"$f":"[1]FinStat_Appointee!$O92","v":-61.564094882619429},{"$f":"[1]FinStat_Appointee!$P92","v":-246.47541209345968},346.65836984331287,{"$f":"SUM(I100:O100)","v":2773.5088492165642},null,{"$f":"[2]FinStat_Appointee!$J92","v":0},{"$f":"[2]FinStat_Appointee!$K92","v":1040.2170000000001},{"$f":"[2]FinStat_Appointee!$L92","v":1030.0292250952211},{"$f":"[2]FinStat_Appointee!$M92","v":857.29756601358213},{"$f":"[2]FinStat_Appointee!$N92","v":620.83302671745014},{"$f":"[2]FinStat_Appointee!$O92","v":418.75593448067048},{"$f":"[2]FinStat_Appointee!$P92","v":426.81438105870069},670.7460266731249,{"$f":"SUM(S100:Y100)","v":4393.9471333656247},null,0,0,-58.421999999999997,-157.13399999999999,-251.273,-480.32,-673.29,null,-1620.4380000000001,null,0,0,-5.6718779017749882E-2,-0.18328991732785407,-0.40473523344684736,-1.1470165804233428,-1.5774773060128005,null,-0.3687886883515587]
[null,null,null,null,null,null,null,null,null,null,null,null,null,null,null,null,null,null,null,null,null,null,null,null,null,null,null,null,0,0,0,0,0,0,0,null,0,null,0,0,0,0,0,0,0,null,0]
[null,"Liabilities",null,null,null,null,null,null,null,null,null,null,null,null,null,null,null,null,null,null,null,null,null,null,null,null,null,null,0,0,0,0,0,0,0,null,0,null,0,0,0,0,0,0,0,null,0]
[null,null,null,null,"Trade creditors and other payables balance - Appointee - nominal","BS","£m",null,{"$f":"[1]FinStat_Appointee!$J95","v":0},{"$f":"[1]FinStat_Appointee!$K95","v":898.25999999999988},{"$f":"[1]FinStat_Appointee!$L95","v":921.91611419431922},{"$f":"[1]FinStat_Appointee!$M95","v":933.52867061089},{"$f":"[1]FinStat_Appointee!$N95","v":935.43015834732262},{"$f":"[1]FinStat_Appointee!$O95","v":948.77266382532525},{"$f":"[1]FinStat_Appointee!$P95","v":960.96139295663988},{"$f":"AVERAGE(K103:O103)","v":940.1217999868993},{"$f":"SUM(I103:O103)","v":5598.868999934497},null,{"$f":"[2]FinStat_Appointee!$J95","v":0},{"$f":"[2]FinStat_Appointee!$K95","v":898.26},{"$f":"[2]FinStat_Appointee!$L95","v":892.90558838266611},{"$f":"[2]FinStat_Appointee!$M95","v":903.793555888789},{"$f":"[2]FinStat_Appointee!$N95","v":902.24689554863744},{"$f":"[2]FinStat_Appointee!$O95","v":912.32412371255339},{"$f":"[2]FinStat_Appointee!$P95","v":923.20454414039455},{"$f":"AVERAGE(U103:Y103)","v":906.89494153460817},{"$f":"SUM(S103:Y103)","v":5432.7347076730402},null,0,0,29.010999999999999,29.734999999999999,33.183,36.448999999999998,37.756999999999998,null,166.13399999999999,null,0,0,3.2490557095233415E-2,3.2900212450351733E-2,3.6778181408784028E-2,3.9951809946312471E-2,4.0897762299421887E-2,null,3.0580179033104091E-2]
[null,null,null,null,"Capex creditor balance - Appointee - nominal","BS","£m",null,{"$f":"[1]FinStat_Appointee!$J96","v":0},{"$f":"[1]FinStat_Appointee!$K96","v":176.45599999999996},{"$f":"[1]FinStat_Appointee!$L96","v":176.45638176303777},{"$f":"[1]FinStat_Appointee!$M96","v":176.45638176303774},{"$f":"[1]FinStat_Appointee!$N96","v":176.45638176303771},{"$f":"[1]FinStat_Appointee!$O96","v":176.4563817630378},{"$f":"[1]FinStat_Appointee!$P96","v":176.45638176303774},176.45638176303777,1058.7379088151888,null,{"$f":"[2]FinStat_Appointee!$J96","v":0},{"$f":"[2]FinStat_Appointee!$K96","v":176.45599999999996},{"$f":"[2]FinStat_Appointee!$L96","v":136.39270315952331},{"$f":"[2]FinStat_Appointee!$M96","v":161.82650455335406},{"$f":"[2]FinStat_Appointee!$N96","v":151.78375741161594},{"$f":"[2]FinStat_Appointee!$O96","v":127.90512276096086},{"$f":"[2]FinStat_Appointee!$P96","v":123.95299508867899},140.37221659482665,878.3170829741332,null,0,0,40.064,14.63,24.672999999999998,48.551000000000002,52.503,null,180.42099999999999,null,0,0,0.29374005406390119,9.0405462568565229E-2,0.16255362510950586,0.37958604747001357,0.42357185449563423,null,0.20541670371372414]
[null,null,null,null,"Dividend creditor balance - Appointee - nominal","BS","£m",null,{"$f":"[1]FinStat_Appointee!$J97","v":0},{"$f":"[1]FinStat_Appointee!$K97","v":0},{"$f":"[1]FinStat_Appointee!$L97","v":0},{"$f":"[1]FinStat_Appointee!$M97","v":0},{"$f":"[1]FinStat_Appointee!$N97","v":0},{"$f":"[1]FinStat_Appointee!$O97","v":0},{"$f":"[1]FinStat_Appointee!$P97","v":0},0,0,null,{"$f":"[2]FinStat_Appointee!$J97","v":0},{"$f":"[2]FinStat_Appointee!$K97","v":0},{"$f":"[2]FinStat_Appointee!$L97","v":0},{"$f":"[2]FinStat_Appointee!$M97","v":0},{"$f":"[2]FinStat_Appointee!$N97","v":0},{"$f":"[2]FinStat_Appointee!$O97","v":0},{"$f":"[2]FinStat_Appointee!$P97","v":0},0,0,null,0,0,0,0,0,0,0,null,0,null,0,0,0,0,0,0,0,null,0]
[null,null,null,null,"Debt balance - Appointee - nominal","BS","£m",null,{"$f":"[1]FinStat_Appointee!$J98","v":0},{"$f":"[1]FinStat_Appointee!$K98","v":5292.5148959990947},{"$f":"[1]FinStat_Appointee!$L98","v":5339.8401025694857},{"$f":"[1]FinStat_Appointee!$M98","v":5388.585065336988},{"$f":"[1]FinStat_Appointee!$N98","v":5438.792376987516},{"$f":"[1]FinStat_Appointee!$O98","v":5490.5059079875591},{"$f":"[1]FinStat_Appointee!$P98","v":5543.7708449176052},5440.2988595598308,32494.009193798251,null,{"$f":"[2]FinStat_Appointee!$J98","v":0},{"$f":"[2]FinStat_Appointee!$K98","v":5239.914988354094},{"$f":"[2]FinStat_Appointee!$L98","v":5286.719455838801},{"$f":"[2]FinStat_Appointee!$M98","v":5334.9280573480473},{"$f":"[2]FinStat_Appointee!$N98","v":5384.582916902571},{"$f":"[2]FinStat_Appointee!$O98","v":5435.7274222437309},{"$f":"[2]FinStat_Appointee!$P98","v":5488.4062627451249},5386.0728230156546,32170.279103432367,null,0,52.6,53.121000000000002,53.656999999999996,54.209000000000003,54.777999999999999,55.365000000000002,null,323.73,null,0,1.0038330796760149E-2,1.0048008116135551E-2,1.0057680145488688E-2,1.0067446418149542E-2,1.0077400087399714E-2,1.0087627874017511E-2,null,1.0063014963568036E-2]
[null,null,null,null,"Preference share capital balance - Appointee - nominal","BS","£m",null,{"$f":"[1]FinStat_Appointee!$J99","v":0},{"$f":"[1]FinStat_Appointee!$K99","v":0},{"$f":"[1]FinStat_Appointee!$L99","v":0},{"$f":"[1]FinStat_Appointee!$M99","v":0},{"$f":"[1]FinStat_Appointee!$N99","v":0},{"$f":"[1]FinStat_Appointee!$O99","v":0},{"$f":"[1]FinStat_Appointee!$P99","v":0},0,0,null,{"$f":"[2]FinStat_Appointee!$J99","v":0},{"$f":"[2]FinStat_Appointee!$K99","v":0},{"$f":"[2]FinStat_Appointee!$L99","v":0},{"$f":"[2]FinStat_Appointee!$M99","v":0},{"$f":"[2]FinStat_Appointee!$N99","v":0},{"$f":"[2]FinStat_Appointee!$O99","v":0},{"$f":"[2]FinStat_Appointee!$P99","v":0},0,0,null,0,0,0,0,0,0,0,null,0,null,0,0,0,0,0,0,0,null,0]
[null,null,null,null,"Current tax liabilities balance - Appointee - nominal","BS","£m",null,{"$f":"[1]FinStat_Appointee!$J100","v":0},{"$f":"[1]FinStat_Appointee!$K100","v":0},{"$f":"[1]FinStat_Appointee!$L100","v":0},{"$f":"[1]FinStat_Appointee!$M100","v":0},{"$f":"[1]FinStat_Appointee!$N100","v":0},{"$f":"[1]FinStat_Appointee!$O100","v":0},{"$f":"[1]FinStat_Appointee!$P100","v":0},0,0,null,{"$f":"[2]FinStat_Appointee!$J100","v":0},{"$f":"[2]FinStat_Appointee!$K100","v":0},{"$f":"[2]FinStat_Appointee!$L100","v":0},{"$f":"[2]FinStat_Appointee!$M100","v":0},{"$f":"[2]FinStat_Appointee!$N100","v":0},{"$f":"[2]FinStat_Appointee!$O100","v":0},{"$f":"[2]FinStat_Appointee!$P100","v":0},0,0,null,0,0,0,0,0,0,0,null,0,null,0,0,0,0,0,0,0,null,0]
[null,null,null,null,"Retirement benefit liability balance - Appointee - nominal","BS","£m",null,{"$f":"[1]FinStat_Appointee!$J101","v":0},{"$f":"[1]FinStat_Appointee!$K101","v":0},{"$f":"[1]FinStat_Appointee!$L101","v":0},{"$f":"[1]FinStat_Appointee!$M101","v":0},{"$f":"[1]FinStat_Appointee!$N101","v":0},{"$f":"[1]FinStat_Appointee!$O101","v":0},{"$f":"[1]FinStat_Appointee!$P101","v":0},0,0,null,{"$f":"[2]FinStat_Appointee!$J101","v":0},{"$f":"[2]FinStat_Appointee!$K101","v":0},{"$f":"[2]FinStat_Appointee!$L101","v":0},{"$f":"[2]FinStat_Appointee!$M101","v":0},{"$f":"[2]FinStat_Appointee!$N101","v":0},{"$f":"[2]FinStat_Appointee!$O101","v":0},{"$f":"[2]FinStat_Appointee!$P101","v":0},0,0,null,0,0,0,0,0,0,0,null,0,null,0,0,0,0,0,0,0,null,0]
[null,null,null,null,"Provision liabilities balance - Appointee - nominal","BS","£m",null,{"$f":"[1]FinStat_Appointee!$J102","v":0},{"$f":"[1]FinStat_Appointee!$K102","v":0},{"$f":"[1]FinStat_Appointee!$L102","v":0.33499999999999724},{"$f":"[1]FinStat_Appointee!$M102","v":0.67499999999999716},{"$f":"[1]FinStat_Appointee!$N102","v":1.0239999999999974},{"$f":"[1]FinStat_Appointee!$O102","v":1.379999999999999},{"$f":"[1]FinStat_Appointee!$P102","v":1.7409999999999997},1.0309999999999981,5.1549999999999905,null,{"$f":"[2]FinStat_Appointee!$J102","v":0},{"$f":"[2]FinStat_Appointee!$K102","v":16.731000000000002},{"$f":"[2]FinStat_Appointee!$L102","v":17.065999999999999},{"$f":"[2]FinStat_Appointee!$M102","v":17.405999999999999},{"$f":"[2]FinStat_Appointee!$N102","v":17.754999999999999},{"$f":"[2]FinStat_Appointee!$O102","v":18.111000000000001},{"$f":"[2]FinStat_Appointee!$P102","v":18.472000000000001},17.762,105.541,null,0,-16.731000000000002,-16.731000000000002,-16.731000000000002,-16.731000000000002,-16.731000000000002,-16.731000000000002,null,-100.386,null,0,-1,-0.98037032696589721,-0.96122026887280265,-0.94232610532244454,-0.9238032135166474,-0.90574924209614549,null,-0.9511564226224879]
[null,null,null,null,"Others liabilities balance - Appointee - nominal","BS","£m",null,{"$f":"[1]FinStat_Appointee!$J103","v":0},{"$f":"[1]FinStat_Appointee!$K103","v":0},{"$f":"[1]FinStat_Appointee!$L103","v":0},{"$f":"[1]FinStat_Appointee!$M103","v":0},{"$f":"[1]FinStat_Appointee!$N103","v":0},{"$f":"[1]FinStat_Appointee!$O103","v":0},{"$f":"[1]FinStat_Appointee!$P103","v":0},0,0,null,{"$f":"[2]FinStat_Appointee!$J103","v":0},{"$f":"[2]FinStat_Appointee!$K103","v":591.30999999999995},{"$f":"[2]FinStat_Appointee!$L103","v":591.30999999999995},{"$f":"[2]FinStat_Appointee!$M103","v":591.30999999999995},{"$f":"[2]FinStat_Appointee!$N103","v":591.30999999999995},{"$f":"[2]FinStat_Appointee!$O103","v":591.30999999999995},{"$f":"[2]FinStat_Appointee!$P103","v":591.30999999999995},591.30999999999995,3547.8599999999997,null,0,-591.30999999999995,-591.30999999999995,-591.30999999999995,-591.30999999999995,-591.30999999999995,-591.30999999999995,null,-3547.86,null,0,-1,-1,-1,-1,-1,-1,null,-1.0000000000000002]
[null,null,null,null,"Liabilities - Appointee - nominal",null,"£m",null,{"$f":"[1]FinStat_Appointee!$J104","v":0},{"$f":"[1]FinStat_Appointee!$K104","v":6367.2308959990951},{"$f":"[1]FinStat_Appointee!$L104","v":6438.5475985268431},{"$f":"[1]FinStat_Appointee!$M104","v":6499.245117710916},{"$f":"[1]FinStat_Appointee!$N104","v":6551.7029170978767},{"$f":"[1]FinStat_Appointee!$O104","v":6617.1149535759223},{"$f":"[1]FinStat_Appointee!$P104","v":6682.9296196372834},6557.908041309769,39156.771102547937,null,{"$f":"[2]FinStat_Appointee!$J104","v":0},{"$f":"[2]FinStat_Appointee!$K104","v":6922.6719883540936},{"$f":"[2]FinStat_Appointee!$L104","v":6924.393747380991},{"$f":"[2]FinStat_Appointee!$M104","v":7009.2641177901896},{"$f":"[2]FinStat_Appointee!$N104","v":7047.6785698628246},{"$f":"[2]FinStat_Appointee!$O104","v":7085.3776687172449},{"$f":"[2]FinStat_Appointee!$P104","v":7145.3458019741975},7042.4119811450892,42134.731894079538,null,0,-555.44100000000003,-485.846,-510.01900000000001,-495.976,-468.26299999999998,-462.416,null,-2977.9609999999998,null,0,-8.0235059661126512E-2,-7.0164409726665419E-2,-7.2763558546113632E-2,-7.0374378610410099E-2,-6.6088643667850597E-2,-6.4715692258342269E-2,null,-7.0677108080007531E-2]
[null,null,null,null,null,null,null,null,null,null,null,null,null,null,null,null,null,null,null,null,null,null,null,null,null,null,null,null,0,0,0,0,0,0,0,null,0,null,0,0,0,0,0,0,0,null,0]
[null,null,null,null,"Net assets before deferred tax - Appointee - nominal",null,"£m",null,{"$f":"[1]FinStat_Appointee!$J106","v":0},{"$f":"[1]FinStat_Appointee!$K106","v":4470.8048782714795},{"$f":"[1]FinStat_Appointee!$L106","v":4503.9129935077717},{"$f":"[1]FinStat_Appointee!$M106","v":4531.0063055784285},{"$f":"[1]FinStat_Appointee!$N106","v":4556.3773678570069},{"$f":"[1]FinStat_Appointee!$O106","v":4579.4129064407816},{"$f":"[1]FinStat_Appointee!$P106","v":4592.9597518987703},{"$f":"AVERAGE(K114:O114)","v":4552.7338650565525},{"$f":"SUM(I114:O114)","v":27234.474203554244},null,{"$f":"[2]FinStat_Appointee!$J106","v":0},{"$f":"[2]FinStat_Appointee!$K106","v":3915.363785916481},{"$f":"[2]FinStat_Appointee!$L106","v":3976.6103951692112},{"$f":"[2]FinStat_Appointee!$M106","v":4036.2056219808583},{"$f":"[2]FinStat_Appointee!$N106","v":4081.088468276108},{"$f":"[2]FinStat_Appointee!$O106","v":4109.3097934804391},{"$f":"[2]FinStat_Appointee!$P106","v":4120.8249683473641},{"$f":"AVERAGE(U114:Y114)","v":4064.8078494507963},{"$f":"SUM(S114:Y114)","v":24239.403033170463},null,0,555.44100000000003,527.303,494.80099999999999,475.28899999999999,470.10300000000001,472.13499999999999,null,2995.0709999999999,null,0,0.14186191382724511,0.13260112196069498,0.12259063247554898,0.11646133223883939,0.11439950347521487,0.1145729322712164,null,0.12356207765931317]
[null,null,null,null,null,null,null,null,null,null,null,null,null,null,null,null,null,null,null,null,null,null,null,null,null,null,null,null,0,0,0,0,0,0,0,null,0,null,0,0,0,0,0,0,0,null,0]
[null,"Net assets",null,null,null,null,null,null,null,null,null,null,null,null,null,null,null,null,null,null,null,null,null,null,null,null,null,null,0,0,0,0,0,0,0,null,0,null,0,0,0,0,0,0,0,null,0]
[null,null,null,null,"Deferred tax balance - Appointee - nominal","BS","£m",null,{"$f":"[1]FinStat_Appointee!$J109","v":0},{"$f":"[1]FinStat_Appointee!$K109","v":-768.02099999999996},{"$f":"[1]FinStat_Appointee!$L109","v":-779.9882244297454},{"$f":"[1]FinStat_Appointee!$M109","v":-788.77113876516376},{"$f":"[1]FinStat_Appointee!$N109","v":-795.94300530508508},{"$f":"[1]FinStat_Appointee!$O109","v":-803.0983419485849},{"$f":"[1]FinStat_Appointee!$P109","v":-804.88580950078665},{"$f":"AVERAGE(K117:O117)","v":-794.53730398987307},{"$f":"SUM(I117:O117)","v":-4740.7075199493656},null,{"$f":"[2]FinStat_Appointee!$J109","v":0},{"$f":"[2]FinStat_Appointee!$K109","v":-768.02099999999984},{"$f":"[2]FinStat_Appointee!$L109","v":-778.97563678023346},{"$f":"[2]FinStat_Appointee!$M109","v":-786.60425202672513},{"$f":"[2]FinStat_Appointee!$N109","v":-791.87250571549487},{"$f":"[2]FinStat_Appointee!$O109","v":-794.81137065677331},{"$f":"[2]FinStat_Appointee!$P109","v":-791.35273344265636},{"$f":"AVERAGE(U117:Y117)","v":-788.7232997243766},{"$f":"SUM(S117:Y117)","v":-4711.6374986218825},null,0,0,-1.0129999999999999,-2.1669999999999998,-4.07,-8.2870000000000008,-13.532999999999999,null,-29.07,null,0,0,1.3004257799217795E-3,2.7548795908700166E-3,5.1397162682426502E-3,1.0426373232622776E-2,1.7101097182196868E-2,null,6.1698294931438911E-3]
[null,null,null,null,"Net assets - Appointee - nominal",null,"£m",null,{"$f":"[1]FinStat_Appointee!$J110","v":0},{"$f":"[1]FinStat_Appointee!$K110","v":3702.7838782714798},{"$f":"[1]FinStat_Appointee!$L110","v":3723.9247690780262},{"$f":"[1]FinStat_Appointee!$M110","v":3742.2351668132646},{"$f":"[1]FinStat_Appointee!$N110","v":3760.4343625519218},{"$f":"[1]FinStat_Appointee!$O110","v":3776.314564492197},{"$f":"[1]FinStat_Appointee!$P110","v":3788.0739423979835},3758.1965610666789,{"$f":"SUM(I118:O118)","v":22493.766683604874},null,{"$f":"[2]FinStat_Appointee!$J110","v":0},{"$f":"[2]FinStat_Appointee!$K110","v":3147.3427859164813},{"$f":"[2]FinStat_Appointee!$L110","v":3197.6347583889778},{"$f":"[2]FinStat_Appointee!$M110","v":3249.6013699541331},{"$f":"[2]FinStat_Appointee!$N110","v":3289.2159625606132},{"$f":"[2]FinStat_Appointee!$O110","v":3314.4984228236658},{"$f":"[2]FinStat_Appointee!$P110","v":3329.4722349047079},3276.0845497264195,{"$f":"SUM(S118:Y118)","v":19527.765534548576},null,0,555.44100000000003,526.29,492.63400000000001,471.21800000000002,461.81599999999997,458.60199999999998,null,2966.0010000000002,null,0,0.17647934711320618,0.16458727771184026,0.15159828665598862,0.14326149616310471,0.13933209224657669,0.13774014848125787,null,0.15188634842796239]
[null,null,null,null,null,null,null,null,null,null,null,null,null,null,null,null,null,null,null,null,null,null,null,null,null,null,null,null,0,0,0,0,0,0,0,null,0,null,0,0,0,0,0,0,0,null,0]
[null,"Equity",null,null,null,null,null,null,null,null,null,null,null,null,null,null,null,null,null,null,null,null,null,null,null,null,null,null,0,0,0,0,0,0,0,null,0,null,0,0,0,0,0,0,0,null,0]
[null,null,null,null,"Called up share capital, including share premium balance - Appointee - nominal","BS","£m",null,{"$f":"[1]FinStat_Appointee!$J113","v":0},{"$f":"[1]FinStat_Appointee!$K113","v":9.9999999999999982},{"$f":"[1]FinStat_Appointee!$L113","v":9.9999999999999982},{"$f":"[1]FinStat_Appointee!$M113","v":9.9999999999999982},{"$f":"[1]FinStat_Appointee!$N113","v":9.9999999999999982},{"$f":"[1]FinStat_Appointee!$O113","v":9.9999999999999982},{"$f":"[1]FinStat_Appointee!$P113","v":9.9999999999999982},{"$f":"AVERAGE(K121:O121)","v":9.9999999999999982},{"$f":"SUM(I121:O121)","v":59.999999999999993},null,{"$f":"[2]FinStat_Appointee!$J113","v":0},{"$f":"[2]FinStat_Appointee!$K113","v":10},{"$f":"[2]FinStat_Appointee!$L113","v":10},{"$f":"[2]FinStat_Appointee!$M113","v":10},{"$f":"[2]FinStat_Appointee!$N113","v":10},{"$f":"[2]FinStat_Appointee!$O113","v":10},{"$f":"[2]FinStat_Appointee!$P113","v":10},{"$f":"AVERAGE(U121:Y121)","v":10},{"$f":"SUM(S121:Y121)","v":60},null,0,0,0,0,0,0,0,null,0,null,0,0,0,0,0,0,0,null,0]
[null,null,null,null,"Non-distributable reserves balance - Appointee - nominal","BS","£m",null,{"$f":"[1]FinStat_Appointee!$J114","v":0},{"$f":"[1]FinStat_Appointee!$K114","v":772.48099999999999},{"$f":"[1]FinStat_Appointee!$L114","v":772.48099999999999},{"$f":"[1]FinStat_Appointee!$M114","v":772.48099999999999},{"$f":"[1]FinStat_Appointee!$N114","v":772.48099999999999},{"$f":"[1]FinStat_Appointee!$O114","v":772.48099999999999},{"$f":"[1]FinStat_Appointee!$P114","v":772.48099999999999},772.48099999999999,{"$f":"SUM(I122:O122)","v":4634.8859999999995},null,{"$f":"[2]FinStat_Appointee!$J114","v":0},{"$f":"[2]FinStat_Appointee!$K114","v":772.48099999999999},{"$f":"[2]FinStat_Appointee!$L114","v":772.48099999999999},{"$f":"[2]FinStat_Appointee!$M114","v":772.48099999999999},{"$f":"[2]FinStat_Appointee!$N114","v":772.48099999999999},{"$f":"[2]FinStat_Appointee!$O114","v":772.48099999999999},{"$f":"[2]FinStat_Appointee!$P114","v":772.48099999999999},772.48099999999999,{"$f":"SUM(S122:Y122)","v":4634.8859999999995},null,0,0,0,0,0,0,0,null,0,null,0,0,0,0,0,0,0,null,0]
[null,null,null,null,"Retained earnings and other distributable reserves balance - Appointee - nominal","BS","£m",null,{"$f":"[1]FinStat_Appointee!$J115","v":0},{"$f":"[1]FinStat_Appointee!$K115","v":2920.30287827148},{"$f":"[1]FinStat_Appointee!$L115","v":2941.4437690780283},{"$f":"[1]FinStat_Appointee!$M115","v":2959.7541668132667},{"$f":"[1]FinStat_Appointee!$N115","v":2977.9533625519248},{"$f":"[1]FinStat_Appointee!$O115","v":2993.8335644921981},{"$f":"[1]FinStat_Appointee!$P115","v":3005.5929423979874},2975.7155610666805,{"$f":"SUM(I123:O123)","v":17798.880683604886},null,{"$f":"[2]FinStat_Appointee!$J115","v":0},{"$f":"[2]FinStat_Appointee!$K115","v":2364.8617859164815},{"$f":"[2]FinStat_Appointee!$L115","v":2415.1537583889826},{"$f":"[2]FinStat_Appointee!$M115","v":2467.1203699541343},{"$f":"[2]FinStat_Appointee!$N115","v":2506.7349625606148},{"$f":"[2]FinStat_Appointee!$O115","v":2532.017422823666},{"$f":"[2]FinStat_Appointee!$P115","v":2546.991234904709},2493.6035497264215,{"$f":"SUM(S123:Y123)","v":14832.879534548589},null,0,555.44100000000003,526.29,492.63400000000001,471.21800000000002,461.81599999999997,458.60199999999998,null,2966.0010000000002,null,0,0.23487250007921445,0.21791159182803307,0.1996797586366483,0.18798078258686496,0.18239053011135684,0.18005637150029599,null,0.19996124104504601]
[null,null,null,null,"Total equity - Appointee - nominal",null,"£m",null,{"$f":"[1]FinStat_Appointee!$J116","v":0},{"$f":"[1]FinStat_Appointee!$K116","v":3702.7838782714798},{"$f":"[1]FinStat_Appointee!$L116","v":3723.9247690780285},{"$f":"[1]FinStat_Appointee!$M116","v":3742.2351668132669},{"$f":"[1]FinStat_Appointee!$N116","v":3760.434362551925},{"$f":"[1]FinStat_Appointee!$O116","v":3776.3145644921979},{"$f":"[1]FinStat_Appointee!$P116","v":3788.0739423979876},3758.1965610666812,{"$f":"SUM(I124:O124)","v":22493.766683604885},null,{"$f":"[2]FinStat_Appointee!$J116","v":0},{"$f":"[2]FinStat_Appointee!$K116","v":3147.3427859164813},{"$f":"[2]FinStat_Appointee!$L116","v":3197.6347583889828},{"$f":"[2]FinStat_Appointee!$M116","v":3249.6013699541345},{"$f":"[2]FinStat_Appointee!$N116","v":3289.2159625606146},{"$f":"[2]FinStat_Appointee!$O116","v":3314.4984228236663},{"$f":"[2]FinStat_Appointee!$P116","v":3329.4722349047088},3276.0845497264213,{"$f":"SUM(S124:Y124)","v":19527.765534548587},null,0,555.44100000000003,526.29,492.63400000000001,471.21800000000002,461.81599999999997,458.60199999999998,null,2966.0010000000002,null,0,0.17647934711320618,0.16458727771184001,0.15159828665598857,0.14326149616310463,0.13933209224657667,0.13774014848125785,null,0.15188634842796231]
[]
["Calculations"]
[]
[null,null,null,null,"Net debt",null,"£m",null,{"$f":"SUM(I106:I107) - I99","v":0},{"$f":"SUM(J106:J107) - J99","v":4780.3238959990949},{"$f":"SUM(K106:K107) - K99","v":4927.837847774249},5265.5752467495149,5666.8130941775826,6170.9120028701782,6429.3462570110651,null,{"$f":"SUM(I128:O128)","v":33240.808344581681},null,{"$f":"SUM(S106:S107) - S99","v":0},{"$f":"SUM(T106:T107) - T99","v":4727.7239883540942},4780.5156968208903,5018.0788561229556,5318.8381249274744,5587.2840043798342,5648.651831006553,null,{"$f":"SUM(S128:Y128)","v":31081.092501611805},null,{"$f":"ROUND(I128 - S128, 3)","v":0},52.6,147.322,247.49600000000001,347.97500000000002,583.62800000000004,780.69399999999996,null,{"$f":"ROUND(Q128 - AA128, 3)","v":2159.7159999999999},null,{"$f":"IF(S128 = 0, 0, AC128 / S128)","v":0},1.1125861012523304E-2,3.0817177338832123E-2,4.9320867028227452E-2,6.5423122837517236E-2,0.10445647644588998,0.13820890778125466,null,{"$f":"IF(AA128 = 0, 0, AK128 / AA128)","v":6.9486489250273342E-2}]
[null,null,null,null,"Average net debt",null,"£m",null,null,{"$f":"SUM(I99:J99,I106:J107)","v":5804.7058959990945},{"$f":"SUM(J99:K99,J106:K107)","v":11556.548253363817},11263.437241289183,10722.366543721912,10020.871472902389,9468.2952459290864,null,{"$f":"SUM(I129:O129)","v":58836.224653205471},null,null,{"$f":"SUM(S99:T99,S106:T107)","v":5752.1059883540938},{"$f":"SUM(T99:U99,T106:U107)","v":11545.029203210805},11444.70047342985,11102.104967450807,10734.498548985295,10612.331534591325,null,{"$f":"SUM(S129:Y129)","v":61190.770716022176},null,0,52.6,11.519,-181.26300000000001,-379.738,-713.62699999999995,-1144.0360000000001,null,{"$f":"ROUND(Q129 - AA129, 3)","v":-2354.5459999999998},null,0,9.144476841437852E-3,9.9774541902383708E-4,-1.5838160240263369E-2,-3.4204144269336066E-2,-6.6479770502876193E-2,-0.10780251222560927,null,-3.8478776659426617E-2]
[]
[null,null,null,null,"Total interest as a percentage of average net debt",null,"%",null,null,{"$f":" IF( J129 = 0, 0, SUM( J24:J25 ) / J129 )","v":0},-1.8246676734377146E-2,-1.9611044099498817E-2,-2.2069228912224306E-2,-2.5540258055062239E-2,-2.8747949359326896E-2,null,null,null,null,{"$f":" IF( T129 = 0, 0, SUM( T24:T25 ) / T129 )","v":0},-1.7182614955052605E-2,-1.7813238902976643E-2,-1.9356871580677157E-2,-2.1104415384671487E-2,-2.1981572991354635E-2,null,null,null,{"$f":"ROUND(I131 - S131, 3)","v":0},0,-1E-3,-2E-3,-3.0000000000000001E-3,-4.0000000000000001E-3,-7.0000000000000001E-3,null,null,null,null,0,5.819835936589772E-2,0.11227604428893581,0.15498372180113681,0.18953379788502794,0.31844854791570665]
[]
[null,null,null,null,{"$f":"'Exec Summary'!E129","v":"Average of RCV - Wholesale - nominal"},null,"£m",null,{"$f":"'Exec Summary'!I129","v":0},{"$f":"'Exec Summary'!J129","v":3983.6032466659117},{"$f":"'Exec Summary'!K129","v":8203.9920406372803},{"$f":"'Exec Summary'!L129","v":8606.5145153593967},{"$f":"'Exec Summary'!M129","v":9131.0541354109773},{"$f":"'Exec Summary'!N129","v":9740.2791221567695},{"$f":"'Exec Summary'!O129","v":10292.227351347938},null,null,null,{"$f":"'Exec Summary'!S129","v":0},{"$f":"'Exec Summary'!T129","v":3939.7699902950794},{"$f":"'Exec Summary'!U129","v":8044.8896347792897},{"$f":"'Exec Summary'!V129","v":8345.2803959062967},{"$f":"'Exec Summary'!W129","v":8781.1813773217673},{"$f":"'Exec Summary'!X129","v":9213.2997236145966},{"$f":"'Exec Summary'!Y129","v":9546.5652308783938},null,null,null,{"$f":"ROUND(I133 - S133, 3)","v":0},{"$f":"ROUND(J133 - T133, 3)","v":43.832999999999998},{"$f":"ROUND(K133 - U133, 3)","v":159.102},{"$f":"ROUND(L133 - V133, 3)","v":261.23399999999998},{"$f":"ROUND(M133 - W133, 3)","v":349.87299999999999},{"$f":"ROUND(N133 - X133, 3)","v":526.97900000000004},{"$f":"ROUND(O133 - Y133, 3)","v":745.66200000000003},null,null,null,{"$f":"IF(S133 = 0, 0, AC133 / S133)","v":0},{"$f":"IF(T133 = 0, 0, AD133 / T133)","v":1.1125776405215221E-2},{"$f":"IF(U133 = 0, 0, AE133 / U133)","v":1.977677845475688E-2},{"$f":"IF(V133 = 0, 0, AF133 / V133)","v":3.1303202242089552E-2},{"$f":"IF(W133 = 0, 0, AG133 / W133)","v":3.9843499976390438E-2},{"$f":"IF(X133 = 0, 0, AH133 / X133)","v":5.7197639912799192E-2},{"$f":"IF(Y133 = 0, 0, AI133 / Y133)","v":7.8107882988968022E-2},null,{"$f":"IF(AA133 = 0, 0, AK133 / AA133)","v":0}]
[null,"less",null,null,{"$f":"E128","v":"Net debt"},{"$f":"F128","v":0},"£m",null,{"$f":"I128","v":0},{"$f":"J128","v":4780.3238959990949},4927.837847774249,5265.5752467495149,5666.8130941775826,6170.9120028701782,6429.3462570110651,null,null,null,{"$f":"S128","v":0},{"$f":"T128","v":4727.7239883540942},4780.5156968208903,5018.0788561229556,5318.8381249274744,5587.2840043798342,5648.651831006553,null,null,null,{"$f":"ROUND(I134 - S134, 3)","v":0},{"$f":"ROUND(J134 - T134, 3)","v":52.6},{"$f":"ROUND(K134 - U134, 3)","v":147.322},{"$f":"ROUND(L134 - V134, 3)","v":247.49600000000001},{"$f":"ROUND(M134 - W134, 3)","v":347.97500000000002},{"$f":"ROUND(N134 - X134, 3)","v":583.62800000000004},{"$f":"ROUND(O134 - Y134, 3)","v":780.69399999999996},null,null,null,0,1.1125861012523304E-2,3.0817177338832123E-2,4.9320867028227452E-2,6.5423122837517236E-2,0.10445647644588998,0.13820890778125466,null,0]
[null,null,null,null,"Regulated equity (RCV - net debt).",null,"£m",null,{"$f":" I133 - I134","v":0},{"$f":" J133 - J134","v":-796.72064933318325},3276.1541928630313,3340.9392686098818,3464.2410412333948,3569.3671192865913,3862.8810943368726,null,null,null,{"$f":" S133 - S134","v":0},{"$f":" T133 - T134","v":-787.95399805901479},3264.3739379583994,3327.2015397833411,3462.3432523942929,3626.0157192347624,3897.9133998718407,null,null,null,0,-8.7669999999999995,11.78,13.738,1.8979999999999999,-56.649000000000001,-35.031999999999996,null,null,null,0,1.1126284049063717E-2,3.6086552043015732E-3,4.1289954442899736E-3,5.4818366107620543E-4,-1.5622932823897205E-2,-8.9873725776339237E-3,null,0]
[null,null,null,null,{"$f":"E30","v":"Profit after tax - Appointee - nominal"},{"$f":"F30","v":0},{"$f":"G30","v":"£m"},null,{"$f":"I30","v":0},17.206152838999998,108.23889268264996,108.34969913469604,111.27912434637508,112.10343973707305,111.23207444298707,null,null,null,{"$f":"S30","v":0},0,110.21009062621776,113.80681178435026,103.48291122806897,91.26148630478248,83.133299779596001,null,null,null,0,17.206,-1.9710000000000001,-5.4569999999999999,7.7960000000000003,20.841999999999999,28.099,null,null,null,{"$f":"IF(S136 = 0, 0, AC136 / S136)","v":0},{"$f":"IF(T136 = 0, 0, AD136 / T136)","v":0},{"$f":"IF(U136 = 0, 0, AE136 / U136)","v":-1.7884024854717986E-2},{"$f":"IF(V136 = 0, 0, AF136 / V136)","v":-4.7949678182184166E-2},{"$f":"IF(W136 = 0, 0, AG136 / W136)","v":7.5336110160431916E-2},{"$f":"IF(X136 = 0, 0, AH136 / X136)","v":0.22837673200275055},{"$f":"IF(Y136 = 0, 0, AI136 / Y136)","v":0.33799933449648223},null,{"$f":"IF(AA136 = 0, 0, AK136 / AA136)","v":0}]
[null,null,null,null,"Return on Regulated Equity",null,"%",null,{"$f":" -1 * I136 / I134","v":{"$error":"#DIV/0!"}},{"$f":" -1 * J136 / J134","v":-3.5993696689466449E-3},-2.1964783750248216E-2,-2.0576991887369049E-2,-1.9636985109092411E-2,-1.8166429805664408E-2,-1.7300681903963541E-2,null,null,null,{"$f":" -1 * S136 / S134","v":{"$error":"#DIV/0!"}},{"$f":" -1 * T136 / T134","v":0},-2.3054017101023016E-2,-2.2679358983266187E-2,-1.9455924169431274E-2,-1.6333783325358658E-2,-1.4717370138350727E-2,null,null,null,{"$error":"#DIV/0!"},-4.0000000000000001E-3,1E-3,2E-3,0,-2E-3,-3.0000000000000001E-3,null,null,null,{"$error":"#DIV/0!"},0,-4.3376388401985932E-2,-8.8185913961487478E-2,0,0.12244560615022632,0.20384076582966126,null,0]
[]
[]
[null,null,null,null,{"$f":"E32","v":"Dividend - Appointee - nominal"},{"$f":"F32","v":"PL"},{"$f":"G32","v":"£m"},null,null,{"$f":"J32","v":0},{"$f":"K32","v":-87.098001876101648},{"$f":"L32","v":-90.039301399457628},{"$f":"M32","v":-93.079928607717321},{"$f":"N32","v":-96.223237796799964},{"$f":"O32","v":-99.472696537197876},null,null,null,null,{"$f":"T32","v":0},-59.918118153716563,-61.840200219198934,-63.86831862158845,-65.979026041731018,-68.159487698553008,null,null,null,{"$f":"ROUND(I140 - S140, 3)","v":0},{"$f":"ROUND(J140 - T140, 3)","v":0},{"$f":"ROUND(K140 - U140, 3)","v":-27.18},{"$f":"ROUND(L140 - V140, 3)","v":-28.199000000000002},{"$f":"ROUND(M140 - W140, 3)","v":-29.212},{"$f":"ROUND(N140 - X140, 3)","v":-30.244},{"$f":"ROUND(O140 - Y140, 3)","v":-31.312999999999999},null,null,null,{"$f":"IF(S140 = 0, 0, AC140 / S140)","v":0},{"$f":"IF(T140 = 0, 0, AD140 / T140)","v":0},{"$f":"IF(U140 = 0, 0, AE140 / U140)","v":0.45361905275915437},{"$f":"IF(V140 = 0, 0, AF140 / V140)","v":0.45599787678639064},{"$f":"IF(W140 = 0, 0, AG140 / W140)","v":0.4573785662509347},{"$f":"IF(X140 = 0, 0, AH140 / X140)","v":0.45838809413268694},{"$f":"IF(Y140 = 0, 0, AI140 / Y140)","v":0.45940779570537704},null,{"$f":"IF(AA140 = 0, 0, AK140 / AA140)","v":0}]
[null,null,null,null,{"$f":"E135","v":"Regulated equity (RCV - net debt)."},null,null,null,null,{"$f":"J135","v":-796.72064933318325},{"$f":"K135","v":3276.1541928630313},{"$f":"L135","v":3340.9392686098818},{"$f":"M135","v":3464.2410412333948},{"$f":"N135","v":3569.3671192865913},{"$f":"O135","v":3862.8810943368726},null,null,null,null,{"$f":"T135","v":-787.95399805901479},3264.3739379583994,3327.2015397833411,3462.3432523942929,3626.0157192347624,3897.9133998718407,null,null,null,0,-8.7669999999999995,11.78,13.738,1.8979999999999999,-56.649000000000001,-35.031999999999996,null,null,null,0,1.1126284049063717E-2,3.6086552043015732E-3,4.1289954442899736E-3,5.4818366107620543E-4,-1.5622932823897205E-2,-8.9873725776339237E-3,null,0]
[null,null,null,null,"Dividend as a % of Regulated Equity",null,null,null,null,{"$f":"J140 / J141","v":0},{"$f":"K140 / K141","v":-2.6585440351324461E-2},{"$f":"L140 / L141","v":-2.6950295758270914E-2},-2.6868779481515961E-2,-2.6958066957268347E-2,-2.5750908223146851E-2,null,null,null,null,0,-1.8355163744258562E-2,-1.8586250180452193E-2,-1.8446558866577423E-2,-1.8196012138539566E-2,-1.7486147255296645E-2,null,null,null,0,0,-8.0000000000000002E-3,-8.0000000000000002E-3,-8.0000000000000002E-3,-8.9999999999999993E-3,-8.0000000000000002E-3,null,null,null,0,0,0.43584465447781012,0.43042571375768302,0.4336852232366698,0.49461387096669357,0.45750501143565275,null,0]

{"sheet":"FinStat_Wholesale","index":4,"n_rows":131,"n_cols":47,"rows_kept":131,"cut":false,"hidden":false,"merged":[[0,8,0,16],[0,18,0,26],[0,28,0,36],[0,38,0,46]]}
[null,null,null,null,{"$f":" RIGHT(CELL(\"FILENAME\", $A$1), LEN(CELL(\"FILENAME\", $A$1)) - SEARCH(\"]\", CELL(\"FILENAME\", $A$1)))","v":"FinStat_Wholesale"},null,null,null,{"$f":"'Front sheet'!$F5 & \": \" & 'Front sheet'!$G5 & \" - \" & 'Front sheet'!$H5","v":"Model 1: ANH - Company 1 April NTN Post"},null,null,null,null,null,null,null,null,null,{"$f":"'Front sheet'!$F6 & \": \" & 'Front sheet'!$G6 & \" - \" & 'Front sheet'!$H6","v":"Model 2: ANH - Ofwat FD NTN Post "},null,null,null,null,null,null,null,null,null,{"$f":"\"Delta (\" & 'Front sheet'!$F5 & \" - \" & 'Front sheet'!$F6 & \")\"","v":"Delta (Model 1 - Model 2)"},null,null,null,null,null,null,null,null,null,{"$f":"\"Delta  (\" & 'Front sheet'!$F5 & \" - \" & 'Front sheet'!$F6 & \") - %\"","v":"Delta  (Model 1 - Model 2) - %"}]
[]
[null,null,null,"Model period ending",null,null,null,null,"2019-03-31","2020-03-31","2021-03-31","2022-03-31","2023-03-31","2024-03-31","2025-03-31",null,null,null,"2019-03-31","2020-03-31","2021-03-31","2022-03-31","2023-03-31","2024-03-31","2025-03-31",null,null,null,"2019-03-31","2020-03-31","2021-03-31","2022-03-31","2023-03-31","2024-03-31","2025-03-31",null,null,null,"2019-03-31","2020-03-31","2021-03-31","2022-03-31","2023-03-31","2024-03-31","2025-03-31"]
[null,null,null,"Timeline label",null,null,null,null,"Pre-Fcst","Pre-Fcst","Forecast","Forecast","Forecast","Forecast","Forecast",null,"Total",null,"Pre-Fcst","Pre-Fcst","Forecast","Forecast","Forecast","Forecast","Forecast",null,"Total",null,"Pre-Fcst","Pre-Fcst","Forecast","Forecast","Forecast","Forecast","Forecast",null,"Total",null,"Pre-Fcst","Pre-Fcst","Forecast","Forecast","Forecast","Forecast","Forecast",null,"Total"]
[null,null,null,"Financial year ending",null,null,null,null,2019,2020,2021,2022,2023,2024,2025,null,null,null,2019,2020,2021,2022,2023,2024,2025,null,null,null,2019,2020,2021,2022,2023,2024,2025,null,null,null,2019,2020,2021,2022,2023,2024,2025]
[null,null,null,"Model column counter",null,null,null,null,1,2,3,4,5,6,7,null,null,null,1,2,3,4,5,6,7,null,null,null,1,2,3,4,5,6,7,null,null,null,1,2,3,4,5,6,7]
[]
[null,null,null,null,{"$f":"'Front sheet'!$F5 & \": \" & 'Front sheet'!$G5 & \" - \" & 'Front sheet'!$I5","v":"Model 1: ANH - "}]
[null,null,null,null,{"$f":"'Front sheet'!$F6 & \": \" & 'Front sheet'!$G6 & \" - \" & 'Front sheet'!$I6","v":"Model 2: ANH - "}]
[null,null,null,null,"3rd model not in use"]
[]
[null,null,null,"Check Delta (numbers)",null,null,null,null,null,null,null,null,null,null,null,null,null,null,null,null,null,null,null,null,null,null,null,null,{"$f":"COUNTIF(AC19:AC310,\"<>0\") - COUNTBLANK(AC19:AC310) - AC13","v":0},12,49,50,50,50,50,null,{"$f":"COUNTIF(AK19:AK310,\"<>0\") - COUNTBLANK(AK19:AK310) - AK13","v":49},null,{"$f":"COUNTIF(AM19:AM310,\"<>0\") - COUNTBLANK(AM19:AM310) - AM13","v":0},12,49,50,50,49,49,null,{"$f":"COUNTIF(AU19:AU310,\"<>0\") - COUNTBLANK(AU19:AU310) - AU13","v":49}]
[null,null,null,"Check Delta (errors)",null,null,null,null,null,null,null,null,null,null,null,null,null,null,null,null,null,null,null,null,null,null,null,null,{"$f":"COUNT( IF( ISERROR(AC19:AC308), 1) )","v":0},{"$f":"COUNT( IF( ISERROR(AD19:AD308), 1) )","v":0},{"$f":"COUNT( IF( ISERROR(AE19:AE308), 1) )","v":0},{"$f":"COUNT( IF( ISERROR(AF19:AF308), 1) )","v":0},{"$f":"COUNT( IF( ISERROR(AG19:AG308), 1) )","v":0},{"$f":"COUNT( IF( ISERROR(AH19:AH308), 1) )","v":0},{"$f":"COUNT( IF( ISERROR(AI19:AI308), 1) )","v":0},null,{"$f":"COUNT( IF( ISERROR(AK19:AK308), 1) )","v":0},null,{"$f":"COUNT( IF( ISERROR(AM19:AM308), 1) )","v":0},{"$f":"COUNT( IF( ISERROR(AN19:AN308), 1) )","v":0},{"$f":"COUNT( IF( ISERROR(AO19:AO308), 1) )","v":0},{"$f":"COUNT( IF( ISERROR(AP19:AP308), 1) )","v":0},{"$f":"COUNT( IF( ISERROR(AQ19:AQ308), 1) )","v":0},{"$f":"COUNT( IF( ISERROR(AR19:AR308), 1) )","v":0},{"$f":"COUNT( IF( ISERROR(AS19:AS308), 1) )","v":0},null,{"$f":"COUNT( IF( ISERROR(AU19:AU308), 1) )","v":0}]
[]
["PROFIT & LOSS"]
[]
[null,null,null,null,"Revenue requirement incl. tax charge - Wholesale - nominal",null,"£m",null,{"$f":"[1]FinStat_Wholesale!$J9","v":0},{"$f":"[1]FinStat_Wholesale!$K9","v":0},{"$f":"[1]FinStat_Wholesale!$L9","v":1221.4836881677634},{"$f":"[1]FinStat_Wholesale!$M9","v":1277.425457308771},{"$f":"[1]FinStat_Wholesale!$N9","v":1322.8062943150239},{"$f":"[1]FinStat_Wholesale!$O9","v":1369.7996383883706},{"$f":"[1]FinStat_Wholesale!$P9","v":1407.9565551030041},null,{"$f":"SUM(I17:O17)","v":6599.4716332829339},null,{"$f":"[2]FinStat_Wholesale!$J9","v":0},{"$f":"[2]FinStat_Wholesale!$K9","v":0},{"$f":"[2]FinStat_Wholesale!$L9","v":1123.7304860031827},{"$f":"[2]FinStat_Wholesale!$M9","v":1170.0495364118324},{"$f":"[2]FinStat_Wholesale!$N9","v":1200.4454957553528},{"$f":"[2]FinStat_Wholesale!$O9","v":1231.0590060672973},{"$f":"[2]FinStat_Wholesale!$P9","v":1261.8263861547698},null,{"$f":"SUM(S17:Y17)","v":5987.1109103924355},null,{"$f":"ROUND(I17 - S17, 3)","v":0},{"$f":"ROUND(J17 - T17, 3)","v":0},{"$f":"ROUND(K17 - U17, 3)","v":97.753},{"$f":"ROUND(L17 - V17, 3)","v":107.376},{"$f":"ROUND(M17 - W17, 3)","v":122.361},{"$f":"ROUND(N17 - X17, 3)","v":138.74100000000001},{"$f":"ROUND(O17 - Y17, 3)","v":146.13},null,{"$f":"ROUND(Q17 - AA17, 3)","v":612.36099999999999},null,{"$f":"IF(S17 = 0, 0, AC17 / S17)","v":0},{"$f":"IF(T17 = 0, 0, AD17 / T17)","v":0},{"$f":"IF(U17 = 0, 0, AE17 / U17)","v":8.6989719703771687E-2},{"$f":"IF(V17 = 0, 0, AF17 / V17)","v":9.1770473521392823E-2},{"$f":"IF(W17 = 0, 0, AG17 / W17)","v":0.10192965897465187},{"$f":"IF(X17 = 0, 0, AH17 / X17)","v":0.11270052801385831},{"$f":"IF(Y17 = 0, 0, AI17 / Y17)","v":0.11580832482455028},null,{"$f":"IF(AA17 = 0, 0, AK17 / AA17)","v":0.10227988242827821}]
[null,null,null,null,"DPC costs - Wholesale - nominal",null,"£m",null,{"$f":"[1]FinStat_Wholesale!$J10","v":0},{"$f":"[1]FinStat_Wholesale!$K10","v":0},{"$f":"[1]FinStat_Wholesale!$L10","v":0},{"$f":"[1]FinStat_Wholesale!$M10","v":0},{"$f":"[1]FinStat_Wholesale!$N10","v":0},{"$f":"[1]FinStat_Wholesale!$O10","v":0},{"$f":"[1]FinStat_Wholesale!$P10","v":0},null,{"$f":"SUM(I18:O18)","v":0},null,{"$f":"[2]FinStat_Wholesale!$J10","v":0},{"$f":"[2]FinStat_Wholesale!$K10","v":0},{"$f":"[2]FinStat_Wholesale!$L10","v":0},{"$f":"[2]FinStat_Wholesale!$M10","v":0},{"$f":"[2]FinStat_Wholesale!$N10","v":0},{"$f":"[2]FinStat_Wholesale!$O10","v":0},{"$f":"[2]FinStat_Wholesale!$P10","v":0},null,{"$f":"SUM(S18:Y18)","v":0},null,0,0,0,0,0,0,0,null,0,null,0,0,0,0,0,0,0,null,0]
[null,null,null,null,"Operating expenditure - Wholesale - nominal",null,"£m",null,{"$f":"[1]FinStat_Wholesale!$J11","v":0},{"$f":"[1]FinStat_Wholesale!$K11","v":0},{"$f":"[1]FinStat_Wholesale!$L11","v":-607.46609008340101},{"$f":"[1]FinStat_Wholesale!$M11","v":-622.65020573167203},{"$f":"[1]FinStat_Wholesale!$N11","v":-635.02415436792933},{"$f":"[1]FinStat_Wholesale!$O11","v":-638.2277809546672},{"$f":"[1]FinStat_Wholesale!$P11","v":-631.45615575852423},null,{"$f":"SUM(I19:O19)","v":-3134.824386896194},null,{"$f":"[2]FinStat_Wholesale!$J11","v":0},{"$f":"[2]FinStat_Wholesale!$K11","v":0},{"$f":"[2]FinStat_Wholesale!$L11","v":-515.55434140506713},{"$f":"[2]FinStat_Wholesale!$M11","v":-530.64034141737977},{"$f":"[2]FinStat_Wholesale!$N11","v":-548.59808570302016},{"$f":"[2]FinStat_Wholesale!$O11","v":-562.59676820233869},{"$f":"[2]FinStat_Wholesale!$P11","v":-572.03639902973612},null,{"$f":"SUM(S19:Y19)","v":-2729.4259357575415},null,0,0,-91.912000000000006,-92.01,-86.426000000000002,-75.631,-59.42,null,-405.39800000000002,null,0,0,0.17827800605753302,0.17339428011491637,0.15753974038980903,0.13443198445960358,0.10387450886129919,null,0.14852866849727628]
[null,null,null,null,"Operating income - Wholesale - nominal",null,"£m",null,{"$f":"[1]FinStat_Wholesale!$J12","v":0},{"$f":"[1]FinStat_Wholesale!$K12","v":0},{"$f":"[1]FinStat_Wholesale!$L12","v":0},{"$f":"[1]FinStat_Wholesale!$M12","v":0},{"$f":"[1]FinStat_Wholesale!$N12","v":0},{"$f":"[1]FinStat_Wholesale!$O12","v":0},{"$f":"[1]FinStat_Wholesale!$P12","v":0},null,{"$f":"SUM(I20:O20)","v":0},null,{"$f":"[2]FinStat_Wholesale!$J12","v":0},{"$f":"[2]FinStat_Wholesale!$K12","v":0},{"$f":"[2]FinStat_Wholesale!$L12","v":0},{"$f":"[2]FinStat_Wholesale!$M12","v":0},{"$f":"[2]FinStat_Wholesale!$N12","v":0},{"$f":"[2]FinStat_Wholesale!$O12","v":0},{"$f":"[2]FinStat_Wholesale!$P12","v":0},null,{"$f":"SUM(S20:Y20)","v":0},null,0,0,0,0,0,0,0,null,0,null,0,0,0,0,0,0,0,null,0]
[null,null,null,null,"EBITDA - Wholesale - nominal",null,"£m",null,{"$f":"[1]FinStat_Wholesale!$J13","v":0},{"$f":"[1]FinStat_Wholesale!$K13","v":0},{"$f":"[1]FinStat_Wholesale!$L13","v":614.01759808436236},{"$f":"[1]FinStat_Wholesale!$M13","v":654.77525157709897},{"$f":"[1]FinStat_Wholesale!$N13","v":687.78213994709461},{"$f":"[1]FinStat_Wholesale!$O13","v":731.57185743370337},{"$f":"[1]FinStat_Wholesale!$P13","v":776.50039934447989},null,{"$f":"SUM(I21:O21)","v":3464.647246386739},null,{"$f":"[2]FinStat_Wholesale!$J13","v":0},{"$f":"[2]FinStat_Wholesale!$K13","v":0},{"$f":"[2]FinStat_Wholesale!$L13","v":608.17614459811557},{"$f":"[2]FinStat_Wholesale!$M13","v":639.4091949944526},{"$f":"[2]FinStat_Wholesale!$N13","v":651.84741005233263},{"$f":"[2]FinStat_Wholesale!$O13","v":668.46223786495864},{"$f":"[2]FinStat_Wholesale!$P13","v":689.78998712503369},null,{"$f":"SUM(S21:Y21)","v":3257.6849746348935},null,0,0,5.8410000000000002,15.366,35.935000000000002,63.11,86.71,null,206.96199999999999,null,0,0,9.6041254690444142E-3,2.4031559321153199E-2,5.5127932466763979E-2,9.4410718250249687E-2,0.12570492703351266,null,6.3530390940638864E-2]
[null,null,null,null,null,null,null,null,null,null,null,null,null,null,null,null,null,null,null,null,null,null,null,null,null,null,null,null,0,0,0,0,0,0,0,null,0,null,0,0,0,0,0,0,0,null,0]
[null,null,null,null,"Fixed asset depreciation - Wholesale - nominal",null,"£m",null,{"$f":"[1]FinStat_Wholesale!$J15","v":0},{"$f":"[1]FinStat_Wholesale!$K15","v":0},{"$f":"[1]FinStat_Wholesale!$L15","v":-337.58597989678162},{"$f":"[1]FinStat_Wholesale!$M15","v":-353.82805956543768},{"$f":"[1]FinStat_Wholesale!$N15","v":-370.76051591736893},{"$f":"[1]FinStat_Wholesale!$O15","v":-395.46379875279462},{"$f":"[1]FinStat_Wholesale!$P15","v":-431.0181240022838},null,{"$f":"SUM(I23:O23)","v":-1888.6564781346665},null,{"$f":"[2]FinStat_Wholesale!$J15","v":0},{"$f":"[2]FinStat_Wholesale!$K15","v":0},{"$f":"[2]FinStat_Wholesale!$L15","v":-336.18575654988416},{"$f":"[2]FinStat_Wholesale!$M15","v":-350.30123386077253},{"$f":"[2]FinStat_Wholesale!$N15","v":-365.29168687164963},{"$f":"[2]FinStat_Wholesale!$O15","v":-385.74402625693068},{"$f":"[2]FinStat_Wholesale!$P15","v":-415.4760415456534},null,{"$f":"SUM(S23:Y23)","v":-1852.9987450848907},null,0,0,-1.4,-3.5270000000000001,-5.4690000000000003,-9.7200000000000006,-15.542,null,-35.658000000000001,null,0,0,4.1643644108172208E-3,1.0068477239226079E-2,1.4971597209989643E-2,2.5198057101021305E-2,3.7407692492160735E-2,null,1.9243402131050236E-2]
[null,null,null,null,"Earnings before interest and tax (EBIT) - Wholesale - nominal",null,"£m",null,{"$f":"[1]FinStat_Wholesale!$J16","v":0},{"$f":"[1]FinStat_Wholesale!$K16","v":0},{"$f":"[1]FinStat_Wholesale!$L16","v":276.43161818758074},{"$f":"[1]FinStat_Wholesale!$M16","v":300.94719201166129},{"$f":"[1]FinStat_Wholesale!$N16","v":317.02162402972567},{"$f":"[1]FinStat_Wholesale!$O16","v":336.10805868090875},{"$f":"[1]FinStat_Wholesale!$P16","v":345.48227534219609},null,{"$f":"SUM(I24:O24)","v":1575.9907682520725},null,{"$f":"[2]FinStat_Wholesale!$J16","v":0},{"$f":"[2]FinStat_Wholesale!$K16","v":0},{"$f":"[2]FinStat_Wholesale!$L16","v":271.99038804823141},{"$f":"[2]FinStat_Wholesale!$M16","v":289.10796113368008},{"$f":"[2]FinStat_Wholesale!$N16","v":286.555723180683},{"$f":"[2]FinStat_Wholesale!$O16","v":282.71821160802796},{"$f":"[2]FinStat_Wholesale!$P16","v":274.31394557938029},null,{"$f":"SUM(S24:Y24)","v":1404.6862295500027},null,0,0,4.4409999999999998,11.839,30.466000000000001,53.39,71.168000000000006,null,171.30500000000001,null,0,0,1.6327782874490725E-2,4.0950100279410109E-2,0.10631789050253994,0.1888452805934627,0.25943996339553793,null,0.12195250184440001]
[null,null,null,null,null,null,null,null,null,null,null,null,null,null,null,null,null,null,null,null,null,null,null,null,null,null,null,null,0,0,0,0,0,0,0,null,0,null,0,0,0,0,0,0,0,null,0]
[null,null,null,null,"Other income (incl. 3rd party income) - Wholesale - nominal",null,"£m",null,{"$f":"[1]FinStat_Wholesale!$J18","v":0},{"$f":"[1]FinStat_Wholesale!$K18","v":0},{"$f":"[1]FinStat_Wholesale!$L18","v":26.848218710355564},{"$f":"[1]FinStat_Wholesale!$M18","v":27.988022848658403},{"$f":"[1]FinStat_Wholesale!$N18","v":28.685869809687038},{"$f":"[1]FinStat_Wholesale!$O18","v":29.40459100127967},{"$f":"[1]FinStat_Wholesale!$P18","v":29.796488696837034},null,{"$f":"SUM(I26:O26)","v":142.72319106681772},null,{"$f":"[2]FinStat_Wholesale!$J18","v":0},{"$f":"[2]FinStat_Wholesale!$K18","v":0},{"$f":"[2]FinStat_Wholesale!$L18","v":26.743677650647083},{"$f":"[2]FinStat_Wholesale!$M18","v":27.880191141204822},{"$f":"[2]FinStat_Wholesale!$N18","v":28.596395800973255},{"$f":"[2]FinStat_Wholesale!$O18","v":29.341613344469298},{"$f":"[2]FinStat_Wholesale!$P18","v":29.761821366277886},null,{"$f":"SUM(S26:Y26)","v":142.32369930357234},null,0,0,0.105,0.108,8.8999999999999996E-2,6.3E-2,3.5000000000000003E-2,null,0.39900000000000002,null,0,0,3.9261615912222691E-3,3.8737180621543207E-3,3.1122803243956694E-3,2.1471211981557614E-3,1.1760032952706759E-3,null,2.8034684451880678E-3]
[null,null,null,null,"Interest income /(expense) excl. indexation of index-linked loans - Wholesale - nominal",null,"£m",null,{"$f":"[1]FinStat_Wholesale!$J19","v":0},{"$f":"[1]FinStat_Wholesale!$K19","v":0},{"$f":"[1]FinStat_Wholesale!$L19","v":-163.54339357396935},{"$f":"[1]FinStat_Wholesale!$M19","v":-173.07753844351001},{"$f":"[1]FinStat_Wholesale!$N19","v":-187.66573138556731},{"$f":"[1]FinStat_Wholesale!$O19","v":-205.74897105927474},{"$f":"[1]FinStat_Wholesale!$P19","v":-220.73902459049469},null,{"$f":"SUM(I27:O27)","v":-950.77465905281611},null,{"$f":"[2]FinStat_Wholesale!$J19","v":0},{"$f":"[2]FinStat_Wholesale!$K19","v":0},{"$f":"[2]FinStat_Wholesale!$L19","v":-151.56932395890348},{"$f":"[2]FinStat_Wholesale!$M19","v":-156.81620312535821},{"$f":"[2]FinStat_Wholesale!$N19","v":-166.69028928066828},{"$f":"[2]FinStat_Wholesale!$O19","v":-177.16220638886841},{"$f":"[2]FinStat_Wholesale!$P19","v":-182.66139791733124},null,{"$f":"SUM(S27:Y27)","v":-834.89942067112963},null,0,0,-11.974,-16.260999999999999,-20.975000000000001,-28.587,-38.078000000000003,null,-115.875,null,0,0,7.9000154432612185E-2,0.10369464172653781,0.12583216509201028,0.16136060045025608,0.20846221716332924,null,0.13878917284054942]
[null,null,null,null,"Indexation of index-linked loans - Wholesale - nominal",null,"£m",null,{"$f":"[1]FinStat_Wholesale!$J20","v":0},{"$f":"[1]FinStat_Wholesale!$K20","v":0},{"$f":"[1]FinStat_Wholesale!$L20","v":-47.325206570391039},{"$f":"[1]FinStat_Wholesale!$M20","v":-48.744962767502763},{"$f":"[1]FinStat_Wholesale!$N20","v":-50.207311650527849},{"$f":"[1]FinStat_Wholesale!$O20","v":-51.71353100004368},{"$f":"[1]FinStat_Wholesale!$P20","v":-53.264936930044989},null,{"$f":"SUM(I28:O28)","v":-251.25594891851031},null,{"$f":"[2]FinStat_Wholesale!$J20","v":0},{"$f":"[2]FinStat_Wholesale!$K20","v":0},{"$f":"[2]FinStat_Wholesale!$L20","v":-46.80446748470554},{"$f":"[2]FinStat_Wholesale!$M20","v":-48.208601509246705},{"$f":"[2]FinStat_Wholesale!$N20","v":-49.654859554524116},{"$f":"[2]FinStat_Wholesale!$O20","v":-51.144505341159835},{"$f":"[2]FinStat_Wholesale!$P20","v":-52.678840501394625},null,{"$f":"SUM(S28:Y28)","v":-248.49127439103083},null,0,0,-0.52100000000000002,-0.53600000000000003,-0.55200000000000005,-0.56899999999999995,-0.58599999999999997,null,-2.7650000000000001,null,0,0,1.1131416037801285E-2,1.111834783046324E-2,1.1116736709201037E-2,1.112533978390212E-2,1.1124010977130108E-2,null,1.1127151272317679E-2]
[null,null,null,null,"Earnings before tax (EBT) - Wholesale - nominal",null,"£m",null,{"$f":"[1]FinStat_Wholesale!$J21","v":0},{"$f":"[1]FinStat_Wholesale!$K21","v":0},{"$f":"[1]FinStat_Wholesale!$L21","v":92.411236753575906},{"$f":"[1]FinStat_Wholesale!$M21","v":107.11271364930693},{"$f":"[1]FinStat_Wholesale!$N21","v":107.83445080331754},{"$f":"[1]FinStat_Wholesale!$O21","v":108.05014762287001},{"$f":"[1]FinStat_Wholesale!$P21","v":101.27480251849343},null,{"$f":"SUM(I29:O29)","v":516.68335134756376},null,{"$f":"[2]FinStat_Wholesale!$J21","v":0},{"$f":"[2]FinStat_Wholesale!$K21","v":0},{"$f":"[2]FinStat_Wholesale!$L21","v":100.36027425526947},{"$f":"[2]FinStat_Wholesale!$M21","v":111.96334764027998},{"$f":"[2]FinStat_Wholesale!$N21","v":98.806970146463868},{"$f":"[2]FinStat_Wholesale!$O21","v":83.753113222469011},{"$f":"[2]FinStat_Wholesale!$P21","v":68.735528526932285},null,{"$f":"SUM(S29:Y29)","v":463.61923379141456},null,0,0,-7.9489999999999998,-4.851,9.0269999999999992,24.297000000000001,32.539000000000001,null,53.064,null,0,0,-7.9204646051299857E-2,-4.3326678794791615E-2,9.1359951495517649E-2,0.29010264890644905,0.47339419216439738,null,0.11445599347992938]
[null,null,null,null,null,null,null,null,null,null,null,null,null,null,null,null,null,null,null,null,null,null,null,null,null,null,null,null,0,0,0,0,0,0,0,null,0,null,0,0,0,0,0,0,0,null,0]
[null,null,null,null,"Current tax - wholesale - nominal","PL","£m",null,{"$f":"[1]FinStat_Wholesale!$J23","v":0},{"$f":"[1]FinStat_Wholesale!$K23","v":0},{"$f":"[1]FinStat_Wholesale!$L23","v":0},{"$f":"[1]FinStat_Wholesale!$M23","v":0},{"$f":"[1]FinStat_Wholesale!$N23","v":0},{"$f":"[1]FinStat_Wholesale!$O23","v":0},{"$f":"[1]FinStat_Wholesale!$P23","v":0},null,{"$f":"SUM(I31:O31)","v":0},null,{"$f":"[2]FinStat_Wholesale!$J23","v":0},{"$f":"[2]FinStat_Wholesale!$K23","v":0},{"$f":"[2]FinStat_Wholesale!$L23","v":0},{"$f":"[2]FinStat_Wholesale!$M23","v":0},{"$f":"[2]FinStat_Wholesale!$N23","v":0},{"$f":"[2]FinStat_Wholesale!$O23","v":0},{"$f":"[2]FinStat_Wholesale!$P23","v":0},null,{"$f":"SUM(S31:Y31)","v":0},null,0,0,0,0,0,0,0,null,0,null,0,0,0,0,0,0,0,null,0]
[null,null,null,null,"Movement in deferred tax provision - Wholesale - nominal",null,"£m",null,{"$f":"[1]FinStat_Wholesale!$J24","v":0},{"$f":"[1]FinStat_Wholesale!$K24","v":0},{"$f":"[1]FinStat_Wholesale!$L24","v":-11.967224429745396},{"$f":"[1]FinStat_Wholesale!$M24","v":-8.7829143354183756},{"$f":"[1]FinStat_Wholesale!$N24","v":-7.1718665399213837},{"$f":"[1]FinStat_Wholesale!$O24","v":-7.1553366434997274},{"$f":"[1]FinStat_Wholesale!$P24","v":-1.7874675522018011},null,{"$f":"SUM(I32:O32)","v":-36.864809500786691},null,{"$f":"[2]FinStat_Wholesale!$J24","v":0},{"$f":"[2]FinStat_Wholesale!$K24","v":0},{"$f":"[2]FinStat_Wholesale!$L24","v":-10.954636780233649},{"$f":"[2]FinStat_Wholesale!$M24","v":-7.6286152464916661},{"$f":"[2]FinStat_Wholesale!$N24","v":-5.2682536887697289},{"$f":"[2]FinStat_Wholesale!$O24","v":-2.9388649412785082},{"$f":"[2]FinStat_Wholesale!$P24","v":3.4586372141169313},null,{"$f":"SUM(S32:Y32)","v":-23.331733442656624},null,0,0,-1.0129999999999999,-1.1539999999999999,-1.9039999999999999,-4.2160000000000002,-5.2460000000000004,null,-13.532999999999999,null,0,0,9.2472258124325857E-2,0.15127253934201421,0.3614100824451057,1.4345674552046253,-1.5167823842835229,null,0.58002548474422699]
[null,null,null,null,"Earnings after tax (EAT) - Wholesale - nominal",null,"£m",null,{"$f":"[1]FinStat_Wholesale!$J25","v":0},{"$f":"[1]FinStat_Wholesale!$K25","v":0},{"$f":"[1]FinStat_Wholesale!$L25","v":80.444012323830506},{"$f":"[1]FinStat_Wholesale!$M25","v":98.329799313888543},{"$f":"[1]FinStat_Wholesale!$N25","v":100.66258426339616},{"$f":"[1]FinStat_Wholesale!$O25","v":100.89481097937029},{"$f":"[1]FinStat_Wholesale!$P25","v":99.487334966291627},null,{"$f":"SUM(I33:O33)","v":479.81854184677718},null,{"$f":"[2]FinStat_Wholesale!$J25","v":0},{"$f":"[2]FinStat_Wholesale!$K25","v":0},{"$f":"[2]FinStat_Wholesale!$L25","v":89.405637475035832},{"$f":"[2]FinStat_Wholesale!$M25","v":104.33473239378831},{"$f":"[2]FinStat_Wholesale!$N25","v":93.538716457694136},{"$f":"[2]FinStat_Wholesale!$O25","v":80.814248281190501},{"$f":"[2]FinStat_Wholesale!$P25","v":72.194165741049218},null,{"$f":"SUM(S33:Y33)","v":440.28750034875799},null,0,0,-8.9619999999999997,-6.0049999999999999,7.1239999999999997,20.081,27.292999999999999,null,39.530999999999999,null,0,0,-0.10023976399141947,-5.7555138756051616E-2,7.6160976649942119E-2,0.2484834101299665,0.37804993962942002,null,8.9784515728216066E-2]
[null,null,null,null,null,null,null,null,null,null,null,null,null,null,null,null,null,null,null,null,null,null,null,null,null,null,null,null,0,0,0,0,0,0,0,null,0,null,0,0,0,0,0,0,0,null,0]
[null,null,null,null,"Dividend - Wholesale - nominal",null,"£m",null,{"$f":"[1]FinStat_Wholesale!$J27","v":0},{"$f":"[1]FinStat_Wholesale!$K27","v":0},{"$f":"[1]FinStat_Wholesale!$L27","v":-87.098001876101648},{"$f":"[1]FinStat_Wholesale!$M27","v":-90.039301399457628},{"$f":"[1]FinStat_Wholesale!$N27","v":-93.079928607717321},{"$f":"[1]FinStat_Wholesale!$O27","v":-96.223237796799964},{"$f":"[1]FinStat_Wholesale!$P27","v":-99.472696537197876},null,{"$f":"SUM(I35:O35)","v":-465.91316621727447},null,{"$f":"[2]FinStat_Wholesale!$J27","v":0},{"$f":"[2]FinStat_Wholesale!$K27","v":0},{"$f":"[2]FinStat_Wholesale!$L27","v":-59.918118153716563},{"$f":"[2]FinStat_Wholesale!$M27","v":-61.840200219198934},{"$f":"[2]FinStat_Wholesale!$N27","v":-63.86831862158845},{"$f":"[2]FinStat_Wholesale!$O27","v":-65.979026041731018},{"$f":"[2]FinStat_Wholesale!$P27","v":-68.159487698553008},null,{"$f":"SUM(S35:Y35)","v":-319.76515073478794},null,0,0,-27.18,-28.199000000000002,-29.212,-30.244,-31.312999999999999,null,-146.148,null,0,0,0.45361905275915437,0.45599787678639064,0.4573785662509347,0.45838809413268694,0.45940779570537704,null,0.45704792928237081]
[null,null,null,null,"Retained earnings - Wholesale - nominal",null,"£m",null,{"$f":"[1]FinStat_Wholesale!$J28","v":0},{"$f":"[1]FinStat_Wholesale!$K28","v":0},{"$f":"[1]FinStat_Wholesale!$L28","v":-6.6539895522711419},{"$f":"[1]FinStat_Wholesale!$M28","v":8.2904979144309152},{"$f":"[1]FinStat_Wholesale!$N28","v":7.5826556556788347},{"$f":"[1]FinStat_Wholesale!$O28","v":4.6715731825703273},{"$f":"[1]FinStat_Wholesale!$P28","v":1.463842909375046E-2},null,{"$f":"SUM(I36:O36)","v":13.905375629502686},null,{"$f":"[2]FinStat_Wholesale!$J28","v":0},{"$f":"[2]FinStat_Wholesale!$K28","v":0},{"$f":"[2]FinStat_Wholesale!$L28","v":29.487519321319269},{"$f":"[2]FinStat_Wholesale!$M28","v":42.494532174589381},{"$f":"[2]FinStat_Wholesale!$N28","v":29.670397836105685},{"$f":"[2]FinStat_Wholesale!$O28","v":14.835222239459483},{"$f":"[2]FinStat_Wholesale!$P28","v":4.0346780424962105},null,{"$f":"SUM(S36:Y36)","v":120.52234961397002},null,0,0,-36.142000000000003,-34.204000000000001,-22.088000000000001,-10.164,-4.0199999999999996,null,-106.617,null,0,0,-1.225671091764901,-0.80490355463786234,-0.74444569708874209,-0.68512623781026161,-0.99636202880586477,null,-0.88462430695627414]
[null,null,null,null,null,null,null,null,null,null,null,null,null,null,null,null,null,null,null,null,null,null,null,null,null,null,null,null,0,0,0,0,0,0,0,null,0,null,0,0,0,0,0,0,0,null,0]
[null,"Retained earnings balance - Wholesale",null,null,null,null,null,null,null,null,null,null,null,null,null,null,null,null,null,null,null,null,null,null,null,null,null,null,0,0,0,0,0,0,0,null,0,null,0,0,0,0,0,0,0,null,0]
[null,null,null,null,"Accumulated profit reserve b/f",null,"£m",null,{"$f":"[1]FinStat_Wholesale!$J31","v":0},{"$f":"[1]FinStat_Wholesale!$K31","v":2749.5851053824827},{"$f":"[1]FinStat_Wholesale!$L31","v":0},{"$f":"[1]FinStat_Wholesale!$M31","v":0},{"$f":"[1]FinStat_Wholesale!$N31","v":0},{"$f":"[1]FinStat_Wholesale!$O31","v":0},{"$f":"[1]FinStat_Wholesale!$P31","v":0},null,{"$f":"SUM(I39:O39)","v":2749.5851053824827},null,{"$f":"[2]FinStat_Wholesale!$J31","v":0},{"$f":"[2]FinStat_Wholesale!$K31","v":2194.1440130274855},{"$f":"[2]FinStat_Wholesale!$L31","v":0},{"$f":"[2]FinStat_Wholesale!$M31","v":0},{"$f":"[2]FinStat_Wholesale!$N31","v":0},{"$f":"[2]FinStat_Wholesale!$O31","v":0},{"$f":"[2]FinStat_Wholesale!$P31","v":0},null,{"$f":"SUM(S39:Y39)","v":2194.1440130274855},null,0,555.44100000000003,0,0,0,0,0,null,555.44100000000003,null,0,0.25314701163739983,0,0,0,0,0,null,0.25314701163739983]
[null,null,null,null,"Last pre-forecast period flag",0,"flag",null,{"$f":"[1]FinStat_Wholesale!$J32","v":0},{"$f":"[1]FinStat_Wholesale!$K32","v":1},{"$f":"[1]FinStat_Wholesale!$L32","v":0},{"$f":"[1]FinStat_Wholesale!$M32","v":0},{"$f":"[1]FinStat_Wholesale!$N32","v":0},{"$f":"[1]FinStat_Wholesale!$O32","v":0},{"$f":"[1]FinStat_Wholesale!$P32","v":0},null,{"$f":"SUM(I40:O40)","v":1},null,{"$f":"[2]FinStat_Wholesale!$J32","v":0},{"$f":"[2]FinStat_Wholesale!$K32","v":1},{"$f":"[2]FinStat_Wholesale!$L32","v":0},{"$f":"[2]FinStat_Wholesale!$M32","v":0},{"$f":"[2]FinStat_Wholesale!$N32","v":0},{"$f":"[2]FinStat_Wholesale!$O32","v":0},{"$f":"[2]FinStat_Wholesale!$P32","v":0},null,{"$f":"SUM(S40:Y40)","v":1},null,0,0,0,0,0,0,0,null,0,null,0,0,0,0,0,0,0,null,0]
[null,null,null,null,null,null,null,null,null,null,null,null,null,null,null,null,null,null,null,null,null,null,null,null,null,null,null,null,0,0,0,0,0,0,0,null,0,null,0,0,0,0,0,0,0,null,0]
[null,null,null,null,"Retained earnings balance - Wholesale BEG - nominal",null,"£m",null,{"$f":"[1]FinStat_Wholesale!$J34","v":0},{"$f":"[1]FinStat_Wholesale!$K34","v":0},{"$f":"[1]FinStat_Wholesale!$L34","v":2749.5851053824827},{"$f":"[1]FinStat_Wholesale!$M34","v":2742.9311158302116},{"$f":"[1]FinStat_Wholesale!$N34","v":2751.2216137446426},{"$f":"[1]FinStat_Wholesale!$O34","v":2758.8042694003216},{"$f":"[1]FinStat_Wholesale!$P34","v":2763.4758425828918},null,{"$f":"SUM(I42:O42)","v":13766.01794694055},null,{"$f":"[2]FinStat_Wholesale!$J34","v":0},{"$f":"[2]FinStat_Wholesale!$K34","v":0},{"$f":"[2]FinStat_Wholesale!$L34","v":2194.1440130274855},{"$f":"[2]FinStat_Wholesale!$M34","v":2223.6315323488047},{"$f":"[2]FinStat_Wholesale!$N34","v":2266.1260645233942},{"$f":"[2]FinStat_Wholesale!$O34","v":2295.7964623594999},{"$f":"[2]FinStat_Wholesale!$P34","v":2310.6316845989595},null,{"$f":"SUM(S42:Y42)","v":11290.329756858144},null,0,0,555.44100000000003,519.29999999999995,485.096,463.00799999999998,452.84399999999999,null,2475.6880000000001,null,0,0,0.25314701163739983,0.23353689334107769,0.21406399564184181,0.2016764149571624,0.19598277086665891,null,0.21927508348426936]
[null,null,null,"plus","Retained earnings - Wholesale - nominal",0,"£m",null,{"$f":"[1]FinStat_Wholesale!$J35","v":0},{"$f":"[1]FinStat_Wholesale!$K35","v":0},{"$f":"[1]FinStat_Wholesale!$L35","v":-6.6539895522711419},{"$f":"[1]FinStat_Wholesale!$M35","v":8.2904979144309152},{"$f":"[1]FinStat_Wholesale!$N35","v":7.5826556556788347},{"$f":"[1]FinStat_Wholesale!$O35","v":4.6715731825703273},{"$f":"[1]FinStat_Wholesale!$P35","v":1.463842909375046E-2},null,{"$f":"SUM(I43:O43)","v":13.905375629502686},null,{"$f":"[2]FinStat_Wholesale!$J35","v":0},{"$f":"[2]FinStat_Wholesale!$K35","v":0},{"$f":"[2]FinStat_Wholesale!$L35","v":29.487519321319269},{"$f":"[2]FinStat_Wholesale!$M35","v":42.494532174589381},{"$f":"[2]FinStat_Wholesale!$N35","v":29.670397836105685},{"$f":"[2]FinStat_Wholesale!$O35","v":14.835222239459483},{"$f":"[2]FinStat_Wholesale!$P35","v":4.0346780424962105},null,{"$f":"SUM(S43:Y43)","v":120.52234961397002},null,0,0,-36.142000000000003,-34.204000000000001,-22.088000000000001,-10.164,-4.0199999999999996,null,-106.617,null,0,0,-1.225671091764901,-0.80490355463786234,-0.74444569708874209,-0.68512623781026161,-0.99636202880586477,null,-0.88462430695627414]
[null,null,null,null,"Retained earnings balance - Wholesale - nominal",null,"£m",null,{"$f":"[1]FinStat_Wholesale!$J36","v":0},{"$f":"[1]FinStat_Wholesale!$K36","v":2749.5851053824827},{"$f":"[1]FinStat_Wholesale!$L36","v":2742.9311158302116},{"$f":"[1]FinStat_Wholesale!$M36","v":2751.2216137446426},{"$f":"[1]FinStat_Wholesale!$N36","v":2758.8042694003216},{"$f":"[1]FinStat_Wholesale!$O36","v":2763.4758425828918},{"$f":"[1]FinStat_Wholesale!$P36","v":2763.4904810119856},null,{"$f":"SUM(I44:O44)","v":16529.508427952536},null,{"$f":"[2]FinStat_Wholesale!$J36","v":0},{"$f":"[2]FinStat_Wholesale!$K36","v":2194.1440130274855},{"$f":"[2]FinStat_Wholesale!$L36","v":2223.6315323488047},{"$f":"[2]FinStat_Wholesale!$M36","v":2266.1260645233942},{"$f":"[2]FinStat_Wholesale!$N36","v":2295.7964623594999},{"$f":"[2]FinStat_Wholesale!$O36","v":2310.6316845989595},{"$f":"[2]FinStat_Wholesale!$P36","v":2314.6663626414556},null,{"$f":"SUM(S44:Y44)","v":13604.996119499599},null,0,555.44100000000003,519.29999999999995,485.096,463.00799999999998,452.84399999999999,448.82400000000001,null,2924.5120000000002,null,0,0.25314701163739983,0.23353689334107769,0.21406399564184181,0.2016764149571624,0.19598277086665891,0.19390440334900366,null,0.21495867946690494]
[]
[]
["CASH FLOW "]
[]
[null,"Cash flow from operating activities"]
[null,null,null,null,"Earnings before interest and tax (EBIT) - Wholesale - nominal",0,"£m",null,{"$f":"[1]FinStat_Wholesale!$J43","v":0},{"$f":"[1]FinStat_Wholesale!$K43","v":0},{"$f":"[1]FinStat_Wholesale!$L43","v":276.43161818758074},{"$f":"[1]FinStat_Wholesale!$M43","v":300.94719201166129},{"$f":"[1]FinStat_Wholesale!$N43","v":317.02162402972567},{"$f":"[1]FinStat_Wholesale!$O43","v":336.10805868090875},{"$f":"[1]FinStat_Wholesale!$P43","v":345.48227534219609},null,{"$f":"SUM(I50:O50)","v":1575.9907682520725},null,{"$f":"[2]FinStat_Wholesale!$J43","v":0},{"$f":"[2]FinStat_Wholesale!$K43","v":0},{"$f":"[2]FinStat_Wholesale!$L43","v":271.99038804823141},{"$f":"[2]FinStat_Wholesale!$M43","v":289.10796113368008},{"$f":"[2]FinStat_Wholesale!$N43","v":286.555723180683},{"$f":"[2]FinStat_Wholesale!$O43","v":282.71821160802796},{"$f":"[2]FinStat_Wholesale!$P43","v":274.31394557938029},null,{"$f":"SUM(S50:Y50)","v":1404.6862295500027},null,{"$f":"ROUND(I50 - S50, 3)","v":0},{"$f":"ROUND(J50 - T50, 3)","v":0},{"$f":"ROUND(K50 - U50, 3)","v":4.4409999999999998},{"$f":"ROUND(L50 - V50, 3)","v":11.839},{"$f":"ROUND(M50 - W50, 3)","v":30.466000000000001},{"$f":"ROUND(N50 - X50, 3)","v":53.39},{"$f":"ROUND(O50 - Y50, 3)","v":71.168000000000006},null,{"$f":"ROUND(Q50 - AA50, 3)","v":171.30500000000001},null,{"$f":"IF(S50 = 0, 0, AC50 / S50)","v":0},{"$f":"IF(T50 = 0, 0, AD50 / T50)","v":0},{"$f":"IF(U50 = 0, 0, AE50 / U50)","v":1.6327782874490725E-2},{"$f":"IF(V50 = 0, 0, AF50 / V50)","v":4.0950100279410109E-2},{"$f":"IF(W50 = 0, 0, AG50 / W50)","v":0.10631789050253994},{"$f":"IF(X50 = 0, 0, AH50 / X50)","v":0.1888452805934627},{"$f":"IF(Y50 = 0, 0, AI50 / Y50)","v":0.25943996339553793},null,{"$f":"IF(AA50 = 0, 0, AK50 / AA50)","v":0.12195250184440001}]
[null,null,null,null,"Fixed asset depreciation - Wholesale - nominal POS",null,"£m",null,{"$f":"[1]FinStat_Wholesale!$J44","v":0},{"$f":"[1]FinStat_Wholesale!$K44","v":0},{"$f":"[1]FinStat_Wholesale!$L44","v":337.58597989678162},{"$f":"[1]FinStat_Wholesale!$M44","v":353.82805956543768},{"$f":"[1]FinStat_Wholesale!$N44","v":370.76051591736893},{"$f":"[1]FinStat_Wholesale!$O44","v":395.46379875279462},{"$f":"[1]FinStat_Wholesale!$P44","v":431.0181240022838},null,1888.6564781346665,null,{"$f":"[2]FinStat_Wholesale!$J44","v":0},{"$f":"[2]FinStat_Wholesale!$K44","v":0},{"$f":"[2]FinStat_Wholesale!$L44","v":336.18575654988416},{"$f":"[2]FinStat_Wholesale!$M44","v":350.30123386077253},{"$f":"[2]FinStat_Wholesale!$N44","v":365.29168687164963},{"$f":"[2]FinStat_Wholesale!$O44","v":385.74402625693068},{"$f":"[2]FinStat_Wholesale!$P44","v":415.4760415456534},null,1852.9987450848907,null,0,0,1.4,3.5270000000000001,5.4690000000000003,9.7200000000000006,15.542,null,35.658000000000001,null,0,0,4.1643644108172208E-3,1.0068477239226079E-2,1.4971597209989643E-2,2.5198057101021305E-2,3.7407692492160735E-2,null,1.9243402131050236E-2]
[null,null,null,null,"Movement in inventories - Wholesale - nominal",null,"£m",null,{"$f":"[1]FinStat_Wholesale!$J45","v":0},{"$f":"[1]FinStat_Wholesale!$K45","v":0},{"$f":"[1]FinStat_Wholesale!$L45","v":-0.20900000000000135},{"$f":"[1]FinStat_Wholesale!$M45","v":-0.21300000000000113},{"$f":"[1]FinStat_Wholesale!$N45","v":-0.21799999999999875},{"$f":"[1]FinStat_Wholesale!$O45","v":-0.22199999999999909},{"$f":"[1]FinStat_Wholesale!$P45","v":-0.22600000000000164},null,-1.0880000000000019,null,{"$f":"[2]FinStat_Wholesale!$J45","v":0},{"$f":"[2]FinStat_Wholesale!$K45","v":0},{"$f":"[2]FinStat_Wholesale!$L45","v":-0.20900000000000257},{"$f":"[2]FinStat_Wholesale!$M45","v":-0.21299999999999936},{"$f":"[2]FinStat_Wholesale!$N45","v":-0.21799999999999975},{"$f":"[2]FinStat_Wholesale!$O45","v":-0.22200000000000014},{"$f":"[2]FinStat_Wholesale!$P45","v":-0.22599999999999992},null,-1.0880000000000019,null,0,0,0,0,0,0,0,null,0,null,0,0,0,0,0,0,0,null,0]
[null,null,null,null,"Movement in trade debtors and other receivables - Wholesale - nominal",null,"£m",null,{"$f":"[1]FinStat_Wholesale!$J46","v":0},{"$f":"[1]FinStat_Wholesale!$K46","v":0},{"$f":"[1]FinStat_Wholesale!$L46","v":-0.57499999999998863},{"$f":"[1]FinStat_Wholesale!$M46","v":-1.4370000000000256},{"$f":"[1]FinStat_Wholesale!$N46","v":-1.0279999999999836},{"$f":"[1]FinStat_Wholesale!$O46","v":-1.0880000000000072},{"$f":"[1]FinStat_Wholesale!$P46","v":-0.96199999999999575},null,-5.0900000000000016,null,{"$f":"[2]FinStat_Wholesale!$J46","v":0},{"$f":"[2]FinStat_Wholesale!$K46","v":0},{"$f":"[2]FinStat_Wholesale!$L46","v":-0.57500000000000329},{"$f":"[2]FinStat_Wholesale!$M46","v":-1.4370000000000083},{"$f":"[2]FinStat_Wholesale!$N46","v":-1.0279999999999911},{"$f":"[2]FinStat_Wholesale!$O46","v":-1.0880000000000161},{"$f":"[2]FinStat_Wholesale!$P46","v":-0.96199999999997265},null,-5.089999999999991,null,0,0,0,0,0,0,0,null,0,null,0,0,0,0,0,0,0,null,0]
[null,null,null,null,"Movement in working capital - trade payables - Wholesale - nominal",null,"£m",null,{"$f":"[1]FinStat_Wholesale!$J47","v":0},{"$f":"[1]FinStat_Wholesale!$K47","v":0},{"$f":"[1]FinStat_Wholesale!$L47","v":4.6001892299385982},{"$f":"[1]FinStat_Wholesale!$M47","v":1.2117552630919066},{"$f":"[1]FinStat_Wholesale!$N47","v":0.97541414062445408},{"$f":"[1]FinStat_Wholesale!$O47","v":0.23098178404165193},{"$f":"[1]FinStat_Wholesale!$P47","v":-0.4926981708282181},null,6.5256422468683928,null,{"$f":"[2]FinStat_Wholesale!$J47","v":0},{"$f":"[2]FinStat_Wholesale!$K47","v":0},{"$f":"[2]FinStat_Wholesale!$L47","v":-41.56140413611125},{"$f":"[2]FinStat_Wholesale!$M47","v":26.606916417320083},{"$f":"[2]FinStat_Wholesale!$N47","v":-8.743570495619478},{"$f":"[2]FinStat_Wholesale!$O47","v":-22.965018591047173},{"$f":"[2]FinStat_Wholesale!$P47","v":-3.4164230640553317},null,-50.07949986951315,null,0,0,46.161999999999999,-25.395,9.7189999999999994,23.196000000000002,2.9239999999999999,null,56.604999999999997,null,0,0,-1.1106939469326411,-0.95445107586645506,-1.1115596317167238,-1.0100579674271579,-0.85586589985409467,null,-1.1303028214636659]
[null,null,null,null,"Movement in other creditors - Wholesale - nominal",null,"£m",null,{"$f":"[1]FinStat_Wholesale!$J48","v":0},{"$f":"[1]FinStat_Wholesale!$K48","v":0},{"$f":"[1]FinStat_Wholesale!$L48","v":-4.2310000000000088},{"$f":"[1]FinStat_Wholesale!$M48","v":-1.0399999999999494},{"$f":"[1]FinStat_Wholesale!$N48","v":-12.644000000000048},{"$f":"[1]FinStat_Wholesale!$O48","v":-0.74399999999998556},{"$f":"[1]FinStat_Wholesale!$P48","v":-0.44999999999993179},null,-19.108999999999924,null,{"$f":"[2]FinStat_Wholesale!$J48","v":0},{"$f":"[2]FinStat_Wholesale!$K48","v":0},{"$f":"[2]FinStat_Wholesale!$L48","v":-4.2310000000000514},{"$f":"[2]FinStat_Wholesale!$M48","v":-1.0399999999999565},{"$f":"[2]FinStat_Wholesale!$N48","v":-12.644000000000005},{"$f":"[2]FinStat_Wholesale!$O48","v":-0.74400000000004241},{"$f":"[2]FinStat_Wholesale!$P48","v":-0.44999999999993179},null,-19.108999999999988,null,0,0,0,0,0,0,0,null,0,null,0,0,0,0,0,0,0,null,0]
[null,null,null,null,"Movement in Pensions (+ve = increase in provision) - Wholesale - nominal",null,"£m",null,{"$f":"[1]FinStat_Wholesale!$J49","v":0},{"$f":"[1]FinStat_Wholesale!$K49","v":0},{"$f":"[1]FinStat_Wholesale!$L49","v":-11.969451121053378},{"$f":"[1]FinStat_Wholesale!$M49","v":-12.3273841840128},{"$f":"[1]FinStat_Wholesale!$N49","v":-12.697086057873406},{"$f":"[1]FinStat_Wholesale!$O49","v":-13.076645053014833},{"$f":"[1]FinStat_Wholesale!$P49","v":-13.469386874973399},null,-63.539953290927812,null,{"$f":"[2]FinStat_Wholesale!$J49","v":0},{"$f":"[2]FinStat_Wholesale!$K49","v":0},{"$f":"[2]FinStat_Wholesale!$L49","v":-24.711161155649293},{"$f":"[2]FinStat_Wholesale!$M49","v":-25.206421830113264},{"$f":"[2]FinStat_Wholesale!$N49","v":-25.729486631335305},{"$f":"[2]FinStat_Wholesale!$O49","v":0},{"$f":"[2]FinStat_Wholesale!$P49","v":0},null,-75.647069617097856,null,0,0,12.742000000000001,12.879,13.032,-13.077,-13.468999999999999,null,12.106999999999999,null,0,0,-0.51563744494811059,-0.51094122310584722,-0.50650058381377305,0,0,null,-0.16004585585776027]
[null,null,null,null,"Movement in provisions - Wholesale - nominal",null,"£m",null,{"$f":"[1]FinStat_Wholesale!$J50","v":0},{"$f":"[1]FinStat_Wholesale!$K50","v":0},{"$f":"[1]FinStat_Wholesale!$L50","v":0.33499999999999724},{"$f":"[1]FinStat_Wholesale!$M50","v":0.33999999999999986},{"$f":"[1]FinStat_Wholesale!$N50","v":0.3490000000000002},{"$f":"[1]FinStat_Wholesale!$O50","v":0.35600000000000165},{"$f":"[1]FinStat_Wholesale!$P50","v":0.36100000000000071},null,1.7409999999999997,null,{"$f":"[2]FinStat_Wholesale!$J50","v":0},{"$f":"[2]FinStat_Wholesale!$K50","v":0},{"$f":"[2]FinStat_Wholesale!$L50","v":0.33499999999999708},{"$f":"[2]FinStat_Wholesale!$M50","v":0.34},{"$f":"[2]FinStat_Wholesale!$N50","v":0.34900000000000003},{"$f":"[2]FinStat_Wholesale!$O50","v":0.35600000000000198},{"$f":"[2]FinStat_Wholesale!$P50","v":0.36100000000000099},null,1.7410000000000001,null,0,0,0,0,0,0,0,null,0,null,0,0,0,0,0,0,0,null,0]
[null,null,null,null,"Movement in other liabilities - Wholesale - nominal",null,"£m",null,{"$f":"[1]FinStat_Wholesale!$J51","v":0},{"$f":"[1]FinStat_Wholesale!$K51","v":0},{"$f":"[1]FinStat_Wholesale!$L51","v":0},{"$f":"[1]FinStat_Wholesale!$M51","v":0},{"$f":"[1]FinStat_Wholesale!$N51","v":0},{"$f":"[1]FinStat_Wholesale!$O51","v":0},{"$f":"[1]FinStat_Wholesale!$P51","v":0},null,0,null,{"$f":"[2]FinStat_Wholesale!$J51","v":0},{"$f":"[2]FinStat_Wholesale!$K51","v":0},{"$f":"[2]FinStat_Wholesale!$L51","v":0},{"$f":"[2]FinStat_Wholesale!$M51","v":0},{"$f":"[2]FinStat_Wholesale!$N51","v":0},{"$f":"[2]FinStat_Wholesale!$O51","v":0},{"$f":"[2]FinStat_Wholesale!$P51","v":0},null,0,null,0,0,0,0,0,0,0,null,0,null,0,0,0,0,0,0,0,null,0]
[null,null,null,null,"Net cash generated / (used) in operations - Wholesale - nominal",null,"£m",null,{"$f":"[1]FinStat_Wholesale!$J52","v":0},{"$f":"[1]FinStat_Wholesale!$K52","v":0},{"$f":"[1]FinStat_Wholesale!$L52","v":601.96833619324775},{"$f":"[1]FinStat_Wholesale!$M52","v":641.30962265617825},{"$f":"[1]FinStat_Wholesale!$N52","v":662.51946802984571},{"$f":"[1]FinStat_Wholesale!$O52","v":717.02819416473017},{"$f":"[1]FinStat_Wholesale!$P52","v":761.26131429867826},null,3384.0869353426801,null,{"$f":"[2]FinStat_Wholesale!$J52","v":0},{"$f":"[2]FinStat_Wholesale!$K52","v":0},{"$f":"[2]FinStat_Wholesale!$L52","v":537.22357930635508},{"$f":"[2]FinStat_Wholesale!$M52","v":638.45968958165952},{"$f":"[2]FinStat_Wholesale!$N52","v":603.83335292537788},{"$f":"[2]FinStat_Wholesale!$O52","v":643.79921927391149},{"$f":"[2]FinStat_Wholesale!$P52","v":685.09656406097838},null,3108.4124051482822,null,0,0,64.745000000000005,2.85,58.686,73.228999999999999,76.165000000000006,null,275.67500000000001,null,0,0,0.12051779276627538,4.4638683483172086E-3,9.7189066678223801E-2,0.11374508978527344,0.1111741088709077,null,8.8686751971332883E-2]
[null,null,null,null,null,null,null,null,null,null,null,null,null,null,null,null,null,null,null,null,null,null,null,null,null,null,null,null,0,0,0,0,0,0,0,null,0,null,0,0,0,0,0,0,0,null,0]
[null,null,null,null,"Other income (incl. 3rd party income) - Wholesale - nominal",null,"£m",null,{"$f":"[1]FinStat_Wholesale!$J54","v":0},{"$f":"[1]FinStat_Wholesale!$K54","v":0},{"$f":"[1]FinStat_Wholesale!$L54","v":26.848218710355564},{"$f":"[1]FinStat_Wholesale!$M54","v":27.988022848658403},{"$f":"[1]FinStat_Wholesale!$N54","v":28.685869809687038},{"$f":"[1]FinStat_Wholesale!$O54","v":29.40459100127967},{"$f":"[1]FinStat_Wholesale!$P54","v":29.796488696837034},null,{"$f":"SUM(I61:O61)","v":142.72319106681772},null,{"$f":"[2]FinStat_Wholesale!$J54","v":0},{"$f":"[2]FinStat_Wholesale!$K54","v":0},{"$f":"[2]FinStat_Wholesale!$L54","v":26.743677650647083},{"$f":"[2]FinStat_Wholesale!$M54","v":27.880191141204822},{"$f":"[2]FinStat_Wholesale!$N54","v":28.596395800973255},{"$f":"[2]FinStat_Wholesale!$O54","v":29.341613344469298},{"$f":"[2]FinStat_Wholesale!$P54","v":29.761821366277886},null,{"$f":"SUM(S61:Y61)","v":142.32369930357234},null,0,0,0.105,0.108,8.8999999999999996E-2,6.3E-2,3.5000000000000003E-2,null,0.39900000000000002,null,0,0,3.9261615912222691E-3,3.8737180621543207E-3,3.1122803243956694E-3,2.1471211981557614E-3,1.1760032952706759E-3,null,2.8034684451880678E-3]
[null,null,null,null,"Interest income /(expense) excl. indexation of index-linked loans - Wholesale - nominal",null,"£m",null,{"$f":"[1]FinStat_Wholesale!$J55","v":0},{"$f":"[1]FinStat_Wholesale!$K55","v":0},{"$f":"[1]FinStat_Wholesale!$L55","v":-163.54339357396935},{"$f":"[1]FinStat_Wholesale!$M55","v":-173.07753844351001},{"$f":"[1]FinStat_Wholesale!$N55","v":-187.66573138556731},{"$f":"[1]FinStat_Wholesale!$O55","v":-205.74897105927474},{"$f":"[1]FinStat_Wholesale!$P55","v":-220.73902459049469},null,{"$f":"SUM(I62:O62)","v":-950.77465905281611},null,{"$f":"[2]FinStat_Wholesale!$J55","v":0},{"$f":"[2]FinStat_Wholesale!$K55","v":0},{"$f":"[2]FinStat_Wholesale!$L55","v":-151.56932395890348},{"$f":"[2]FinStat_Wholesale!$M55","v":-156.81620312535821},{"$f":"[2]FinStat_Wholesale!$N55","v":-166.69028928066828},{"$f":"[2]FinStat_Wholesale!$O55","v":-177.16220638886841},{"$f":"[2]FinStat_Wholesale!$P55","v":-182.66139791733124},null,{"$f":"SUM(S62:Y62)","v":-834.89942067112963},null,0,0,-11.974,-16.260999999999999,-20.975000000000001,-28.587,-38.078000000000003,null,-115.875,null,0,0,7.9000154432612185E-2,0.10369464172653781,0.12583216509201028,0.16136060045025608,0.20846221716332924,null,0.13878917284054942]
[null,null,null,null,"Tax paid - Wholesale - nominal","CF","£m",null,{"$f":"[1]FinStat_Wholesale!$J56","v":0},{"$f":"[1]FinStat_Wholesale!$K56","v":0},{"$f":"[1]FinStat_Wholesale!$L56","v":0},{"$f":"[1]FinStat_Wholesale!$M56","v":0},{"$f":"[1]FinStat_Wholesale!$N56","v":0},{"$f":"[1]FinStat_Wholesale!$O56","v":0},{"$f":"[1]FinStat_Wholesale!$P56","v":0},null,{"$f":"SUM(I63:O63)","v":0},null,{"$f":"[2]FinStat_Wholesale!$J56","v":0},{"$f":"[2]FinStat_Wholesale!$K56","v":0},{"$f":"[2]FinStat_Wholesale!$L56","v":0},{"$f":"[2]FinStat_Wholesale!$M56","v":0},{"$f":"[2]FinStat_Wholesale!$N56","v":0},{"$f":"[2]FinStat_Wholesale!$O56","v":0},{"$f":"[2]FinStat_Wholesale!$P56","v":0},null,{"$f":"SUM(S63:Y63)","v":0},null,0,0,0,0,0,0,0,null,0,null,0,0,0,0,0,0,0,null,0]
[null,null,null,null,"Net cash generated / (used) in operating activities - Wholesale - nominal",null,"£m",null,{"$f":"[1]FinStat_Wholesale!$J57","v":0},{"$f":"[1]FinStat_Wholesale!$K57","v":0},{"$f":"[1]FinStat_Wholesale!$L57","v":465.27316132963392},{"$f":"[1]FinStat_Wholesale!$M57","v":496.22010706132664},{"$f":"[1]FinStat_Wholesale!$N57","v":503.53960645396546},{"$f":"[1]FinStat_Wholesale!$O57","v":540.6838141067351},{"$f":"[1]FinStat_Wholesale!$P57","v":570.31877840502057},null,{"$f":"SUM(I64:O64)","v":2576.0354673566817},null,{"$f":"[2]FinStat_Wholesale!$J57","v":0},{"$f":"[2]FinStat_Wholesale!$K57","v":0},{"$f":"[2]FinStat_Wholesale!$L57","v":412.39793299809867},{"$f":"[2]FinStat_Wholesale!$M57","v":509.52367759750609},{"$f":"[2]FinStat_Wholesale!$N57","v":465.73945944568288},{"$f":"[2]FinStat_Wholesale!$O57","v":495.97862622951237},{"$f":"[2]FinStat_Wholesale!$P57","v":532.19698750992507},null,{"$f":"SUM(S64:Y64)","v":2415.8366837807253},null,0,0,52.875,-13.304,37.799999999999997,44.704999999999998,38.122,null,160.19900000000001,null,0,0,0.12821354271977831,-2.6110660966200246E-2,8.1161257079202756E-2,9.0134932506774831E-2,7.1631371267934979E-2,null,6.6312015657156304E-2]
[null,null,null,null,null,null,null,null,null,null,null,null,null,null,null,null,null,null,null,null,null,null,null,null,null,null,null,null,0,0,0,0,0,0,0,null,0,null,0,0,0,0,0,0,0,null,0]
[null,"Cash flow from investing activities",null,null,null,null,null,null,null,null,null,null,null,null,null,null,null,null,null,null,null,null,null,null,null,null,null,null,0,0,0,0,0,0,0,null,0,null,0,0,0,0,0,0,0,null,0]
[null,null,null,null,"Fixed asset ongoing capex - Wholesale - nominal",null,"£m",null,{"$f":"[1]FinStat_Wholesale!$J60","v":0},{"$f":"[1]FinStat_Wholesale!$K60","v":0},{"$f":"[1]FinStat_Wholesale!$L60","v":-499.80282117557391},{"$f":"[1]FinStat_Wholesale!$M60","v":-702.14444695604641},{"$f":"[1]FinStat_Wholesale!$N60","v":-768.09978708385233},{"$f":"[1]FinStat_Wholesale!$O60","v":-903.33748076016957},{"$f":"[1]FinStat_Wholesale!$P60","v":-682.57155338067173},null,{"$f":"SUM(I67:O67)","v":-3555.9560893563139},null,{"$f":"[2]FinStat_Wholesale!$J60","v":0},{"$f":"[2]FinStat_Wholesale!$K60","v":0},{"$f":"[2]FinStat_Wholesale!$L60","v":-386.13836285342819},{"$f":"[2]FinStat_Wholesale!$M60","v":-643.86269871408513},{"$f":"[2]FinStat_Wholesale!$N60","v":-660.58326982496908},{"$f":"[2]FinStat_Wholesale!$O60","v":-654.54622167254445},{"$f":"[2]FinStat_Wholesale!$P60","v":-479.20943628294293},null,{"$f":"SUM(S67:Y67)","v":-2824.33998934797},null,0,0,-113.664,-58.281999999999996,-107.517,-248.791,-203.36199999999999,null,-731.61599999999999,null,0,0,0.294360806732754,9.051929878279967E-2,0.16276070695597264,0.38009691563763215,0.42436977363677697,null,0.2590396350153657]
[null,null,null,null,"Movement in intangible asset and investments - Wholesale - nominal",null,"£m",null,{"$f":"[1]FinStat_Wholesale!$J61","v":0},{"$f":"[1]FinStat_Wholesale!$K61","v":0},{"$f":"[1]FinStat_Wholesale!$L61","v":0},{"$f":"[1]FinStat_Wholesale!$M61","v":0},{"$f":"[1]FinStat_Wholesale!$N61","v":0},{"$f":"[1]FinStat_Wholesale!$O61","v":0},{"$f":"[1]FinStat_Wholesale!$P61","v":0},null,{"$f":"SUM(I68:O68)","v":0},null,{"$f":"[2]FinStat_Wholesale!$J61","v":0},{"$f":"[2]FinStat_Wholesale!$K61","v":0},{"$f":"[2]FinStat_Wholesale!$L61","v":0},{"$f":"[2]FinStat_Wholesale!$M61","v":0},{"$f":"[2]FinStat_Wholesale!$N61","v":0},{"$f":"[2]FinStat_Wholesale!$O61","v":0},{"$f":"[2]FinStat_Wholesale!$P61","v":0},null,{"$f":"SUM(S68:Y68)","v":0},null,0,0,0,0,0,0,0,null,0,null,0,0,0,0,0,0,0,null,0]
[null,null,null,null,"Net cash generated / (used) in investing activities - Wholesale - nominal",null,"£m",null,{"$f":"[1]FinStat_Wholesale!$J62","v":0},{"$f":"[1]FinStat_Wholesale!$K62","v":0},{"$f":"[1]FinStat_Wholesale!$L62","v":-499.80282117557391},{"$f":"[1]FinStat_Wholesale!$M62","v":-702.14444695604641},{"$f":"[1]FinStat_Wholesale!$N62","v":-768.09978708385233},{"$f":"[1]FinStat_Wholesale!$O62","v":-903.33748076016957},{"$f":"[1]FinStat_Wholesale!$P62","v":-682.57155338067173},null,{"$f":"SUM(I69:O69)","v":-3555.9560893563139},null,{"$f":"[2]FinStat_Wholesale!$J62","v":0},{"$f":"[2]FinStat_Wholesale!$K62","v":0},{"$f":"[2]FinStat_Wholesale!$L62","v":-386.13836285342819},{"$f":"[2]FinStat_Wholesale!$M62","v":-643.86269871408513},{"$f":"[2]FinStat_Wholesale!$N62","v":-660.58326982496908},{"$f":"[2]FinStat_Wholesale!$O62","v":-654.54622167254445},{"$f":"[2]FinStat_Wholesale!$P62","v":-479.20943628294293},null,{"$f":"SUM(S69:Y69)","v":-2824.33998934797},null,0,0,-113.664,-58.281999999999996,-107.517,-248.791,-203.36199999999999,null,-731.61599999999999,null,0,0,0.294360806732754,9.051929878279967E-2,0.16276070695597264,0.38009691563763215,0.42436977363677697,null,0.2590396350153657]
[null,null,null,null,null,null,null,null,null,null,null,null,null,null,null,null,null,null,null,null,null,null,null,null,null,null,null,null,0,0,0,0,0,0,0,null,0,null,0,0,0,0,0,0,0,null,0]
[null,"Cash flows from financing activities",null,null,null,null,null,null,null,null,null,null,null,null,null,null,null,null,null,null,null,null,null,null,null,null,null,null,0,0,0,0,0,0,0,null,0,null,0,0,0,0,0,0,0,null,0]
[null,null,null,null,"Equity dividends paid - Wholesale - nominal",null,"£m",null,{"$f":"[1]FinStat_Wholesale!$J65","v":0},{"$f":"[1]FinStat_Wholesale!$K65","v":0},{"$f":"[1]FinStat_Wholesale!$L65","v":-87.098001876101648},{"$f":"[1]FinStat_Wholesale!$M65","v":-90.039301399457628},{"$f":"[1]FinStat_Wholesale!$N65","v":-93.079928607717321},{"$f":"[1]FinStat_Wholesale!$O65","v":-96.223237796799964},{"$f":"[1]FinStat_Wholesale!$P65","v":-99.472696537197876},null,{"$f":"SUM(I72:O72)","v":-465.91316621727447},null,{"$f":"[2]FinStat_Wholesale!$J65","v":0},{"$f":"[2]FinStat_Wholesale!$K65","v":0},{"$f":"[2]FinStat_Wholesale!$L65","v":-59.918118153716563},{"$f":"[2]FinStat_Wholesale!$M65","v":-61.840200219198934},{"$f":"[2]FinStat_Wholesale!$N65","v":-63.86831862158845},{"$f":"[2]FinStat_Wholesale!$O65","v":-65.979026041731018},{"$f":"[2]FinStat_Wholesale!$P65","v":-68.159487698553008},null,{"$f":"SUM(S72:Y72)","v":-319.76515073478794},null,0,0,-27.18,-28.199000000000002,-29.212,-30.244,-31.312999999999999,null,-146.148,null,0,0,0.45361905275915437,0.45599787678639064,0.4573785662509347,0.45838809413268694,0.45940779570537704,null,0.45704792928237081]
[null,null,null,null,"Proceeds from share issues - Wholesale - nominal",null,"£m",null,{"$f":"[1]FinStat_Wholesale!$J66","v":0},{"$f":"[1]FinStat_Wholesale!$K66","v":0},{"$f":"[1]FinStat_Wholesale!$L66","v":0},{"$f":"[1]FinStat_Wholesale!$M66","v":0},{"$f":"[1]FinStat_Wholesale!$N66","v":0},{"$f":"[1]FinStat_Wholesale!$O66","v":0},{"$f":"[1]FinStat_Wholesale!$P66","v":0},null,{"$f":"SUM(I73:O73)","v":0},null,{"$f":"[2]FinStat_Wholesale!$J66","v":0},{"$f":"[2]FinStat_Wholesale!$K66","v":0},{"$f":"[2]FinStat_Wholesale!$L66","v":0},{"$f":"[2]FinStat_Wholesale!$M66","v":0},{"$f":"[2]FinStat_Wholesale!$N66","v":0},{"$f":"[2]FinStat_Wholesale!$O66","v":0},{"$f":"[2]FinStat_Wholesale!$P66","v":0},null,{"$f":"SUM(S73:Y73)","v":0},null,0,0,0,0,0,0,0,null,0,null,0,0,0,0,0,0,0,null,0]
[null,null,null,null,"Net loans received - Wholesale - nominal",null,"£m",null,{"$f":"[1]FinStat_Wholesale!$J67","v":0},{"$f":"[1]FinStat_Wholesale!$K67","v":0},{"$f":"[1]FinStat_Wholesale!$L67","v":0},{"$f":"[1]FinStat_Wholesale!$M67","v":0},{"$f":"[1]FinStat_Wholesale!$N67","v":0},{"$f":"[1]FinStat_Wholesale!$O67","v":0},{"$f":"[1]FinStat_Wholesale!$P67","v":0},null,{"$f":"SUM(I74:O74)","v":0},null,{"$f":"[2]FinStat_Wholesale!$J67","v":0},{"$f":"[2]FinStat_Wholesale!$K67","v":0},{"$f":"[2]FinStat_Wholesale!$L67","v":0},{"$f":"[2]FinStat_Wholesale!$M67","v":0},{"$f":"[2]FinStat_Wholesale!$N67","v":0},{"$f":"[2]FinStat_Wholesale!$O67","v":0},{"$f":"[2]FinStat_Wholesale!$P67","v":0},null,{"$f":"SUM(S74:Y74)","v":0},null,0,0,0,0,0,0,0,null,0,null,0,0,0,0,0,0,0,null,0]
[null,null,null,null,"Net cash generated / (used) in financing activities - Wholesale - nominal",null,"£m",null,{"$f":"[1]FinStat_Wholesale!$J68","v":0},{"$f":"[1]FinStat_Wholesale!$K68","v":0},{"$f":"[1]FinStat_Wholesale!$L68","v":-87.098001876101648},{"$f":"[1]FinStat_Wholesale!$M68","v":-90.039301399457628},{"$f":"[1]FinStat_Wholesale!$N68","v":-93.079928607717321},{"$f":"[1]FinStat_Wholesale!$O68","v":-96.223237796799964},{"$f":"[1]FinStat_Wholesale!$P68","v":-99.472696537197876},null,{"$f":"SUM(I75:O75)","v":-465.91316621727447},null,{"$f":"[2]FinStat_Wholesale!$J68","v":0},{"$f":"[2]FinStat_Wholesale!$K68","v":0},{"$f":"[2]FinStat_Wholesale!$L68","v":-59.918118153716563},{"$f":"[2]FinStat_Wholesale!$M68","v":-61.840200219198934},{"$f":"[2]FinStat_Wholesale!$N68","v":-63.86831862158845},{"$f":"[2]FinStat_Wholesale!$O68","v":-65.979026041731018},{"$f":"[2]FinStat_Wholesale!$P68","v":-68.159487698553008},null,{"$f":"SUM(S75:Y75)","v":-319.76515073478794},null,0,0,-27.18,-28.199000000000002,-29.212,-30.244,-31.312999999999999,null,-146.148,null,0,0,0.45361905275915437,0.45599787678639064,0.4573785662509347,0.45838809413268694,0.45940779570537704,null,0.45704792928237081]
[null,null,null,null,null,null,null,null,null,null,null,null,null,null,null,null,null,null,null,null,null,null,null,null,null,null,null,null,0,0,0,0,0,0,0,null,0,null,0,0,0,0,0,0,0,null,0]
[null,null,null,null,"Net increase / (decrease) in cash - Wholesale - nominal",null,"£m",null,{"$f":"[1]FinStat_Wholesale!$J70","v":0},{"$f":"[1]FinStat_Wholesale!$K70","v":0},{"$f":"[1]FinStat_Wholesale!$L70","v":-121.62766172204164},{"$f":"[1]FinStat_Wholesale!$M70","v":-295.96364129417736},{"$f":"[1]FinStat_Wholesale!$N70","v":-357.64010923760418},{"$f":"[1]FinStat_Wholesale!$O70","v":-458.87690445023441},{"$f":"[1]FinStat_Wholesale!$P70","v":-211.72547151284903},null,{"$f":"SUM(I78:O78)","v":0},null,{"$f":"[2]FinStat_Wholesale!$J70","v":0},{"$f":"[2]FinStat_Wholesale!$K70","v":0},{"$f":"[2]FinStat_Wholesale!$L70","v":-33.658548009046086},{"$f":"[2]FinStat_Wholesale!$M70","v":-196.17922133577798},{"$f":"[2]FinStat_Wholesale!$N70","v":-258.71212900087465},{"$f":"[2]FinStat_Wholesale!$O70","v":-224.54662148476308},{"$f":"[2]FinStat_Wholesale!$P70","v":-15.171936471570874},null,{"$f":"SUM(S78:Y78)","v":0},null,0,0,-87.968999999999994,-99.784000000000006,-98.927999999999997,-234.33,-196.554,null,0,null,0,0,2.6135708520865903,0.50863694595469378,0.3823864013722586,1.0435694754636993,12.955103019861852,null,0]
[null,null,null,null,null,null,null,null,null,null,null,null,null,null,null,null,null,null,null,null,null,null,null,null,null,null,null,null,0,0,0,0,0,0,0,null,0,null,0,0,0,0,0,0,0,null,0]
[null,"Retained cash balance - Wholesale",null,null,null,null,null,null,null,null,null,null,null,null,null,null,null,null,null,null,null,null,null,null,null,null,null,null,0,0,0,0,0,0,0,null,0,null,0,0,0,0,0,0,0,null,0]
[null,null,null,null,"Cash and cash equivalents - Wholesale b/f",null,"£m",null,{"$f":"[1]FinStat_Wholesale!$J73","v":0},{"$f":"[1]FinStat_Wholesale!$K73","v":512.19099999999992},{"$f":"[1]FinStat_Wholesale!$L73","v":0},{"$f":"[1]FinStat_Wholesale!$M73","v":0},{"$f":"[1]FinStat_Wholesale!$N73","v":0},{"$f":"[1]FinStat_Wholesale!$O73","v":0},{"$f":"[1]FinStat_Wholesale!$P73","v":0},null,{"$f":"SUM(I80:O80)","v":512.19099999999992},null,{"$f":"[2]FinStat_Wholesale!$J73","v":0},{"$f":"[2]FinStat_Wholesale!$K73","v":512.19100000000003},{"$f":"[2]FinStat_Wholesale!$L73","v":0},{"$f":"[2]FinStat_Wholesale!$M73","v":0},{"$f":"[2]FinStat_Wholesale!$N73","v":0},{"$f":"[2]FinStat_Wholesale!$O73","v":0},{"$f":"[2]FinStat_Wholesale!$P73","v":0},null,{"$f":"SUM(S80:Y80)","v":512.19100000000003},null,0,0,0,0,0,0,0,null,0,null,0,0,0,0,0,0,0,null,0]
[null,null,null,null,"Last pre-forecast period flag",0,"flag",null,{"$f":"[1]FinStat_Wholesale!$J74","v":0},{"$f":"[1]FinStat_Wholesale!$K74","v":1},{"$f":"[1]FinStat_Wholesale!$L74","v":0},{"$f":"[1]FinStat_Wholesale!$M74","v":0},{"$f":"[1]FinStat_Wholesale!$N74","v":0},{"$f":"[1]FinStat_Wholesale!$O74","v":0},{"$f":"[1]FinStat_Wholesale!$P74","v":0},null,{"$f":"SUM(I81:O81)","v":1},null,{"$f":"[2]FinStat_Wholesale!$J74","v":0},{"$f":"[2]FinStat_Wholesale!$K74","v":1},{"$f":"[2]FinStat_Wholesale!$L74","v":0},{"$f":"[2]FinStat_Wholesale!$M74","v":0},{"$f":"[2]FinStat_Wholesale!$N74","v":0},{"$f":"[2]FinStat_Wholesale!$O74","v":0},{"$f":"[2]FinStat_Wholesale!$P74","v":0},null,{"$f":"SUM(S81:Y81)","v":1},null,0,0,0,0,0,0,0,null,0,null,0,0,0,0,0,0,0,null,0]
[null,null,null,null,null,null,null,null,null,null,null,null,null,null,null,null,null,null,null,null,null,null,null,null,null,null,null,null,0,0,0,0,0,0,0,null,0,null,0,0,0,0,0,0,0,null,0]
[null,null,null,null,"Retained cash balance - Wholesale BEG - nominal",null,"£m",null,{"$f":"[1]FinStat_Wholesale!$J76","v":0},{"$f":"[1]FinStat_Wholesale!$K76","v":0},{"$f":"[1]FinStat_Wholesale!$L76","v":512.19099999999992},{"$f":"[1]FinStat_Wholesale!$M76","v":390.56333827795828},{"$f":"[1]FinStat_Wholesale!$N76","v":94.599696983780916},{"$f":"[1]FinStat_Wholesale!$O76","v":-263.04041225382326},{"$f":"[1]FinStat_Wholesale!$P76","v":-721.91731670405761},null,{"$f":"SUM(I83:O83)","v":12.396306303858182},null,{"$f":"[2]FinStat_Wholesale!$J76","v":0},{"$f":"[2]FinStat_Wholesale!$K76","v":0},{"$f":"[2]FinStat_Wholesale!$L76","v":512.19100000000003},{"$f":"[2]FinStat_Wholesale!$M76","v":478.53245199095397},{"$f":"[2]FinStat_Wholesale!$N76","v":282.35323065517599},{"$f":"[2]FinStat_Wholesale!$O76","v":23.641101654301337},{"$f":"[2]FinStat_Wholesale!$P76","v":-200.90551983046174},null,{"$f":"SUM(S83:Y83)","v":1095.8122644699695},null,0,0,0,-87.968999999999994,-187.75399999999999,-286.68200000000002,-521.01199999999994,null,-1083.4159999999999,null,0,0,0,-0.18383079273725605,-0.66496140159024653,-12.126423048810848,2.5933184933876712,null,-0.98868760199908379]
[null,null,null,"plus","Net increase / (decrease) in cash - Wholesale - nominal",0,"£m",null,{"$f":"[1]FinStat_Wholesale!$J77","v":0},{"$f":"[1]FinStat_Wholesale!$K77","v":0},{"$f":"[1]FinStat_Wholesale!$L77","v":-121.62766172204164},{"$f":"[1]FinStat_Wholesale!$M77","v":-295.96364129417736},{"$f":"[1]FinStat_Wholesale!$N77","v":-357.64010923760418},{"$f":"[1]FinStat_Wholesale!$O77","v":-458.87690445023441},{"$f":"[1]FinStat_Wholesale!$P77","v":-211.72547151284903},null,{"$f":"SUM(I84:O84)","v":-1445.8337882169067},null,{"$f":"[2]FinStat_Wholesale!$J77","v":0},{"$f":"[2]FinStat_Wholesale!$K77","v":0},{"$f":"[2]FinStat_Wholesale!$L77","v":-33.658548009046086},{"$f":"[2]FinStat_Wholesale!$M77","v":-196.17922133577798},{"$f":"[2]FinStat_Wholesale!$N77","v":-258.71212900087465},{"$f":"[2]FinStat_Wholesale!$O77","v":-224.54662148476308},{"$f":"[2]FinStat_Wholesale!$P77","v":-15.171936471570874},null,{"$f":"SUM(S84:Y84)","v":-728.26845630203275},null,0,0,-87.968999999999994,-99.784000000000006,-98.927999999999997,-234.33,-196.554,null,-717.56500000000005,null,0,0,2.6135708520865903,0.50863694595469378,0.3823864013722586,1.0435694754636993,12.955103019861852,null,0.98530286982854898]
[null,null,null,null,"Retained cash balance - Wholesale - nominal",null,"£m",null,{"$f":"[1]FinStat_Wholesale!$J78","v":0},{"$f":"[1]FinStat_Wholesale!$K78","v":512.19099999999992},{"$f":"[1]FinStat_Wholesale!$L78","v":390.56333827795828},{"$f":"[1]FinStat_Wholesale!$M78","v":94.599696983780916},{"$f":"[1]FinStat_Wholesale!$N78","v":-263.04041225382326},{"$f":"[1]FinStat_Wholesale!$O78","v":-721.91731670405761},{"$f":"[1]FinStat_Wholesale!$P78","v":-933.64278821690664},null,{"$f":"SUM(I85:O85)","v":-921.24648191304846},null,{"$f":"[2]FinStat_Wholesale!$J78","v":0},{"$f":"[2]FinStat_Wholesale!$K78","v":512.19100000000003},{"$f":"[2]FinStat_Wholesale!$L78","v":478.53245199095397},{"$f":"[2]FinStat_Wholesale!$M78","v":282.35323065517599},{"$f":"[2]FinStat_Wholesale!$N78","v":23.641101654301337},{"$f":"[2]FinStat_Wholesale!$O78","v":-200.90551983046174},{"$f":"[2]FinStat_Wholesale!$P78","v":-216.0774563020326},null,{"$f":"SUM(S85:Y85)","v":879.73480816793688},null,0,0,-87.968999999999994,-187.75399999999999,-286.68200000000002,-521.01199999999994,-717.56500000000005,null,-1800.981,null,0,0,-0.18383079273725605,-0.66496140159024653,-12.126423048810848,2.5933184933876712,3.3208693413948249,null,-2.047186246671965]
[]
[]
["BALANCE SHEET"]
[]
[null,"Non-current assets"]
[null,null,null,null,"Fixed asset balance - Wholesale - nominal",null,"£m",null,{"$f":"[1]FinStat_Wholesale!$J85","v":0},{"$f":"[1]FinStat_Wholesale!$K85","v":9752.2050013815769},{"$f":"[1]FinStat_Wholesale!$L85","v":9914.4218426603693},{"$f":"[1]FinStat_Wholesale!$M85","v":10262.738230050978},{"$f":"[1]FinStat_Wholesale!$N85","v":10660.077501217462},{"$f":"[1]FinStat_Wholesale!$O85","v":11167.951183224837},{"$f":"[1]FinStat_Wholesale!$P85","v":11419.504612603225},null,{"$f":"SUM(I91:O91)","v":63176.89837113845},null,{"$f":"[2]FinStat_Wholesale!$J85","v":0},{"$f":"[2]FinStat_Wholesale!$K85","v":9752.2050013815806},{"$f":"[2]FinStat_Wholesale!$L85","v":9802.1576076851234},{"$f":"[2]FinStat_Wholesale!$M85","v":10095.719072538435},{"$f":"[2]FinStat_Wholesale!$N85","v":10391.010655491755},{"$f":"[2]FinStat_Wholesale!$O85","v":10659.812850907369},{"$f":"[2]FinStat_Wholesale!$P85","v":10723.546245644658},null,{"$f":"SUM(S91:Y91)","v":61424.451433648923},null,{"$f":"ROUND(I91 - S91, 3)","v":0},0,112.264,167.01900000000001,269.06700000000001,508.13799999999998,695.95799999999997,null,{"$f":"ROUND(Q91 - AA91, 3)","v":1752.4469999999999},null,{"$f":"IF(S91 = 0, 0, AC91 / S91)","v":0},{"$f":"IF(T91 = 0, 0, AD91 / T91)","v":0},{"$f":"IF(U91 = 0, 0, AE91 / U91)","v":1.1452988667717642E-2},{"$f":"IF(V91 = 0, 0, AF91 / V91)","v":1.6543546705287362E-2},{"$f":"IF(W91 = 0, 0, AG91 / W91)","v":2.5894208842697643E-2},{"$f":"IF(X91 = 0, 0, AH91 / X91)","v":4.7668566710038163E-2},{"$f":"IF(Y91 = 0, 0, AI91 / Y91)","v":6.4899985886913258E-2},null,{"$f":"IF(AA91 = 0, 0, AK91 / AA91)","v":2.8530120482931853E-2}]
[null,null,null,null,"Intangible asset and investments balance - Wholesale - nominal",null,"£m",null,{"$f":"[1]FinStat_Wholesale!$J86","v":0},{"$f":"[1]FinStat_Wholesale!$K86","v":1.2999999999999998E-2},{"$f":"[1]FinStat_Wholesale!$L86","v":1.2999999999999998E-2},{"$f":"[1]FinStat_Wholesale!$M86","v":1.2999999999999998E-2},{"$f":"[1]FinStat_Wholesale!$N86","v":1.2999999999999998E-2},{"$f":"[1]FinStat_Wholesale!$O86","v":1.2999999999999998E-2},{"$f":"[1]FinStat_Wholesale!$P86","v":1.2999999999999998E-2},null,{"$f":"SUM(I92:O92)","v":7.7999999999999986E-2},null,{"$f":"[2]FinStat_Wholesale!$J86","v":0},{"$f":"[2]FinStat_Wholesale!$K86","v":1.2999999999999998E-2},{"$f":"[2]FinStat_Wholesale!$L86","v":1.2999999999999998E-2},{"$f":"[2]FinStat_Wholesale!$M86","v":1.2999999999999998E-2},{"$f":"[2]FinStat_Wholesale!$N86","v":1.2999999999999998E-2},{"$f":"[2]FinStat_Wholesale!$O86","v":1.2999999999999998E-2},{"$f":"[2]FinStat_Wholesale!$P86","v":1.2999999999999998E-2},null,{"$f":"SUM(S92:Y92)","v":7.7999999999999986E-2},null,0,0,0,0,0,0,0,null,0,null,0,0,0,0,0,0,0,null,0]
[null,null,null,null,"Retirement benefit asset balance - Wholesale - nominal",null,"£m",null,{"$f":"[1]FinStat_Wholesale!$J87","v":0},{"$f":"[1]FinStat_Wholesale!$K87","v":34.464999999999996},{"$f":"[1]FinStat_Wholesale!$L87","v":46.434451121053385},{"$f":"[1]FinStat_Wholesale!$M87","v":58.761835305066171},{"$f":"[1]FinStat_Wholesale!$N87","v":71.458921362939577},{"$f":"[1]FinStat_Wholesale!$O87","v":84.53556641595442},{"$f":"[1]FinStat_Wholesale!$P87","v":98.004953290927816},null,{"$f":"SUM(I93:O93)","v":393.66072749594133},null,{"$f":"[2]FinStat_Wholesale!$J87","v":0},{"$f":"[2]FinStat_Wholesale!$K87","v":34.464999999999996},{"$f":"[2]FinStat_Wholesale!$L87","v":59.176161155649289},{"$f":"[2]FinStat_Wholesale!$M87","v":84.382582985762554},{"$f":"[2]FinStat_Wholesale!$N87","v":110.11206961709786},{"$f":"[2]FinStat_Wholesale!$O87","v":110.11206961709786},{"$f":"[2]FinStat_Wholesale!$P87","v":110.11206961709786},null,508.35995299270542,null,null,{"$f":"ROUND(J93 - T93, 3)","v":0},{"$f":"ROUND(K93 - U93, 3)","v":-12.742000000000001},{"$f":"ROUND(L93 - V93, 3)","v":-25.620999999999999},{"$f":"ROUND(M93 - W93, 3)","v":-38.652999999999999},{"$f":"ROUND(N93 - X93, 3)","v":-25.577000000000002},{"$f":"ROUND(O93 - Y93, 3)","v":-12.106999999999999},null,-114.699,null,{"$f":"IF(S93 = 0, 0, AC93 / S93)","v":0},{"$f":"IF(T93 = 0, 0, AD93 / T93)","v":0},{"$f":"IF(U93 = 0, 0, AE93 / U93)","v":-0.21532319351512341},{"$f":"IF(V93 = 0, 0, AF93 / V93)","v":-0.30362900842135754},{"$f":"IF(W93 = 0, 0, AG93 / W93)","v":-0.35103327123367484},{"$f":"IF(X93 = 0, 0, AH93 / X93)","v":-0.23228152998069238},{"$f":"IF(Y93 = 0, 0, AI93 / Y93)","v":-0.10995161604082739},null,{"$f":"IF(AA93 = 0, 0, AK93 / AA93)","v":-0.22562556181848936}]
[null,null,null,null,"Total non-current assets - Wholesale - nominal",null,"£m",null,{"$f":"[1]FinStat_Wholesale!$J88","v":0},{"$f":"[1]FinStat_Wholesale!$K88","v":9786.6830013815779},{"$f":"[1]FinStat_Wholesale!$L88","v":9960.869293781423},{"$f":"[1]FinStat_Wholesale!$M88","v":10321.513065356045},{"$f":"[1]FinStat_Wholesale!$N88","v":10731.549422580401},{"$f":"[1]FinStat_Wholesale!$O88","v":11252.499749640792},{"$f":"[1]FinStat_Wholesale!$P88","v":11517.522565894153},null,63570.637098634383,null,{"$f":"[2]FinStat_Wholesale!$J88","v":0},{"$f":"[2]FinStat_Wholesale!$K88","v":9786.6830013815816},{"$f":"[2]FinStat_Wholesale!$L88","v":9861.3467688407727},{"$f":"[2]FinStat_Wholesale!$M88","v":10180.114655524199},{"$f":"[2]FinStat_Wholesale!$N88","v":10501.135725108854},{"$f":"[2]FinStat_Wholesale!$O88","v":10769.937920524468},{"$f":"[2]FinStat_Wholesale!$P88","v":10833.671315261758},null,{"$f":"SUM(S94:Y94)","v":61932.88938664164},null,{"$f":"ROUND(I94 - S94, 3)","v":0},0,99.522999999999996,141.398,230.41399999999999,482.56200000000001,683.851,null,1637.748,null,{"$f":"IF(S94 = 0, 0, AC94 / S94)","v":0},{"$f":"IF(T94 = 0, 0, AD94 / T94)","v":0},{"$f":"IF(U94 = 0, 0, AE94 / U94)","v":1.0092232058451301E-2},{"$f":"IF(V94 = 0, 0, AF94 / V94)","v":1.3889627453583828E-2},{"$f":"IF(W94 = 0, 0, AG94 / W94)","v":2.1941817154983161E-2},{"$f":"IF(X94 = 0, 0, AH94 / X94)","v":4.4806386402689732E-2},{"$f":"IF(Y94 = 0, 0, AI94 / Y94)","v":6.3122738368168507E-2},null,{"$f":"IF(AA94 = 0, 0, AK94 / AA94)","v":2.6443913988505877E-2}]
[null,null,null,null,null,null,null,null,null,null,null,null,null,null,null,null,null,null,{"$f":"[2]FinStat_Wholesale!$J89","v":0},{"$f":"[2]FinStat_Wholesale!$K89","v":0},{"$f":"[2]FinStat_Wholesale!$L89","v":0},{"$f":"[2]FinStat_Wholesale!$M89","v":0},{"$f":"[2]FinStat_Wholesale!$N89","v":0},{"$f":"[2]FinStat_Wholesale!$O89","v":0},{"$f":"[2]FinStat_Wholesale!$P89","v":0},null,null,null,0,0,0,0,0,0,0,null,0,null,0,0,0,0,0,0,0,null,0]
[null,"Current assets",null,null,null,null,null,null,null,null,null,null,null,null,null,null,null,null,{"$f":"[2]FinStat_Wholesale!$J90","v":0},{"$f":"[2]FinStat_Wholesale!$K90","v":0},{"$f":"[2]FinStat_Wholesale!$L90","v":0},{"$f":"[2]FinStat_Wholesale!$M90","v":0},{"$f":"[2]FinStat_Wholesale!$N90","v":0},{"$f":"[2]FinStat_Wholesale!$O90","v":0},{"$f":"[2]FinStat_Wholesale!$P90","v":0},null,null,null,0,0,0,0,0,0,0,null,0,null,0,0,0,0,0,0,0,null,0]
[null,null,null,null,"Inventories balance - Wholesale - nominal",null,"£m",null,{"$f":"[1]FinStat_Wholesale!$J91","v":0},{"$f":"[1]FinStat_Wholesale!$K91","v":10.308999999999999},{"$f":"[1]FinStat_Wholesale!$L91","v":10.517999999999999},{"$f":"[1]FinStat_Wholesale!$M91","v":10.731000000000002},{"$f":"[1]FinStat_Wholesale!$N91","v":10.948999999999998},{"$f":"[1]FinStat_Wholesale!$O91","v":11.170999999999999},{"$f":"[1]FinStat_Wholesale!$P91","v":11.397},null,65.075000000000003,null,{"$f":"[2]FinStat_Wholesale!$J91","v":0},{"$f":"[2]FinStat_Wholesale!$K91","v":10.308999999999999},{"$f":"[2]FinStat_Wholesale!$L91","v":10.518000000000002},{"$f":"[2]FinStat_Wholesale!$M91","v":10.731},{"$f":"[2]FinStat_Wholesale!$N91","v":10.949},{"$f":"[2]FinStat_Wholesale!$O91","v":11.170999999999999},{"$f":"[2]FinStat_Wholesale!$P91","v":11.397},null,{"$f":"SUM(S97:Y97)","v":65.075000000000003},null,0,0,0,0,0,0,0,null,0,null,0,0,0,0,0,0,0,null,0]
[null,null,null,null,"Trade debtors and other receivables balance - Wholesale - nominal",null,"£m",null,{"$f":"[1]FinStat_Wholesale!$J92","v":0},{"$f":"[1]FinStat_Wholesale!$K92","v":93.696999999999989},{"$f":"[1]FinStat_Wholesale!$L92","v":94.271999999999977},{"$f":"[1]FinStat_Wholesale!$M92","v":95.709000000000003},{"$f":"[1]FinStat_Wholesale!$N92","v":96.736999999999995},{"$f":"[1]FinStat_Wholesale!$O92","v":97.825000000000003},{"$f":"[1]FinStat_Wholesale!$P92","v":98.786999999999992},null,577.02699999999993,null,{"$f":"[2]FinStat_Wholesale!$J92","v":0},{"$f":"[2]FinStat_Wholesale!$K92","v":93.696999999999989},{"$f":"[2]FinStat_Wholesale!$L92","v":94.271999999999991},{"$f":"[2]FinStat_Wholesale!$M92","v":95.709000000000003},{"$f":"[2]FinStat_Wholesale!$N92","v":96.736999999999995},{"$f":"[2]FinStat_Wholesale!$O92","v":97.825000000000003},{"$f":"[2]FinStat_Wholesale!$P92","v":98.786999999999992},null,{"$f":"SUM(S98:Y98)","v":577.02699999999993},null,0,0,0,0,0,0,0,null,0,null,0,0,0,0,0,0,0,null,0]
[null,null,null,null,"Retained cash balance - Wholesale - nominal",null,"£m",null,{"$f":"[1]FinStat_Wholesale!$J93","v":0},{"$f":"[1]FinStat_Wholesale!$K93","v":512.19099999999992},{"$f":"[1]FinStat_Wholesale!$L93","v":390.56333827795817},{"$f":"[1]FinStat_Wholesale!$M93","v":94.599696983780348},{"$f":"[1]FinStat_Wholesale!$N93","v":-263.04041225382412},{"$f":"[1]FinStat_Wholesale!$O93","v":-721.91731670405841},{"$f":"[1]FinStat_Wholesale!$P93","v":-933.64278821690732},null,-921.2464819130513,null,{"$f":"[2]FinStat_Wholesale!$J93","v":0},{"$f":"[2]FinStat_Wholesale!$K93","v":512.19100000000003},{"$f":"[2]FinStat_Wholesale!$L93","v":478.53245199095375},{"$f":"[2]FinStat_Wholesale!$M93","v":282.35323065517565},{"$f":"[2]FinStat_Wholesale!$N93","v":23.641101654300769},{"$f":"[2]FinStat_Wholesale!$O93","v":-200.90551983046228},{"$f":"[2]FinStat_Wholesale!$P93","v":-216.07745630203323},null,{"$f":"SUM(S99:Y99)","v":879.73480816793472},null,0,0,-87.968999999999994,-187.75399999999999,-286.68200000000002,-521.01199999999994,-717.56500000000005,null,-1800.981,null,0,0,-0.18383079273725614,-0.6649614015902473,-12.126423048811139,2.5933184933876641,3.3208693413948152,null,-2.0471862466719704]
[null,null,null,null,"Total current assets - Wholesale - nominal",null,"£m",null,{"$f":"[1]FinStat_Wholesale!$J94","v":0},{"$f":"[1]FinStat_Wholesale!$K94","v":616.19699999999989},{"$f":"[1]FinStat_Wholesale!$L94","v":495.35333827795813},{"$f":"[1]FinStat_Wholesale!$M94","v":201.03969698378035},{"$f":"[1]FinStat_Wholesale!$N94","v":-155.35441225382414},{"$f":"[1]FinStat_Wholesale!$O94","v":-612.92131670405843},{"$f":"[1]FinStat_Wholesale!$P94","v":-823.45878821690735},null,-279.14448191305178,null,{"$f":"[2]FinStat_Wholesale!$J94","v":0},{"$f":"[2]FinStat_Wholesale!$K94","v":616.197},{"$f":"[2]FinStat_Wholesale!$L94","v":583.32245199095371},{"$f":"[2]FinStat_Wholesale!$M94","v":388.79323065517565},{"$f":"[2]FinStat_Wholesale!$N94","v":131.32710165430075},{"$f":"[2]FinStat_Wholesale!$O94","v":-91.909519830462273},{"$f":"[2]FinStat_Wholesale!$P94","v":-105.89345630203323},null,{"$f":"SUM(S100:Y100)","v":1521.8368081679348},null,0,0,-87.968999999999994,-187.75399999999999,-286.68200000000002,-521.01199999999994,-717.56500000000005,null,-1800.981,null,0,0,-0.15080681310954278,-0.48291478656561482,-2.1829614480844035,5.6687490149123478,6.7762921813915931,null,-1.1834258379964624]
[null,null,null,null,null,null,null,null,null,null,null,null,null,null,null,null,null,null,{"$f":"[2]FinStat_Wholesale!$J95","v":0},{"$f":"[2]FinStat_Wholesale!$K95","v":0},{"$f":"[2]FinStat_Wholesale!$L95","v":0},{"$f":"[2]FinStat_Wholesale!$M95","v":0},{"$f":"[2]FinStat_Wholesale!$N95","v":0},{"$f":"[2]FinStat_Wholesale!$O95","v":0},{"$f":"[2]FinStat_Wholesale!$P95","v":0},null,null,null,0,0,0,0,0,0,0,null,0,null,0,0,0,0,0,0,0,null,0]
[null,"Liabilities",null,null,null,null,null,null,null,null,null,null,null,null,null,null,null,null,{"$f":"[2]FinStat_Wholesale!$J96","v":0},{"$f":"[2]FinStat_Wholesale!$K96","v":0},{"$f":"[2]FinStat_Wholesale!$L96","v":0},{"$f":"[2]FinStat_Wholesale!$M96","v":0},{"$f":"[2]FinStat_Wholesale!$N96","v":0},{"$f":"[2]FinStat_Wholesale!$O96","v":0},{"$f":"[2]FinStat_Wholesale!$P96","v":0},null,null,null,0,0,0,0,0,0,0,null,0,null,0,0,0,0,0,0,0,null,0]
[null,null,null,null,"Trade creditors and other payables balance - Wholesale - nominal",null,"£m",null,{"$f":"[1]FinStat_Wholesale!$J97","v":0},{"$f":"[1]FinStat_Wholesale!$K97","v":633.82199999999989},{"$f":"[1]FinStat_Wholesale!$L97","v":634.48511419431929},{"$f":"[1]FinStat_Wholesale!$M97","v":634.57667061088978},{"$f":"[1]FinStat_Wholesale!$N97","v":622.89315834732258},{"$f":"[1]FinStat_Wholesale!$O97","v":622.35366382532538},{"$f":"[1]FinStat_Wholesale!$P97","v":621.4713929566401},null,3769.6019999344971,null,{"$f":"[2]FinStat_Wholesale!$J97","v":0},{"$f":"[2]FinStat_Wholesale!$K97","v":633.82200000000012},{"$f":"[2]FinStat_Wholesale!$L97","v":628.38605346610575},{"$f":"[2]FinStat_Wholesale!$M97","v":628.4392906980928},{"$f":"[2]FinStat_Wholesale!$N97","v":617.07974458434455},{"$f":"[2]FinStat_Wholesale!$O97","v":617.22313571075176},{"$f":"[2]FinStat_Wholesale!$P97","v":617.36936627190221},null,{"$f":"SUM(S103:Y103)","v":3742.3195907311974},null,0,0,6.0990000000000002,6.1369999999999996,5.8129999999999997,5.1310000000000002,4.1020000000000003,null,27.282,null,0,0,9.70581693587662E-3,9.7654619799198115E-3,9.4201763240755014E-3,8.3130390018376302E-3,6.6443206030300421E-3,null,7.2901309838878502E-3]
[null,null,null,null,"Capex creditors balance - Wholesale - nominal",null,"£m",null,{"$f":"[1]FinStat_Wholesale!$J98","v":0},{"$f":"[1]FinStat_Wholesale!$K98","v":176.45599999999996},{"$f":"[1]FinStat_Wholesale!$L98","v":176.16207503561921},{"$f":"[1]FinStat_Wholesale!$M98","v":176.24227388214058},{"$f":"[1]FinStat_Wholesale!$N98","v":176.25720028633222},{"$f":"[1]FinStat_Wholesale!$O98","v":176.28367659237119},{"$f":"[1]FinStat_Wholesale!$P98","v":176.22324929022821},null,1057.6244750866915,null,{"$f":"[2]FinStat_Wholesale!$J98","v":0},{"$f":"[2]FinStat_Wholesale!$K98","v":176.45599999999996},{"$f":"[2]FinStat_Wholesale!$L98","v":136.09954239778298},{"$f":"[2]FinStat_Wholesale!$M98","v":161.61322158311603},{"$f":"[2]FinStat_Wholesale!$N98","v":151.58519720124474},{"$f":"[2]FinStat_Wholesale!$O98","v":127.73278748379036},{"$f":"[2]FinStat_Wholesale!$P98","v":123.7201338585847},null,877.20688252451885,null,0,0,40.063000000000002,14.629,24.672000000000001,48.551000000000002,52.503,null,180.41800000000001,null,0,0,0.29436542764344087,9.0518584164702473E-2,0.16275995582369046,0.38009817961704828,0.42436908498670295,null,0.20567326088547547]
[null,null,null,null,"Dividend creditors balance - Wholesale - nominal",null,"£m",null,{"$f":"[1]FinStat_Wholesale!$J99","v":0},{"$f":"[1]FinStat_Wholesale!$K99","v":0},{"$f":"[1]FinStat_Wholesale!$L99","v":0},{"$f":"[1]FinStat_Wholesale!$M99","v":0},{"$f":"[1]FinStat_Wholesale!$N99","v":0},{"$f":"[1]FinStat_Wholesale!$O99","v":0},{"$f":"[1]FinStat_Wholesale!$P99","v":0},null,0,null,{"$f":"[2]FinStat_Wholesale!$J99","v":0},{"$f":"[2]FinStat_Wholesale!$K99","v":0},{"$f":"[2]FinStat_Wholesale!$L99","v":0},{"$f":"[2]FinStat_Wholesale!$M99","v":0},{"$f":"[2]FinStat_Wholesale!$N99","v":0},{"$f":"[2]FinStat_Wholesale!$O99","v":0},{"$f":"[2]FinStat_Wholesale!$P99","v":0},null,0,null,0,0,0,0,0,0,0,null,0,null,0,0,0,0,0,0,0,null,0]
[null,null,null,null,"Total borrowing balance excl. preference shares - Wholesale - nominal",null,"£m",null,{"$f":"[1]FinStat_Wholesale!$J100","v":0},{"$f":"[1]FinStat_Wholesale!$K100","v":5292.5148959990938},{"$f":"[1]FinStat_Wholesale!$L100","v":5339.8401025694848},{"$f":"[1]FinStat_Wholesale!$M100","v":5388.585065336988},{"$f":"[1]FinStat_Wholesale!$N100","v":5438.792376987516},{"$f":"[1]FinStat_Wholesale!$O100","v":5490.50590798756},{"$f":"[1]FinStat_Wholesale!$P100","v":5543.7708449176043},null,32494.009193798251,null,{"$f":"[2]FinStat_Wholesale!$J100","v":0},{"$f":"[2]FinStat_Wholesale!$K100","v":5239.9149883540949},{"$f":"[2]FinStat_Wholesale!$L100","v":5286.719455838801},{"$f":"[2]FinStat_Wholesale!$M100","v":5334.9280573480482},{"$f":"[2]FinStat_Wholesale!$N100","v":5384.582916902571},{"$f":"[2]FinStat_Wholesale!$O100","v":5435.7274222437309},{"$f":"[2]FinStat_Wholesale!$P100","v":5488.4062627451258},null,32170.279103432367,null,0,52.6,53.121000000000002,53.656999999999996,54.209000000000003,54.777999999999999,55.365000000000002,null,323.73,null,0,1.0038330796760147E-2,1.0048008116135551E-2,1.0057680145488686E-2,1.0067446418149542E-2,1.0077400087399714E-2,1.0087627874017509E-2,null,1.0063014963568036E-2]
[null,null,null,null,"Preference share capital balance - Wholesale - nominal",null,"£m",null,{"$f":"[1]FinStat_Wholesale!$J101","v":0},{"$f":"[1]FinStat_Wholesale!$K101","v":0},{"$f":"[1]FinStat_Wholesale!$L101","v":0},{"$f":"[1]FinStat_Wholesale!$M101","v":0},{"$f":"[1]FinStat_Wholesale!$N101","v":0},{"$f":"[1]FinStat_Wholesale!$O101","v":0},{"$f":"[1]FinStat_Wholesale!$P101","v":0},null,0,null,{"$f":"[2]FinStat_Wholesale!$J101","v":0},{"$f":"[2]FinStat_Wholesale!$K101","v":0},{"$f":"[2]FinStat_Wholesale!$L101","v":0},{"$f":"[2]FinStat_Wholesale!$M101","v":0},{"$f":"[2]FinStat_Wholesale!$N101","v":0},{"$f":"[2]FinStat_Wholesale!$O101","v":0},{"$f":"[2]FinStat_Wholesale!$P101","v":0},null,0,null,0,0,0,0,0,0,0,null,0,null,0,0,0,0,0,0,0,null,0]
[null,null,null,null,"Current tax liabilities - Wholesale - nominal","BS","£m",null,{"$f":"[1]FinStat_Wholesale!$J102","v":0},{"$f":"[1]FinStat_Wholesale!$K102","v":0},{"$f":"[1]FinStat_Wholesale!$L102","v":0},{"$f":"[1]FinStat_Wholesale!$M102","v":0},{"$f":"[1]FinStat_Wholesale!$N102","v":0},{"$f":"[1]FinStat_Wholesale!$O102","v":0},{"$f":"[1]FinStat_Wholesale!$P102","v":0},null,0,null,{"$f":"[2]FinStat_Wholesale!$J102","v":0},{"$f":"[2]FinStat_Wholesale!$K102","v":0},{"$f":"[2]FinStat_Wholesale!$L102","v":0},{"$f":"[2]FinStat_Wholesale!$M102","v":0},{"$f":"[2]FinStat_Wholesale!$N102","v":0},{"$f":"[2]FinStat_Wholesale!$O102","v":0},{"$f":"[2]FinStat_Wholesale!$P102","v":0},null,0,null,0,0,0,0,0,0,0,null,0,null,0,0,0,0,0,0,0,null,0]
[null,null,null,null,"Retirement benefit liability balance - Wholesale - nominal",null,"£m",null,{"$f":"[1]FinStat_Wholesale!$J103","v":0},{"$f":"[1]FinStat_Wholesale!$K103","v":0},{"$f":"[1]FinStat_Wholesale!$L103","v":0},{"$f":"[1]FinStat_Wholesale!$M103","v":0},{"$f":"[1]FinStat_Wholesale!$N103","v":0},{"$f":"[1]FinStat_Wholesale!$O103","v":0},{"$f":"[1]FinStat_Wholesale!$P103","v":0},null,0,null,{"$f":"[2]FinStat_Wholesale!$J103","v":0},{"$f":"[2]FinStat_Wholesale!$K103","v":0},{"$f":"[2]FinStat_Wholesale!$L103","v":0},{"$f":"[2]FinStat_Wholesale!$M103","v":0},{"$f":"[2]FinStat_Wholesale!$N103","v":0},{"$f":"[2]FinStat_Wholesale!$O103","v":0},{"$f":"[2]FinStat_Wholesale!$P103","v":0},null,0,null,0,0,0,0,0,0,0,null,0,null,0,0,0,0,0,0,0,null,0]
[null,null,null,null,"Provisions balance - Wholesale - nominal",null,"£m",null,{"$f":"[1]FinStat_Wholesale!$J104","v":0},{"$f":"[1]FinStat_Wholesale!$K104","v":0},{"$f":"[1]FinStat_Wholesale!$L104","v":0.33499999999999724},{"$f":"[1]FinStat_Wholesale!$M104","v":0.67499999999999716},{"$f":"[1]FinStat_Wholesale!$N104","v":1.0239999999999974},{"$f":"[1]FinStat_Wholesale!$O104","v":1.379999999999999},{"$f":"[1]FinStat_Wholesale!$P104","v":1.7409999999999997},null,5.1549999999999905,null,{"$f":"[2]FinStat_Wholesale!$J104","v":0},{"$f":"[2]FinStat_Wholesale!$K104","v":16.730999999999998},{"$f":"[2]FinStat_Wholesale!$L104","v":17.065999999999995},{"$f":"[2]FinStat_Wholesale!$M104","v":17.405999999999995},{"$f":"[2]FinStat_Wholesale!$N104","v":17.754999999999995},{"$f":"[2]FinStat_Wholesale!$O104","v":18.111000000000001},{"$f":"[2]FinStat_Wholesale!$P104","v":18.472000000000001},null,105.541,null,0,-16.731000000000002,-16.731000000000002,-16.731000000000002,-16.731000000000002,-16.731000000000002,-16.731000000000002,null,-100.386,null,0,-1.0000000000000002,-0.98037032696589743,-0.96122026887280287,-0.94232610532244476,-0.9238032135166474,-0.90574924209614549,null,-0.9511564226224879]
[null,null,null,null,"Other liabilities balance - Wholesale - nominal",null,"£m",null,{"$f":"[1]FinStat_Wholesale!$J105","v":0},{"$f":"[1]FinStat_Wholesale!$K105","v":0},{"$f":"[1]FinStat_Wholesale!$L105","v":0},{"$f":"[1]FinStat_Wholesale!$M105","v":0},{"$f":"[1]FinStat_Wholesale!$N105","v":0},{"$f":"[1]FinStat_Wholesale!$O105","v":0},{"$f":"[1]FinStat_Wholesale!$P105","v":0},null,0,null,{"$f":"[2]FinStat_Wholesale!$J105","v":0},{"$f":"[2]FinStat_Wholesale!$K105","v":591.30999999999983},{"$f":"[2]FinStat_Wholesale!$L105","v":591.30999999999983},{"$f":"[2]FinStat_Wholesale!$M105","v":591.30999999999983},{"$f":"[2]FinStat_Wholesale!$N105","v":591.30999999999983},{"$f":"[2]FinStat_Wholesale!$O105","v":591.30999999999983},{"$f":"[2]FinStat_Wholesale!$P105","v":591.30999999999983},null,3547.8599999999992,null,0,-591.30999999999995,-591.30999999999995,-591.30999999999995,-591.30999999999995,-591.30999999999995,-591.30999999999995,null,-3547.86,null,0,-1.0000000000000002,-1.0000000000000002,-1.0000000000000002,-1.0000000000000002,-1.0000000000000002,-1.0000000000000002,null,-1.0000000000000002]
[null,null,null,null,"Total liabilities - Wholesale - nominal",null,"£m",null,{"$f":"[1]FinStat_Wholesale!$J106","v":0},{"$f":"[1]FinStat_Wholesale!$K106","v":6102.7928959990932},{"$f":"[1]FinStat_Wholesale!$L106","v":6150.8222917994235},{"$f":"[1]FinStat_Wholesale!$M106","v":6200.0790098300185},{"$f":"[1]FinStat_Wholesale!$N106","v":6238.9667356211712},{"$f":"[1]FinStat_Wholesale!$O106","v":6290.5232484052567},{"$f":"[1]FinStat_Wholesale!$P106","v":6343.2064871644725},null,37326.39066881944,null,{"$f":"[2]FinStat_Wholesale!$J106","v":0},{"$f":"[2]FinStat_Wholesale!$K106","v":6658.2339883540944},{"$f":"[2]FinStat_Wholesale!$L106","v":6659.5810517026894},{"$f":"[2]FinStat_Wholesale!$M106","v":6733.6965696292564},{"$f":"[2]FinStat_Wholesale!$N106","v":6762.3128586881603},{"$f":"[2]FinStat_Wholesale!$O106","v":6790.1043454382725},{"$f":"[2]FinStat_Wholesale!$P106","v":6839.2777628756121},null,40443.206576688084,null,0,-555.44100000000003,-508.75900000000001,-533.61800000000005,-523.346,-499.58100000000002,-496.07100000000003,null,-3116.8159999999998,null,0,-8.3421670216384844E-2,-7.6395045882041338E-2,-7.9245923020463627E-2,-7.7391568674260558E-2,-7.3574863446042402E-2,-7.2532658739601213E-2,null,-7.7066490612951732E-2]
[null,null,null,null,null,null,null,null,null,null,null,null,null,null,null,null,null,null,{"$f":"[2]FinStat_Wholesale!$J107","v":0},{"$f":"[2]FinStat_Wholesale!$K107","v":0},{"$f":"[2]FinStat_Wholesale!$L107","v":0},{"$f":"[2]FinStat_Wholesale!$M107","v":0},{"$f":"[2]FinStat_Wholesale!$N107","v":0},{"$f":"[2]FinStat_Wholesale!$O107","v":0},{"$f":"[2]FinStat_Wholesale!$P107","v":0},null,null,null,0,0,0,0,0,0,0,null,0,null,0,0,0,0,0,0,0,null,0]
[null,null,null,null,"Net assets before deferred tax - Wholesale - nominal",null,"£m",null,{"$f":"[1]FinStat_Wholesale!$J108","v":0},{"$f":"[1]FinStat_Wholesale!$K108","v":4300.0871053824849},{"$f":"[1]FinStat_Wholesale!$L108","v":4305.4003402599583},{"$f":"[1]FinStat_Wholesale!$M108","v":4322.4737525098062},{"$f":"[1]FinStat_Wholesale!$N108","v":4337.228274705406},{"$f":"[1]FinStat_Wholesale!$O108","v":4349.0551845314776},{"$f":"[1]FinStat_Wholesale!$P108","v":4350.857290512773},null,25965.101947901905,null,{"$f":"[2]FinStat_Wholesale!$J108","v":0},{"$f":"[2]FinStat_Wholesale!$K108","v":3744.6460130274872},{"$f":"[2]FinStat_Wholesale!$L108","v":3785.0881691290379},{"$f":"[2]FinStat_Wholesale!$M108","v":3835.2113165501187},{"$f":"[2]FinStat_Wholesale!$N108","v":3870.1499680749939},{"$f":"[2]FinStat_Wholesale!$O108","v":3887.924055255733},{"$f":"[2]FinStat_Wholesale!$P108","v":3888.5000960841116},null,{"$f":"SUM(S114:Y114)","v":23011.519618121485},null,0,555.44100000000003,520.31200000000001,487.262,467.07799999999997,461.13099999999997,462.35700000000003,null,2953.5819999999999,null,0,0.14832937427667153,0.13746364067385136,0.12704958339513506,0.12068731285685133,0.11860596900719772,0.11890368743094891,null,0.12835232305449593]
[null,null,null,null,null,null,null,null,null,null,null,null,null,null,null,null,null,null,{"$f":"[2]FinStat_Wholesale!$J109","v":0},{"$f":"[2]FinStat_Wholesale!$K109","v":0},{"$f":"[2]FinStat_Wholesale!$L109","v":0},{"$f":"[2]FinStat_Wholesale!$M109","v":0},{"$f":"[2]FinStat_Wholesale!$N109","v":0},{"$f":"[2]FinStat_Wholesale!$O109","v":0},{"$f":"[2]FinStat_Wholesale!$P109","v":0},null,null,null,0,0,0,0,0,0,0,null,0,null,0,0,0,0,0,0,0,null,0]
[null,"Net assets",null,null,null,null,null,null,null,null,null,null,null,null,null,null,null,null,{"$f":"[2]FinStat_Wholesale!$J110","v":0},{"$f":"[2]FinStat_Wholesale!$K110","v":0},{"$f":"[2]FinStat_Wholesale!$L110","v":0},{"$f":"[2]FinStat_Wholesale!$M110","v":0},{"$f":"[2]FinStat_Wholesale!$N110","v":0},{"$f":"[2]FinStat_Wholesale!$O110","v":0},{"$f":"[2]FinStat_Wholesale!$P110","v":0},null,null,null,0,0,0,0,0,0,0,null,0,null,0,0,0,0,0,0,0,null,0]
[null,null,null,null,"Deferred tax - Wholesale - nominal",null,"£m",null,{"$f":"[1]FinStat_Wholesale!$J111","v":0},{"$f":"[1]FinStat_Wholesale!$K111","v":-768.02099999999996},{"$f":"[1]FinStat_Wholesale!$L111","v":-779.9882244297454},{"$f":"[1]FinStat_Wholesale!$M111","v":-788.77113876516376},{"$f":"[1]FinStat_Wholesale!$N111","v":-795.94300530508508},{"$f":"[1]FinStat_Wholesale!$O111","v":-803.0983419485849},{"$f":"[1]FinStat_Wholesale!$P111","v":-804.88580950078665},null,-4740.7075199493656,null,{"$f":"[2]FinStat_Wholesale!$J111","v":0},{"$f":"[2]FinStat_Wholesale!$K111","v":-768.02099999999984},{"$f":"[2]FinStat_Wholesale!$L111","v":-778.97563678023346},{"$f":"[2]FinStat_Wholesale!$M111","v":-786.60425202672513},{"$f":"[2]FinStat_Wholesale!$N111","v":-791.87250571549487},{"$f":"[2]FinStat_Wholesale!$O111","v":-794.81137065677331},{"$f":"[2]FinStat_Wholesale!$P111","v":-791.35273344265636},null,{"$f":"SUM(S117:Y117)","v":-4711.6374986218825},null,0,0,-1.0129999999999999,-2.1669999999999998,-4.07,-8.2870000000000008,-13.532999999999999,null,-29.07,null,0,0,1.3004257799217795E-3,2.7548795908700166E-3,5.1397162682426502E-3,1.0426373232622776E-2,1.7101097182196868E-2,null,6.1698294931438911E-3]
[null,null,null,null,"Net assets - Wholesale - nominal",null,"£m",null,{"$f":"[1]FinStat_Wholesale!$J112","v":0},{"$f":"[1]FinStat_Wholesale!$K112","v":3532.0661053824851},{"$f":"[1]FinStat_Wholesale!$L112","v":3525.4121158302128},{"$f":"[1]FinStat_Wholesale!$M112","v":3533.7026137446423},{"$f":"[1]FinStat_Wholesale!$N112","v":3541.2852694003209},{"$f":"[1]FinStat_Wholesale!$O112","v":3545.9568425828929},{"$f":"[1]FinStat_Wholesale!$P112","v":3545.9714810119863},null,21224.394427952542,null,{"$f":"[2]FinStat_Wholesale!$J112","v":0},{"$f":"[2]FinStat_Wholesale!$K112","v":2976.6250130274875},{"$f":"[2]FinStat_Wholesale!$L112","v":3006.1125323488045},{"$f":"[2]FinStat_Wholesale!$M112","v":3048.6070645233935},{"$f":"[2]FinStat_Wholesale!$N112","v":3078.2774623594992},{"$f":"[2]FinStat_Wholesale!$O112","v":3093.1126845989597},{"$f":"[2]FinStat_Wholesale!$P112","v":3097.1473626414554},null,{"$f":"SUM(S118:Y118)","v":18299.882119499602},null,0,555.44100000000003,519.29999999999995,485.096,463.00799999999998,452.84399999999999,448.82400000000001,null,2924.5120000000002,null,0,0.18660093144721243,0.17274802403829129,0.15912053922758915,0.15041139262511588,0.14640397753847559,0.14491528734274134,null,0.15981042833515088]
[null,null,null,null,null,null,null,null,null,null,null,null,null,null,null,null,null,null,null,null,null,null,null,null,null,null,null,null,0,0,0,0,0,0,0,null,0,null,0,0,0,0,0,0,0,null,0]
[null,"Equity",null,null,null,null,null,null,null,null,null,null,null,null,null,null,null,null,null,null,null,null,null,null,null,null,null,null,0,0,0,0,0,0,0,null,0,null,0,0,0,0,0,0,0,null,0]
[null,null,null,null,"Called up share capital balance - Wholesale - nominal",null,"£m",null,{"$f":"[1]FinStat_Wholesale!$J115","v":0},{"$f":"[1]FinStat_Wholesale!$K115","v":9.9999999999999982},{"$f":"[1]FinStat_Wholesale!$L115","v":9.9999999999999982},{"$f":"[1]FinStat_Wholesale!$M115","v":9.9999999999999982},{"$f":"[1]FinStat_Wholesale!$N115","v":9.9999999999999982},{"$f":"[1]FinStat_Wholesale!$O115","v":9.9999999999999982},{"$f":"[1]FinStat_Wholesale!$P115","v":9.9999999999999982},null,59.999999999999993,null,{"$f":"[2]FinStat_Wholesale!$J115","v":0},{"$f":"[2]FinStat_Wholesale!$K115","v":10},{"$f":"[2]FinStat_Wholesale!$L115","v":10},{"$f":"[2]FinStat_Wholesale!$M115","v":10},{"$f":"[2]FinStat_Wholesale!$N115","v":10},{"$f":"[2]FinStat_Wholesale!$O115","v":10},{"$f":"[2]FinStat_Wholesale!$P115","v":10},null,{"$f":"SUM(S121:Y121)","v":60},null,0,0,0,0,0,0,0,null,0,null,0,0,0,0,0,0,0,null,0]
[null,null,null,null,"Non-distributable reserves balance - Wholesale - nominal",null,"m",null,{"$f":"[1]FinStat_Wholesale!$J116","v":0},{"$f":"[1]FinStat_Wholesale!$K116","v":772.48099999999988},{"$f":"[1]FinStat_Wholesale!$L116","v":772.48099999999988},{"$f":"[1]FinStat_Wholesale!$M116","v":772.48099999999988},{"$f":"[1]FinStat_Wholesale!$N116","v":772.48099999999988},{"$f":"[1]FinStat_Wholesale!$O116","v":772.48099999999988},{"$f":"[1]FinStat_Wholesale!$P116","v":772.48099999999988},null,4634.8859999999995,null,{"$f":"[2]FinStat_Wholesale!$J116","v":0},{"$f":"[2]FinStat_Wholesale!$K116","v":772.48099999999999},{"$f":"[2]FinStat_Wholesale!$L116","v":772.48099999999999},{"$f":"[2]FinStat_Wholesale!$M116","v":772.48099999999999},{"$f":"[2]FinStat_Wholesale!$N116","v":772.48099999999999},{"$f":"[2]FinStat_Wholesale!$O116","v":772.48099999999999},{"$f":"[2]FinStat_Wholesale!$P116","v":772.48099999999999},null,{"$f":"SUM(S122:Y122)","v":4634.8859999999995},null,0,0,0,0,0,0,0,null,0,null,0,0,0,0,0,0,0,null,0]
[null,null,null,null,"Retained earnings balance - Wholesale - nominal",null,"£m",null,{"$f":"[1]FinStat_Wholesale!$J117","v":0},{"$f":"[1]FinStat_Wholesale!$K117","v":2749.5851053824827},{"$f":"[1]FinStat_Wholesale!$L117","v":2742.9311158302116},{"$f":"[1]FinStat_Wholesale!$M117","v":2751.2216137446426},{"$f":"[1]FinStat_Wholesale!$N117","v":2758.8042694003211},{"$f":"[1]FinStat_Wholesale!$O117","v":2763.4758425828918},{"$f":"[1]FinStat_Wholesale!$P117","v":2763.4904810119851},null,16529.508427952536,null,{"$f":"[2]FinStat_Wholesale!$J117","v":0},{"$f":"[2]FinStat_Wholesale!$K117","v":2194.1440130274855},{"$f":"[2]FinStat_Wholesale!$L117","v":2223.6315323488043},{"$f":"[2]FinStat_Wholesale!$M117","v":2266.1260645233938},{"$f":"[2]FinStat_Wholesale!$N117","v":2295.7964623594994},{"$f":"[2]FinStat_Wholesale!$O117","v":2310.6316845989591},{"$f":"[2]FinStat_Wholesale!$P117","v":2314.6663626414552},null,{"$f":"SUM(S123:Y123)","v":13604.996119499598},null,0,555.44100000000003,519.29999999999995,485.096,463.00799999999998,452.84399999999999,448.82400000000001,null,2924.5120000000002,null,0,0.25314701163739983,0.23353689334107774,0.21406399564184186,0.20167641495716246,0.19598277086665897,0.19390440334900372,null,0.21495867946690497]
[null,null,null,null,"Total equity - Wholesale - nominal",null,"£m",null,{"$f":"[1]FinStat_Wholesale!$J118","v":0},{"$f":"[1]FinStat_Wholesale!$K118","v":3532.0661053824824},{"$f":"[1]FinStat_Wholesale!$L118","v":3525.4121158302114},{"$f":"[1]FinStat_Wholesale!$M118","v":3533.7026137446423},{"$f":"[1]FinStat_Wholesale!$N118","v":3541.2852694003209},{"$f":"[1]FinStat_Wholesale!$O118","v":3545.9568425828916},{"$f":"[1]FinStat_Wholesale!$P118","v":3545.9714810119849},null,21224.394427952535,null,{"$f":"[2]FinStat_Wholesale!$J118","v":0},{"$f":"[2]FinStat_Wholesale!$K118","v":2976.6250130274857},{"$f":"[2]FinStat_Wholesale!$L118","v":3006.1125323488041},{"$f":"[2]FinStat_Wholesale!$M118","v":3048.607064523394},{"$f":"[2]FinStat_Wholesale!$N118","v":3078.2774623594996},{"$f":"[2]FinStat_Wholesale!$O118","v":3093.1126845989593},{"$f":"[2]FinStat_Wholesale!$P118","v":3097.1473626414554},null,{"$f":"SUM(S124:Y124)","v":18299.882119499598},null,0,555.44100000000003,519.29999999999995,485.096,463.00799999999998,452.84399999999999,448.82400000000001,null,2924.5120000000002,null,0,0.18660093144721254,0.17274802403829131,0.15912053922758912,0.15041139262511585,0.14640397753847559,0.14491528734274134,null,0.15981042833515091]
[]
["Calculations"]
[]
[null,null,null,null,"Net debt",null,"£m",null,{"$f":"SUM(I99,I106:I107)","v":0},{"$f":"SUM(J99,J106:J107)","v":5804.7058959990936},{"$f":"SUM(K99,K106:K107)","v":5730.4034408474427},5483.1847623207686,5175.7519647336921,4768.588591283502,4610.128056700697,null,{"$f":"SUM(I128:O128)","v":31572.762711885196},null,{"$f":"SUM(S99,S106:S107)","v":0},{"$f":"SUM(T99,T106:T107)","v":5752.1059883540947},{"$f":"SUM(U99,U106:U107)","v":5765.2519078297546},5617.2812880032243,5408.2240185568717,5234.8219024132686,5272.3288064430926,null,{"$f":"SUM(S128:Y128)","v":33050.013911600312},null,{"$f":"ROUND(I128 - S128, 3)","v":0},52.6,-34.847999999999999,-134.09700000000001,-232.47200000000001,-466.233,-662.20100000000002,null,{"$f":"ROUND(Q128 - AA128, 3)","v":-1477.251},null,{"$f":"IF(S128 = 0, 0, AC128 / S128)","v":0},{"$f":"IF(T128 = 0, 0, AD128 / T128)","v":9.144476841437852E-3},{"$f":"IF(U128 = 0, 0, AE128 / U128)","v":-6.0444886983469252E-3},{"$f":"IF(V128 = 0, 0, AF128 / V128)","v":-2.3872224502338831E-2},{"$f":"IF(W128 = 0, 0, AG128 / W128)","v":-4.2984905803149911E-2},{"$f":"IF(X128 = 0, 0, AH128 / X128)","v":-8.9063774984410676E-2},{"$f":"IF(Y128 = 0, 0, AI128 / Y128)","v":-0.12559933651913968},null,{"$f":"IF(AA128 = 0, 0, AK128 / AA128)","v":-4.4697439582060079E-2}]
[null,null,null,null,"Average net debt",null,"£m",null,null,{"$f":"SUM(I99:J99,I106:J107)","v":5804.7058959990936},{"$f":"SUM(J99:K99,J106:K107)","v":11535.109336846537},11213.588203168212,10658.936727054461,9944.3405560171923,9378.7166479841981,null,{"$f":"SUM(I129:O129)","v":58535.397367069701},null,null,{"$f":"SUM(S99:T99,S106:T107)","v":5752.1059883540947},{"$f":"SUM(T99:U99,T106:U107)","v":11517.35789618385},{"$f":"SUM(U99:V99,U106:V107)","v":11382.533195832979},{"$f":"SUM(V99:W99,V106:W107)","v":11025.505306560095},{"$f":"SUM(W99:X99,W106:X107)","v":10643.04592097014},{"$f":"SUM(X99:Y99,X106:Y107)","v":10507.150708856361},null,{"$f":"SUM(S129:Y129)","v":60827.69901675752},null,0,52.6,17.751000000000001,-168.94499999999999,-366.56900000000002,-698.70500000000004,-1128.434,null,{"$f":"ROUND(Q129 - AA129, 3)","v":-2292.3020000000001},null,0,9.144476841437852E-3,1.5412388987131849E-3,-1.4842478127966182E-2,-3.3247365069235799E-2,-6.5648969776906804E-2,-0.10739676542841015,null,-3.7685167071147802E-2]
[]
[null,null,null,null,"Total interest as a percentage of average net debt",null,"%",null,null,{"$f":" IF( J129 = 0, 0, SUM( J27:J28 ) / J129 )","v":0},-1.8280589631758753E-2,-1.9781580809998044E-2,-2.2316770342798543E-2,-2.5890354479416049E-2,-2.9215506961651556E-2,null,null,null,null,{"$f":" IF( T129 = 0, 0, SUM( T27:T28 ) / T129 )","v":0},-1.7223897462571518E-2,-1.8012229888304851E-2,-1.9622243409240264E-2,-2.1451256851217036E-2,-2.239810248656281E-2,null,null,null,null,{"$f":"ROUND(J131 - T131, 3)","v":0},-1E-3,-2E-3,-3.0000000000000001E-3,-4.0000000000000001E-3,-7.0000000000000001E-3,null,null,null,null,0,5.8058868625585777E-2,0.11103566923152468,0.15288771713978827,0.18646926041413095,0.31252647424930202]

{"sheet":"FinStat_Retail","index":5,"n_rows":136,"n_cols":47,"rows_kept":136,"cut":false,"hidden":false,"merged":[[0,8,0,16],[0,18,0,26],[0,28,0,36],[0,38,0,46]]}
[null,null,null,null,{"$f":" RIGHT(CELL(\"FILENAME\", $A$1), LEN(CELL(\"FILENAME\", $A$1)) - SEARCH(\"]\", CELL(\"FILENAME\", $A$1)))","v":"FinStat_Retail"},null,null,null,{"$f":"'Front sheet'!$F5 & \": \" & 'Front sheet'!$G5 & \" - \" & 'Front sheet'!$H5","v":"Model 1: ANH - Company 1 April NTN Post"},null,null,null,null,null,null,null,null,null,{"$f":"'Front sheet'!$F6 & \": \" & 'Front sheet'!$G6 & \" - \" & 'Front sheet'!$H6","v":"Model 2: ANH - Ofwat FD NTN Post "},null,null,null,null,null,null,null,null,null,{"$f":"\"Delta (\" & 'Front sheet'!$F5 & \" - \" & 'Front sheet'!$F6 & \")\"","v":"Delta (Model 1 - Model 2)"},null,null,null,null,null,null,null,null,null,{"$f":"\"Delta  (\" & 'Front sheet'!$F5 & \" - \" & 'Front sheet'!$F6 & \") - %\"","v":"Delta  (Model 1 - Model 2) - %"}]
[]
[null,null,null,"Model period ending",null,null,null,null,"2019-03-31","2020-03-31","2021-03-31","2022-03-31","2023-03-31","2024-03-31","2025-03-31",null,null,null,"2019-03-31","2020-03-31","2021-03-31","2022-03-31","2023-03-31","2024-03-31","2025-03-31",null,null,null,"2019-03-31","2020-03-31","2021-03-31","2022-03-31","2023-03-31","2024-03-31","2025-03-31",null,null,null,"2019-03-31","2020-03-31","2021-03-31","2022-03-31","2023-03-31","2024-03-31","2025-03-31"]
[null,null,null,"Timeline label",null,null,null,null,"Pre-Fcst","Pre-Fcst","Forecast","Forecast","Forecast","Forecast","Forecast",null,"Total",null,"Pre-Fcst","Pre-Fcst","Forecast","Forecast","Forecast","Forecast","Forecast",null,"Total",null,"Pre-Fcst","Pre-Fcst","Forecast","Forecast","Forecast","Forecast","Forecast",null,"Total",null,"Pre-Fcst","Pre-Fcst","Forecast","Forecast","Forecast","Forecast","Forecast",null,"Total"]
[null,null,null,"Financial year ending",null,null,null,null,2019,2020,2021,2022,2023,2024,2025,null,null,null,2019,2020,2021,2022,2023,2024,2025,null,null,null,2019,2020,2021,2022,2023,2024,2025,null,null,null,2019,2020,2021,2022,2023,2024,2025]
[null,null,null,"Model column counter",null,null,null,null,1,2,3,4,5,6,7,null,null,null,1,2,3,4,5,6,7,null,null,null,1,2,3,4,5,6,7,null,null,null,1,2,3,4,5,6,7]
[]
[null,null,null,null,{"$f":"'Front sheet'!$F5 & \": \" & 'Front sheet'!$G5 & \" - \" & 'Front sheet'!$I5","v":"Model 1: ANH - "}]
[null,null,null,null,{"$f":"'Front sheet'!$F6 & \": \" & 'Front sheet'!$G6 & \" - \" & 'Front sheet'!$I6","v":"Model 2: ANH - "}]
[null,null,null,null,"3rd model not in use"]
[]
[null,null,null,"Check Delta (numbers)",null,null,null,null,null,null,null,null,null,null,null,null,null,null,null,null,null,null,null,null,null,null,null,null,{"$f":"COUNTIF(AC19:AC310,\"<>0\") - COUNTBLANK(AC19:AC310) - AC13","v":0},15,41,43,44,43,43,null,{"$f":"COUNTIF(AK19:AK310,\"<>0\") - COUNTBLANK(AK19:AK310) - AK13","v":44},null,{"$f":"COUNTIF(AM19:AM310,\"<>0\") - COUNTBLANK(AM19:AM310) - AM13","v":0},4,41,43,44,43,43,null,{"$f":"COUNTIF(AU19:AU310,\"<>0\") - COUNTBLANK(AU19:AU310) - AU13","v":44}]
[null,null,null,"Check Delta (errors)",null,null,null,null,null,null,null,null,null,null,null,null,null,null,null,null,null,null,null,null,null,null,null,null,{"$f":"COUNT( IF( ISERROR(AC19:AC308), 1) )","v":0},{"$f":"COUNT( IF( ISERROR(AD19:AD308), 1) )","v":0},{"$f":"COUNT( IF( ISERROR(AE19:AE308), 1) )","v":0},{"$f":"COUNT( IF( ISERROR(AF19:AF308), 1) )","v":0},{"$f":"COUNT( IF( ISERROR(AG19:AG308), 1) )","v":0},{"$f":"COUNT( IF( ISERROR(AH19:AH308), 1) )","v":0},{"$f":"COUNT( IF( ISERROR(AI19:AI308), 1) )","v":0},null,{"$f":"COUNT( IF( ISERROR(AK19:AK308), 1) )","v":0},null,{"$f":"COUNT( IF( ISERROR(AM19:AM308), 1) )","v":0},{"$f":"COUNT( IF( ISERROR(AN19:AN308), 1) )","v":0},{"$f":"COUNT( IF( ISERROR(AO19:AO308), 1) )","v":0},{"$f":"COUNT( IF( ISERROR(AP19:AP308), 1) )","v":0},{"$f":"COUNT( IF( ISERROR(AQ19:AQ308), 1) )","v":0},{"$f":"COUNT( IF( ISERROR(AR19:AR308), 1) )","v":0},{"$f":"COUNT( IF( ISERROR(AS19:AS308), 1) )","v":0},null,{"$f":"COUNT( IF( ISERROR(AU19:AU308), 1) )","v":0}]
[]
["PROFIT & LOSS"]
[]
[null,null,null,null,"Revenue - Retail",null,"£m",null,{"$f":"[1]FinStat_Retail!$J9","v":0},{"$f":"[1]FinStat_Retail!$K9","v":17.206152838999998},{"$f":"[1]FinStat_Retail!$L9","v":1333.6960421529916},{"$f":"[1]FinStat_Retail!$M9","v":1369.6740785114218},{"$f":"[1]FinStat_Retail!$N9","v":1417.4610232762702},{"$f":"[1]FinStat_Retail!$O9","v":1466.7748017458232},{"$f":"[1]FinStat_Retail!$P9","v":1507.1134250627283},null,{"$f":"SUM(I17:O17)","v":7111.9255235882347},null,{"$f":"[2]FinStat_Retail!$J9","v":0},{"$f":"[2]FinStat_Retail!$K9","v":0},{"$f":"[2]FinStat_Retail!$L9","v":1226.9773218154755},{"$f":"[2]FinStat_Retail!$M9","v":1259.4646226551229},{"$f":"[2]FinStat_Retail!$N9","v":1291.5720381142226},{"$f":"[2]FinStat_Retail!$O9","v":1323.863296419473},{"$f":"[2]FinStat_Retail!$P9","v":1356.0208056427612},null,{"$f":"SUM(S17:Y17)","v":6457.8980846470549},null,{"$f":"ROUND(I17 - S17, 3)","v":0},{"$f":"ROUND(J17 - T17, 3)","v":17.206},{"$f":"ROUND(K17 - U17, 3)","v":106.71899999999999},{"$f":"ROUND(L17 - V17, 3)","v":110.209},{"$f":"ROUND(M17 - W17, 3)","v":125.889},{"$f":"ROUND(N17 - X17, 3)","v":142.91200000000001},{"$f":"ROUND(O17 - Y17, 3)","v":151.09299999999999},null,{"$f":"ROUND(Q17 - AA17, 3)","v":654.02700000000004},null,{"$f":"IF(S17 = 0, 0, AC17 / S17)","v":0},{"$f":"IF(T17 = 0, 0, AD17 / T17)","v":0},{"$f":"IF(U17 = 0, 0, AE17 / U17)","v":8.697715768869721E-2},{"$f":"IF(V17 = 0, 0, AF17 / V17)","v":8.7504641271832176E-2},{"$f":"IF(W17 = 0, 0, AG17 / W17)","v":9.7469592314653977E-2},{"$f":"IF(X17 = 0, 0, AH17 / X17)","v":0.1079507229987571},{"$f":"IF(Y17 = 0, 0, AI17 / Y17)","v":0.11142380660478221},null,{"$f":"IF(AA17 = 0, 0, AK17 / AA17)","v":0.10127552207038967}]
[null,null,null,null,"[DPC costs - Retail]",null,"£m",null,{"$f":"[1]FinStat_Retail!$J10","v":0},{"$f":"[1]FinStat_Retail!$K10","v":0},{"$f":"[1]FinStat_Retail!$L10","v":0},{"$f":"[1]FinStat_Retail!$M10","v":0},{"$f":"[1]FinStat_Retail!$N10","v":0},{"$f":"[1]FinStat_Retail!$O10","v":0},{"$f":"[1]FinStat_Retail!$P10","v":0},null,{"$f":"SUM(I18:O18)","v":0},null,{"$f":"[2]FinStat_Retail!$J10","v":0},{"$f":"[2]FinStat_Retail!$K10","v":0},{"$f":"[2]FinStat_Retail!$L10","v":0},{"$f":"[2]FinStat_Retail!$M10","v":0},{"$f":"[2]FinStat_Retail!$N10","v":0},{"$f":"[2]FinStat_Retail!$O10","v":0},{"$f":"[2]FinStat_Retail!$P10","v":0},null,{"$f":"SUM(S18:Y18)","v":0},null,0,0,0,0,0,0,0,null,0,null,0,0,0,0,0,0,0,null,0]
[null,null,null,null,"Operating expenditure - Retail",null,"£m",null,{"$f":"[1]FinStat_Retail!$J11","v":0},{"$f":"[1]FinStat_Retail!$K11","v":0},{"$f":"[1]FinStat_Retail!$L11","v":-1298.2215050607233},{"$f":"[1]FinStat_Retail!$M11","v":-1356.2741427006431},{"$f":"[1]FinStat_Retail!$N11","v":-1403.4367326487463},{"$f":"[1]FinStat_Retail!$O11","v":-1452.5339141473532},{"$f":"[1]FinStat_Retail!$P11","v":-1493.1200382848335},null,{"$f":"SUM(I19:O19)","v":-7003.5863328422993},null,{"$f":"[2]FinStat_Retail!$J11","v":0},{"$f":"[2]FinStat_Retail!$K11","v":0},{"$f":"[2]FinStat_Retail!$L11","v":-1199.5723426408304},{"$f":"[2]FinStat_Retail!$M11","v":-1246.7897557802476},{"$f":"[2]FinStat_Retail!$N11","v":-1278.9096847201083},{"$f":"[2]FinStat_Retail!$O11","v":-1311.3498744021231},{"$f":"[2]FinStat_Retail!$P11","v":-1343.6951416831685},null,{"$f":"SUM(S19:Y19)","v":-6380.3167992264789},null,0,0,-98.649000000000001,-109.48399999999999,-124.527,-141.184,-149.42500000000001,null,-623.27,null,0,0,8.223680764665392E-2,8.7812720222010754E-2,9.7369659083669347E-2,0.10766310559519388,0.11120453990242463,null,9.7686371948734974E-2]
[null,null,null,null,"[Operating income - Retail]",null,"£m",null,{"$f":"[1]FinStat_Retail!$J12","v":0},{"$f":"[1]FinStat_Retail!$K12","v":0},{"$f":"[1]FinStat_Retail!$L12","v":0},{"$f":"[1]FinStat_Retail!$M12","v":0},{"$f":"[1]FinStat_Retail!$N12","v":0},{"$f":"[1]FinStat_Retail!$O12","v":0},{"$f":"[1]FinStat_Retail!$P12","v":0},null,{"$f":"SUM(I20:O20)","v":0},null,{"$f":"[2]FinStat_Retail!$J12","v":0},{"$f":"[2]FinStat_Retail!$K12","v":0},{"$f":"[2]FinStat_Retail!$L12","v":0},{"$f":"[2]FinStat_Retail!$M12","v":0},{"$f":"[2]FinStat_Retail!$N12","v":0},{"$f":"[2]FinStat_Retail!$O12","v":0},{"$f":"[2]FinStat_Retail!$P12","v":0},null,{"$f":"SUM(S20:Y20)","v":0},null,0,0,0,0,0,0,0,null,0,null,0,0,0,0,0,0,0,null,0]
[null,null,null,null,"EBITDA - Retail - nominal",null,"£m",null,{"$f":"[1]FinStat_Retail!$J13","v":0},{"$f":"[1]FinStat_Retail!$K13","v":17.206152838999998},{"$f":"[1]FinStat_Retail!$L13","v":35.474537092268292},{"$f":"[1]FinStat_Retail!$M13","v":13.399935810778743},{"$f":"[1]FinStat_Retail!$N13","v":14.024290627523897},{"$f":"[1]FinStat_Retail!$O13","v":14.240887598469953},{"$f":"[1]FinStat_Retail!$P13","v":13.993386777894784},null,{"$f":"SUM(I21:O21)","v":108.33919074593567},null,{"$f":"[2]FinStat_Retail!$J13","v":0},{"$f":"[2]FinStat_Retail!$K13","v":0},{"$f":"[2]FinStat_Retail!$L13","v":27.404979174645177},{"$f":"[2]FinStat_Retail!$M13","v":12.674866874875306},{"$f":"[2]FinStat_Retail!$N13","v":12.662353394114234},{"$f":"[2]FinStat_Retail!$O13","v":12.513422017349967},{"$f":"[2]FinStat_Retail!$P13","v":12.325663959592703},null,{"$f":"SUM(S21:Y21)","v":77.581285420577387},null,0,17.206,8.07,0.72499999999999998,1.3620000000000001,1.7270000000000001,1.6679999999999999,null,30.757999999999999,null,0,0,0.29447203548566409,5.7199811813181858E-2,0.10756294328612645,0.1380118082492143,0.13532739538155625,null,0.39646159293774547]
[null,null,null,null,null,null,null,null,null,null,null,null,null,null,null,null,null,null,null,null,null,null,null,null,null,null,null,null,0,0,0,0,0,0,0,null,0,null,0,0,0,0,0,0,0,null,0]
[null,null,null,null,"Depreciation - Retail",null,"£m",null,{"$f":"[1]FinStat_Retail!$J15","v":0},{"$f":"[1]FinStat_Retail!$K15","v":0},{"$f":"[1]FinStat_Retail!$L15","v":-1.9867294310400005},{"$f":"[1]FinStat_Retail!$M15","v":-2.2625041121280005},{"$f":"[1]FinStat_Retail!$N15","v":-2.4719597812776963},{"$f":"[1]FinStat_Retail!$O15","v":-2.2633743060172806},{"$f":"[1]FinStat_Retail!$P15","v":-1.6529875231705404},null,{"$f":"SUM(I23:O23)","v":-10.637555153633521},null,{"$f":"[2]FinStat_Retail!$J15","v":0},{"$f":"[2]FinStat_Retail!$K15","v":0},{"$f":"[2]FinStat_Retail!$L15","v":-2.3393729684018925},{"$f":"[2]FinStat_Retail!$M15","v":-2.4203439592136626},{"$f":"[2]FinStat_Retail!$N15","v":-2.1245245444951553},{"$f":"[2]FinStat_Retail!$O15","v":-1.6877836600759177},{"$f":"[2]FinStat_Retail!$P15","v":-1.2104825777311032},null,{"$f":"SUM(S23:Y23)","v":-9.7825077099177307},null,0,0,0.35299999999999998,0.158,-0.34699999999999998,-0.57599999999999996,-0.443,null,-0.85499999999999998,null,0,0,-0.1508951350502894,-6.5279977830643585E-2,0.16333066186460868,0.34127596659757392,0.36596974475283039,null,8.7400902238306585E-2]
[null,null,null,null,"Earnings before interest and tax (EBIT) - Retail - nominal",null,"£m",null,{"$f":"[1]FinStat_Retail!$J16","v":0},{"$f":"[1]FinStat_Retail!$K16","v":17.206152838999998},{"$f":"[1]FinStat_Retail!$L16","v":33.487807661228288},{"$f":"[1]FinStat_Retail!$M16","v":11.137431698650742},{"$f":"[1]FinStat_Retail!$N16","v":11.5523308462462},{"$f":"[1]FinStat_Retail!$O16","v":11.977513292452674},{"$f":"[1]FinStat_Retail!$P16","v":12.340399254724243},null,{"$f":"SUM(I24:O24)","v":97.701635592302154},null,{"$f":"[2]FinStat_Retail!$J16","v":0},{"$f":"[2]FinStat_Retail!$K16","v":0},{"$f":"[2]FinStat_Retail!$L16","v":25.065606206243285},{"$f":"[2]FinStat_Retail!$M16","v":10.254522915661644},{"$f":"[2]FinStat_Retail!$N16","v":10.537828849619078},{"$f":"[2]FinStat_Retail!$O16","v":10.82563835727405},{"$f":"[2]FinStat_Retail!$P16","v":11.1151813818616},null,{"$f":"SUM(S24:Y24)","v":67.79877771065965},null,0,17.206,8.4220000000000006,0.88300000000000001,1.0149999999999999,1.1519999999999999,1.2250000000000001,null,29.902999999999999,null,0,0,0.33599825716173054,8.6108345289413885E-2,9.6319651275859369E-2,0.10641404802017415,0.11020962752789859,null,0.44105514892340758]
[null,null,null,null,null,null,null,null,null,null,null,null,null,null,null,null,null,null,null,null,null,null,null,null,null,null,null,null,0,0,0,0,0,0,0,null,0,null,0,0,0,0,0,0,0,null,0]
[null,null,null,null,"[Other Income (incl. 3rd party income) - Retail]",null,"£m",null,{"$f":"[1]FinStat_Retail!$J18","v":0},{"$f":"[1]FinStat_Retail!$K18","v":0},{"$f":"[1]FinStat_Retail!$L18","v":0},{"$f":"[1]FinStat_Retail!$M18","v":0},{"$f":"[1]FinStat_Retail!$N18","v":0},{"$f":"[1]FinStat_Retail!$O18","v":0},{"$f":"[1]FinStat_Retail!$P18","v":0},null,{"$f":"SUM(I26:O26)","v":0},null,{"$f":"[2]FinStat_Retail!$J18","v":0},{"$f":"[2]FinStat_Retail!$K18","v":0},{"$f":"[2]FinStat_Retail!$L18","v":0},{"$f":"[2]FinStat_Retail!$M18","v":0},{"$f":"[2]FinStat_Retail!$N18","v":0},{"$f":"[2]FinStat_Retail!$O18","v":0},{"$f":"[2]FinStat_Retail!$P18","v":0},null,{"$f":"SUM(S26:Y26)","v":0},null,0,0,0,0,0,0,0,null,0,null,0,0,0,0,0,0,0,null,0]
[null,null,null,null,"Interest income /(expense) excl. indexation of index-linked loans - Retail",null,"£m",null,{"$f":"[1]FinStat_Retail!$J19","v":0},{"$f":"[1]FinStat_Retail!$K19","v":0},{"$f":"[1]FinStat_Retail!$L19","v":0},{"$f":"[1]FinStat_Retail!$M19","v":0.93473676015332074},{"$f":"[1]FinStat_Retail!$N19","v":1.238681301920973},{"$f":"[1]FinStat_Retail!$O19","v":1.5268587047797859},{"$f":"[1]FinStat_Retail!$P19","v":1.8098892714146955},null,{"$f":"SUM(I27:O27)","v":5.5101660382687756},null,{"$f":"[2]FinStat_Retail!$J19","v":0},{"$f":"[2]FinStat_Retail!$K19","v":0},{"$f":"[2]FinStat_Retail!$L19","v":0},{"$f":"[2]FinStat_Retail!$M19","v":1.1576209283891292},{"$f":"[2]FinStat_Retail!$N19","v":1.4431287050491914},{"$f":"[2]FinStat_Retail!$O19","v":1.7613954060892669},{"$f":"[2]FinStat_Retail!$P19","v":2.0644981826521023},null,{"$f":"SUM(S27:Y27)","v":6.4266432221796901},null,0,0,0,-0.223,-0.20399999999999999,-0.23499999999999999,-0.255,null,-0.91600000000000004,null,0,0,0,-0.19263646201551698,-0.14135953313536667,-0.13341694839647508,-0.12351669870322729,null,-0.14253164028752871]
[null,null,null,null,"[Indexation of index-linked loans - Retail]",null,"£m",null,{"$f":"[1]FinStat_Retail!$J20","v":0},{"$f":"[1]FinStat_Retail!$K20","v":0},{"$f":"[1]FinStat_Retail!$L20","v":0},{"$f":"[1]FinStat_Retail!$M20","v":0},{"$f":"[1]FinStat_Retail!$N20","v":0},{"$f":"[1]FinStat_Retail!$O20","v":0},{"$f":"[1]FinStat_Retail!$P20","v":0},null,{"$f":"SUM(I28:O28)","v":0},null,{"$f":"[2]FinStat_Retail!$J20","v":0},{"$f":"[2]FinStat_Retail!$K20","v":0},{"$f":"[2]FinStat_Retail!$L20","v":0},{"$f":"[2]FinStat_Retail!$M20","v":0},{"$f":"[2]FinStat_Retail!$N20","v":0},{"$f":"[2]FinStat_Retail!$O20","v":0},{"$f":"[2]FinStat_Retail!$P20","v":0},null,{"$f":"SUM(S28:Y28)","v":0},null,0,0,0,0,0,0,0,null,0,null,0,0,0,0,0,0,0,null,0]
[null,null,null,null,"Earnings before tax (EBT) - Retail - nominal",null,"£m",null,{"$f":"[1]FinStat_Retail!$J21","v":0},{"$f":"[1]FinStat_Retail!$K21","v":17.206152838999998},{"$f":"[1]FinStat_Retail!$L21","v":33.487807661228288},{"$f":"[1]FinStat_Retail!$M21","v":12.072168458804063},{"$f":"[1]FinStat_Retail!$N21","v":12.791012148167173},{"$f":"[1]FinStat_Retail!$O21","v":13.504371997232459},{"$f":"[1]FinStat_Retail!$P21","v":14.150288526138938},null,{"$f":"SUM(I29:O29)","v":103.21180163057092},null,{"$f":"[2]FinStat_Retail!$J21","v":0},{"$f":"[2]FinStat_Retail!$K21","v":0},{"$f":"[2]FinStat_Retail!$L21","v":25.065606206243285},{"$f":"[2]FinStat_Retail!$M21","v":11.412143844050773},{"$f":"[2]FinStat_Retail!$N21","v":11.980957554668271},{"$f":"[2]FinStat_Retail!$O21","v":12.587033763363317},{"$f":"[2]FinStat_Retail!$P21","v":13.179679564513702},null,{"$f":"SUM(S29:Y29)","v":74.225420932839342},null,0,17.206,8.4220000000000006,0.66,0.81,0.91700000000000004,0.97099999999999997,null,28.986000000000001,null,0,0,0.33599825716173054,5.7833130130414759E-2,6.7607284000801002E-2,7.2852748092968739E-2,7.3674021833916081E-2,null,0.39051311041034203]
[null,null,null,null,null,null,null,null,null,null,null,null,null,null,null,null,null,null,null,null,null,null,null,null,null,null,null,null,0,0,0,0,0,0,0,null,0,null,0,0,0,0,0,0,0,null,0]
[null,null,null,null,"Current Tax - Retail",null,"£m",null,{"$f":"[1]FinStat_Retail!$J23","v":0},{"$f":"[1]FinStat_Retail!$K23","v":0},{"$f":"[1]FinStat_Retail!$L23","v":-5.6929273024088092},{"$f":"[1]FinStat_Retail!$M23","v":-2.0522686379966908},{"$f":"[1]FinStat_Retail!$N23","v":-2.1744720651883811},{"$f":"[1]FinStat_Retail!$O23","v":-2.2957432395295183},{"$f":"[1]FinStat_Retail!$P23","v":-2.4055490494436196},null,{"$f":"SUM(I31:O31)","v":-14.620960294567018},null,{"$f":"[2]FinStat_Retail!$J23","v":0},{"$f":"[2]FinStat_Retail!$K23","v":0},{"$f":"[2]FinStat_Retail!$L23","v":-4.2611530550613397},{"$f":"[2]FinStat_Retail!$M23","v":-1.9400644534886509},{"$f":"[2]FinStat_Retail!$N23","v":-2.036762784293606},{"$f":"[2]FinStat_Retail!$O23","v":-2.1397957397717642},{"$f":"[2]FinStat_Retail!$P23","v":-2.2405455259673293},null,{"$f":"SUM(S31:Y31)","v":-12.618321558582691},null,0,0,-1.4319999999999999,-0.112,-0.13800000000000001,-0.156,-0.16500000000000001,null,-2.0030000000000001,null,0,0,0.33605927351027437,5.7730040771892935E-2,6.775457655853695E-2,7.2904154868837778E-2,7.3642779442637391E-2,null,0.15873743514149119]
[null,null,null,null,"[Deferred Tax - Retail]",null,"£m",null,{"$f":"[1]FinStat_Retail!$J24","v":0},{"$f":"[1]FinStat_Retail!$K24","v":0},{"$f":"[1]FinStat_Retail!$L24","v":0},{"$f":"[1]FinStat_Retail!$M24","v":0},{"$f":"[1]FinStat_Retail!$N24","v":0},{"$f":"[1]FinStat_Retail!$O24","v":0},{"$f":"[1]FinStat_Retail!$P24","v":0},null,{"$f":"SUM(I32:O32)","v":0},null,{"$f":"[2]FinStat_Retail!$J24","v":0},{"$f":"[2]FinStat_Retail!$K24","v":0},{"$f":"[2]FinStat_Retail!$L24","v":0},{"$f":"[2]FinStat_Retail!$M24","v":0},{"$f":"[2]FinStat_Retail!$N24","v":0},{"$f":"[2]FinStat_Retail!$O24","v":0},{"$f":"[2]FinStat_Retail!$P24","v":0},null,{"$f":"SUM(S32:Y32)","v":0},null,0,0,0,0,0,0,0,null,0,null,0,0,0,0,0,0,0,null,0]
[null,null,null,null,"Earnings after tax (EAT) - Retail - nominal",null,"£m",null,{"$f":"[1]FinStat_Retail!$J25","v":0},{"$f":"[1]FinStat_Retail!$K25","v":17.206152838999998},{"$f":"[1]FinStat_Retail!$L25","v":27.79488035881948},{"$f":"[1]FinStat_Retail!$M25","v":10.019899820807371},{"$f":"[1]FinStat_Retail!$N25","v":10.616540082978792},{"$f":"[1]FinStat_Retail!$O25","v":11.208628757702941},{"$f":"[1]FinStat_Retail!$P25","v":11.744739476695319},null,{"$f":"SUM(I33:O33)","v":88.590841336003891},null,{"$f":"[2]FinStat_Retail!$J25","v":0},{"$f":"[2]FinStat_Retail!$K25","v":0},{"$f":"[2]FinStat_Retail!$L25","v":20.804453151181946},{"$f":"[2]FinStat_Retail!$M25","v":9.4720793905621221},{"$f":"[2]FinStat_Retail!$N25","v":9.9441947703746649},{"$f":"[2]FinStat_Retail!$O25","v":10.447238023591552},{"$f":"[2]FinStat_Retail!$P25","v":10.939134038546372},null,{"$f":"SUM(S33:Y33)","v":61.607099374256656},null,0,17.206,6.99,0.54800000000000004,0.67200000000000004,0.76100000000000001,0.80600000000000005,null,26.984000000000002,null,0,0,0.33598575983732998,5.785424481830477E-2,6.7577115645602065E-2,7.284221899429677E-2,7.3680420877912919E-2,null,0.43800146856574168]
[null,null,null,null,null,null,null,null,null,null,null,null,null,null,null,null,null,null,null,null,null,null,null,null,null,null,null,null,0,0,0,0,0,0,0,null,0,null,0,0,0,0,0,0,0,null,0]
[null,null,null,null,"Dividends - Retail",null,"£m",null,{"$f":"[1]FinStat_Retail!$J27","v":0},{"$f":"[1]FinStat_Retail!$K27","v":0},{"$f":"[1]FinStat_Retail!$L27","v":0},{"$f":"[1]FinStat_Retail!$M27","v":0},{"$f":"[1]FinStat_Retail!$N27","v":0},{"$f":"[1]FinStat_Retail!$O27","v":0},{"$f":"[1]FinStat_Retail!$P27","v":0},null,{"$f":"SUM(I35:O35)","v":0},null,{"$f":"[2]FinStat_Retail!$J27","v":0},{"$f":"[2]FinStat_Retail!$K27","v":0},{"$f":"[2]FinStat_Retail!$L27","v":0},{"$f":"[2]FinStat_Retail!$M27","v":0},{"$f":"[2]FinStat_Retail!$N27","v":0},{"$f":"[2]FinStat_Retail!$O27","v":0},{"$f":"[2]FinStat_Retail!$P27","v":0},null,{"$f":"SUM(S35:Y35)","v":0},null,0,0,0,0,0,0,0,null,0,null,0,0,0,0,0,0,0,null,0]
[null,null,null,null,"Retained earnings - Retail - nominal",null,"£m",null,{"$f":"[1]FinStat_Retail!$J28","v":0},{"$f":"[1]FinStat_Retail!$K28","v":17.206152838999998},{"$f":"[1]FinStat_Retail!$L28","v":27.79488035881948},{"$f":"[1]FinStat_Retail!$M28","v":10.019899820807371},{"$f":"[1]FinStat_Retail!$N28","v":10.616540082978792},{"$f":"[1]FinStat_Retail!$O28","v":11.208628757702941},{"$f":"[1]FinStat_Retail!$P28","v":11.744739476695319},null,{"$f":"SUM(I36:O36)","v":88.590841336003891},null,{"$f":"[2]FinStat_Retail!$J28","v":0},{"$f":"[2]FinStat_Retail!$K28","v":0},{"$f":"[2]FinStat_Retail!$L28","v":20.804453151181946},{"$f":"[2]FinStat_Retail!$M28","v":9.4720793905621221},{"$f":"[2]FinStat_Retail!$N28","v":9.9441947703746649},{"$f":"[2]FinStat_Retail!$O28","v":10.447238023591552},{"$f":"[2]FinStat_Retail!$P28","v":10.939134038546372},null,{"$f":"SUM(S36:Y36)","v":61.607099374256656},null,0,17.206,6.99,0.54800000000000004,0.67200000000000004,0.76100000000000001,0.80600000000000005,null,26.984000000000002,null,0,0,0.33598575983732998,5.785424481830477E-2,6.7577115645602065E-2,7.284221899429677E-2,7.3680420877912919E-2,null,0.43800146856574168]
[null,null,null,null,null,null,null,null,null,null,null,null,null,null,null,null,null,null,null,null,null,null,null,null,null,null,null,null,0,0,0,0,0,0,0,null,0,null,0,0,0,0,0,0,0,null,0]
[null,"Retained earnings balance - Retail",null,null,null,null,null,null,null,null,null,null,null,null,null,null,null,null,null,null,null,null,null,null,null,null,null,null,0,0,0,0,0,0,0,null,0,null,0,0,0,0,0,0,0,null,0]
[null,null,null,null,"Accumulated profit reserve b/f - retail - nominal",null,"£m",null,{"$f":"[1]FinStat_Retail!$J31","v":0},{"$f":"[1]FinStat_Retail!$K31","v":0},{"$f":"[1]FinStat_Retail!$L31","v":0},{"$f":"[1]FinStat_Retail!$M31","v":0},{"$f":"[1]FinStat_Retail!$N31","v":0},{"$f":"[1]FinStat_Retail!$O31","v":0},{"$f":"[1]FinStat_Retail!$P31","v":0},null,{"$f":"SUM(I39:O39)","v":0},null,{"$f":"[2]FinStat_Retail!$J31","v":0},{"$f":"[2]FinStat_Retail!$K31","v":170.71777288899392},{"$f":"[2]FinStat_Retail!$L31","v":0},{"$f":"[2]FinStat_Retail!$M31","v":0},{"$f":"[2]FinStat_Retail!$N31","v":0},{"$f":"[2]FinStat_Retail!$O31","v":0},{"$f":"[2]FinStat_Retail!$P31","v":0},null,{"$f":"SUM(S39:Y39)","v":170.71777288899392},null,0,-170.71799999999999,0,0,0,0,0,null,-170.71799999999999,null,0,-1.0000013303301831,0,0,0,0,0,null,-1.0000013303301831]
[null,null,null,null,"Last pre-forecast period flag",0,"flag",null,{"$f":"[1]FinStat_Retail!$J32","v":0},{"$f":"[1]FinStat_Retail!$K32","v":1},{"$f":"[1]FinStat_Retail!$L32","v":0},{"$f":"[1]FinStat_Retail!$M32","v":0},{"$f":"[1]FinStat_Retail!$N32","v":0},{"$f":"[1]FinStat_Retail!$O32","v":0},{"$f":"[1]FinStat_Retail!$P32","v":0},null,{"$f":"SUM(I40:O40)","v":1},null,{"$f":"[2]FinStat_Retail!$J32","v":0},{"$f":"[2]FinStat_Retail!$K32","v":1},{"$f":"[2]FinStat_Retail!$L32","v":0},{"$f":"[2]FinStat_Retail!$M32","v":0},{"$f":"[2]FinStat_Retail!$N32","v":0},{"$f":"[2]FinStat_Retail!$O32","v":0},{"$f":"[2]FinStat_Retail!$P32","v":0},null,{"$f":"SUM(S40:Y40)","v":1},null,0,0,0,0,0,0,0,null,0,null,0,0,0,0,0,0,0,null,0]
[null,null,null,null,null,null,null,null,null,null,null,null,null,null,null,null,null,null,null,null,null,null,null,null,null,null,null,null,0,0,0,0,0,0,0,null,0,null,0,0,0,0,0,0,0,null,0]
[null,null,null,null,"Retained earnings balance BEG - Retail - nominal",null,"£m",null,{"$f":"[1]FinStat_Retail!$J34","v":0},{"$f":"[1]FinStat_Retail!$K34","v":0},{"$f":"[1]FinStat_Retail!$L34","v":0},{"$f":"[1]FinStat_Retail!$M34","v":27.79488035881948},{"$f":"[1]FinStat_Retail!$N34","v":37.814780179626851},{"$f":"[1]FinStat_Retail!$O34","v":48.431320262605645},{"$f":"[1]FinStat_Retail!$P34","v":59.639949020308585},null,{"$f":"SUM(I42:O42)","v":173.68092982136056},null,{"$f":"[2]FinStat_Retail!$J34","v":0},{"$f":"[2]FinStat_Retail!$K34","v":0},{"$f":"[2]FinStat_Retail!$L34","v":170.71777288899392},{"$f":"[2]FinStat_Retail!$M34","v":191.52222604017587},{"$f":"[2]FinStat_Retail!$N34","v":200.994305430738},{"$f":"[2]FinStat_Retail!$O34","v":210.93850020111267},{"$f":"[2]FinStat_Retail!$P34","v":221.38573822470423},null,{"$f":"SUM(S42:Y42)","v":995.55854278572474},null,0,0,-170.71799999999999,-163.727,-163.18,-162.50700000000001,-161.74600000000001,null,-821.87800000000004,null,0,0,-1.0000013303301831,-0.85487206046599928,-0.81186379708768075,-0.77039990255483382,-0.73060713529716848,null,-0.82554462111314919]
[null,null,null,"plus","Retained earnings - Retail - nominal",0,"£m",null,{"$f":"[1]FinStat_Retail!$J35","v":0},{"$f":"[1]FinStat_Retail!$K35","v":17.206152838999998},{"$f":"[1]FinStat_Retail!$L35","v":27.79488035881948},{"$f":"[1]FinStat_Retail!$M35","v":10.019899820807371},{"$f":"[1]FinStat_Retail!$N35","v":10.616540082978792},{"$f":"[1]FinStat_Retail!$O35","v":11.208628757702941},{"$f":"[1]FinStat_Retail!$P35","v":11.744739476695319},null,{"$f":"SUM(I43:O43)","v":88.590841336003891},null,{"$f":"[2]FinStat_Retail!$J35","v":0},{"$f":"[2]FinStat_Retail!$K35","v":0},{"$f":"[2]FinStat_Retail!$L35","v":20.804453151181946},{"$f":"[2]FinStat_Retail!$M35","v":9.4720793905621221},{"$f":"[2]FinStat_Retail!$N35","v":9.9441947703746649},{"$f":"[2]FinStat_Retail!$O35","v":10.447238023591552},{"$f":"[2]FinStat_Retail!$P35","v":10.939134038546372},null,{"$f":"SUM(S43:Y43)","v":61.607099374256656},null,0,17.206,6.99,0.54800000000000004,0.67200000000000004,0.76100000000000001,0.80600000000000005,null,26.984000000000002,null,0,0,0.33598575983732998,5.785424481830477E-2,6.7577115645602065E-2,7.284221899429677E-2,7.3680420877912919E-2,null,0.43800146856574168]
[null,null,null,null,"Retained earnings balance - Retail - nominal",null,"£m",null,{"$f":"[1]FinStat_Retail!$J36","v":0},{"$f":"[1]FinStat_Retail!$K36","v":0},{"$f":"[1]FinStat_Retail!$L36","v":27.79488035881948},{"$f":"[1]FinStat_Retail!$M36","v":37.814780179626851},{"$f":"[1]FinStat_Retail!$N36","v":48.431320262605645},{"$f":"[1]FinStat_Retail!$O36","v":59.639949020308585},{"$f":"[1]FinStat_Retail!$P36","v":71.384688497003907},null,{"$f":"SUM(I44:O44)","v":245.06561831836447},null,{"$f":"[2]FinStat_Retail!$J36","v":0},{"$f":"[2]FinStat_Retail!$K36","v":170.71777288899392},{"$f":"[2]FinStat_Retail!$L36","v":191.52222604017587},{"$f":"[2]FinStat_Retail!$M36","v":200.994305430738},{"$f":"[2]FinStat_Retail!$N36","v":210.93850020111267},{"$f":"[2]FinStat_Retail!$O36","v":221.38573822470423},{"$f":"[2]FinStat_Retail!$P36","v":232.3248722632506},null,{"$f":"SUM(S44:Y44)","v":1227.8834150489754},null,0,-170.71799999999999,-163.727,-163.18,-162.50700000000001,-161.74600000000001,-160.94,null,-982.81799999999998,null,0,-1.0000013303301831,-0.85487206046599928,-0.81186379708768075,-0.77039990255483382,-0.73060713529716848,-0.69273684918951173,null,-0.8004163815184353]
[]
[]
["CASH FLOW "]
[]
[null,"Cash flow from operating activities"]
[null,null,null,null,"Earnings before interest and tax (EBIT) - Retail - nominal",0,"£m",null,{"$f":"[1]FinStat_Retail!$J43","v":0},{"$f":"[1]FinStat_Retail!$K43","v":17.206152838999998},{"$f":"[1]FinStat_Retail!$L43","v":33.487807661228288},{"$f":"[1]FinStat_Retail!$M43","v":11.137431698650742},{"$f":"[1]FinStat_Retail!$N43","v":11.5523308462462},{"$f":"[1]FinStat_Retail!$O43","v":11.977513292452674},{"$f":"[1]FinStat_Retail!$P43","v":12.340399254724243},null,{"$f":"SUM(I50:O50)","v":97.701635592302154},null,{"$f":"[2]FinStat_Retail!$J43","v":0},{"$f":"[2]FinStat_Retail!$K43","v":0},{"$f":"[2]FinStat_Retail!$L43","v":25.065606206243285},{"$f":"[2]FinStat_Retail!$M43","v":10.254522915661644},{"$f":"[2]FinStat_Retail!$N43","v":10.537828849619078},{"$f":"[2]FinStat_Retail!$O43","v":10.82563835727405},{"$f":"[2]FinStat_Retail!$P43","v":11.1151813818616},null,{"$f":"SUM(S50:Y50)","v":67.79877771065965},null,{"$f":"ROUND(I50 - S50, 3)","v":0},{"$f":"ROUND(J50 - T50, 3)","v":17.206},{"$f":"ROUND(K50 - U50, 3)","v":8.4220000000000006},{"$f":"ROUND(L50 - V50, 3)","v":0.88300000000000001},{"$f":"ROUND(M50 - W50, 3)","v":1.0149999999999999},{"$f":"ROUND(N50 - X50, 3)","v":1.1519999999999999},{"$f":"ROUND(O50 - Y50, 3)","v":1.2250000000000001},null,{"$f":"ROUND(Q50 - AA50, 3)","v":29.902999999999999},null,{"$f":"IF(S50 = 0, 0, AC50 / S50)","v":0},{"$f":"IF(T50 = 0, 0, AD50 / T50)","v":0},{"$f":"IF(U50 = 0, 0, AE50 / U50)","v":0.33599825716173054},{"$f":"IF(V50 = 0, 0, AF50 / V50)","v":8.6108345289413885E-2},{"$f":"IF(W50 = 0, 0, AG50 / W50)","v":9.6319651275859369E-2},{"$f":"IF(X50 = 0, 0, AH50 / X50)","v":0.10641404802017415},{"$f":"IF(Y50 = 0, 0, AI50 / Y50)","v":0.11020962752789859},null,{"$f":"IF(AA50 = 0, 0, AK50 / AA50)","v":0.44105514892340758}]
[null,null,null,null,"Depreciation - Retail POS",null,"£m",null,{"$f":"[1]FinStat_Retail!$J44","v":0},{"$f":"[1]FinStat_Retail!$K44","v":0},{"$f":"[1]FinStat_Retail!$L44","v":1.9867294310400005},{"$f":"[1]FinStat_Retail!$M44","v":2.2625041121280005},{"$f":"[1]FinStat_Retail!$N44","v":2.4719597812776963},{"$f":"[1]FinStat_Retail!$O44","v":2.2633743060172806},{"$f":"[1]FinStat_Retail!$P44","v":1.6529875231705404},null,10.637555153633521,null,{"$f":"[2]FinStat_Retail!$J44","v":0},{"$f":"[2]FinStat_Retail!$K44","v":0},{"$f":"[2]FinStat_Retail!$L44","v":2.3393729684018925},{"$f":"[2]FinStat_Retail!$M44","v":2.4203439592136626},{"$f":"[2]FinStat_Retail!$N44","v":2.1245245444951553},{"$f":"[2]FinStat_Retail!$O44","v":1.6877836600759177},{"$f":"[2]FinStat_Retail!$P44","v":1.2104825777311032},null,9.7825077099177307,null,0,0,-0.35299999999999998,-0.158,0.34699999999999998,0.57599999999999996,0.443,null,0.85499999999999998,null,0,0,-0.1508951350502894,-6.5279977830643585E-2,0.16333066186460868,0.34127596659757392,0.36596974475283039,null,8.7400902238306585E-2]
[null,null,null,null,"[Changes in working capital - inventories - Retail]",null,"£m",null,{"$f":"[1]FinStat_Retail!$J45","v":0},{"$f":"[1]FinStat_Retail!$K45","v":0},{"$f":"[1]FinStat_Retail!$L45","v":0},{"$f":"[1]FinStat_Retail!$M45","v":0},{"$f":"[1]FinStat_Retail!$N45","v":0},{"$f":"[1]FinStat_Retail!$O45","v":0},{"$f":"[1]FinStat_Retail!$P45","v":0},null,0,null,{"$f":"[2]FinStat_Retail!$J45","v":0},{"$f":"[2]FinStat_Retail!$K45","v":0},{"$f":"[2]FinStat_Retail!$L45","v":0},{"$f":"[2]FinStat_Retail!$M45","v":0},{"$f":"[2]FinStat_Retail!$N45","v":0},{"$f":"[2]FinStat_Retail!$O45","v":0},{"$f":"[2]FinStat_Retail!$P45","v":0},null,0,null,0,0,0,0,0,0,0,null,0,null,0,0,0,0,0,0,0,null,0]
[null,null,null,null,"Movement in trade debtor - Retail",null,"£m",null,{"$f":"[1]FinStat_Retail!$J46","v":0},{"$f":"[1]FinStat_Retail!$K46","v":0},{"$f":"[1]FinStat_Retail!$L46","v":-3.2190000000000225},{"$f":"[1]FinStat_Retail!$M46","v":-2.1050000000001035},{"$f":"[1]FinStat_Retail!$N46","v":-3.065000000000083},{"$f":"[1]FinStat_Retail!$O46","v":-3.4849999999999568},{"$f":"[1]FinStat_Retail!$P46","v":-3.5060000000000571},null,-15.380000000000223,null,{"$f":"[2]FinStat_Retail!$J46","v":0},{"$f":"[2]FinStat_Retail!$K46","v":0},{"$f":"[2]FinStat_Retail!$L46","v":7.3467658808118443},{"$f":"[2]FinStat_Retail!$M46","v":-1.9949321587720021},{"$f":"[2]FinStat_Retail!$N46","v":-1.5513067892073593},{"$f":"[2]FinStat_Retail!$O46","v":-1.9286637735511079},{"$f":"[2]FinStat_Retail!$P46","v":-2.7037028535187346},null,-0.83183969423735959,null,0,0,-10.566000000000001,-0.11,-1.514,-1.556,-0.80200000000000005,null,-14.548,null,0,0,-1.4381838446214947,5.5139719672327836E-2,0.97595137888462336,0.80677618428796993,0.29663023026226309,null,17.488946609283627]
[null,null,null,null,"Movement in trade creditor - Retail",null,"£m",null,{"$f":"[1]FinStat_Retail!$J47","v":0},{"$f":"[1]FinStat_Retail!$K47","v":0},{"$f":"[1]FinStat_Retail!$L47","v":0},{"$f":"[1]FinStat_Retail!$M47","v":0},{"$f":"[1]FinStat_Retail!$N47","v":0},{"$f":"[1]FinStat_Retail!$O47","v":0},{"$f":"[1]FinStat_Retail!$P47","v":0},null,0,null,{"$f":"[2]FinStat_Retail!$J47","v":0},{"$f":"[2]FinStat_Retail!$K47","v":0},{"$f":"[2]FinStat_Retail!$L47","v":0},{"$f":"[2]FinStat_Retail!$M47","v":0},{"$f":"[2]FinStat_Retail!$N47","v":0},{"$f":"[2]FinStat_Retail!$O47","v":0},{"$f":"[2]FinStat_Retail!$P47","v":0},null,0,null,0,0,0,0,0,0,0,null,0,null,0,0,0,0,0,0,0,null,0]
[null,null,null,null,"Movement in measured income accrual - Retail",null,"£m",null,{"$f":"[1]FinStat_Retail!$J48","v":0},{"$f":"[1]FinStat_Retail!$K48","v":0},{"$f":"[1]FinStat_Retail!$L48","v":-27.575999999999851},{"$f":"[1]FinStat_Retail!$M48","v":-13.79400000000021},{"$f":"[1]FinStat_Retail!$N48","v":-16.116000000000042},{"$f":"[1]FinStat_Retail!$O48","v":-16.465999999999838},{"$f":"[1]FinStat_Retail!$P48","v":-15.564000000000021},null,-89.515999999999963,null,{"$f":"[2]FinStat_Retail!$J48","v":0},{"$f":"[2]FinStat_Retail!$K48","v":0},{"$f":"[2]FinStat_Retail!$L48","v":-2.3622319581223223},{"$f":"[2]FinStat_Retail!$M48","v":-12.977966552407509},{"$f":"[2]FinStat_Retail!$N48","v":-11.842563164656553},{"$f":"[2]FinStat_Retail!$O48","v":-11.985618100868464},{"$f":"[2]FinStat_Retail!$P48","v":-12.855729849837076},null,-52.024109625891924,null,0,0,-25.213999999999999,-0.81599999999999995,-4.2729999999999997,-4.4800000000000004,-2.7080000000000002,null,-37.491999999999997,null,0,0,10.673803609041832,6.2875797738022834E-2,0.36081715930825869,0.37378130708798279,0.21064537226832902,null,0.72066586568433211]
[null,null,null,null,"Movement in advance receipts - Retail",null,"£m",null,{"$f":"[1]FinStat_Retail!$J49","v":0},{"$f":"[1]FinStat_Retail!$K49","v":0},{"$f":"[1]FinStat_Retail!$L49","v":22.992999999999796},{"$f":"[1]FinStat_Retail!$M49","v":11.521000000000278},{"$f":"[1]FinStat_Retail!$N49","v":13.584999999999976},{"$f":"[1]FinStat_Retail!$O49","v":13.881999999999879},{"$f":"[1]FinStat_Retail!$P49","v":13.07099999999993},null,75.05199999999985,null,{"$f":"[2]FinStat_Retail!$J49","v":0},{"$f":"[2]FinStat_Retail!$K49","v":0},{"$f":"[2]FinStat_Retail!$L49","v":8.1534916560309867E-2},{"$f":"[2]FinStat_Retail!$M49","v":10.834730274135961},{"$f":"[2]FinStat_Retail!$N49","v":9.8128857735966513},{"$f":"[2]FinStat_Retail!$O49","v":9.9338370375086811},{"$f":"[2]FinStat_Retail!$P49","v":10.734189866690738},null,41.397177868492335,null,0,0,22.911000000000001,0.68600000000000005,3.7719999999999998,3.948,2.3370000000000002,null,33.655000000000001,null,0,0,280.99617889537126,6.3314912567558737E-2,0.3843925311093756,0.39742951138547405,0.21771554528320244,null,0.81297812394151259]
[null,null,null,null,"Movement in capex creditor - Retail",null,"£m",null,{"$f":"[1]FinStat_Retail!$J50","v":0},{"$f":"[1]FinStat_Retail!$K50","v":0},{"$f":"[1]FinStat_Retail!$L50","v":0.2943067274185503},{"$f":"[1]FinStat_Retail!$M50","v":-8.0198846521392392E-2},{"$f":"[1]FinStat_Retail!$N50","v":-1.4926404191664938E-2},{"$f":"[1]FinStat_Retail!$O50","v":-2.6476306038863168E-2},{"$f":"[1]FinStat_Retail!$P50","v":6.0427302142897321E-2},null,0.23313247280952712,null,{"$f":"[2]FinStat_Retail!$J50","v":0},{"$f":"[2]FinStat_Retail!$K50","v":0},{"$f":"[2]FinStat_Retail!$L50","v":0.29316076174032046},{"$f":"[2]FinStat_Retail!$M50","v":-7.987779150231239E-2},{"$f":"[2]FinStat_Retail!$N50","v":-1.4722759866797885E-2},{"$f":"[2]FinStat_Retail!$O50","v":-2.6224933200705236E-2},{"$f":"[2]FinStat_Retail!$P50","v":6.0525952923776466E-2},null,0.23286123009428142,null,0,0,1E-3,0,0,0,0,null,0,null,0,0,3.4110976996498334E-3,0,0,0,0,null,0]
[null,null,null,null,"[Pension contributions - Retail]",null,"£m",null,{"$f":"[1]FinStat_Retail!$J51","v":0},{"$f":"[1]FinStat_Retail!$K51","v":0},{"$f":"[1]FinStat_Retail!$L51","v":0},{"$f":"[1]FinStat_Retail!$M51","v":0},{"$f":"[1]FinStat_Retail!$N51","v":0},{"$f":"[1]FinStat_Retail!$O51","v":0},{"$f":"[1]FinStat_Retail!$P51","v":0},null,0,null,{"$f":"[2]FinStat_Retail!$J51","v":0},{"$f":"[2]FinStat_Retail!$K51","v":0},{"$f":"[2]FinStat_Retail!$L51","v":0},{"$f":"[2]FinStat_Retail!$M51","v":0},{"$f":"[2]FinStat_Retail!$N51","v":0},{"$f":"[2]FinStat_Retail!$O51","v":0},{"$f":"[2]FinStat_Retail!$P51","v":0},null,0,null,0,0,0,0,0,0,0,null,0,null,0,0,0,0,0,0,0,null,0]
[null,null,null,null,"[Provisions - Retail]",null,"£m",null,{"$f":"[1]FinStat_Retail!$J52","v":0},{"$f":"[1]FinStat_Retail!$K52","v":0},{"$f":"[1]FinStat_Retail!$L52","v":0},{"$f":"[1]FinStat_Retail!$M52","v":0},{"$f":"[1]FinStat_Retail!$N52","v":0},{"$f":"[1]FinStat_Retail!$O52","v":0},{"$f":"[1]FinStat_Retail!$P52","v":0},null,0,null,{"$f":"[2]FinStat_Retail!$J52","v":0},{"$f":"[2]FinStat_Retail!$K52","v":0},{"$f":"[2]FinStat_Retail!$L52","v":0},{"$f":"[2]FinStat_Retail!$M52","v":0},{"$f":"[2]FinStat_Retail!$N52","v":0},{"$f":"[2]FinStat_Retail!$O52","v":0},{"$f":"[2]FinStat_Retail!$P52","v":0},null,0,null,0,0,0,0,0,0,0,null,0,null,0,0,0,0,0,0,0,null,0]
[null,null,null,null,"[Other - Retail]",null,"£m",null,{"$f":"[1]FinStat_Retail!$J53","v":0},{"$f":"[1]FinStat_Retail!$K53","v":0},{"$f":"[1]FinStat_Retail!$L53","v":0},{"$f":"[1]FinStat_Retail!$M53","v":0},{"$f":"[1]FinStat_Retail!$N53","v":0},{"$f":"[1]FinStat_Retail!$O53","v":0},{"$f":"[1]FinStat_Retail!$P53","v":0},null,0,null,{"$f":"[2]FinStat_Retail!$J53","v":0},{"$f":"[2]FinStat_Retail!$K53","v":0},{"$f":"[2]FinStat_Retail!$L53","v":0},{"$f":"[2]FinStat_Retail!$M53","v":0},{"$f":"[2]FinStat_Retail!$N53","v":0},{"$f":"[2]FinStat_Retail!$O53","v":0},{"$f":"[2]FinStat_Retail!$P53","v":0},null,0,null,0,0,0,0,0,0,0,null,0,null,0,0,0,0,0,0,0,null,0]
[null,null,null,null,"Net cash generated / (used) in operations - Retail - nominal",null,"£m",null,{"$f":"[1]FinStat_Retail!$J54","v":0},{"$f":"[1]FinStat_Retail!$K54","v":17.206152838999998},{"$f":"[1]FinStat_Retail!$L54","v":27.966843819686765},{"$f":"[1]FinStat_Retail!$M54","v":8.9417369642573146},{"$f":"[1]FinStat_Retail!$N54","v":8.4133642233320831},{"$f":"[1]FinStat_Retail!$O54","v":8.1454112924311755},{"$f":"[1]FinStat_Retail!$P54","v":8.0548140800375343},null,78.728323218744862,null,{"$f":"[2]FinStat_Retail!$J54","v":0},{"$f":"[2]FinStat_Retail!$K54","v":0},{"$f":"[2]FinStat_Retail!$L54","v":32.764208775635325},{"$f":"[2]FinStat_Retail!$M54","v":8.4568206463294437},{"$f":"[2]FinStat_Retail!$N54","v":9.0666464539801748},{"$f":"[2]FinStat_Retail!$O54","v":8.5067522472383708},{"$f":"[2]FinStat_Retail!$P54","v":7.5609470758514066},null,66.355375199034725,null,0,17.206,-4.7969999999999997,0.48499999999999999,-0.65300000000000002,-0.36099999999999999,0.49399999999999999,null,12.372999999999999,null,0,0,-0.14640976172655895,5.7350157971070008E-2,-7.2022219385574363E-2,-4.243687714276561E-2,6.5335730437495854E-2,null,0.18646567761672442]
[null,null,null,null,null,null,null,null,null,null,null,null,null,null,null,null,null,null,null,null,null,null,null,null,null,null,null,null,0,0,0,0,0,0,0,null,0,null,0,0,0,0,0,0,0,null,0]
[null,null,null,null,"[Other Income (incl. 3rd party income) - Retail]",null,"£m",null,{"$f":"[1]FinStat_Retail!$J56","v":0},{"$f":"[1]FinStat_Retail!$K56","v":0},{"$f":"[1]FinStat_Retail!$L56","v":0},{"$f":"[1]FinStat_Retail!$M56","v":0},{"$f":"[1]FinStat_Retail!$N56","v":0},{"$f":"[1]FinStat_Retail!$O56","v":0},{"$f":"[1]FinStat_Retail!$P56","v":0},null,{"$f":"SUM(I63:O63)","v":0},null,{"$f":"[2]FinStat_Retail!$J56","v":0},{"$f":"[2]FinStat_Retail!$K56","v":0},{"$f":"[2]FinStat_Retail!$L56","v":0},{"$f":"[2]FinStat_Retail!$M56","v":0},{"$f":"[2]FinStat_Retail!$N56","v":0},{"$f":"[2]FinStat_Retail!$O56","v":0},{"$f":"[2]FinStat_Retail!$P56","v":0},null,{"$f":"SUM(S63:Y63)","v":0},null,0,0,0,0,0,0,0,null,0,null,0,0,0,0,0,0,0,null,0]
[null,null,null,null,"Net interest income / (paid) - Retail",null,"£m",null,{"$f":"[1]FinStat_Retail!$J57","v":0},{"$f":"[1]FinStat_Retail!$K57","v":0},{"$f":"[1]FinStat_Retail!$L57","v":0},{"$f":"[1]FinStat_Retail!$M57","v":0.93473676015332074},{"$f":"[1]FinStat_Retail!$N57","v":1.238681301920973},{"$f":"[1]FinStat_Retail!$O57","v":1.5268587047797859},{"$f":"[1]FinStat_Retail!$P57","v":1.8098892714146955},null,{"$f":"SUM(I64:O64)","v":5.5101660382687756},null,{"$f":"[2]FinStat_Retail!$J57","v":0},{"$f":"[2]FinStat_Retail!$K57","v":0},{"$f":"[2]FinStat_Retail!$L57","v":0},{"$f":"[2]FinStat_Retail!$M57","v":1.1576209283891292},{"$f":"[2]FinStat_Retail!$N57","v":1.4431287050491914},{"$f":"[2]FinStat_Retail!$O57","v":1.7613954060892669},{"$f":"[2]FinStat_Retail!$P57","v":2.0644981826521023},null,{"$f":"SUM(S64:Y64)","v":6.4266432221796901},null,0,0,0,-0.223,-0.20399999999999999,-0.23499999999999999,-0.255,null,-0.91600000000000004,null,0,0,0,-0.19263646201551698,-0.14135953313536667,-0.13341694839647508,-0.12351669870322729,null,-0.14253164028752871]
[null,null,null,null,"Tax paid - Retail",null,"£m",null,{"$f":"[1]FinStat_Retail!$J58","v":0},{"$f":"[1]FinStat_Retail!$K58","v":0},{"$f":"[1]FinStat_Retail!$L58","v":-5.6929273024088092},{"$f":"[1]FinStat_Retail!$M58","v":-2.0522686379966908},{"$f":"[1]FinStat_Retail!$N58","v":-2.1744720651883811},{"$f":"[1]FinStat_Retail!$O58","v":-2.2957432395295183},{"$f":"[1]FinStat_Retail!$P58","v":-2.4055490494436196},null,{"$f":"SUM(I65:O65)","v":-14.620960294567018},null,{"$f":"[2]FinStat_Retail!$J58","v":0},{"$f":"[2]FinStat_Retail!$K58","v":0},{"$f":"[2]FinStat_Retail!$L58","v":-4.2611530550613397},{"$f":"[2]FinStat_Retail!$M58","v":-1.9400644534886509},{"$f":"[2]FinStat_Retail!$N58","v":-2.036762784293606},{"$f":"[2]FinStat_Retail!$O58","v":-2.1397957397717642},{"$f":"[2]FinStat_Retail!$P58","v":-2.2405455259673293},null,{"$f":"SUM(S65:Y65)","v":-12.618321558582691},null,0,0,-1.4319999999999999,-0.112,-0.13800000000000001,-0.156,-0.16500000000000001,null,-2.0030000000000001,null,0,0,0.33605927351027437,5.7730040771892935E-2,6.775457655853695E-2,7.2904154868837778E-2,7.3642779442637391E-2,null,0.15873743514149119]
[null,null,null,null,"Net cash generated / (used) in operating activities - Retail - nominal",null,"£m",null,{"$f":"[1]FinStat_Retail!$J59","v":0},{"$f":"[1]FinStat_Retail!$K59","v":17.206152838999998},{"$f":"[1]FinStat_Retail!$L59","v":22.273916517277957},{"$f":"[1]FinStat_Retail!$M59","v":7.8242050864139445},{"$f":"[1]FinStat_Retail!$N59","v":7.4775734600646748},{"$f":"[1]FinStat_Retail!$O59","v":7.3765267576814431},{"$f":"[1]FinStat_Retail!$P59","v":7.45915430200861},null,{"$f":"SUM(I66:O66)","v":69.617528962446627},null,{"$f":"[2]FinStat_Retail!$J59","v":0},{"$f":"[2]FinStat_Retail!$K59","v":0},{"$f":"[2]FinStat_Retail!$L59","v":28.503055720573986},{"$f":"[2]FinStat_Retail!$M59","v":7.6743771212299219},{"$f":"[2]FinStat_Retail!$N59","v":8.4730123747357595},{"$f":"[2]FinStat_Retail!$O59","v":8.1283519135558731},{"$f":"[2]FinStat_Retail!$P59","v":7.38489973253618},null,{"$f":"SUM(S66:Y66)","v":60.163696862631724},null,0,17.206,-6.2290000000000001,0.15,-0.995,-0.752,7.3999999999999996E-2,null,9.4540000000000006,null,0,0,-0.2185379722463863,1.9545560197328494E-2,-0.11743167081483581,-9.2515679438764112E-2,1.0020447491517443E-2,null,0.15713795017593035]
[null,null,null,null,null,null,null,null,null,null,null,null,null,null,null,null,null,null,null,null,null,null,null,null,null,null,null,null,0,0,0,0,0,0,0,null,0,null,0,0,0,0,0,0,0,null,0]
[null,"Cash flow from investing activities",null,null,null,null,null,null,null,null,null,null,null,null,null,null,null,null,null,null,null,null,null,null,null,null,null,null,0,0,0,0,0,0,0,null,0,null,0,0,0,0,0,0,0,null,0]
[null,null,null,null,"Capital expenditure - Retail",null,"£m",null,{"$f":"[1]FinStat_Retail!$J62","v":0},{"$f":"[1]FinStat_Retail!$K62","v":0},{"$f":"[1]FinStat_Retail!$L62","v":-0.83499999999999996},{"$f":"[1]FinStat_Retail!$M62","v":-0.8530000000000002},{"$f":"[1]FinStat_Retail!$N62","v":-0.8680000000000001},{"$f":"[1]FinStat_Retail!$O62","v":-0.88500000000000012},{"$f":"[1]FinStat_Retail!$P62","v":-0.90300000000000025},null,{"$f":"SUM(I69:O69)","v":-4.3440000000000003},null,{"$f":"[2]FinStat_Retail!$J62","v":0},{"$f":"[2]FinStat_Retail!$K62","v":0},{"$f":"[2]FinStat_Retail!$L62","v":-0.83174869361732162},{"$f":"[2]FinStat_Retail!$M62","v":-0.84971357827041993},{"$f":"[2]FinStat_Retail!$N62","v":-0.865292623857013},{"$f":"[2]FinStat_Retail!$O62","v":-0.88310453999259608},{"$f":"[2]FinStat_Retail!$P62","v":-0.90194938629134291},null,{"$f":"SUM(S69:Y69)","v":-4.3318088220286937},null,0,0,-3.0000000000000001E-3,-3.0000000000000001E-3,-3.0000000000000001E-3,-2E-3,-1E-3,null,-1.2E-2,null,0,0,3.6068586858283265E-3,3.530601459972498E-3,3.4670352170894513E-3,2.2647375360755908E-3,1.1087096628690264E-3,null,2.7702053560110951E-3]
[null,null,null,null,"[Investment in other non-current assets - Retail]",null,"£m",null,{"$f":"[1]FinStat_Retail!$J63","v":0},{"$f":"[1]FinStat_Retail!$K63","v":0},{"$f":"[1]FinStat_Retail!$L63","v":0},{"$f":"[1]FinStat_Retail!$M63","v":0},{"$f":"[1]FinStat_Retail!$N63","v":0},{"$f":"[1]FinStat_Retail!$O63","v":0},{"$f":"[1]FinStat_Retail!$P63","v":0},null,{"$f":"SUM(I70:O70)","v":0},null,{"$f":"[2]FinStat_Retail!$J63","v":0},{"$f":"[2]FinStat_Retail!$K63","v":0},{"$f":"[2]FinStat_Retail!$L63","v":0},{"$f":"[2]FinStat_Retail!$M63","v":0},{"$f":"[2]FinStat_Retail!$N63","v":0},{"$f":"[2]FinStat_Retail!$O63","v":0},{"$f":"[2]FinStat_Retail!$P63","v":0},null,{"$f":"SUM(S70:Y70)","v":0},null,0,0,0,0,0,0,0,null,0,null,0,0,0,0,0,0,0,null,0]
[null,null,null,null,"Net cash generated / (used) in investing activities - Retail - nominal",null,"£m",null,{"$f":"[1]FinStat_Retail!$J64","v":0},{"$f":"[1]FinStat_Retail!$K64","v":0},{"$f":"[1]FinStat_Retail!$L64","v":-0.83499999999999996},{"$f":"[1]FinStat_Retail!$M64","v":-0.8530000000000002},{"$f":"[1]FinStat_Retail!$N64","v":-0.8680000000000001},{"$f":"[1]FinStat_Retail!$O64","v":-0.88500000000000012},{"$f":"[1]FinStat_Retail!$P64","v":-0.90300000000000025},null,{"$f":"SUM(I71:O71)","v":-4.3440000000000003},null,{"$f":"[2]FinStat_Retail!$J64","v":0},{"$f":"[2]FinStat_Retail!$K64","v":0},{"$f":"[2]FinStat_Retail!$L64","v":-0.83174869361732162},{"$f":"[2]FinStat_Retail!$M64","v":-0.84971357827041993},{"$f":"[2]FinStat_Retail!$N64","v":-0.865292623857013},{"$f":"[2]FinStat_Retail!$O64","v":-0.88310453999259608},{"$f":"[2]FinStat_Retail!$P64","v":-0.90194938629134291},null,{"$f":"SUM(S71:Y71)","v":-4.3318088220286937},null,0,0,-3.0000000000000001E-3,-3.0000000000000001E-3,-3.0000000000000001E-3,-2E-3,-1E-3,null,-1.2E-2,null,0,0,3.6068586858283265E-3,3.530601459972498E-3,3.4670352170894513E-3,2.2647375360755908E-3,1.1087096628690264E-3,null,2.7702053560110951E-3]
[null,null,null,null,null,null,null,null,null,null,null,null,null,null,null,null,null,null,null,null,null,null,null,null,null,null,null,null,0,0,0,0,0,0,0,null,0,null,0,0,0,0,0,0,0,null,0]
[null,"Cash flows from financing activities",null,null,null,null,null,null,null,null,null,null,null,null,null,null,null,null,null,null,null,null,null,null,null,null,null,null,0,0,0,0,0,0,0,null,0,null,0,0,0,0,0,0,0,null,0]
[null,null,null,null,"Equity dividends paid - Retail",null,"£m",null,{"$f":"[1]FinStat_Retail!$J67","v":0},{"$f":"[1]FinStat_Retail!$K67","v":0},{"$f":"[1]FinStat_Retail!$L67","v":0},{"$f":"[1]FinStat_Retail!$M67","v":0},{"$f":"[1]FinStat_Retail!$N67","v":0},{"$f":"[1]FinStat_Retail!$O67","v":0},{"$f":"[1]FinStat_Retail!$P67","v":0},null,{"$f":"SUM(I74:O74)","v":0},null,{"$f":"[2]FinStat_Retail!$J67","v":0},{"$f":"[2]FinStat_Retail!$K67","v":0},{"$f":"[2]FinStat_Retail!$L67","v":0},{"$f":"[2]FinStat_Retail!$M67","v":0},{"$f":"[2]FinStat_Retail!$N67","v":0},{"$f":"[2]FinStat_Retail!$O67","v":0},{"$f":"[2]FinStat_Retail!$P67","v":0},null,{"$f":"SUM(S74:Y74)","v":0},null,0,0,0,0,0,0,0,null,0,null,0,0,0,0,0,0,0,null,0]
[null,null,null,null,"[Proceeds from share issues - Retail]",null,"£m",null,{"$f":"[1]FinStat_Retail!$J68","v":0},{"$f":"[1]FinStat_Retail!$K68","v":0},{"$f":"[1]FinStat_Retail!$L68","v":0},{"$f":"[1]FinStat_Retail!$M68","v":0},{"$f":"[1]FinStat_Retail!$N68","v":0},{"$f":"[1]FinStat_Retail!$O68","v":0},{"$f":"[1]FinStat_Retail!$P68","v":0},null,{"$f":"SUM(I75:O75)","v":0},null,{"$f":"[2]FinStat_Retail!$J68","v":0},{"$f":"[2]FinStat_Retail!$K68","v":0},{"$f":"[2]FinStat_Retail!$L68","v":0},{"$f":"[2]FinStat_Retail!$M68","v":0},{"$f":"[2]FinStat_Retail!$N68","v":0},{"$f":"[2]FinStat_Retail!$O68","v":0},{"$f":"[2]FinStat_Retail!$P68","v":0},null,{"$f":"SUM(S75:Y75)","v":0},null,0,0,0,0,0,0,0,null,0,null,0,0,0,0,0,0,0,null,0]
[null,null,null,null,"[Net loans received - Retail]",null,"£m",null,{"$f":"[1]FinStat_Retail!$J69","v":0},{"$f":"[1]FinStat_Retail!$K69","v":0},{"$f":"[1]FinStat_Retail!$L69","v":0},{"$f":"[1]FinStat_Retail!$M69","v":0},{"$f":"[1]FinStat_Retail!$N69","v":0},{"$f":"[1]FinStat_Retail!$O69","v":0},{"$f":"[1]FinStat_Retail!$P69","v":0},null,{"$f":"SUM(I76:O76)","v":0},null,{"$f":"[2]FinStat_Retail!$J69","v":0},{"$f":"[2]FinStat_Retail!$K69","v":0},{"$f":"[2]FinStat_Retail!$L69","v":0},{"$f":"[2]FinStat_Retail!$M69","v":0},{"$f":"[2]FinStat_Retail!$N69","v":0},{"$f":"[2]FinStat_Retail!$O69","v":0},{"$f":"[2]FinStat_Retail!$P69","v":0},null,{"$f":"SUM(S76:Y76)","v":0},null,0,0,0,0,0,0,0,null,0,null,0,0,0,0,0,0,0,null,0]
[null,null,null,null,"Net cash generated / (used) in financing activities - Retail - nominal",null,"£m",null,{"$f":"[1]FinStat_Retail!$J70","v":0},{"$f":"[1]FinStat_Retail!$K70","v":0},{"$f":"[1]FinStat_Retail!$L70","v":0},{"$f":"[1]FinStat_Retail!$M70","v":0},{"$f":"[1]FinStat_Retail!$N70","v":0},{"$f":"[1]FinStat_Retail!$O70","v":0},{"$f":"[1]FinStat_Retail!$P70","v":0},null,{"$f":"SUM(I77:O77)","v":0},null,{"$f":"[2]FinStat_Retail!$J70","v":0},{"$f":"[2]FinStat_Retail!$K70","v":0},{"$f":"[2]FinStat_Retail!$L70","v":0},{"$f":"[2]FinStat_Retail!$M70","v":0},{"$f":"[2]FinStat_Retail!$N70","v":0},{"$f":"[2]FinStat_Retail!$O70","v":0},{"$f":"[2]FinStat_Retail!$P70","v":0},null,{"$f":"SUM(S77:Y77)","v":0},null,0,0,0,0,0,0,0,null,0,null,0,0,0,0,0,0,0,null,0]
[null,null,null,null,null,null,null,null,null,null,null,null,null,null,null,null,null,null,null,null,null,null,null,null,null,null,null,null,0,0,0,0,0,0,0,null,0,null,0,0,0,0,0,0,0,null,0]
[null,null,null,null,"Net increase / (decrease) in cash - Retail - nominal",null,"£m",null,{"$f":"[1]FinStat_Retail!$J72","v":0},{"$f":"[1]FinStat_Retail!$K72","v":17.206152838999998},{"$f":"[1]FinStat_Retail!$L72","v":21.438916517277956},{"$f":"[1]FinStat_Retail!$M72","v":6.9712050864139439},{"$f":"[1]FinStat_Retail!$N72","v":6.6095734600646745},{"$f":"[1]FinStat_Retail!$O72","v":6.4915267576814433},{"$f":"[1]FinStat_Retail!$P72","v":6.5561543020086095},null,{"$f":"SUM(I79:O79)","v":65.273528962446633},null,{"$f":"[2]FinStat_Retail!$J72","v":0},{"$f":"[2]FinStat_Retail!$K72","v":0},{"$f":"[2]FinStat_Retail!$L72","v":27.671307026956665},{"$f":"[2]FinStat_Retail!$M72","v":6.8246635429595024},{"$f":"[2]FinStat_Retail!$N72","v":7.6077197508787462},{"$f":"[2]FinStat_Retail!$O72","v":7.2452473735632772},{"$f":"[2]FinStat_Retail!$P72","v":6.482950346244837},null,{"$f":"SUM(S79:Y79)","v":55.831888040603019},null,0,17.206,-6.2320000000000002,0.14699999999999999,-0.998,-0.754,7.2999999999999995E-2,null,9.4420000000000002,null,0,0,-0.22521523807780197,2.1539523388174785E-2,-0.13118253993053883,-0.10406822032760712,1.1260305277871561E-2,null,0.16911482544049786]
[null,null,null,null,null,null,null,null,null,null,null,null,null,null,null,null,null,null,null,null,null,null,null,null,null,null,null,null,0,0,0,0,0,0,0,null,0,null,0,0,0,0,0,0,0,null,0]
[null,"Retained cash balance - Retail",null,null,null,null,null,null,null,null,null,null,null,null,null,null,null,null,null,null,null,null,null,null,null,null,null,null,0,0,0,0,0,0,0,null,0,null,0,0,0,0,0,0,0,null,0]
[null,null,null,null,"Retail cash / (overdraft) b/f - nominal",null,"£m",null,{"$f":"[1]FinStat_Retail!$J75","v":0},{"$f":"[1]FinStat_Retail!$K75","v":0},{"$f":"[1]FinStat_Retail!$L75","v":0},{"$f":"[1]FinStat_Retail!$M75","v":0},{"$f":"[1]FinStat_Retail!$N75","v":0},{"$f":"[1]FinStat_Retail!$O75","v":0},{"$f":"[1]FinStat_Retail!$P75","v":0},null,{"$f":"SUM(I82:O82)","v":0},null,{"$f":"[2]FinStat_Retail!$J75","v":0},{"$f":"[2]FinStat_Retail!$K75","v":0},{"$f":"[2]FinStat_Retail!$L75","v":0},{"$f":"[2]FinStat_Retail!$M75","v":0},{"$f":"[2]FinStat_Retail!$N75","v":0},{"$f":"[2]FinStat_Retail!$O75","v":0},{"$f":"[2]FinStat_Retail!$P75","v":0},null,{"$f":"SUM(S82:Y82)","v":0},null,0,0,0,0,0,0,0,null,0,null,0,0,0,0,0,0,0,null,0]
[null,null,null,null,"Last pre-forecast period flag",0,"flag",null,{"$f":"[1]FinStat_Retail!$J76","v":0},{"$f":"[1]FinStat_Retail!$K76","v":1},{"$f":"[1]FinStat_Retail!$L76","v":0},{"$f":"[1]FinStat_Retail!$M76","v":0},{"$f":"[1]FinStat_Retail!$N76","v":0},{"$f":"[1]FinStat_Retail!$O76","v":0},{"$f":"[1]FinStat_Retail!$P76","v":0},null,{"$f":"SUM(I83:O83)","v":1},null,{"$f":"[2]FinStat_Retail!$J76","v":0},{"$f":"[2]FinStat_Retail!$K76","v":1},{"$f":"[2]FinStat_Retail!$L76","v":0},{"$f":"[2]FinStat_Retail!$M76","v":0},{"$f":"[2]FinStat_Retail!$N76","v":0},{"$f":"[2]FinStat_Retail!$O76","v":0},{"$f":"[2]FinStat_Retail!$P76","v":0},null,{"$f":"SUM(S83:Y83)","v":1},null,0,0,0,0,0,0,0,null,0,null,0,0,0,0,0,0,0,null,0]
[null,null,null,null,null,null,null,null,null,null,null,null,null,null,null,null,null,null,null,null,null,null,null,null,null,null,null,null,0,0,0,0,0,0,0,null,0,null,0,0,0,0,0,0,0,null,0]
[null,null,null,null,"Retained cash balance BEG - Retail - nominal",null,"£m",null,{"$f":"[1]FinStat_Retail!$J78","v":0},{"$f":"[1]FinStat_Retail!$K78","v":0},{"$f":"[1]FinStat_Retail!$L78","v":0},{"$f":"[1]FinStat_Retail!$M78","v":21.438916517277956},{"$f":"[1]FinStat_Retail!$N78","v":28.410121603691898},{"$f":"[1]FinStat_Retail!$O78","v":35.019695063756572},{"$f":"[1]FinStat_Retail!$P78","v":41.511221821438014},null,{"$f":"SUM(I85:O85)","v":126.37995500616444},null,{"$f":"[2]FinStat_Retail!$J78","v":0},{"$f":"[2]FinStat_Retail!$K78","v":0},{"$f":"[2]FinStat_Retail!$L78","v":0},{"$f":"[2]FinStat_Retail!$M78","v":27.671307026956665},{"$f":"[2]FinStat_Retail!$N78","v":34.495970569916167},{"$f":"[2]FinStat_Retail!$O78","v":42.103690320794911},{"$f":"[2]FinStat_Retail!$P78","v":49.348937694358185},null,{"$f":"SUM(S85:Y85)","v":153.61990561202595},null,0,0,0,-6.2320000000000002,-6.0860000000000003,-7.0839999999999996,-7.8380000000000001,null,-27.24,null,0,0,0,-0.22521523807780197,-0.17642640283638178,-0.16825128500674985,-0.15882814030454964,null,-0.17732077032253787]
[null,null,null,"plus","Net increase / (decrease) in cash - Retail - nominal",0,"£m",null,{"$f":"[1]FinStat_Retail!$J79","v":0},{"$f":"[1]FinStat_Retail!$K79","v":17.206152838999998},{"$f":"[1]FinStat_Retail!$L79","v":21.438916517277956},{"$f":"[1]FinStat_Retail!$M79","v":6.9712050864139439},{"$f":"[1]FinStat_Retail!$N79","v":6.6095734600646745},{"$f":"[1]FinStat_Retail!$O79","v":6.4915267576814433},{"$f":"[1]FinStat_Retail!$P79","v":6.5561543020086095},null,{"$f":"SUM(I86:O86)","v":65.273528962446633},null,{"$f":"[2]FinStat_Retail!$J79","v":0},{"$f":"[2]FinStat_Retail!$K79","v":0},{"$f":"[2]FinStat_Retail!$L79","v":27.671307026956665},{"$f":"[2]FinStat_Retail!$M79","v":6.8246635429595024},{"$f":"[2]FinStat_Retail!$N79","v":7.6077197508787462},{"$f":"[2]FinStat_Retail!$O79","v":7.2452473735632772},{"$f":"[2]FinStat_Retail!$P79","v":6.482950346244837},null,{"$f":"SUM(S86:Y86)","v":55.831888040603019},null,0,17.206,-6.2320000000000002,0.14699999999999999,-0.998,-0.754,7.2999999999999995E-2,null,9.4420000000000002,null,0,0,-0.22521523807780197,2.1539523388174785E-2,-0.13118253993053883,-0.10406822032760712,1.1260305277871561E-2,null,0.16911482544049786]
[null,null,null,null,"Retained cash balance - Retail - nominal",null,"£m",null,{"$f":"[1]FinStat_Retail!$J80","v":0},{"$f":"[1]FinStat_Retail!$K80","v":0},{"$f":"[1]FinStat_Retail!$L80","v":21.438916517277956},{"$f":"[1]FinStat_Retail!$M80","v":28.410121603691898},{"$f":"[1]FinStat_Retail!$N80","v":35.019695063756572},{"$f":"[1]FinStat_Retail!$O80","v":41.511221821438014},{"$f":"[1]FinStat_Retail!$P80","v":48.067376123446621},null,{"$f":"SUM(I87:O87)","v":174.44733112961106},null,{"$f":"[2]FinStat_Retail!$J80","v":0},{"$f":"[2]FinStat_Retail!$K80","v":0},{"$f":"[2]FinStat_Retail!$L80","v":27.671307026956665},{"$f":"[2]FinStat_Retail!$M80","v":34.495970569916167},{"$f":"[2]FinStat_Retail!$N80","v":42.103690320794911},{"$f":"[2]FinStat_Retail!$O80","v":49.348937694358185},{"$f":"[2]FinStat_Retail!$P80","v":55.831888040603019},null,{"$f":"SUM(S87:Y87)","v":209.45179365262896},null,0,0,-6.2320000000000002,-6.0860000000000003,-7.0839999999999996,-7.8380000000000001,-7.7649999999999997,null,-35.003999999999998,null,0,0,-0.22521523807780197,-0.17642640283638178,-0.16825128500674985,-0.15882814030454964,-0.13907822702239631,null,-0.16712198730583963]
[]
[]
["BALANCE SHEET"]
[]
[null,"Non-current assets"]
[null,null,null,null,"Fixed assets balance - Retail",null,"£m",null,{"$f":"[1]FinStat_Retail!$J87","v":0},{"$f":"[1]FinStat_Retail!$K87","v":11.135772888993898},{"$f":"[1]FinStat_Retail!$L87","v":9.9840434579538986},{"$f":"[1]FinStat_Retail!$M87","v":8.5745393458258974},{"$f":"[1]FinStat_Retail!$N87","v":6.9705795645482009},{"$f":"[1]FinStat_Retail!$O87","v":5.5922052585309201},{"$f":"[1]FinStat_Retail!$P87","v":4.8422177353603804},null,{"$f":"SUM(I93:O93)","v":47.099358251213189},null,{"$f":"[2]FinStat_Retail!$J87","v":0},{"$f":"[2]FinStat_Retail!$K87","v":11.1357728889939},{"$f":"[2]FinStat_Retail!$L87","v":9.6281486142093282},{"$f":"[2]FinStat_Retail!$M87","v":8.0575182332660855},{"$f":"[2]FinStat_Retail!$N87","v":6.7982863126279423},{"$f":"[2]FinStat_Retail!$O87","v":5.9936071925446202},{"$f":"[2]FinStat_Retail!$P87","v":5.6850740011048604},null,{"$f":"SUM(S93:Y93)","v":47.298407242746741},null,{"$f":"ROUND(I93 - S93, 3)","v":0},{"$f":"ROUND(J93 - T93, 3)","v":0},{"$f":"ROUND(K93 - U93, 3)","v":0.35599999999999998},{"$f":"ROUND(L93 - V93, 3)","v":0.51700000000000002},{"$f":"ROUND(M93 - W93, 3)","v":0.17199999999999999},{"$f":"ROUND(N93 - X93, 3)","v":-0.40100000000000002},{"$f":"ROUND(O93 - Y93, 3)","v":-0.84299999999999997},null,{"$f":"ROUND(Q93 - AA93, 3)","v":-0.19900000000000001},null,{"$f":"IF(S93 = 0, 0, AC93 / S93)","v":0},{"$f":"IF(T93 = 0, 0, AD93 / T93)","v":0},{"$f":"IF(U93 = 0, 0, AE93 / U93)","v":3.697491742852943E-2},{"$f":"IF(V93 = 0, 0, AF93 / V93)","v":6.4163677330015295E-2},{"$f":"IF(W93 = 0, 0, AG93 / W93)","v":2.5300493696552146E-2},{"$f":"IF(X93 = 0, 0, AH93 / X93)","v":-6.6904618056852203E-2},{"$f":"IF(Y93 = 0, 0, AI93 / Y93)","v":-0.14828303023604758},null,{"$f":"IF(AA93 = 0, 0, AK93 / AA93)","v":-4.2073298362603293E-3}]
[null,null,null,null,"[Intangible assets and Investments - Retail]",null,"£m",null,{"$f":"[1]FinStat_Retail!$J88","v":0},{"$f":"[1]FinStat_Retail!$K88","v":0},{"$f":"[1]FinStat_Retail!$L88","v":0},{"$f":"[1]FinStat_Retail!$M88","v":0},{"$f":"[1]FinStat_Retail!$N88","v":0},{"$f":"[1]FinStat_Retail!$O88","v":0},{"$f":"[1]FinStat_Retail!$P88","v":0},null,{"$f":"SUM(I94:O94)","v":0},null,{"$f":"[2]FinStat_Retail!$J88","v":0},{"$f":"[2]FinStat_Retail!$K88","v":0},{"$f":"[2]FinStat_Retail!$L88","v":0},{"$f":"[2]FinStat_Retail!$M88","v":0},{"$f":"[2]FinStat_Retail!$N88","v":0},{"$f":"[2]FinStat_Retail!$O88","v":0},{"$f":"[2]FinStat_Retail!$P88","v":0},null,{"$f":"SUM(S94:Y94)","v":0},null,0,0,0,0,0,0,0,null,0,null,0,0,0,0,0,0,0,null,0]
[null,null,null,null,"[Retirement benefit assets - Retail]",null,null,null,{"$f":"[1]FinStat_Retail!$J89","v":0},{"$f":"[1]FinStat_Retail!$K89","v":0},{"$f":"[1]FinStat_Retail!$L89","v":0},{"$f":"[1]FinStat_Retail!$M89","v":0},{"$f":"[1]FinStat_Retail!$N89","v":0},{"$f":"[1]FinStat_Retail!$O89","v":0},{"$f":"[1]FinStat_Retail!$P89","v":0},null,null,null,{"$f":"[2]FinStat_Retail!$J89","v":0},{"$f":"[2]FinStat_Retail!$K89","v":0},{"$f":"[2]FinStat_Retail!$L89","v":0},{"$f":"[2]FinStat_Retail!$M89","v":0},{"$f":"[2]FinStat_Retail!$N89","v":0},{"$f":"[2]FinStat_Retail!$O89","v":0},{"$f":"[2]FinStat_Retail!$P89","v":0},null,{"$f":"SUM(S95:Y95)","v":0},null,0,0,0,0,0,0,0,null,0,null,{"$f":"IF(S95 = 0, 0, AC95 / S95)","v":0},{"$f":"IF(T95 = 0, 0, AD95 / T95)","v":0},{"$f":"IF(U95 = 0, 0, AE95 / U95)","v":0},{"$f":"IF(V95 = 0, 0, AF95 / V95)","v":0},{"$f":"IF(W95 = 0, 0, AG95 / W95)","v":0},{"$f":"IF(X95 = 0, 0, AH95 / X95)","v":0},{"$f":"IF(Y95 = 0, 0, AI95 / Y95)","v":0},null,{"$f":"IF(AA95 = 0, 0, AK95 / AA95)","v":0}]
[null,null,null,null,"Total non-current assets - Retail - nominal",null,"£m",null,{"$f":"[1]FinStat_Retail!$J90","v":0},{"$f":"[1]FinStat_Retail!$K90","v":11.135772888993898},{"$f":"[1]FinStat_Retail!$L90","v":9.9840434579538986},{"$f":"[1]FinStat_Retail!$M90","v":8.5745393458258974},{"$f":"[1]FinStat_Retail!$N90","v":6.9705795645482009},{"$f":"[1]FinStat_Retail!$O90","v":5.5922052585309201},{"$f":"[1]FinStat_Retail!$P90","v":4.8422177353603804},null,{"$f":"SUM(I96:O96)","v":47.099358251213189},null,{"$f":"[2]FinStat_Retail!$J90","v":0},{"$f":"[2]FinStat_Retail!$K90","v":11.1357728889939},{"$f":"[2]FinStat_Retail!$L90","v":9.6281486142093282},{"$f":"[2]FinStat_Retail!$M90","v":8.0575182332660855},{"$f":"[2]FinStat_Retail!$N90","v":6.7982863126279423},{"$f":"[2]FinStat_Retail!$O90","v":5.9936071925446202},{"$f":"[2]FinStat_Retail!$P90","v":5.6850740011048604},null,{"$f":"SUM(S96:Y96)","v":47.298407242746741},null,0,0,0.35599999999999998,0.51700000000000002,0.17199999999999999,-0.40100000000000002,-0.84299999999999997,null,-0.19900000000000001,null,0,0,3.697491742852943E-2,6.4163677330015295E-2,2.5300493696552146E-2,-6.6904618056852203E-2,-0.14828303023604758,null,-4.2073298362603293E-3]
[null,null,null,null,null,null,null,null,{"$f":"[1]FinStat_Retail!$J91","v":0},{"$f":"[1]FinStat_Retail!$K91","v":0},{"$f":"[1]FinStat_Retail!$L91","v":0},{"$f":"[1]FinStat_Retail!$M91","v":0},{"$f":"[1]FinStat_Retail!$N91","v":0},{"$f":"[1]FinStat_Retail!$O91","v":0},{"$f":"[1]FinStat_Retail!$P91","v":0},null,null,null,{"$f":"[2]FinStat_Retail!$J91","v":0},{"$f":"[2]FinStat_Retail!$K91","v":0},{"$f":"[2]FinStat_Retail!$L91","v":0},{"$f":"[2]FinStat_Retail!$M91","v":0},{"$f":"[2]FinStat_Retail!$N91","v":0},{"$f":"[2]FinStat_Retail!$O91","v":0},{"$f":"[2]FinStat_Retail!$P91","v":0},null,null,null,0,0,0,0,0,0,0,null,0,null,0,0,0,0,0,0,0,null,0]
[null,"Current assets",null,null,null,null,null,null,{"$f":"[1]FinStat_Retail!$J92","v":0},{"$f":"[1]FinStat_Retail!$K92","v":0},{"$f":"[1]FinStat_Retail!$L92","v":0},{"$f":"[1]FinStat_Retail!$M92","v":0},{"$f":"[1]FinStat_Retail!$N92","v":0},{"$f":"[1]FinStat_Retail!$O92","v":0},{"$f":"[1]FinStat_Retail!$P92","v":0},null,null,null,{"$f":"[2]FinStat_Retail!$J92","v":0},{"$f":"[2]FinStat_Retail!$K92","v":0},{"$f":"[2]FinStat_Retail!$L92","v":0},{"$f":"[2]FinStat_Retail!$M92","v":0},{"$f":"[2]FinStat_Retail!$N92","v":0},{"$f":"[2]FinStat_Retail!$O92","v":0},{"$f":"[2]FinStat_Retail!$P92","v":0},null,null,null,0,0,0,0,0,0,0,null,0,null,0,0,0,0,0,0,0,null,0]
[null,null,null,null,"[Inventories - Retail]",null,"£m",null,{"$f":"[1]FinStat_Retail!$J93","v":0},{"$f":"[1]FinStat_Retail!$K93","v":0},{"$f":"[1]FinStat_Retail!$L93","v":0},{"$f":"[1]FinStat_Retail!$M93","v":0},{"$f":"[1]FinStat_Retail!$N93","v":0},{"$f":"[1]FinStat_Retail!$O93","v":0},{"$f":"[1]FinStat_Retail!$P93","v":0},null,{"$f":"SUM(I99:O99)","v":0},null,{"$f":"[2]FinStat_Retail!$J93","v":0},{"$f":"[2]FinStat_Retail!$K93","v":0},{"$f":"[2]FinStat_Retail!$L93","v":0},{"$f":"[2]FinStat_Retail!$M93","v":0},{"$f":"[2]FinStat_Retail!$N93","v":0},{"$f":"[2]FinStat_Retail!$O93","v":0},{"$f":"[2]FinStat_Retail!$P93","v":0},null,{"$f":"SUM(S99:Y99)","v":0},null,0,0,0,0,0,0,0,null,0,null,0,0,0,0,0,0,0,null,0]
[null,null,null,null,"Debtor balance - Retail",null,"£m",null,{"$f":"[1]FinStat_Retail!$J94","v":0},{"$f":"[1]FinStat_Retail!$K94","v":135.15},{"$f":"[1]FinStat_Retail!$L94","v":138.36899999999991},{"$f":"[1]FinStat_Retail!$M94","v":140.47399999999993},{"$f":"[1]FinStat_Retail!$N94","v":143.53899999999999},{"$f":"[1]FinStat_Retail!$O94","v":147.02399999999989},{"$f":"[1]FinStat_Retail!$P94","v":150.52999999999997},null,{"$f":"SUM(I100:O100)","v":855.08599999999967},null,{"$f":"[2]FinStat_Retail!$J94","v":0},{"$f":"[2]FinStat_Retail!$K94","v":135.15},{"$f":"[2]FinStat_Retail!$L94","v":127.80323411918812},{"$f":"[2]FinStat_Retail!$M94","v":129.79816627796015},{"$f":"[2]FinStat_Retail!$N94","v":131.34947306716754},{"$f":"[2]FinStat_Retail!$O94","v":133.27813684071862},{"$f":"[2]FinStat_Retail!$P94","v":135.98183969423735},null,{"$f":"SUM(S100:Y100)","v":793.36084999927175},null,0,0,10.566000000000001,10.676,12.19,13.746,14.548,null,61.725000000000001,null,0,0,8.2673964182676682E-2,8.2250776772435766E-2,9.2805853844320024E-2,0.1031376962931881,0.10698487410313008,null,7.7801923298908254E-2]
[null,null,null,null,"Measured income accrual balance - Retail",null,"£m",null,{"$f":"[1]FinStat_Retail!$J95","v":0},{"$f":"[1]FinStat_Retail!$K95","v":288.87},{"$f":"[1]FinStat_Retail!$L95","v":316.44599999999986},{"$f":"[1]FinStat_Retail!$M95","v":330.24000000000007},{"$f":"[1]FinStat_Retail!$N95","v":346.35600000000011},{"$f":"[1]FinStat_Retail!$O95","v":362.82199999999995},{"$f":"[1]FinStat_Retail!$P95","v":378.38599999999997},null,{"$f":"SUM(I101:O101)","v":2023.1199999999997},null,{"$f":"[2]FinStat_Retail!$J95","v":0},{"$f":"[2]FinStat_Retail!$K95","v":288.87},{"$f":"[2]FinStat_Retail!$L95","v":291.23223195812233},{"$f":"[2]FinStat_Retail!$M95","v":304.21019851052984},{"$f":"[2]FinStat_Retail!$N95","v":316.05276167518639},{"$f":"[2]FinStat_Retail!$O95","v":328.03837977605485},{"$f":"[2]FinStat_Retail!$P95","v":340.89410962589193},null,{"$f":"SUM(S101:Y101)","v":1869.2976815457855},null,0,0,25.213999999999999,26.03,30.303000000000001,34.783999999999999,37.491999999999997,null,153.822,null,0,0,8.6576955546684264E-2,8.5565836147005456E-2,9.5879560866305572E-2,0.10603637301143339,0.10998136647519346,null,8.2288659274856318E-2]
[null,null,null,null,"Retained cash balance - Retail",null,"£m",null,{"$f":"[1]FinStat_Retail!$J96","v":0},{"$f":"[1]FinStat_Retail!$K96","v":0},{"$f":"[1]FinStat_Retail!$L96","v":21.438916517277999},{"$f":"[1]FinStat_Retail!$M96","v":28.410121603692044},{"$f":"[1]FinStat_Retail!$N96","v":35.019695063756558},{"$f":"[1]FinStat_Retail!$O96","v":41.511221821437971},{"$f":"[1]FinStat_Retail!$P96","v":48.067376123446529},null,{"$f":"SUM(I102:O102)","v":174.44733112961111},null,{"$f":"[2]FinStat_Retail!$J96","v":0},{"$f":"[2]FinStat_Retail!$K96","v":0},{"$f":"[2]FinStat_Retail!$L96","v":27.671307026956512},{"$f":"[2]FinStat_Retail!$M96","v":34.495970569916089},{"$f":"[2]FinStat_Retail!$N96","v":42.103690320794783},{"$f":"[2]FinStat_Retail!$O96","v":49.348937694358057},{"$f":"[2]FinStat_Retail!$P96","v":55.831888040602934},null,{"$f":"SUM(S102:Y102)","v":209.45179365262837},null,0,0,-6.2320000000000002,-6.0860000000000003,-7.0839999999999996,-7.8380000000000001,-7.7649999999999997,null,-35.003999999999998,null,0,0,-0.22521523807780322,-0.1764264028363822,-0.16825128500675035,-0.15882814030455006,-0.13907822702239653,null,-0.1671219873058401]
[null,null,null,null,"Total current assets - Retail - nominal",null,"£m",null,{"$f":"[1]FinStat_Retail!$J97","v":0},{"$f":"[1]FinStat_Retail!$K97","v":424.02},{"$f":"[1]FinStat_Retail!$L97","v":476.25391651727779},{"$f":"[1]FinStat_Retail!$M97","v":499.12412160369206},{"$f":"[1]FinStat_Retail!$N97","v":524.91469506375665},{"$f":"[1]FinStat_Retail!$O97","v":551.35722182143786},{"$f":"[1]FinStat_Retail!$P97","v":576.98337612344642},null,{"$f":"SUM(I103:O103)","v":3052.6533311296107},null,{"$f":"[2]FinStat_Retail!$J97","v":0},{"$f":"[2]FinStat_Retail!$K97","v":424.02},{"$f":"[2]FinStat_Retail!$L97","v":446.70677310426697},{"$f":"[2]FinStat_Retail!$M97","v":468.50433535840608},{"$f":"[2]FinStat_Retail!$N97","v":489.50592506314871},{"$f":"[2]FinStat_Retail!$O97","v":510.6654543111315},{"$f":"[2]FinStat_Retail!$P97","v":532.70783736073224},null,{"$f":"SUM(S103:Y103)","v":2872.1103251976856},null,0,0,29.547000000000001,30.62,35.408999999999999,40.692,44.276000000000003,null,180.54300000000001,null,0,0,6.6144060889587991E-2,6.5356919219489579E-2,7.23362030713562E-2,7.968426228261706E-2,8.3114977657101283E-2,null,6.2860746823008393E-2]
[null,null,null,null,null,null,null,null,{"$f":"[1]FinStat_Retail!$J98","v":0},{"$f":"[1]FinStat_Retail!$K98","v":0},{"$f":"[1]FinStat_Retail!$L98","v":0},{"$f":"[1]FinStat_Retail!$M98","v":0},{"$f":"[1]FinStat_Retail!$N98","v":0},{"$f":"[1]FinStat_Retail!$O98","v":0},{"$f":"[1]FinStat_Retail!$P98","v":0},null,null,null,{"$f":"[2]FinStat_Retail!$J98","v":0},{"$f":"[2]FinStat_Retail!$K98","v":0},{"$f":"[2]FinStat_Retail!$L98","v":0},{"$f":"[2]FinStat_Retail!$M98","v":0},{"$f":"[2]FinStat_Retail!$N98","v":0},{"$f":"[2]FinStat_Retail!$O98","v":0},{"$f":"[2]FinStat_Retail!$P98","v":0},null,null,null,0,0,0,0,0,0,0,null,0,null,0,0,0,0,0,0,0,null,0]
[null,"Liabilities",null,null,null,null,null,null,{"$f":"[1]FinStat_Retail!$J99","v":0},{"$f":"[1]FinStat_Retail!$K99","v":0},{"$f":"[1]FinStat_Retail!$L99","v":0},{"$f":"[1]FinStat_Retail!$M99","v":0},{"$f":"[1]FinStat_Retail!$N99","v":0},{"$f":"[1]FinStat_Retail!$O99","v":0},{"$f":"[1]FinStat_Retail!$P99","v":0},null,null,null,{"$f":"[2]FinStat_Retail!$J99","v":0},{"$f":"[2]FinStat_Retail!$K99","v":0},{"$f":"[2]FinStat_Retail!$L99","v":0},{"$f":"[2]FinStat_Retail!$M99","v":0},{"$f":"[2]FinStat_Retail!$N99","v":0},{"$f":"[2]FinStat_Retail!$O99","v":0},{"$f":"[2]FinStat_Retail!$P99","v":0},null,null,null,0,0,0,0,0,0,0,null,0,null,0,0,0,0,0,0,0,null,0]
[null,null,null,null,"Creditor balance - Retail",null,"£m",null,{"$f":"[1]FinStat_Retail!$J100","v":0},{"$f":"[1]FinStat_Retail!$K100","v":0},{"$f":"[1]FinStat_Retail!$L100","v":0},{"$f":"[1]FinStat_Retail!$M100","v":0},{"$f":"[1]FinStat_Retail!$N100","v":0},{"$f":"[1]FinStat_Retail!$O100","v":0},{"$f":"[1]FinStat_Retail!$P100","v":0},null,{"$f":"SUM(I106:O106)","v":0},null,{"$f":"[2]FinStat_Retail!$J100","v":0},{"$f":"[2]FinStat_Retail!$K100","v":0},{"$f":"[2]FinStat_Retail!$L100","v":0},{"$f":"[2]FinStat_Retail!$M100","v":0},{"$f":"[2]FinStat_Retail!$N100","v":0},{"$f":"[2]FinStat_Retail!$O100","v":0},{"$f":"[2]FinStat_Retail!$P100","v":0},null,{"$f":"SUM(S106:Y106)","v":0},null,0,0,0,0,0,0,0,null,0,null,0,0,0,0,0,0,0,null,0]
[null,null,null,null,"Advance receipts unmeasured balance - Retail",null,"£m",null,{"$f":"[1]FinStat_Retail!$J101","v":0},{"$f":"[1]FinStat_Retail!$K101","v":17.145},{"$f":"[1]FinStat_Retail!$L101","v":16.530999999999995},{"$f":"[1]FinStat_Retail!$M101","v":16.243999999999996},{"$f":"[1]FinStat_Retail!$N101","v":16.032000000000004},{"$f":"[1]FinStat_Retail!$O101","v":15.817999999999993},{"$f":"[1]FinStat_Retail!$P101","v":15.566000000000001},null,97.335999999999999,null,{"$f":"[2]FinStat_Retail!$J101","v":0},{"$f":"[2]FinStat_Retail!$K101","v":17.145},{"$f":"[2]FinStat_Retail!$L101","v":15.204291123131879},{"$f":"[2]FinStat_Retail!$M101","v":14.929553464330718},{"$f":"[2]FinStat_Retail!$N101","v":14.603845866355284},{"$f":"[2]FinStat_Retail!$O101","v":14.277198934924838},{"$f":"[2]FinStat_Retail!$P101","v":14.006770986477997},null,90.166660375220715,null,0,0,1.327,1.3140000000000001,1.4279999999999999,1.5409999999999999,1.5589999999999999,null,7.1689999999999996,null,0,0,8.7277992065088517E-2,8.8013349035480068E-2,9.7782461761655753E-2,0.10793433691187217,0.11130331191286297,null,7.9508323477511855E-2]
[null,null,null,null,"Advance receipts measured balance - Retail",null,"£m",null,{"$f":"[1]FinStat_Retail!$J102","v":0},{"$f":"[1]FinStat_Retail!$K102","v":247.29300000000001},{"$f":"[1]FinStat_Retail!$L102","v":270.89999999999981},{"$f":"[1]FinStat_Retail!$M102","v":282.70800000000008},{"$f":"[1]FinStat_Retail!$N102","v":296.50500000000005},{"$f":"[1]FinStat_Retail!$O102","v":310.60099999999994},{"$f":"[1]FinStat_Retail!$P102","v":323.92399999999986},null,1731.9309999999996,null,{"$f":"[2]FinStat_Retail!$J102","v":0},{"$f":"[2]FinStat_Retail!$K102","v":247.29300000000001},{"$f":"[2]FinStat_Retail!$L102","v":249.31524379342844},{"$f":"[2]FinStat_Retail!$M102","v":260.42471172636556},{"$f":"[2]FinStat_Retail!$N102","v":270.56330509793764},{"$f":"[2]FinStat_Retail!$O102","v":280.82378906687677},{"$f":"[2]FinStat_Retail!$P102","v":291.82840688201435},null,1600.2484565666227,null,0,0,21.585000000000001,22.283000000000001,25.942,29.777000000000001,32.095999999999997,null,131.68299999999999,null,0,0,8.6577136927433032E-2,8.5564076666477334E-2,9.5881442572597189E-2,0.10603446417037254,0.10998243914265805,null,8.2289096708475826E-2]
[null,null,null,null,"Capex creditor balance - Retail",null,"£m",null,{"$f":"[1]FinStat_Retail!$J103","v":0},{"$f":"[1]FinStat_Retail!$K103","v":0},{"$f":"[1]FinStat_Retail!$L103","v":0.2943067274185503},{"$f":"[1]FinStat_Retail!$M103","v":0.2141078808971579},{"$f":"[1]FinStat_Retail!$N103","v":0.19918147670549297},{"$f":"[1]FinStat_Retail!$O103","v":0.1727051706666298},{"$f":"[1]FinStat_Retail!$P103","v":0.23313247280952712},null,1.1134337284973581,null,{"$f":"[2]FinStat_Retail!$J103","v":0},{"$f":"[2]FinStat_Retail!$K103","v":0},{"$f":"[2]FinStat_Retail!$L103","v":0.29316076174032046},{"$f":"[2]FinStat_Retail!$M103","v":0.21328297023800807},{"$f":"[2]FinStat_Retail!$N103","v":0.19856021037121019},{"$f":"[2]FinStat_Retail!$O103","v":0.17233527717050495},{"$f":"[2]FinStat_Retail!$P103","v":0.23286123009428142},null,1.1102004496143252,null,0,0,1E-3,1E-3,1E-3,0,0,null,3.0000000000000001E-3,null,0,0,3.4110976996498334E-3,4.6886068722883679E-3,5.0362557439402921E-3,0,0,null,2.702214722613539E-3]
[null,null,null,null,"Dividend creditor balance - Retail",null,"£m",null,{"$f":"[1]FinStat_Retail!$J104","v":0},{"$f":"[1]FinStat_Retail!$K104","v":0},{"$f":"[1]FinStat_Retail!$L104","v":0},{"$f":"[1]FinStat_Retail!$M104","v":0},{"$f":"[1]FinStat_Retail!$N104","v":0},{"$f":"[1]FinStat_Retail!$O104","v":0},{"$f":"[1]FinStat_Retail!$P104","v":0},null,0,null,{"$f":"[2]FinStat_Retail!$J104","v":0},{"$f":"[2]FinStat_Retail!$K104","v":0},{"$f":"[2]FinStat_Retail!$L104","v":0},{"$f":"[2]FinStat_Retail!$M104","v":0},{"$f":"[2]FinStat_Retail!$N104","v":0},{"$f":"[2]FinStat_Retail!$O104","v":0},{"$f":"[2]FinStat_Retail!$P104","v":0},null,0,null,0,0,0,0,0,0,0,null,0,null,0,0,0,0,0,0,0,null,0]
[null,null,null,null,"[Borrowings excluding preference shares - Retail]",null,"£m",null,{"$f":"[1]FinStat_Retail!$J105","v":0},{"$f":"[1]FinStat_Retail!$K105","v":0},{"$f":"[1]FinStat_Retail!$L105","v":0},{"$f":"[1]FinStat_Retail!$M105","v":0},{"$f":"[1]FinStat_Retail!$N105","v":0},{"$f":"[1]FinStat_Retail!$O105","v":0},{"$f":"[1]FinStat_Retail!$P105","v":0},null,0,null,{"$f":"[2]FinStat_Retail!$J105","v":0},{"$f":"[2]FinStat_Retail!$K105","v":0},{"$f":"[2]FinStat_Retail!$L105","v":0},{"$f":"[2]FinStat_Retail!$M105","v":0},{"$f":"[2]FinStat_Retail!$N105","v":0},{"$f":"[2]FinStat_Retail!$O105","v":0},{"$f":"[2]FinStat_Retail!$P105","v":0},null,0,null,0,0,0,0,0,0,0,null,0,null,0,0,0,0,0,0,0,null,0]
[null,null,null,null,"[Preference Shares - Retail]",null,"£m",null,{"$f":"[1]FinStat_Retail!$J106","v":0},{"$f":"[1]FinStat_Retail!$K106","v":0},{"$f":"[1]FinStat_Retail!$L106","v":0},{"$f":"[1]FinStat_Retail!$M106","v":0},{"$f":"[1]FinStat_Retail!$N106","v":0},{"$f":"[1]FinStat_Retail!$O106","v":0},{"$f":"[1]FinStat_Retail!$P106","v":0},null,0,null,{"$f":"[2]FinStat_Retail!$J106","v":0},{"$f":"[2]FinStat_Retail!$K106","v":0},{"$f":"[2]FinStat_Retail!$L106","v":0},{"$f":"[2]FinStat_Retail!$M106","v":0},{"$f":"[2]FinStat_Retail!$N106","v":0},{"$f":"[2]FinStat_Retail!$O106","v":0},{"$f":"[2]FinStat_Retail!$P106","v":0},null,0,null,0,0,0,0,0,0,0,null,0,null,0,0,0,0,0,0,0,null,0]
[null,null,null,null,"Tax creditor balance - Retail",null,"£m",null,{"$f":"[1]FinStat_Retail!$J107","v":0},{"$f":"[1]FinStat_Retail!$K107","v":0},{"$f":"[1]FinStat_Retail!$L107","v":0},{"$f":"[1]FinStat_Retail!$M107","v":0},{"$f":"[1]FinStat_Retail!$N107","v":0},{"$f":"[1]FinStat_Retail!$O107","v":0},{"$f":"[1]FinStat_Retail!$P107","v":0},null,0,null,{"$f":"[2]FinStat_Retail!$J107","v":0},{"$f":"[2]FinStat_Retail!$K107","v":0},{"$f":"[2]FinStat_Retail!$L107","v":0},{"$f":"[2]FinStat_Retail!$M107","v":0},{"$f":"[2]FinStat_Retail!$N107","v":0},{"$f":"[2]FinStat_Retail!$O107","v":0},{"$f":"[2]FinStat_Retail!$P107","v":0},null,0,null,0,0,0,0,0,0,0,null,0,null,0,0,0,0,0,0,0,null,0]
[null,null,null,null,"[Retirement benefit liability - Retail]",null,"£m",null,{"$f":"[1]FinStat_Retail!$J108","v":0},{"$f":"[1]FinStat_Retail!$K108","v":0},{"$f":"[1]FinStat_Retail!$L108","v":0},{"$f":"[1]FinStat_Retail!$M108","v":0},{"$f":"[1]FinStat_Retail!$N108","v":0},{"$f":"[1]FinStat_Retail!$O108","v":0},{"$f":"[1]FinStat_Retail!$P108","v":0},null,0,null,{"$f":"[2]FinStat_Retail!$J108","v":0},{"$f":"[2]FinStat_Retail!$K108","v":0},{"$f":"[2]FinStat_Retail!$L108","v":0},{"$f":"[2]FinStat_Retail!$M108","v":0},{"$f":"[2]FinStat_Retail!$N108","v":0},{"$f":"[2]FinStat_Retail!$O108","v":0},{"$f":"[2]FinStat_Retail!$P108","v":0},null,0,null,0,0,0,0,0,0,0,null,0,null,0,0,0,0,0,0,0,null,0]
[null,null,null,null,"[Provisions - Retail]",null,"£m",null,{"$f":"[1]FinStat_Retail!$J109","v":0},{"$f":"[1]FinStat_Retail!$K109","v":0},{"$f":"[1]FinStat_Retail!$L109","v":0},{"$f":"[1]FinStat_Retail!$M109","v":0},{"$f":"[1]FinStat_Retail!$N109","v":0},{"$f":"[1]FinStat_Retail!$O109","v":0},{"$f":"[1]FinStat_Retail!$P109","v":0},null,0,null,{"$f":"[2]FinStat_Retail!$J109","v":0},{"$f":"[2]FinStat_Retail!$K109","v":0},{"$f":"[2]FinStat_Retail!$L109","v":0},{"$f":"[2]FinStat_Retail!$M109","v":0},{"$f":"[2]FinStat_Retail!$N109","v":0},{"$f":"[2]FinStat_Retail!$O109","v":0},{"$f":"[2]FinStat_Retail!$P109","v":0},null,0,null,0,0,0,0,0,0,0,null,0,null,0,0,0,0,0,0,0,null,0]
[null,null,null,null,"[Other - Retail]",null,"£m",null,{"$f":"[1]FinStat_Retail!$J110","v":0},{"$f":"[1]FinStat_Retail!$K110","v":0},{"$f":"[1]FinStat_Retail!$L110","v":0},{"$f":"[1]FinStat_Retail!$M110","v":0},{"$f":"[1]FinStat_Retail!$N110","v":0},{"$f":"[1]FinStat_Retail!$O110","v":0},{"$f":"[1]FinStat_Retail!$P110","v":0},null,0,null,{"$f":"[2]FinStat_Retail!$J110","v":0},{"$f":"[2]FinStat_Retail!$K110","v":0},{"$f":"[2]FinStat_Retail!$L110","v":0},{"$f":"[2]FinStat_Retail!$M110","v":0},{"$f":"[2]FinStat_Retail!$N110","v":0},{"$f":"[2]FinStat_Retail!$O110","v":0},{"$f":"[2]FinStat_Retail!$P110","v":0},null,0,null,0,0,0,0,0,0,0,null,0,null,0,0,0,0,0,0,0,null,0]
[null,null,null,null,"Total liabilities - Retail - nominal",null,"£m",null,{"$f":"[1]FinStat_Retail!$J111","v":0},{"$f":"[1]FinStat_Retail!$K111","v":264.43799999999999},{"$f":"[1]FinStat_Retail!$L111","v":287.72530672741834},{"$f":"[1]FinStat_Retail!$M111","v":299.16610788089719},{"$f":"[1]FinStat_Retail!$N111","v":312.73618147670555},{"$f":"[1]FinStat_Retail!$O111","v":326.59170517066656},{"$f":"[1]FinStat_Retail!$P111","v":339.72313247280937},null,1830.3804337284969,null,{"$f":"[2]FinStat_Retail!$J111","v":0},{"$f":"[2]FinStat_Retail!$K111","v":264.43799999999999},{"$f":"[2]FinStat_Retail!$L111","v":264.8126956783006},{"$f":"[2]FinStat_Retail!$M111","v":275.56754816093428},{"$f":"[2]FinStat_Retail!$N111","v":285.36571117466417},{"$f":"[2]FinStat_Retail!$O111","v":295.27332327897216},{"$f":"[2]FinStat_Retail!$P111","v":306.06803909858661},null,1691.525317391458,null,0,0,22.913,23.599,27.37,31.318000000000001,33.655000000000001,null,138.85499999999999,null,0,0,8.6525307789000944E-2,8.563780516789278E-2,9.5912013701070095E-2,0.10606444108196993,0.10995921070072755,null,8.2088632414991952E-2]
[null,null,null,null,null,null,null,null,{"$f":"[1]FinStat_Retail!$J112","v":0},{"$f":"[1]FinStat_Retail!$K112","v":0},{"$f":"[1]FinStat_Retail!$L112","v":0},{"$f":"[1]FinStat_Retail!$M112","v":0},{"$f":"[1]FinStat_Retail!$N112","v":0},{"$f":"[1]FinStat_Retail!$O112","v":0},{"$f":"[1]FinStat_Retail!$P112","v":0},null,null,null,{"$f":"[2]FinStat_Retail!$J112","v":0},{"$f":"[2]FinStat_Retail!$K112","v":0},{"$f":"[2]FinStat_Retail!$L112","v":0},{"$f":"[2]FinStat_Retail!$M112","v":0},{"$f":"[2]FinStat_Retail!$N112","v":0},{"$f":"[2]FinStat_Retail!$O112","v":0},{"$f":"[2]FinStat_Retail!$P112","v":0},null,null,null,0,0,0,0,0,0,0,null,0,null,0,0,0,0,0,0,0,null,0]
[null,null,null,null,"Net assets before deferred tax - Retail - nominal",null,"£m",null,{"$f":"[1]FinStat_Retail!$J113","v":0},{"$f":"[1]FinStat_Retail!$K113","v":170.71777288899386},{"$f":"[1]FinStat_Retail!$L113","v":198.51265324781332},{"$f":"[1]FinStat_Retail!$M113","v":208.53255306862076},{"$f":"[1]FinStat_Retail!$N113","v":219.14909315159929},{"$f":"[1]FinStat_Retail!$O113","v":230.35772190930226},{"$f":"[1]FinStat_Retail!$P113","v":242.1024613859974},null,{"$f":"SUM(I119:O119)","v":1269.3722556523269},null,{"$f":"[2]FinStat_Retail!$J113","v":0},{"$f":"[2]FinStat_Retail!$K113","v":170.71777288899392},{"$f":"[2]FinStat_Retail!$L113","v":191.52222604017572},{"$f":"[2]FinStat_Retail!$M113","v":200.99430543073788},{"$f":"[2]FinStat_Retail!$N113","v":210.9385002011125},{"$f":"[2]FinStat_Retail!$O113","v":221.38573822470391},{"$f":"[2]FinStat_Retail!$P113","v":232.32487226325054},null,{"$f":"SUM(S119:Y119)","v":1227.8834150489745},null,0,0,6.99,7.5380000000000003,8.2110000000000003,8.9719999999999995,9.7780000000000005,null,41.488999999999997,null,0,0,3.649706952828391E-2,3.7503550082405572E-2,3.8926037646856725E-2,4.0526549144252126E-2,4.2087615952373848E-2,null,3.3789038512540864E-2]
[null,null,null,null,null,null,null,null,{"$f":"[1]FinStat_Retail!$J114","v":0},{"$f":"[1]FinStat_Retail!$K114","v":0},{"$f":"[1]FinStat_Retail!$L114","v":0},{"$f":"[1]FinStat_Retail!$M114","v":0},{"$f":"[1]FinStat_Retail!$N114","v":0},{"$f":"[1]FinStat_Retail!$O114","v":0},{"$f":"[1]FinStat_Retail!$P114","v":0},null,null,null,{"$f":"[2]FinStat_Retail!$J114","v":0},{"$f":"[2]FinStat_Retail!$K114","v":0},{"$f":"[2]FinStat_Retail!$L114","v":0},{"$f":"[2]FinStat_Retail!$M114","v":0},{"$f":"[2]FinStat_Retail!$N114","v":0},{"$f":"[2]FinStat_Retail!$O114","v":0},{"$f":"[2]FinStat_Retail!$P114","v":0},null,null,null,0,0,0,0,0,0,0,null,0,null,0,0,0,0,0,0,0,null,0]
[null,"Net assets",null,null,null,null,null,null,{"$f":"[1]FinStat_Retail!$J115","v":0},{"$f":"[1]FinStat_Retail!$K115","v":0},{"$f":"[1]FinStat_Retail!$L115","v":0},{"$f":"[1]FinStat_Retail!$M115","v":0},{"$f":"[1]FinStat_Retail!$N115","v":0},{"$f":"[1]FinStat_Retail!$O115","v":0},{"$f":"[1]FinStat_Retail!$P115","v":0},null,null,null,{"$f":"[2]FinStat_Retail!$J115","v":0},{"$f":"[2]FinStat_Retail!$K115","v":0},{"$f":"[2]FinStat_Retail!$L115","v":0},{"$f":"[2]FinStat_Retail!$M115","v":0},{"$f":"[2]FinStat_Retail!$N115","v":0},{"$f":"[2]FinStat_Retail!$O115","v":0},{"$f":"[2]FinStat_Retail!$P115","v":0},null,null,null,0,0,0,0,0,0,0,null,0,null,0,0,0,0,0,0,0,null,0]
[null,null,null,null,"[Deferred tax - Retail]",null,"£m",null,{"$f":"[1]FinStat_Retail!$J116","v":0},{"$f":"[1]FinStat_Retail!$K116","v":0},{"$f":"[1]FinStat_Retail!$L116","v":0},{"$f":"[1]FinStat_Retail!$M116","v":0},{"$f":"[1]FinStat_Retail!$N116","v":0},{"$f":"[1]FinStat_Retail!$O116","v":0},{"$f":"[1]FinStat_Retail!$P116","v":0},null,{"$f":"SUM(I122:O122)","v":0},null,{"$f":"[2]FinStat_Retail!$J116","v":0},{"$f":"[2]FinStat_Retail!$K116","v":0},{"$f":"[2]FinStat_Retail!$L116","v":0},{"$f":"[2]FinStat_Retail!$M116","v":0},{"$f":"[2]FinStat_Retail!$N116","v":0},{"$f":"[2]FinStat_Retail!$O116","v":0},{"$f":"[2]FinStat_Retail!$P116","v":0},null,{"$f":"SUM(S122:Y122)","v":0},null,0,0,0,0,0,0,0,null,0,null,0,0,0,0,0,0,0,null,0]
[null,null,null,null,"Net assets - Retail - nominal",null,"£m",null,{"$f":"[1]FinStat_Retail!$J117","v":0},{"$f":"[1]FinStat_Retail!$K117","v":170.71777288899386},{"$f":"[1]FinStat_Retail!$L117","v":198.51265324781332},{"$f":"[1]FinStat_Retail!$M117","v":208.53255306862076},{"$f":"[1]FinStat_Retail!$N117","v":219.14909315159929},{"$f":"[1]FinStat_Retail!$O117","v":230.35772190930226},{"$f":"[1]FinStat_Retail!$P117","v":242.1024613859974},null,{"$f":"SUM(I123:O123)","v":1269.3722556523269},null,{"$f":"[2]FinStat_Retail!$J117","v":0},{"$f":"[2]FinStat_Retail!$K117","v":170.71777288899392},{"$f":"[2]FinStat_Retail!$L117","v":191.52222604017572},{"$f":"[2]FinStat_Retail!$M117","v":200.99430543073788},{"$f":"[2]FinStat_Retail!$N117","v":210.9385002011125},{"$f":"[2]FinStat_Retail!$O117","v":221.38573822470391},{"$f":"[2]FinStat_Retail!$P117","v":232.32487226325054},null,{"$f":"SUM(S123:Y123)","v":1227.8834150489745},null,0,0,6.99,7.5380000000000003,8.2110000000000003,8.9719999999999995,9.7780000000000005,null,41.488999999999997,null,0,0,3.649706952828391E-2,3.7503550082405572E-2,3.8926037646856725E-2,4.0526549144252126E-2,4.2087615952373848E-2,null,3.3789038512540864E-2]
[null,null,null,null,null,null,null,null,{"$f":"[1]FinStat_Retail!$J118","v":0},{"$f":"[1]FinStat_Retail!$K118","v":0},{"$f":"[1]FinStat_Retail!$L118","v":0},{"$f":"[1]FinStat_Retail!$M118","v":0},{"$f":"[1]FinStat_Retail!$N118","v":0},{"$f":"[1]FinStat_Retail!$O118","v":0},{"$f":"[1]FinStat_Retail!$P118","v":0},null,null,null,{"$f":"[2]FinStat_Retail!$J118","v":0},{"$f":"[2]FinStat_Retail!$K118","v":0},{"$f":"[2]FinStat_Retail!$L118","v":0},{"$f":"[2]FinStat_Retail!$M118","v":0},{"$f":"[2]FinStat_Retail!$N118","v":0},{"$f":"[2]FinStat_Retail!$O118","v":0},{"$f":"[2]FinStat_Retail!$P118","v":0},null,null,null,0,0,0,0,0,0,0,null,0,null,0,0,0,0,0,0,0,null,0]
[null,"Equity",null,null,null,null,null,null,{"$f":"[1]FinStat_Retail!$J119","v":0},{"$f":"[1]FinStat_Retail!$K119","v":0},{"$f":"[1]FinStat_Retail!$L119","v":0},{"$f":"[1]FinStat_Retail!$M119","v":0},{"$f":"[1]FinStat_Retail!$N119","v":0},{"$f":"[1]FinStat_Retail!$O119","v":0},{"$f":"[1]FinStat_Retail!$P119","v":0},null,null,null,{"$f":"[2]FinStat_Retail!$J119","v":0},{"$f":"[2]FinStat_Retail!$K119","v":0},{"$f":"[2]FinStat_Retail!$L119","v":0},{"$f":"[2]FinStat_Retail!$M119","v":0},{"$f":"[2]FinStat_Retail!$N119","v":0},{"$f":"[2]FinStat_Retail!$O119","v":0},{"$f":"[2]FinStat_Retail!$P119","v":0},null,null,null,0,0,0,0,0,0,0,null,0,null,0,0,0,0,0,0,0,null,0]
[null,null,null,null,"[Called up share capital, including share premium - Retail]",null,"£m",null,{"$f":"[1]FinStat_Retail!$J120","v":0},{"$f":"[1]FinStat_Retail!$K120","v":0},{"$f":"[1]FinStat_Retail!$L120","v":0},{"$f":"[1]FinStat_Retail!$M120","v":0},{"$f":"[1]FinStat_Retail!$N120","v":0},{"$f":"[1]FinStat_Retail!$O120","v":0},{"$f":"[1]FinStat_Retail!$P120","v":0},null,{"$f":"SUM(I126:O126)","v":0},null,{"$f":"[2]FinStat_Retail!$J120","v":0},{"$f":"[2]FinStat_Retail!$K120","v":0},{"$f":"[2]FinStat_Retail!$L120","v":0},{"$f":"[2]FinStat_Retail!$M120","v":0},{"$f":"[2]FinStat_Retail!$N120","v":0},{"$f":"[2]FinStat_Retail!$O120","v":0},{"$f":"[2]FinStat_Retail!$P120","v":0},null,{"$f":"SUM(S126:Y126)","v":0},null,0,0,0,0,0,0,0,null,0,null,0,0,0,0,0,0,0,null,0]
[null,null,null,null,"[Non-distributable reserves - Retail]",null,"£m",null,{"$f":"[1]FinStat_Retail!$J121","v":0},{"$f":"[1]FinStat_Retail!$K121","v":0},{"$f":"[1]FinStat_Retail!$L121","v":0},{"$f":"[1]FinStat_Retail!$M121","v":0},{"$f":"[1]FinStat_Retail!$N121","v":0},{"$f":"[1]FinStat_Retail!$O121","v":0},{"$f":"[1]FinStat_Retail!$P121","v":0},null,{"$f":"SUM(I127:O127)","v":0},null,{"$f":"[2]FinStat_Retail!$J121","v":0},{"$f":"[2]FinStat_Retail!$K121","v":0},{"$f":"[2]FinStat_Retail!$L121","v":0},{"$f":"[2]FinStat_Retail!$M121","v":0},{"$f":"[2]FinStat_Retail!$N121","v":0},{"$f":"[2]FinStat_Retail!$O121","v":0},{"$f":"[2]FinStat_Retail!$P121","v":0},null,{"$f":"SUM(S127:Y127)","v":0},null,0,0,0,0,0,0,0,null,0,null,0,0,0,0,0,0,0,null,0]
[null,null,null,null,"Retained earnings balance - Retail",null,"£m",null,{"$f":"[1]FinStat_Retail!$J122","v":0},{"$f":"[1]FinStat_Retail!$K122","v":0},{"$f":"[1]FinStat_Retail!$L122","v":27.79488035881948},{"$f":"[1]FinStat_Retail!$M122","v":37.814780179626851},{"$f":"[1]FinStat_Retail!$N122","v":48.431320262605418},{"$f":"[1]FinStat_Retail!$O122","v":59.639949020308357},{"$f":"[1]FinStat_Retail!$P122","v":71.38468849700368},null,{"$f":"SUM(I128:O128)","v":245.06561831836379},null,{"$f":"[2]FinStat_Retail!$J122","v":0},{"$f":"[2]FinStat_Retail!$K122","v":170.71777288899392},{"$f":"[2]FinStat_Retail!$L122","v":191.52222604017575},{"$f":"[2]FinStat_Retail!$M122","v":200.994305430738},{"$f":"[2]FinStat_Retail!$N122","v":210.93850020111267},{"$f":"[2]FinStat_Retail!$O122","v":221.38573822470423},{"$f":"[2]FinStat_Retail!$P122","v":232.3248722632506},null,{"$f":"SUM(S128:Y128)","v":1227.8834150489752},null,0,-170.71799999999999,-163.727,-163.18,-162.50700000000001,-161.74600000000001,-160.94,null,-982.81799999999998,null,0,-1.0000013303301831,-0.85487206046599973,-0.81186379708768075,-0.77039990255483382,-0.73060713529716848,-0.69273684918951173,null,-0.80041638151843553]
[null,null,null,null,"Total equity- Retail - nominal",null,"£m",null,{"$f":"[1]FinStat_Retail!$J123","v":0},{"$f":"[1]FinStat_Retail!$K123","v":0},{"$f":"[1]FinStat_Retail!$L123","v":27.79488035881948},{"$f":"[1]FinStat_Retail!$M123","v":37.814780179626851},{"$f":"[1]FinStat_Retail!$N123","v":48.431320262605418},{"$f":"[1]FinStat_Retail!$O123","v":59.639949020308357},{"$f":"[1]FinStat_Retail!$P123","v":71.38468849700368},null,{"$f":"SUM(I129:O129)","v":245.06561831836379},null,{"$f":"[2]FinStat_Retail!$J123","v":0},{"$f":"[2]FinStat_Retail!$K123","v":170.71777288899392},{"$f":"[2]FinStat_Retail!$L123","v":191.52222604017575},{"$f":"[2]FinStat_Retail!$M123","v":200.994305430738},{"$f":"[2]FinStat_Retail!$N123","v":210.93850020111267},{"$f":"[2]FinStat_Retail!$O123","v":221.38573822470423},{"$f":"[2]FinStat_Retail!$P123","v":232.3248722632506},null,{"$f":"SUM(S129:Y129)","v":1227.8834150489752},null,0,-170.71799999999999,-163.727,-163.18,-162.50700000000001,-161.74600000000001,-160.94,null,-982.81799999999998,null,0,-1.0000013303301831,-0.85487206046599973,-0.81186379708768075,-0.77039990255483382,-0.73060713529716848,-0.69273684918951173,null,-0.80041638151843553]
[]
["Calculations"]
[]
[null,null,null,null,"Net debt",null,"£m",null,{"$f":"SUM(I102,I111:I112)","v":0},{"$f":"SUM(J102,J111:J112)","v":0},{"$f":"SUM(K102,K111:K112)","v":21.438916517277999},28.410121603692044,35.019695063756558,41.511221821437971,48.067376123446529,null,{"$f":"SUM(I133:O133)","v":174.44733112961111},null,{"$f":"SUM(S102,S111:S112)","v":0},{"$f":"SUM(T102,T111:T112)","v":0},{"$f":"SUM(U102,U111:U112)","v":27.671307026956512},34.495970569916089,42.103690320794783,49.348937694358057,55.831888040602934,null,{"$f":"SUM(S133:Y133)","v":209.45179365262837},null,{"$f":"ROUND(I133 - S133, 3)","v":0},0,-6.2320000000000002,-6.0860000000000003,-7.0839999999999996,-7.8380000000000001,-7.7649999999999997,null,{"$f":"ROUND(Q133 - AA133, 3)","v":-35.003999999999998},null,{"$f":"IF(S133 = 0, 0, AC133 / S133)","v":0},{"$f":"IF(T133 = 0, 0, AD133 / T133)","v":0},{"$f":"IF(U133 = 0, 0, AE133 / U133)","v":-0.22521523807780322},{"$f":"IF(V133 = 0, 0, AF133 / V133)","v":-0.1764264028363822},{"$f":"IF(W133 = 0, 0, AG133 / W133)","v":-0.16825128500675035},{"$f":"IF(X133 = 0, 0, AH133 / X133)","v":-0.15882814030455006},{"$f":"IF(Y133 = 0, 0, AI133 / Y133)","v":-0.13907822702239653},null,{"$f":"IF(AA133 = 0, 0, AK133 / AA133)","v":-0.1671219873058401}]
[null,null,null,null,"Average net debt",null,"£m",null,null,{"$f":"SUM(I102:J102,I111:J112)","v":0},{"$f":"SUM(J102:K102,J111:K112)","v":21.438916517277999},49.849038120970043,63.429816667448605,76.530916885194529,89.578597944884507,null,{"$f":"SUM(I134:O134)","v":300.82728613577569},null,null,{"$f":"SUM(S102:T102,S111:T112)","v":0},{"$f":"SUM(T102:U102,T111:U112)","v":27.671307026956512},{"$f":"SUM(U102:V102,U111:V112)","v":62.167277596872601},{"$f":"SUM(V102:W102,V111:W112)","v":76.599660890710879},{"$f":"SUM(W102:X102,W111:X112)","v":91.45262801515284},{"$f":"SUM(X102:Y102,X111:Y112)","v":105.18082573496099},null,{"$f":"SUM(S134:Y134)","v":363.07169926465383},null,0,0,-6.2320000000000002,-12.318,-13.17,-14.922000000000001,-15.602,null,{"$f":"ROUND(Q134 - AA134, 3)","v":-62.244},null,0,0,-0.22521523807780322,-0.19814282490986337,-0.1719328760317933,-0.16316644282248036,-0.14833502105521179,null,-0.17143721233592621]
[]
[null,null,null,null,"Total interest as a percentage of average net debt",null,"%",null,null,{"$f":" IF( J134 = 0, 0, SUM( J27:J28 ) / J134 )","v":0},{"$f":" IF( K134 = 0, 0, SUM( K27:K28 ) / K134 )","v":0},1.875134998362394E-2,1.9528375880623488E-2,1.9950874325342993E-2,{"$f":" IF( O134 = 0, 0, SUM( O27:O28 ) / O134 )","v":2.0204483134780425E-2},null,null,null,null,{"$f":" IF( T134 = 0, 0, SUM( T27:T28 ) / T134 )","v":0},{"$f":" IF( U134 = 0, 0, SUM( U27:U28 ) / U134 )","v":0},1.8621065183130437E-2,1.8839883731446093E-2,1.9260194532599108E-2,{"$f":" IF( Y134 = 0, 0, SUM( Y27:Y28 ) / Y134 )","v":1.9628084950143961E-2},null,null,null,null,{"$f":"ROUND(J136 - T136, 3)","v":0},0,0,1E-3,1E-3,1E-3,null,null,null,null,0,0,0,5.3078883832540669E-2,5.1920555543062463E-2,5.0947405339850316E-2]

{"sheet":"FinStat_Water Resources","index":6,"n_rows":129,"n_cols":47,"rows_kept":129,"cut":false,"hidden":false,"merged":[[0,8,0,16],[0,18,0,26],[0,28,0,36],[0,38,0,46]]}
[null,null,null,null,{"$f":" RIGHT(CELL(\"FILENAME\", $A$1), LEN(CELL(\"FILENAME\", $A$1)) - SEARCH(\"]\", CELL(\"FILENAME\", $A$1)))","v":"FinStat_Water Resources"},null,null,null,{"$f":"'Front sheet'!$F5 & \": \" & 'Front sheet'!$G5 & \" - \" & 'Front sheet'!$H5","v":"Model 1: ANH - Company 1 April NTN Post"},null,null,null,null,null,null,null,null,null,{"$f":"'Front sheet'!$F6 & \": \" & 'Front sheet'!$G6 & \" - \" & 'Front sheet'!$H6","v":"Model 2: ANH - Ofwat FD NTN Post "},null,null,null,null,null,null,null,null,null,{"$f":"\"Delta (\" & 'Front sheet'!$F5 & \" - \" & 'Front sheet'!$F6 & \")\"","v":"Delta (Model 1 - Model 2)"},null,null,null,null,null,null,null,null,null,{"$f":"\"Delta  (\" & 'Front sheet'!$F5 & \" - \" & 'Front sheet'!$F6 & \") - %\"","v":"Delta  (Model 1 - Model 2) - %"}]
[]
[null,null,null,"Model period ending",null,null,null,null,"2019-03-31","2020-03-31","2021-03-31","2022-03-31","2023-03-31","2024-03-31","2025-03-31",null,null,null,"2019-03-31","2020-03-31","2021-03-31","2022-03-31","2023-03-31","2024-03-31","2025-03-31",null,null,null,"2019-03-31","2020-03-31","2021-03-31","2022-03-31","2023-03-31","2024-03-31","2025-03-31",null,null,null,"2019-03-31","2020-03-31","2021-03-31","2022-03-31","2023-03-31","2024-03-31","2025-03-31"]
[null,null,null,"Timeline label",null,null,null,null,"Pre-Fcst","Pre-Fcst","Forecast","Forecast","Forecast","Forecast","Forecast",null,"Total",null,"Pre-Fcst","Pre-Fcst","Forecast","Forecast","Forecast","Forecast","Forecast",null,"Total",null,"Pre-Fcst","Pre-Fcst","Forecast","Forecast","Forecast","Forecast","Forecast",null,"Total",null,"Pre-Fcst","Pre-Fcst","Forecast","Forecast","Forecast","Forecast","Forecast",null,"Total"]
[null,null,null,"Financial year ending",null,null,null,null,2019,2020,2021,2022,2023,2024,2025,null,null,null,2019,2020,2021,2022,2023,2024,2025,null,null,null,2019,2020,2021,2022,2023,2024,2025,null,null,null,2019,2020,2021,2022,2023,2024,2025]
[null,null,null,"Model column counter",null,null,null,null,1,2,3,4,5,6,7,null,null,null,1,2,3,4,5,6,7,null,null,null,1,2,3,4,5,6,7,null,null,null,1,2,3,4,5,6,7]
[]
[null,null,null,null,{"$f":"'Front sheet'!$F5 & \": \" & 'Front sheet'!$G5 & \" - \" & 'Front sheet'!$I5","v":"Model 1: ANH - "}]
[null,null,null,null,{"$f":"'Front sheet'!$F6 & \": \" & 'Front sheet'!$G6 & \" - \" & 'Front sheet'!$I6","v":"Model 2: ANH - "}]
[null,null,null,null,"3rd model not in use"]
[]
[null,null,null,"Check Delta (numbers)",null,null,null,null,null,null,null,null,null,null,null,null,null,null,null,null,null,null,null,null,null,null,null,null,{"$f":"COUNTIF(AC19:AC310,\"<>0\") - COUNTBLANK(AC19:AC310) - AC13","v":0},23,56,57,57,57,57,null,{"$f":"COUNTIF(AK19:AK310,\"<>0\") - COUNTBLANK(AK19:AK310) - AK13","v":59},null,{"$f":"COUNTIF(AM19:AM310,\"<>0\") - COUNTBLANK(AM19:AM310) - AM13","v":0},23,56,57,57,56,56,null,{"$f":"COUNTIF(AU19:AU310,\"<>0\") - COUNTBLANK(AU19:AU310) - AU13","v":59}]
[null,null,null,"Check Delta (errors)",null,null,null,null,null,null,null,null,null,null,null,null,null,null,null,null,null,null,null,null,null,null,null,null,{"$f":"COUNT( IF( ISERROR(AC19:AC308), 1) )","v":1},{"$f":"COUNT( IF( ISERROR(AD19:AD308), 1) )","v":1},{"$f":"COUNT( IF( ISERROR(AE19:AE308), 1) )","v":1},{"$f":"COUNT( IF( ISERROR(AF19:AF308), 1) )","v":1},{"$f":"COUNT( IF( ISERROR(AG19:AG308), 1) )","v":1},{"$f":"COUNT( IF( ISERROR(AH19:AH308), 1) )","v":1},{"$f":"COUNT( IF( ISERROR(AI19:AI308), 1) )","v":1},null,{"$f":"COUNT( IF( ISERROR(AK19:AK308), 1) )","v":0},null,{"$f":"COUNT( IF( ISERROR(AM19:AM308), 1) )","v":1},{"$f":"COUNT( IF( ISERROR(AN19:AN308), 1) )","v":1},{"$f":"COUNT( IF( ISERROR(AO19:AO308), 1) )","v":1},{"$f":"COUNT( IF( ISERROR(AP19:AP308), 1) )","v":1},{"$f":"COUNT( IF( ISERROR(AQ19:AQ308), 1) )","v":1},{"$f":"COUNT( IF( ISERROR(AR19:AR308), 1) )","v":1},{"$f":"COUNT( IF( ISERROR(AS19:AS308), 1) )","v":1},null,{"$f":"COUNT( IF( ISERROR(AU19:AU308), 1) )","v":0}]
[]
["PROFIT & LOSS"]
[]
[null,null,null,null,"Revenue requirement incl. tax charge - WR - nominal","PL","£m",null,{"$f":"'[1]FinStat_Water Resources'!$J9","v":0},{"$f":"'[1]FinStat_Water Resources'!$K9","v":0},{"$f":"'[1]FinStat_Water Resources'!$L9","v":60.483104588285059},{"$f":"'[1]FinStat_Water Resources'!$M9","v":63.573649848102015},{"$f":"'[1]FinStat_Water Resources'!$N9","v":62.824495944355498},{"$f":"'[1]FinStat_Water Resources'!$O9","v":63.205983787969842},{"$f":"'[1]FinStat_Water Resources'!$P9","v":60.988756236843372},null,{"$f":"SUM(I17:O17)","v":311.07599040555579},null,{"$f":"'[2]FinStat_Water Resources'!$J9","v":0},{"$f":"'[2]FinStat_Water Resources'!$K9","v":0},{"$f":"'[2]FinStat_Water Resources'!$L9","v":52.416904263258559},{"$f":"'[2]FinStat_Water Resources'!$M9","v":52.446074748429766},{"$f":"'[2]FinStat_Water Resources'!$N9","v":55.650907199432865},{"$f":"'[2]FinStat_Water Resources'!$O9","v":58.124090140533532},{"$f":"'[2]FinStat_Water Resources'!$P9","v":58.951701262341125},null,{"$f":"SUM(S17:Y17)","v":277.58967761399583},null,{"$f":"ROUND(I17 - S17, 3)","v":0},{"$f":"ROUND(J17 - T17, 3)","v":0},{"$f":"ROUND(K17 - U17, 3)","v":8.0660000000000007},{"$f":"ROUND(L17 - V17, 3)","v":11.128},{"$f":"ROUND(M17 - W17, 3)","v":7.1740000000000004},{"$f":"ROUND(N17 - X17, 3)","v":5.0819999999999999},{"$f":"ROUND(O17 - Y17, 3)","v":2.0369999999999999},null,{"$f":"ROUND(Q17 - AA17, 3)","v":33.485999999999997},null,{"$f":"IF(S17 = 0, 0, AC17 / S17)","v":0},{"$f":"IF(T17 = 0, 0, AD17 / T17)","v":0},{"$f":"IF(U17 = 0, 0, AE17 / U17)","v":0.15388165541958254},{"$f":"IF(V17 = 0, 0, AF17 / V17)","v":0.21217984479063751},{"$f":"IF(W17 = 0, 0, AG17 / W17)","v":0.12891074667104638},{"$f":"IF(X17 = 0, 0, AH17 / X17)","v":8.7433626706459294E-2},{"$f":"IF(Y17 = 0, 0, AI17 / Y17)","v":3.4553710179374482E-2},null,{"$f":"IF(AA17 = 0, 0, AK17 / AA17)","v":0.12063128675326384}]
[null,null,null,null,"Total direct procurement from customers - infrastructure cost (as revenue) - WR - nominal","PL","£m",null,{"$f":"'[1]FinStat_Water Resources'!$J10","v":0},{"$f":"'[1]FinStat_Water Resources'!$K10","v":0},{"$f":"'[1]FinStat_Water Resources'!$L10","v":0},{"$f":"'[1]FinStat_Water Resources'!$M10","v":0},{"$f":"'[1]FinStat_Water Resources'!$N10","v":0},{"$f":"'[1]FinStat_Water Resources'!$O10","v":0},{"$f":"'[1]FinStat_Water Resources'!$P10","v":0},null,{"$f":"SUM(I18:O18)","v":0},null,{"$f":"'[2]FinStat_Water Resources'!$J10","v":0},{"$f":"'[2]FinStat_Water Resources'!$K10","v":0},{"$f":"'[2]FinStat_Water Resources'!$L10","v":0},{"$f":"'[2]FinStat_Water Resources'!$M10","v":0},{"$f":"'[2]FinStat_Water Resources'!$N10","v":0},{"$f":"'[2]FinStat_Water Resources'!$O10","v":0},{"$f":"'[2]FinStat_Water Resources'!$P10","v":0},null,{"$f":"SUM(S18:Y18)","v":0},null,0,0,0,0,0,0,0,null,0,null,0,0,0,0,0,0,0,null,0]
[null,null,null,null,"Operating expenditure - WR - nominal","PL","£m",null,{"$f":"'[1]FinStat_Water Resources'!$J11","v":0},{"$f":"'[1]FinStat_Water Resources'!$K11","v":0},{"$f":"'[1]FinStat_Water Resources'!$L11","v":-49.864400259381298},{"$f":"'[1]FinStat_Water Resources'!$M11","v":-51.768812505934221},{"$f":"'[1]FinStat_Water Resources'!$N11","v":-49.632948916079755},{"$f":"'[1]FinStat_Water Resources'!$O11","v":-48.771612393043284},{"$f":"'[1]FinStat_Water Resources'!$P11","v":-45.951141775737128},null,-245.98891585017566,null,{"$f":"'[2]FinStat_Water Resources'!$J11","v":0},{"$f":"'[2]FinStat_Water Resources'!$K11","v":0},{"$f":"'[2]FinStat_Water Resources'!$L11","v":-41.51956674922684},{"$f":"'[2]FinStat_Water Resources'!$M11","v":-41.683136683122129},{"$f":"'[2]FinStat_Water Resources'!$N11","v":-44.760473417804945},{"$f":"'[2]FinStat_Water Resources'!$O11","v":-47.094398315465654},{"$f":"'[2]FinStat_Water Resources'!$P11","v":-47.781713074063191},null,-222.83928823968276,null,0,0,-8.3450000000000006,-10.086,-4.8719999999999999,-1.677,1.831,null,-23.15,null,0,0,0.20098957319094371,0.24196835465321187,0.10884603374328927,3.5609330620734958E-2,-3.8320099515098821E-2,null,0.10388652819201338]
[null,null,null,null,"Operating income - WR - nominal","PL","£m",null,{"$f":"'[1]FinStat_Water Resources'!$J12","v":0},{"$f":"'[1]FinStat_Water Resources'!$K12","v":0},{"$f":"'[1]FinStat_Water Resources'!$L12","v":0},{"$f":"'[1]FinStat_Water Resources'!$M12","v":0},{"$f":"'[1]FinStat_Water Resources'!$N12","v":0},{"$f":"'[1]FinStat_Water Resources'!$O12","v":0},{"$f":"'[1]FinStat_Water Resources'!$P12","v":0},null,0,null,{"$f":"'[2]FinStat_Water Resources'!$J12","v":0},{"$f":"'[2]FinStat_Water Resources'!$K12","v":0},{"$f":"'[2]FinStat_Water Resources'!$L12","v":0},{"$f":"'[2]FinStat_Water Resources'!$M12","v":0},{"$f":"'[2]FinStat_Water Resources'!$N12","v":0},{"$f":"'[2]FinStat_Water Resources'!$O12","v":0},{"$f":"'[2]FinStat_Water Resources'!$P12","v":0},null,0,null,0,0,0,0,0,0,0,null,0,null,0,0,0,0,0,0,0,null,0]
[null,null,null,null,"EBITDA - WR - nominal",null,"£m",null,{"$f":"'[1]FinStat_Water Resources'!$J13","v":0},{"$f":"'[1]FinStat_Water Resources'!$K13","v":0},{"$f":"'[1]FinStat_Water Resources'!$L13","v":10.61870432890376},{"$f":"'[1]FinStat_Water Resources'!$M13","v":11.804837342167794},{"$f":"'[1]FinStat_Water Resources'!$N13","v":13.191547028275743},{"$f":"'[1]FinStat_Water Resources'!$O13","v":14.434371394926558},{"$f":"'[1]FinStat_Water Resources'!$P13","v":15.037614461106244},null,65.087074555380099,null,{"$f":"'[2]FinStat_Water Resources'!$J13","v":0},{"$f":"'[2]FinStat_Water Resources'!$K13","v":0},{"$f":"'[2]FinStat_Water Resources'!$L13","v":10.897337514031719},{"$f":"'[2]FinStat_Water Resources'!$M13","v":10.762938065307637},{"$f":"'[2]FinStat_Water Resources'!$N13","v":10.89043378162792},{"$f":"'[2]FinStat_Water Resources'!$O13","v":11.029691825067879},{"$f":"'[2]FinStat_Water Resources'!$P13","v":11.169988188277934},null,54.750389374313087,null,0,0,-0.27900000000000003,1.042,2.3010000000000002,3.4049999999999998,3.8679999999999999,null,10.337,null,0,0,-2.5602584084484101E-2,9.681371328881809E-2,0.21128634966605003,0.30871216113774286,0.34628505731628045,null,0.18880231023251404]
[null,null,null,null,null,null,null,null,null,null,null,null,null,null,null,null,null,null,null,null,null,null,null,null,null,null,null,null,0,0,0,0,0,0,0,null,0,null,0,0,0,0,0,0,0,null,0]
[null,null,null,null,"Wholesale fixed assets depreciation - WR - nominal","PL","£m",null,{"$f":"'[1]FinStat_Water Resources'!$J15","v":0},{"$f":"'[1]FinStat_Water Resources'!$K15","v":0},{"$f":"'[1]FinStat_Water Resources'!$L15","v":-12.796889916957138},{"$f":"'[1]FinStat_Water Resources'!$M15","v":-13.617027852770626},{"$f":"'[1]FinStat_Water Resources'!$N15","v":-14.503375493079213},{"$f":"'[1]FinStat_Water Resources'!$O15","v":-15.296541178958101},{"$f":"'[1]FinStat_Water Resources'!$P15","v":-15.231648633886287},null,-71.445483075651367,null,{"$f":"'[2]FinStat_Water Resources'!$J15","v":0},{"$f":"'[2]FinStat_Water Resources'!$K15","v":0},{"$f":"'[2]FinStat_Water Resources'!$L15","v":-12.544739420120143},{"$f":"'[2]FinStat_Water Resources'!$M15","v":-12.926065492567199},{"$f":"'[2]FinStat_Water Resources'!$N15","v":-13.463418894288987},{"$f":"'[2]FinStat_Water Resources'!$O15","v":-13.991743804420285},{"$f":"'[2]FinStat_Water Resources'!$P15","v":-13.836433802290591},null,-66.762401413687201,null,0,0,-0.252,-0.69099999999999995,-1.04,-1.3049999999999999,-1.395,null,-4.6829999999999998,null,0,0,2.008810159865294E-2,5.3457875514969479E-2,7.7246352369022331E-2,9.3269289249544654E-2,0.10082077650449647,null,7.0144271338926423E-2]
[null,null,null,null,"Earnings before interest and tax (EBIT) - WR - nominal",null,"£m",null,{"$f":"'[1]FinStat_Water Resources'!$J16","v":0},{"$f":"'[1]FinStat_Water Resources'!$K16","v":0},{"$f":"'[1]FinStat_Water Resources'!$L16","v":-2.1781855880533776},{"$f":"'[1]FinStat_Water Resources'!$M16","v":-1.8121905106028322},{"$f":"'[1]FinStat_Water Resources'!$N16","v":-1.3118284648034706},{"$f":"'[1]FinStat_Water Resources'!$O16","v":-0.86216978403154343},{"$f":"'[1]FinStat_Water Resources'!$P16","v":-0.19403417278004298},null,-6.3584085202712668,null,{"$f":"'[2]FinStat_Water Resources'!$J16","v":0},{"$f":"'[2]FinStat_Water Resources'!$K16","v":0},{"$f":"'[2]FinStat_Water Resources'!$L16","v":-1.6474019060884242},{"$f":"'[2]FinStat_Water Resources'!$M16","v":-2.1631274272595622},{"$f":"'[2]FinStat_Water Resources'!$N16","v":-2.5729851126610672},{"$f":"'[2]FinStat_Water Resources'!$O16","v":-2.9620519793524061},{"$f":"'[2]FinStat_Water Resources'!$P16","v":-2.6664456140126571},null,-12.012012039374117,null,0,0,-0.53100000000000003,0.35099999999999998,1.2609999999999999,2.1,2.472,null,5.6539999999999999,null,0,0,0.32232571665575011,-0.16226505918085338,-0.49009222548350911,-0.70896797714506121,-0.92707684979929461,null,-0.47069549892780499]
[null,null,null,null,null,null,null,null,null,null,null,null,null,null,null,null,null,null,null,null,null,null,null,null,null,null,null,null,0,0,0,0,0,0,0,null,0,null,0,0,0,0,0,0,0,null,0]
[null,null,null,null,"Total other income (incl. 3rd party income) - WR - nominal","PL & CF","£m",null,{"$f":"'[1]FinStat_Water Resources'!$J18","v":0},{"$f":"'[1]FinStat_Water Resources'!$K18","v":0},{"$f":"'[1]FinStat_Water Resources'!$L18","v":6.7311473759090621},{"$f":"'[1]FinStat_Water Resources'!$M18","v":7.0126251178538253},{"$f":"'[1]FinStat_Water Resources'!$N18","v":7.2010130461553601},{"$f":"'[1]FinStat_Water Resources'!$O18","v":7.2727198824900618},{"$f":"'[1]FinStat_Water Resources'!$P18","v":7.2179222383596899},null,35.435427660767999,null,{"$f":"'[2]FinStat_Water Resources'!$J18","v":0},{"$f":"'[2]FinStat_Water Resources'!$K18","v":0},{"$f":"'[2]FinStat_Water Resources'!$L18","v":6.7049377682131865},{"$f":"'[2]FinStat_Water Resources'!$M18","v":6.9856070128494467},{"$f":"'[2]FinStat_Water Resources'!$N18","v":7.1785523884059392},{"$f":"'[2]FinStat_Water Resources'!$O18","v":7.2571434421710181},{"$f":"'[2]FinStat_Water Resources'!$P18","v":7.2095243999857272},null,35.33576501162532,null,0,0,2.5999999999999999E-2,2.7E-2,2.1999999999999999E-2,1.6E-2,8.0000000000000002E-3,null,0.1,null,0,0,3.8777391974107456E-3,3.8650900272998081E-3,3.0646847455668277E-3,2.2047242317169225E-3,1.1096432380499105E-3,null,2.8299939159970194E-3]
[null,null,null,null,"Interest income /(expense) excl. indexation of index-linked loans - WR - nominal","PL & CF","£m",null,{"$f":"'[1]FinStat_Water Resources'!$J19","v":0},{"$f":"'[1]FinStat_Water Resources'!$K19","v":0},{"$f":"'[1]FinStat_Water Resources'!$L19","v":-3.4926521086661841},{"$f":"'[1]FinStat_Water Resources'!$M19","v":-3.1704651533513317},{"$f":"'[1]FinStat_Water Resources'!$N19","v":-3.7972057491208862},{"$f":"'[1]FinStat_Water Resources'!$O19","v":-4.3233039942500593},{"$f":"'[1]FinStat_Water Resources'!$P19","v":-4.4435563282990573},null,-19.22718333368752,null,{"$f":"'[2]FinStat_Water Resources'!$J19","v":0},{"$f":"'[2]FinStat_Water Resources'!$K19","v":0},{"$f":"'[2]FinStat_Water Resources'!$L19","v":-3.0810152972353686},{"$f":"'[2]FinStat_Water Resources'!$M19","v":-2.3619190444804889},{"$f":"'[2]FinStat_Water Resources'!$N19","v":-2.4532726646581651},{"$f":"'[2]FinStat_Water Resources'!$O19","v":-2.4891340909750266},{"$f":"'[2]FinStat_Water Resources'!$P19","v":-2.3291700716396462},null,-12.714511168988695,null,0,0,-0.41199999999999998,-0.80900000000000005,-1.3440000000000001,-1.8340000000000001,-2.1139999999999999,null,-6.5129999999999999,null,0,0,0.13372215333357559,0.34251809006347295,0.54783963452642592,0.73680241118773881,0.90761942450678368,null,0.51224934355994123]
[null,null,null,null,"Indexation of index-linked loans - WR - nominal","PL","£m",null,{"$f":"'[1]FinStat_Water Resources'!$J20","v":0},{"$f":"'[1]FinStat_Water Resources'!$K20","v":0},{"$f":"'[1]FinStat_Water Resources'!$L20","v":-1.2011852478737608},{"$f":"'[1]FinStat_Water Resources'!$M20","v":-1.2372208053099736},{"$f":"'[1]FinStat_Water Resources'!$N20","v":-1.2743374294692729},{"$f":"'[1]FinStat_Water Resources'!$O20","v":-1.3125675523533509},{"$f":"'[1]FinStat_Water Resources'!$P20","v":-1.3519445789239515},null,-6.3772556139303092,null,{"$f":"'[2]FinStat_Water Resources'!$J20","v":0},{"$f":"'[2]FinStat_Water Resources'!$K20","v":0},{"$f":"'[2]FinStat_Water Resources'!$L20","v":-1.1896963826420721},{"$f":"'[2]FinStat_Water Resources'!$M20","v":-1.2253872741213341},{"$f":"'[2]FinStat_Water Resources'!$N20","v":-1.2621488923449742},{"$f":"'[2]FinStat_Water Resources'!$O20","v":-1.3000133591153233},{"$f":"'[2]FinStat_Water Resources'!$P20","v":-1.339013759888783},null,-6.3162596681124867,null,0,0,-1.0999999999999999E-2,-1.2E-2,-1.2E-2,-1.2999999999999999E-2,-1.2999999999999999E-2,null,-6.0999999999999999E-2,null,0,0,9.2460565237420089E-3,9.7928224435043353E-3,9.5075946053440157E-3,9.9998972386304355E-3,9.7086380957577059E-3,null,9.6576143485609528E-3]
[null,null,null,null,"Earnings before tax (EBT) - WR - nominal",null,"£m",null,{"$f":"'[1]FinStat_Water Resources'!$J21","v":0},{"$f":"'[1]FinStat_Water Resources'!$K21","v":0},{"$f":"'[1]FinStat_Water Resources'!$L21","v":-0.14087556868426043},{"$f":"'[1]FinStat_Water Resources'!$M21","v":0.79274864858968774},{"$f":"'[1]FinStat_Water Resources'!$N21","v":0.8176414027617307},{"$f":"'[1]FinStat_Water Resources'!$O21","v":0.77467855185510825},{"$f":"'[1]FinStat_Water Resources'!$P21","v":1.2283871583566381},null,3.4725801928789042,null,{"$f":"'[2]FinStat_Water Resources'!$J21","v":0},{"$f":"'[2]FinStat_Water Resources'!$K21","v":0},{"$f":"'[2]FinStat_Water Resources'!$L21","v":0.78682418224732142},{"$f":"'[2]FinStat_Water Resources'!$M21","v":1.2351732669880615},{"$f":"'[2]FinStat_Water Resources'!$N21","v":0.89014571874173276},{"$f":"'[2]FinStat_Water Resources'!$O21","v":0.50594401272826239},{"$f":"'[2]FinStat_Water Resources'!$P21","v":0.87489495444464138},null,4.2929821351500195,null,0,0,-0.92800000000000005,-0.442,-7.2999999999999995E-2,0.26900000000000002,0.35299999999999998,null,-0.82,null,0,0,-1.1794248587396656,-0.35784453227182106,-8.2009044657530103E-2,0.53167938197240272,0.40347700967606381,null,-0.19100941354635867]
[null,null,null,null,null,null,null,null,null,null,null,null,null,null,null,null,null,null,null,null,null,null,null,null,null,null,null,null,0,0,0,0,0,0,0,null,0,null,0,0,0,0,0,0,0,null,0]
[null,null,null,null,"Water resources tax - nominal","PL","£m",null,{"$f":"'[1]FinStat_Water Resources'!$J23","v":0},{"$f":"'[1]FinStat_Water Resources'!$K23","v":0},{"$f":"'[1]FinStat_Water Resources'!$L23","v":0},{"$f":"'[1]FinStat_Water Resources'!$M23","v":0},{"$f":"'[1]FinStat_Water Resources'!$N23","v":0},{"$f":"'[1]FinStat_Water Resources'!$O23","v":0},{"$f":"'[1]FinStat_Water Resources'!$P23","v":0},null,0,null,{"$f":"'[2]FinStat_Water Resources'!$J23","v":0},{"$f":"'[2]FinStat_Water Resources'!$K23","v":0},{"$f":"'[2]FinStat_Water Resources'!$L23","v":0},{"$f":"'[2]FinStat_Water Resources'!$M23","v":0},{"$f":"'[2]FinStat_Water Resources'!$N23","v":0},{"$f":"'[2]FinStat_Water Resources'!$O23","v":0},{"$f":"'[2]FinStat_Water Resources'!$P23","v":0},null,0,null,0,0,0,0,0,0,0,null,0,null,0,0,0,0,0,0,0,null,0]
[null,null,null,null,"Movement in deferred tax provision - WR - nominal","PL","£m",null,{"$f":"'[1]FinStat_Water Resources'!$J24","v":0},{"$f":"'[1]FinStat_Water Resources'!$K24","v":0},{"$f":"'[1]FinStat_Water Resources'!$L24","v":0.44005119165169987},{"$f":"'[1]FinStat_Water Resources'!$M24","v":0.66892537033813937},{"$f":"'[1]FinStat_Water Resources'!$N24","v":0.82581267392362512},{"$f":"'[1]FinStat_Water Resources'!$O24","v":0.97654252939019126},{"$f":"'[1]FinStat_Water Resources'!$P24","v":0.99194506847501784},null,3.9032768337786736,null,{"$f":"'[2]FinStat_Water Resources'!$J24","v":0},{"$f":"'[2]FinStat_Water Resources'!$K24","v":0},{"$f":"'[2]FinStat_Water Resources'!$L24","v":0.48144601602595005},{"$f":"'[2]FinStat_Water Resources'!$M24","v":0.68333825574321538},{"$f":"'[2]FinStat_Water Resources'!$N24","v":0.82899186264200708},{"$f":"'[2]FinStat_Water Resources'!$O24","v":0.96620070570586525},{"$f":"'[2]FinStat_Water Resources'!$P24","v":0.97549409543031929},null,3.9354709355473565,null,0,0,-4.1000000000000002E-2,-1.4E-2,-3.0000000000000001E-3,0.01,1.6E-2,null,-3.2000000000000001E-2,null,0,0,-8.5160118965009968E-2,-2.0487657294663328E-2,-3.6188533750367148E-3,1.0349816493555989E-2,1.6401944486339436E-2,null,-8.1311742670891682E-3]
[null,null,null,null,"Earnings after tax (EAT) - WR - nominal",null,"£m",null,{"$f":"'[1]FinStat_Water Resources'!$J25","v":0},{"$f":"'[1]FinStat_Water Resources'!$K25","v":0},{"$f":"'[1]FinStat_Water Resources'!$L25","v":0.29917562296743944},{"$f":"'[1]FinStat_Water Resources'!$M25","v":1.4616740189278272},{"$f":"'[1]FinStat_Water Resources'!$N25","v":1.6434540766853558},{"$f":"'[1]FinStat_Water Resources'!$O25","v":1.7512210812452995},{"$f":"'[1]FinStat_Water Resources'!$P25","v":2.2203322268316561},null,7.3758570266575774,null,{"$f":"'[2]FinStat_Water Resources'!$J25","v":0},{"$f":"'[2]FinStat_Water Resources'!$K25","v":0},{"$f":"'[2]FinStat_Water Resources'!$L25","v":1.2682701982732714},{"$f":"'[2]FinStat_Water Resources'!$M25","v":1.918511522731277},{"$f":"'[2]FinStat_Water Resources'!$N25","v":1.7191375813837397},{"$f":"'[2]FinStat_Water Resources'!$O25","v":1.4721447184341276},{"$f":"'[2]FinStat_Water Resources'!$P25","v":1.8503890498749607},null,8.2284530706973751,null,0,0,-0.96899999999999997,-0.45700000000000002,-7.5999999999999998E-2,0.27900000000000003,0.37,null,-0.85299999999999998,null,0,0,-0.76403277575967432,-0.23820550180975447,-4.4208212782380886E-2,0.18951941103777029,0.19995794939718359,null,-0.10366468553337777]
[null,null,null,null,null,null,null,null,null,null,null,null,null,null,null,null,null,null,null,null,null,null,null,null,null,null,null,null,0,0,0,0,0,0,0,null,0,null,0,0,0,0,0,0,0,null,0]
[null,null,null,null,"Ordinary dividend declared - WR - nominal","PL","£m",null,{"$f":"'[1]FinStat_Water Resources'!$J27","v":0},{"$f":"'[1]FinStat_Water Resources'!$K27","v":0},{"$f":"'[1]FinStat_Water Resources'!$L27","v":-2.2106788866783393},{"$f":"'[1]FinStat_Water Resources'!$M27","v":-2.2853335126814671},{"$f":"'[1]FinStat_Water Resources'!$N27","v":-2.3625092254047209},{"$f":"'[1]FinStat_Water Resources'!$O27","v":-2.4422911619466383},{"$f":"'[1]FinStat_Water Resources'!$P27","v":-2.5247673344855763},null,-11.825580121196742,null,{"$f":"'[2]FinStat_Water Resources'!$J27","v":0},{"$f":"'[2]FinStat_Water Resources'!$K27","v":0},{"$f":"'[2]FinStat_Water Resources'!$L27","v":-1.5230248788855616},{"$f":"'[2]FinStat_Water Resources'!$M27","v":-1.5718811997312758},{"$f":"'[2]FinStat_Water Resources'!$N27","v":-1.6234327984687484},{"$f":"'[2]FinStat_Water Resources'!$O27","v":-1.6770836809059848},{"$f":"'[2]FinStat_Water Resources'!$P27","v":-1.7325076069758318},null,-8.1279301649674025,null,0,0,-0.68799999999999994,-0.71299999999999997,-0.73899999999999999,-0.76500000000000001,-0.79200000000000004,null,-3.698,null,0,0,0.45173260761401884,0.45359662048371868,0.45520824803899385,0.45614897378688701,0.45714084995128584,null,0.45497438153921821]
[null,null,null,null,"Retained earnings - WR - nominal",null,"£m",null,{"$f":"'[1]FinStat_Water Resources'!$J28","v":0},{"$f":"'[1]FinStat_Water Resources'!$K28","v":0},{"$f":"'[1]FinStat_Water Resources'!$L28","v":-1.9115032637109},{"$f":"'[1]FinStat_Water Resources'!$M28","v":-0.82365949375363989},{"$f":"'[1]FinStat_Water Resources'!$N28","v":-0.71905514871936504},{"$f":"'[1]FinStat_Water Resources'!$O28","v":-0.6910700807013388},{"$f":"'[1]FinStat_Water Resources'!$P28","v":-0.30443510765392023},null,-4.4497230945391637,null,{"$f":"'[2]FinStat_Water Resources'!$J28","v":0},{"$f":"'[2]FinStat_Water Resources'!$K28","v":0},{"$f":"'[2]FinStat_Water Resources'!$L28","v":-0.25475468061229023},{"$f":"'[2]FinStat_Water Resources'!$M28","v":0.34663032300000118},{"$f":"'[2]FinStat_Water Resources'!$N28","v":9.5704782914991293E-2},{"$f":"'[2]FinStat_Water Resources'!$O28","v":-0.20493896247185717},{"$f":"'[2]FinStat_Water Resources'!$P28","v":0.11788144289912883},null,0.10052290572997391,null,0,0,-1.657,-1.17,-0.81499999999999995,-0.48599999999999999,-0.42199999999999999,null,-4.55,null,0,0,6.5042965884571098,-3.3753538636606697,-8.5157708442211781,2.3714377887842533,-3.5798679556468058,null,-45.263315529519964]
[null,null,null,null,null,null,null,null,null,null,null,null,null,null,null,null,null,null,null,null,null,null,null,null,null,null,null,null,0,0,0,0,0,0,0,null,0,null,0,0,0,0,0,0,0,null,0]
[null,"Retained earnings balance - WR",null,null,null,null,null,null,null,null,null,null,null,null,null,null,null,null,null,null,null,null,null,null,null,null,null,null,0,0,0,0,0,0,0,null,0,null,0,0,0,0,0,0,0,null,0]
[null,null,null,null,"Accumulated profit reserve b/f - WR - nominal",0,"£m",null,{"$f":"'[1]FinStat_Water Resources'!$J31","v":0},{"$f":"'[1]FinStat_Water Resources'!$K31","v":63.776089104719617},{"$f":"'[1]FinStat_Water Resources'!$L31","v":0},{"$f":"'[1]FinStat_Water Resources'!$M31","v":0},{"$f":"'[1]FinStat_Water Resources'!$N31","v":0},{"$f":"'[1]FinStat_Water Resources'!$O31","v":0},{"$f":"'[1]FinStat_Water Resources'!$P31","v":0},null,63.776089104719617,null,{"$f":"'[2]FinStat_Water Resources'!$J31","v":0},{"$f":"'[2]FinStat_Water Resources'!$K31","v":49.399069572885061},{"$f":"'[2]FinStat_Water Resources'!$L31","v":0},{"$f":"'[2]FinStat_Water Resources'!$M31","v":0},{"$f":"'[2]FinStat_Water Resources'!$N31","v":0},{"$f":"'[2]FinStat_Water Resources'!$O31","v":0},{"$f":"'[2]FinStat_Water Resources'!$P31","v":0},null,49.399069572885061,null,0,14.377000000000001,0,0,0,0,0,null,14.377000000000001,null,0,0.29103787023331862,0,0,0,0,0,null,0.29103787023331862]
[null,null,null,null,"Last pre-forecast period flag",0,"flag",null,{"$f":"'[1]FinStat_Water Resources'!$J32","v":0},{"$f":"'[1]FinStat_Water Resources'!$K32","v":1},{"$f":"'[1]FinStat_Water Resources'!$L32","v":0},{"$f":"'[1]FinStat_Water Resources'!$M32","v":0},{"$f":"'[1]FinStat_Water Resources'!$N32","v":0},{"$f":"'[1]FinStat_Water Resources'!$O32","v":0},{"$f":"'[1]FinStat_Water Resources'!$P32","v":0},null,1,null,{"$f":"'[2]FinStat_Water Resources'!$J32","v":0},{"$f":"'[2]FinStat_Water Resources'!$K32","v":1},{"$f":"'[2]FinStat_Water Resources'!$L32","v":0},{"$f":"'[2]FinStat_Water Resources'!$M32","v":0},{"$f":"'[2]FinStat_Water Resources'!$N32","v":0},{"$f":"'[2]FinStat_Water Resources'!$O32","v":0},{"$f":"'[2]FinStat_Water Resources'!$P32","v":0},null,1,null,0,0,0,0,0,0,0,null,0,null,0,0,0,0,0,0,0,null,0]
[null,null,null,null,null,null,null,null,null,null,null,null,null,null,null,null,null,null,null,null,null,null,null,null,null,null,null,null,0,0,0,0,0,0,0,null,0,null,0,0,0,0,0,0,0,null,0]
[null,null,null,null,"Retained earnings balance - WR BEG - nominal",null,"£m",null,{"$f":"'[1]FinStat_Water Resources'!$J34","v":0},{"$f":"'[1]FinStat_Water Resources'!$K34","v":0},{"$f":"'[1]FinStat_Water Resources'!$L34","v":63.776089104719617},{"$f":"'[1]FinStat_Water Resources'!$M34","v":61.864585841008719},{"$f":"'[1]FinStat_Water Resources'!$N34","v":61.04092634725508},{"$f":"'[1]FinStat_Water Resources'!$O34","v":60.321871198535717},{"$f":"'[1]FinStat_Water Resources'!$P34","v":59.63080111783438},null,306.6342736093535,null,{"$f":"'[2]FinStat_Water Resources'!$J34","v":0},{"$f":"'[2]FinStat_Water Resources'!$K34","v":0},{"$f":"'[2]FinStat_Water Resources'!$L34","v":49.399069572885061},{"$f":"'[2]FinStat_Water Resources'!$M34","v":49.144314892272774},{"$f":"'[2]FinStat_Water Resources'!$N34","v":49.490945215272774},{"$f":"'[2]FinStat_Water Resources'!$O34","v":49.586649998187767},{"$f":"'[2]FinStat_Water Resources'!$P34","v":49.381711035715909},null,247.00269071433428,null,0,0,14.377000000000001,12.72,11.55,10.734999999999999,10.249000000000001,null,59.631999999999998,null,0,0,0.29103787023331862,0.25882953151108096,0.23337602362938303,0.216489720527447,0.2075464738876158,null,0.24142247125949784]
[null,null,null,"plus","Retained earnings - WR - nominal",0,"£m",null,{"$f":"'[1]FinStat_Water Resources'!$J35","v":0},{"$f":"'[1]FinStat_Water Resources'!$K35","v":0},{"$f":"'[1]FinStat_Water Resources'!$L35","v":-1.9115032637109},{"$f":"'[1]FinStat_Water Resources'!$M35","v":-0.82365949375363989},{"$f":"'[1]FinStat_Water Resources'!$N35","v":-0.71905514871936504},{"$f":"'[1]FinStat_Water Resources'!$O35","v":-0.6910700807013388},{"$f":"'[1]FinStat_Water Resources'!$P35","v":-0.30443510765392023},null,-4.4497230945391637,null,{"$f":"'[2]FinStat_Water Resources'!$J35","v":0},{"$f":"'[2]FinStat_Water Resources'!$K35","v":0},{"$f":"'[2]FinStat_Water Resources'!$L35","v":-0.25475468061229023},{"$f":"'[2]FinStat_Water Resources'!$M35","v":0.34663032300000118},{"$f":"'[2]FinStat_Water Resources'!$N35","v":9.5704782914991293E-2},{"$f":"'[2]FinStat_Water Resources'!$O35","v":-0.20493896247185717},{"$f":"'[2]FinStat_Water Resources'!$P35","v":0.11788144289912883},null,0.10052290572997391,null,0,0,-1.657,-1.17,-0.81499999999999995,-0.48599999999999999,-0.42199999999999999,null,-4.55,null,0,0,6.5042965884571098,-3.3753538636606697,-8.5157708442211781,2.3714377887842533,-3.5798679556468058,null,-45.263315529519964]
[null,null,null,null,"Retained earnings balance - WR - nominal",null,"£m",null,{"$f":"'[1]FinStat_Water Resources'!$J36","v":0},{"$f":"'[1]FinStat_Water Resources'!$K36","v":63.776089104719617},{"$f":"'[1]FinStat_Water Resources'!$L36","v":61.864585841008719},{"$f":"'[1]FinStat_Water Resources'!$M36","v":61.04092634725508},{"$f":"'[1]FinStat_Water Resources'!$N36","v":60.321871198535717},{"$f":"'[1]FinStat_Water Resources'!$O36","v":59.63080111783438},{"$f":"'[1]FinStat_Water Resources'!$P36","v":59.326366010180458},null,365.96063961953394,null,{"$f":"'[2]FinStat_Water Resources'!$J36","v":0},{"$f":"'[2]FinStat_Water Resources'!$K36","v":49.399069572885061},{"$f":"'[2]FinStat_Water Resources'!$L36","v":49.144314892272774},{"$f":"'[2]FinStat_Water Resources'!$M36","v":49.490945215272774},{"$f":"'[2]FinStat_Water Resources'!$N36","v":49.586649998187767},{"$f":"'[2]FinStat_Water Resources'!$O36","v":49.381711035715909},{"$f":"'[2]FinStat_Water Resources'!$P36","v":49.499592478615035},null,296.50228319294933,null,0,14.377000000000001,12.72,11.55,10.734999999999999,10.249000000000001,9.827,null,69.457999999999998,null,0,0.29103787023331862,0.25882953151108096,0.23337602362938303,0.216489720527447,0.2075464738876158,0.19852688694852366,null,0.23425789255997093]
[]
["CASH FLOW "]
[]
[null,"Cash flow from operating activities"]
[null,null,null,null,"Earnings before interest and tax (EBIT) - WR - nominal",0,"£m",null,{"$f":"'[1]FinStat_Water Resources'!$J43","v":0},{"$f":"'[1]FinStat_Water Resources'!$K43","v":0},{"$f":"'[1]FinStat_Water Resources'!$L43","v":-2.1781855880533776},{"$f":"'[1]FinStat_Water Resources'!$M43","v":-1.8121905106028322},{"$f":"'[1]FinStat_Water Resources'!$N43","v":-1.3118284648034706},{"$f":"'[1]FinStat_Water Resources'!$O43","v":-0.86216978403154343},{"$f":"'[1]FinStat_Water Resources'!$P43","v":-0.19403417278004298},null,{"$f":"SUM(I49:O49)","v":-6.3584085202712668},null,{"$f":"'[2]FinStat_Water Resources'!$J43","v":0},{"$f":"'[2]FinStat_Water Resources'!$K43","v":0},{"$f":"'[2]FinStat_Water Resources'!$L43","v":-1.6474019060884242},{"$f":"'[2]FinStat_Water Resources'!$M43","v":-2.1631274272595622},{"$f":"'[2]FinStat_Water Resources'!$N43","v":-2.5729851126610672},{"$f":"'[2]FinStat_Water Resources'!$O43","v":-2.9620519793524061},{"$f":"'[2]FinStat_Water Resources'!$P43","v":-2.6664456140126571},null,{"$f":"SUM(S49:Y49)","v":-12.012012039374117},null,{"$f":"ROUND(I49 - S49, 3)","v":0},{"$f":"ROUND(J49 - T49, 3)","v":0},{"$f":"ROUND(K49 - U49, 3)","v":-0.53100000000000003},{"$f":"ROUND(L49 - V49, 3)","v":0.35099999999999998},{"$f":"ROUND(M49 - W49, 3)","v":1.2609999999999999},{"$f":"ROUND(N49 - X49, 3)","v":2.1},{"$f":"ROUND(O49 - Y49, 3)","v":2.472},null,{"$f":"ROUND(Q49 - AA49, 3)","v":5.6539999999999999},null,{"$f":"IF(S49 = 0, 0, AC49 / S49)","v":0},{"$f":"IF(T49 = 0, 0, AD49 / T49)","v":0},{"$f":"IF(U49 = 0, 0, AE49 / U49)","v":0.32232571665575011},{"$f":"IF(V49 = 0, 0, AF49 / V49)","v":-0.16226505918085338},{"$f":"IF(W49 = 0, 0, AG49 / W49)","v":-0.49009222548350911},{"$f":"IF(X49 = 0, 0, AH49 / X49)","v":-0.70896797714506121},{"$f":"IF(Y49 = 0, 0, AI49 / Y49)","v":-0.92707684979929461},null,{"$f":"IF(AA49 = 0, 0, AK49 / AA49)","v":-0.47069549892780499}]
[null,null,null,null,"Wholesale fixed assets depreciation - WR - nominal POS","CF","£m",null,{"$f":"'[1]FinStat_Water Resources'!$J44","v":0},{"$f":"'[1]FinStat_Water Resources'!$K44","v":0},{"$f":"'[1]FinStat_Water Resources'!$L44","v":12.796889916957138},{"$f":"'[1]FinStat_Water Resources'!$M44","v":13.617027852770626},{"$f":"'[1]FinStat_Water Resources'!$N44","v":14.503375493079213},{"$f":"'[1]FinStat_Water Resources'!$O44","v":15.296541178958101},{"$f":"'[1]FinStat_Water Resources'!$P44","v":15.231648633886287},null,{"$f":"SUM(I50:O50)","v":71.445483075651367},null,{"$f":"'[2]FinStat_Water Resources'!$J44","v":0},{"$f":"'[2]FinStat_Water Resources'!$K44","v":0},{"$f":"'[2]FinStat_Water Resources'!$L44","v":12.544739420120143},{"$f":"'[2]FinStat_Water Resources'!$M44","v":12.926065492567199},{"$f":"'[2]FinStat_Water Resources'!$N44","v":13.463418894288987},{"$f":"'[2]FinStat_Water Resources'!$O44","v":13.991743804420285},{"$f":"'[2]FinStat_Water Resources'!$P44","v":13.836433802290591},null,{"$f":"SUM(S50:Y50)","v":66.762401413687201},null,0,0,0.252,0.69099999999999995,1.04,1.3049999999999999,1.395,null,4.6829999999999998,null,0,0,2.008810159865294E-2,5.3457875514969479E-2,7.7246352369022331E-2,9.3269289249544654E-2,0.10082077650449647,null,7.0144271338926423E-2]
[null,null,null,null,"Movement in inventories - WR - nominal","CF","£m",null,{"$f":"'[1]FinStat_Water Resources'!$J45","v":0},{"$f":"'[1]FinStat_Water Resources'!$K45","v":0},{"$f":"'[1]FinStat_Water Resources'!$L45","v":-1.709937515314347E-2},{"$f":"'[1]FinStat_Water Resources'!$M45","v":-1.0185846662206677E-2},{"$f":"'[1]FinStat_Water Resources'!$N45","v":-1.1594374348924574E-2},{"$f":"'[1]FinStat_Water Resources'!$O45","v":2.4587448010903179E-3},{"$f":"'[1]FinStat_Water Resources'!$P45","v":4.9386849342524242E-3},null,-3.1482166428931979E-2,null,{"$f":"'[2]FinStat_Water Resources'!$J45","v":0},{"$f":"'[2]FinStat_Water Resources'!$K45","v":0},{"$f":"'[2]FinStat_Water Resources'!$L45","v":-2.4156111579110573E-3},{"$f":"'[2]FinStat_Water Resources'!$M45","v":3.4064249713749994E-4},{"$f":"'[2]FinStat_Water Resources'!$N45","v":-5.2312504045385344E-3},{"$f":"'[2]FinStat_Water Resources'!$O45","v":5.9078592466782487E-4},{"$f":"'[2]FinStat_Water Resources'!$P45","v":1.5257020567260304E-3},null,-5.1897310839182365E-3,null,0,0,-1.4999999999999999E-2,-1.0999999999999999E-2,-6.0000000000000001E-3,2E-3,3.0000000000000001E-3,null,-2.5999999999999999E-2,null,0,0,6.2096086743412444,-32.291919218640132,1.1469533163227119,3.3853210045999647,1.9663078952896165,null,5.0098934953620082]
[null,null,null,null,"Movement in trade debtors and other receivables - WR - nominal","CF","£m",null,{"$f":"'[1]FinStat_Water Resources'!$J46","v":0},{"$f":"'[1]FinStat_Water Resources'!$K46","v":0},{"$f":"'[1]FinStat_Water Resources'!$L46","v":-0.12030878621778252},{"$f":"'[1]FinStat_Water Resources'!$M46","v":-7.8583100812552154E-2},{"$f":"'[1]FinStat_Water Resources'!$N46","v":-7.825726700633151E-2},{"$f":"'[1]FinStat_Water Resources'!$O46","v":4.5029359885130571E-2},{"$f":"'[1]FinStat_Water Resources'!$P46","v":6.9408777208553651E-2},null,-0.16271101694298196,null,{"$f":"'[2]FinStat_Water Resources'!$J46","v":0},{"$f":"'[2]FinStat_Water Resources'!$K46","v":0},{"$f":"'[2]FinStat_Water Resources'!$L46","v":1.1348564736505029E-2},{"$f":"'[2]FinStat_Water Resources'!$M46","v":1.4672628182136993E-2},{"$f":"'[2]FinStat_Water Resources'!$N46","v":-2.4115562307809757E-2},{"$f":"'[2]FinStat_Water Resources'!$O46","v":2.6232699716585817E-2},{"$f":"'[2]FinStat_Water Resources'!$P46","v":3.7208694203512138E-2},null,6.534702453093022E-2,null,0,0,-0.13200000000000001,-9.2999999999999999E-2,-5.3999999999999999E-2,1.9E-2,3.2000000000000001E-2,null,-0.22800000000000001,null,0,0,-11.631426798438611,-6.3383327680327701,2.2392179502491736,0.72428687116740453,0.86001405545103793,null,-3.4890647529342744]
[null,null,null,null,"Movement in working capital - trade payables - WR - nominal","CF","£m",null,{"$f":"'[1]FinStat_Water Resources'!$J47","v":0},{"$f":"'[1]FinStat_Water Resources'!$K47","v":0},{"$f":"'[1]FinStat_Water Resources'!$L47","v":5.8578842255215049},{"$f":"'[1]FinStat_Water Resources'!$M47","v":-2.0897836357008632},{"$f":"'[1]FinStat_Water Resources'!$N47","v":0.15027005551632744},{"$f":"'[1]FinStat_Water Resources'!$O47","v":-2.6382119750852282},{"$f":"'[1]FinStat_Water Resources'!$P47","v":-1.3770361150141759},null,-9.6877444762434983E-2,null,{"$f":"'[2]FinStat_Water Resources'!$J47","v":0},{"$f":"'[2]FinStat_Water Resources'!$K47","v":0},{"$f":"'[2]FinStat_Water Resources'!$L47","v":0.34507410506109482},{"$f":"'[2]FinStat_Water Resources'!$M47","v":0.15043775081263977},{"$f":"'[2]FinStat_Water Resources'!$N47","v":1.018021456541538},{"$f":"'[2]FinStat_Water Resources'!$O47","v":-1.4684258997286652},{"$f":"'[2]FinStat_Water Resources'!$P47","v":-0.57850279606605648},null,-0.53339538337944914,null,0,0,5.5129999999999999,-2.2400000000000002,-0.86799999999999999,-1.17,-0.79900000000000004,null,0.437,null,0,0,15.976278483788089,-14.889879620639713,-0.85263428822885845,0.79677156349271128,1.3811514921507242,null,-0.81927968185867295]
[null,null,null,null,"Movement in other creditors - WR - nominal","CF","£m",null,{"$f":"'[1]FinStat_Water Resources'!$J48","v":0},{"$f":"'[1]FinStat_Water Resources'!$K48","v":0},{"$f":"'[1]FinStat_Water Resources'!$L48","v":33.690694432137178},{"$f":"'[1]FinStat_Water Resources'!$M48","v":0.54342066563810931},{"$f":"'[1]FinStat_Water Resources'!$N48","v":-3.9534493719604171},{"$f":"'[1]FinStat_Water Resources'!$O48","v":-1.0712606121904287},{"$f":"'[1]FinStat_Water Resources'!$P48","v":-2.1539601589112323},null,27.055444954713209,null,{"$f":"'[2]FinStat_Water Resources'!$J48","v":0},{"$f":"'[2]FinStat_Water Resources'!$K48","v":0},{"$f":"'[2]FinStat_Water Resources'!$L48","v":33.162189022588748},{"$f":"'[2]FinStat_Water Resources'!$M48","v":-1.2773340378564129},{"$f":"'[2]FinStat_Water Resources'!$N48","v":0.77751691445212145},{"$f":"'[2]FinStat_Water Resources'!$O48","v":1.1794914150080729},{"$f":"'[2]FinStat_Water Resources'!$P48","v":-0.14165813251399584},null,33.700205181678534,null,0,0,0.52900000000000003,1.821,-4.7309999999999999,-2.2509999999999999,-2.012,null,-6.6449999999999996,null,0,0,1.5951902319827758E-2,-1.4256255184868889,-6.0847550864326942,-1.9084496685247965,14.203208557766454,null,-0.19717980837732771]
[null,null,null,null,"Movement in Pensions (+ve = increase in provision) - WR - nominal","CF","£m",null,{"$f":"'[1]FinStat_Water Resources'!$J49","v":0},{"$f":"'[1]FinStat_Water Resources'!$K49","v":0},{"$f":"'[1]FinStat_Water Resources'!$L49","v":-0.50761310207999999},{"$f":"'[1]FinStat_Water Resources'!$M49","v":-0.52211633356799991},{"$f":"'[1]FinStat_Water Resources'!$N49","v":-0.53810614628351994},{"$f":"'[1]FinStat_Water Resources'!$O49","v":-0.55339501782122491},{"$f":"'[1]FinStat_Water Resources'!$P49","v":-0.57023452265799346},null,-2.6914651224107384,null,{"$f":"'[2]FinStat_Water Resources'!$J49","v":0},{"$f":"'[2]FinStat_Water Resources'!$K49","v":0},{"$f":"'[2]FinStat_Water Resources'!$L49","v":-1.0479769743287939},{"$f":"'[2]FinStat_Water Resources'!$M49","v":-1.0675975009665897},{"$f":"'[2]FinStat_Water Resources'!$N49","v":-1.0904230178432026},{"$f":"'[2]FinStat_Water Resources'!$O49","v":0},{"$f":"'[2]FinStat_Water Resources'!$P49","v":0},null,-3.205997493138586,null,0,0,0.54,0.54500000000000004,0.55200000000000005,-0.55300000000000005,-0.56999999999999995,null,0.51500000000000001,null,0,0,-0.51527849678744908,-0.51049201548951151,-0.50622555739131958,0,0,null,-0.16063643253065327]
[null,null,null,null,"Movement in provisions - WR - nominal","CF","£m",null,{"$f":"'[1]FinStat_Water Resources'!$J50","v":0},{"$f":"'[1]FinStat_Water Resources'!$K50","v":0},{"$f":"'[1]FinStat_Water Resources'!$L50","v":8.8784673320830843E-3},{"$f":"'[1]FinStat_Water Resources'!$M50","v":9.1548498854440528E-3},{"$f":"'[1]FinStat_Water Resources'!$N50","v":9.5796529117265009E-3},{"$f":"'[1]FinStat_Water Resources'!$O50","v":9.4992453430993301E-3},{"$f":"'[1]FinStat_Water Resources'!$P50","v":9.285215293870901E-3},null,4.6397430766223866E-2,null,{"$f":"'[2]FinStat_Water Resources'!$J50","v":0},{"$f":"'[2]FinStat_Water Resources'!$K50","v":0},{"$f":"'[2]FinStat_Water Resources'!$L50","v":8.4229113250712251E-3},{"$f":"'[2]FinStat_Water Resources'!$M50","v":8.3681515451509633E-3},{"$f":"'[2]FinStat_Water Resources'!$N50","v":8.5853834407726651E-3},{"$f":"'[2]FinStat_Water Resources'!$O50","v":8.5647173634687147E-3},{"$f":"'[2]FinStat_Water Resources'!$P50","v":8.4644599190739755E-3},null,4.2405623593537542E-2,null,0,0,0,1E-3,1E-3,1E-3,1E-3,null,4.0000000000000001E-3,null,0,0,0,0.11950070390150419,0.11647703412417446,0.11675808524228984,0.11814102843662605,null,9.432711185526782E-2]
[null,null,null,null,"Movement in other liabilities - WR - nominal","CF","£m",null,{"$f":"'[1]FinStat_Water Resources'!$J51","v":"na"},{"$f":"'[1]FinStat_Water Resources'!$K51","v":"na"},{"$f":"'[1]FinStat_Water Resources'!$L51","v":"na"},{"$f":"'[1]FinStat_Water Resources'!$M51","v":"na"},{"$f":"'[1]FinStat_Water Resources'!$N51","v":"na"},{"$f":"'[1]FinStat_Water Resources'!$O51","v":"na"},{"$f":"'[1]FinStat_Water Resources'!$P51","v":"na"},null,0,null,{"$f":"'[2]FinStat_Water Resources'!$J51","v":"na"},{"$f":"'[2]FinStat_Water Resources'!$K51","v":"na"},{"$f":"'[2]FinStat_Water Resources'!$L51","v":"na"},{"$f":"'[2]FinStat_Water Resources'!$M51","v":"na"},{"$f":"'[2]FinStat_Water Resources'!$N51","v":"na"},{"$f":"'[2]FinStat_Water Resources'!$O51","v":"na"},{"$f":"'[2]FinStat_Water Resources'!$P51","v":"na"},null,0,null,{"$error":"#VALUE!"},{"$error":"#VALUE!"},{"$error":"#VALUE!"},{"$error":"#VALUE!"},{"$error":"#VALUE!"},{"$error":"#VALUE!"},{"$error":"#VALUE!"},null,0,null,{"$error":"#VALUE!"},{"$error":"#VALUE!"},{"$error":"#VALUE!"},{"$error":"#VALUE!"},{"$error":"#VALUE!"},{"$error":"#VALUE!"},{"$error":"#VALUE!"},null,0]
[null,null,null,null,"Net cash generated / (used) in operations - WR - nominal",null,"£m",null,{"$f":"'[1]FinStat_Water Resources'!$J52","v":0},{"$f":"'[1]FinStat_Water Resources'!$K52","v":0},{"$f":"'[1]FinStat_Water Resources'!$L52","v":49.531140190443594},{"$f":"'[1]FinStat_Water Resources'!$M52","v":9.6567439409477256},{"$f":"'[1]FinStat_Water Resources'!$N52","v":8.769989577104603},{"$f":"'[1]FinStat_Water Resources'!$O52","v":10.228491139858995},{"$f":"'[1]FinStat_Water Resources'!$P52","v":11.02001634195952},null,89.206381190314431,null,{"$f":"'[2]FinStat_Water Resources'!$J52","v":0},{"$f":"'[2]FinStat_Water Resources'!$K52","v":0},{"$f":"'[2]FinStat_Water Resources'!$L52","v":43.373979532256428},{"$f":"'[2]FinStat_Water Resources'!$M52","v":8.5918256995216993},{"$f":"'[2]FinStat_Water Resources'!$N52","v":11.574787705506802},{"$f":"'[2]FinStat_Water Resources'!$O52","v":10.776145543352008},{"$f":"'[2]FinStat_Water Resources'!$P52","v":10.497026115877194},null,84.813764596514119,null,0,0,6.157,1.0649999999999999,-2.8050000000000002,-0.54800000000000004,0.52300000000000002,null,4.3929999999999998,null,0,0,0.14195146644132925,0.12395502856386946,-0.24233705804085703,-5.0853062237830558E-2,4.9823635211209055E-2,null,5.1795837867814137E-2]
[null,null,null,null,null,null,null,null,null,null,null,null,null,null,null,null,null,null,null,null,null,null,null,null,null,null,null,null,0,0,0,0,0,0,0,null,0,null,0,0,0,0,0,0,0,null,0]
[null,null,null,null,"Total other income (incl. 3rd party income) - WR - nominal","PL & CF","£m",null,{"$f":"'[1]FinStat_Water Resources'!$J54","v":0},{"$f":"'[1]FinStat_Water Resources'!$K54","v":0},{"$f":"'[1]FinStat_Water Resources'!$L54","v":6.7311473759090621},{"$f":"'[1]FinStat_Water Resources'!$M54","v":7.0126251178538253},{"$f":"'[1]FinStat_Water Resources'!$N54","v":7.2010130461553601},{"$f":"'[1]FinStat_Water Resources'!$O54","v":7.2727198824900618},{"$f":"'[1]FinStat_Water Resources'!$P54","v":7.2179222383596899},null,35.435427660767999,null,{"$f":"'[2]FinStat_Water Resources'!$J54","v":0},{"$f":"'[2]FinStat_Water Resources'!$K54","v":0},{"$f":"'[2]FinStat_Water Resources'!$L54","v":6.7049377682131865},{"$f":"'[2]FinStat_Water Resources'!$M54","v":6.9856070128494467},{"$f":"'[2]FinStat_Water Resources'!$N54","v":7.1785523884059392},{"$f":"'[2]FinStat_Water Resources'!$O54","v":7.2571434421710181},{"$f":"'[2]FinStat_Water Resources'!$P54","v":7.2095243999857272},null,35.33576501162532,null,0,0,2.5999999999999999E-2,2.7E-2,2.1999999999999999E-2,1.6E-2,8.0000000000000002E-3,null,0.1,null,0,0,3.8777391974107456E-3,3.8650900272998081E-3,3.0646847455668277E-3,2.2047242317169225E-3,1.1096432380499105E-3,null,2.8299939159970194E-3]
[null,null,null,null,"Interest income /(expense) excl. indexation of index-linked loans - WR - nominal","PL & CF","£m",null,{"$f":"'[1]FinStat_Water Resources'!$J55","v":0},{"$f":"'[1]FinStat_Water Resources'!$K55","v":0},{"$f":"'[1]FinStat_Water Resources'!$L55","v":-3.4926521086661841},{"$f":"'[1]FinStat_Water Resources'!$M55","v":-3.1704651533513317},{"$f":"'[1]FinStat_Water Resources'!$N55","v":-3.7972057491208862},{"$f":"'[1]FinStat_Water Resources'!$O55","v":-4.3233039942500593},{"$f":"'[1]FinStat_Water Resources'!$P55","v":-4.4435563282990573},null,-19.22718333368752,null,{"$f":"'[2]FinStat_Water Resources'!$J55","v":0},{"$f":"'[2]FinStat_Water Resources'!$K55","v":0},{"$f":"'[2]FinStat_Water Resources'!$L55","v":-3.0810152972353686},{"$f":"'[2]FinStat_Water Resources'!$M55","v":-2.3619190444804889},{"$f":"'[2]FinStat_Water Resources'!$N55","v":-2.4532726646581651},{"$f":"'[2]FinStat_Water Resources'!$O55","v":-2.4891340909750266},{"$f":"'[2]FinStat_Water Resources'!$P55","v":-2.3291700716396462},null,-12.714511168988695,null,0,0,-0.41199999999999998,-0.80900000000000005,-1.3440000000000001,-1.8340000000000001,-2.1139999999999999,null,-6.5129999999999999,null,0,0,0.13372215333357559,0.34251809006347295,0.54783963452642592,0.73680241118773881,0.90761942450678368,null,0.51224934355994123]
[null,null,null,null,"Tax paid - WR - nominal","CF","£m",null,{"$f":"'[1]FinStat_Water Resources'!$J56","v":0},{"$f":"'[1]FinStat_Water Resources'!$K56","v":0},{"$f":"'[1]FinStat_Water Resources'!$L56","v":0},{"$f":"'[1]FinStat_Water Resources'!$M56","v":0},{"$f":"'[1]FinStat_Water Resources'!$N56","v":0},{"$f":"'[1]FinStat_Water Resources'!$O56","v":0},{"$f":"'[1]FinStat_Water Resources'!$P56","v":0},null,0,null,{"$f":"'[2]FinStat_Water Resources'!$J56","v":0},{"$f":"'[2]FinStat_Water Resources'!$K56","v":0},{"$f":"'[2]FinStat_Water Resources'!$L56","v":0},{"$f":"'[2]FinStat_Water Resources'!$M56","v":0},{"$f":"'[2]FinStat_Water Resources'!$N56","v":0},{"$f":"'[2]FinStat_Water Resources'!$O56","v":0},{"$f":"'[2]FinStat_Water Resources'!$P56","v":0},null,0,null,0,0,0,0,0,0,0,null,0,null,0,0,0,0,0,0,0,null,0]
[null,null,null,null,"Net cash generated / (used) in operating activities - WR - nominal",null,"£m",null,{"$f":"'[1]FinStat_Water Resources'!$J57","v":0},{"$f":"'[1]FinStat_Water Resources'!$K57","v":0},{"$f":"'[1]FinStat_Water Resources'!$L57","v":52.769635457686469},{"$f":"'[1]FinStat_Water Resources'!$M57","v":13.49890390545022},{"$f":"'[1]FinStat_Water Resources'!$N57","v":12.173796874139077},{"$f":"'[1]FinStat_Water Resources'!$O57","v":13.177907028098998},{"$f":"'[1]FinStat_Water Resources'!$P57","v":13.794382252020153},null,105.41462551739491,null,{"$f":"'[2]FinStat_Water Resources'!$J57","v":0},{"$f":"'[2]FinStat_Water Resources'!$K57","v":0},{"$f":"'[2]FinStat_Water Resources'!$L57","v":46.997902003234245},{"$f":"'[2]FinStat_Water Resources'!$M57","v":13.215513667890658},{"$f":"'[2]FinStat_Water Resources'!$N57","v":16.300067429254575},{"$f":"'[2]FinStat_Water Resources'!$O57","v":15.544154894548001},{"$f":"'[2]FinStat_Water Resources'!$P57","v":15.377380444223276},null,107.43501843915077,null,0,0,5.7720000000000002,0.28299999999999997,-4.1260000000000003,-2.3660000000000001,-1.583,null,-2.02,null,0,0,0.12281399283744177,2.141422627314114E-2,-0.2531277872258893,-0.15221155579386675,-0.10294341131390007,null,-1.88020631386971E-2]
[null,null,null,null,null,null,null,null,null,null,null,null,null,null,null,null,null,null,null,null,null,null,null,null,null,null,null,null,0,0,0,0,0,0,0,null,0,null,0,0,0,0,0,0,0,null,0]
[null,"Cash flow from investing activities",null,null,null,null,null,null,null,null,null,null,null,null,null,null,null,null,null,null,null,null,null,null,null,null,null,null,0,0,0,0,0,0,0,null,0,null,0,0,0,0,0,0,0,null,0]
[null,null,null,null,"Wholesale fixed assets ongoing capex - WR - nominal","CF","£m",null,{"$f":"'[1]FinStat_Water Resources'!$J60","v":0},{"$f":"'[1]FinStat_Water Resources'!$K60","v":0},{"$f":"'[1]FinStat_Water Resources'!$L60","v":-22.789268889599999},{"$f":"'[1]FinStat_Water Resources'!$M60","v":-23.138455515955201},{"$f":"'[1]FinStat_Water Resources'!$N60","v":-26.497012341325831},{"$f":"'[1]FinStat_Water Resources'!$O60","v":-17.92026606789182},{"$f":"'[1]FinStat_Water Resources'!$P60","v":-8.9090486758591005},null,-99.254051490631937,null,{"$f":"'[2]FinStat_Water Resources'!$J60","v":0},{"$f":"'[2]FinStat_Water Resources'!$K60","v":0},{"$f":"'[2]FinStat_Water Resources'!$L60","v":-8.6688410667280795},{"$f":"'[2]FinStat_Water Resources'!$M60","v":-12.685418990307127},{"$f":"'[2]FinStat_Water Resources'!$N60","v":-17.406371506112929},{"$f":"'[2]FinStat_Water Resources'!$O60","v":-12.179823461239751},{"$f":"'[2]FinStat_Water Resources'!$P60","v":-6.7956840240784704},null,-57.736139048466356,null,0,0,-14.12,-10.452999999999999,-9.0909999999999993,-5.74,-2.113,null,-41.518000000000001,null,0,0,1.6288221102811584,0.82401692904168877,0.52228001664834844,0.47127119849204624,0.31093264379468166,null,0.71909900253544656]
[null,null,null,null,"Movement in intangible asset and investments - WR - nominal","CF","£m",null,{"$f":"'[1]FinStat_Water Resources'!$J61","v":0},{"$f":"'[1]FinStat_Water Resources'!$K61","v":0},{"$f":"'[1]FinStat_Water Resources'!$L61","v":0},{"$f":"'[1]FinStat_Water Resources'!$M61","v":0},{"$f":"'[1]FinStat_Water Resources'!$N61","v":0},{"$f":"'[1]FinStat_Water Resources'!$O61","v":0},{"$f":"'[1]FinStat_Water Resources'!$P61","v":0},null,0,null,{"$f":"'[2]FinStat_Water Resources'!$J61","v":0},{"$f":"'[2]FinStat_Water Resources'!$K61","v":0},{"$f":"'[2]FinStat_Water Resources'!$L61","v":0},{"$f":"'[2]FinStat_Water Resources'!$M61","v":0},{"$f":"'[2]FinStat_Water Resources'!$N61","v":0},{"$f":"'[2]FinStat_Water Resources'!$O61","v":0},{"$f":"'[2]FinStat_Water Resources'!$P61","v":0},null,0,null,0,0,0,0,0,0,0,null,0,null,0,0,0,0,0,0,0,null,0]
[null,null,null,null,"Net cash generated / (used) in investing activities - WR - nominal",null,"£m",null,{"$f":"'[1]FinStat_Water Resources'!$J62","v":0},{"$f":"'[1]FinStat_Water Resources'!$K62","v":0},{"$f":"'[1]FinStat_Water Resources'!$L62","v":-22.789268889599999},{"$f":"'[1]FinStat_Water Resources'!$M62","v":-23.138455515955201},{"$f":"'[1]FinStat_Water Resources'!$N62","v":-26.497012341325831},{"$f":"'[1]FinStat_Water Resources'!$O62","v":-17.92026606789182},{"$f":"'[1]FinStat_Water Resources'!$P62","v":-8.9090486758591005},null,-99.254051490631937,null,{"$f":"'[2]FinStat_Water Resources'!$J62","v":0},{"$f":"'[2]FinStat_Water Resources'!$K62","v":0},{"$f":"'[2]FinStat_Water Resources'!$L62","v":-8.6688410667280795},{"$f":"'[2]FinStat_Water Resources'!$M62","v":-12.685418990307127},{"$f":"'[2]FinStat_Water Resources'!$N62","v":-17.406371506112929},{"$f":"'[2]FinStat_Water Resources'!$O62","v":-12.179823461239751},{"$f":"'[2]FinStat_Water Resources'!$P62","v":-6.7956840240784704},null,-57.736139048466356,null,0,0,-14.12,-10.452999999999999,-9.0909999999999993,-5.74,-2.113,null,-41.518000000000001,null,0,0,1.6288221102811584,0.82401692904168877,0.52228001664834844,0.47127119849204624,0.31093264379468166,null,0.71909900253544656]
[null,null,null,null,null,null,null,null,null,null,null,null,null,null,null,null,null,null,null,null,null,null,null,null,null,null,null,null,0,0,0,0,0,0,0,null,0,null,0,0,0,0,0,0,0,null,0]
[null,"Cash flows from financing activities",null,null,null,null,null,null,null,null,null,null,null,null,null,null,null,null,null,null,null,null,null,null,null,null,null,null,0,0,0,0,0,0,0,null,0,null,0,0,0,0,0,0,0,null,0]
[null,null,null,null,"Equity dividends paid - WR - nominal","CF","£m",null,{"$f":"'[1]FinStat_Water Resources'!$J65","v":0},{"$f":"'[1]FinStat_Water Resources'!$K65","v":0},{"$f":"'[1]FinStat_Water Resources'!$L65","v":-2.2106788866783393},{"$f":"'[1]FinStat_Water Resources'!$M65","v":-2.2853335126814671},{"$f":"'[1]FinStat_Water Resources'!$N65","v":-2.3625092254047209},{"$f":"'[1]FinStat_Water Resources'!$O65","v":-2.4422911619466383},{"$f":"'[1]FinStat_Water Resources'!$P65","v":-2.5247673344855763},null,-11.825580121196742,null,{"$f":"'[2]FinStat_Water Resources'!$J65","v":0},{"$f":"'[2]FinStat_Water Resources'!$K65","v":0},{"$f":"'[2]FinStat_Water Resources'!$L65","v":-1.5230248788855616},{"$f":"'[2]FinStat_Water Resources'!$M65","v":-1.5718811997312758},{"$f":"'[2]FinStat_Water Resources'!$N65","v":-1.6234327984687484},{"$f":"'[2]FinStat_Water Resources'!$O65","v":-1.6770836809059848},{"$f":"'[2]FinStat_Water Resources'!$P65","v":-1.7325076069758318},null,-8.1279301649674025,null,0,0,-0.68799999999999994,-0.71299999999999997,-0.73899999999999999,-0.76500000000000001,-0.79200000000000004,null,-3.698,null,0,0,0.45173260761401884,0.45359662048371868,0.45520824803899385,0.45614897378688701,0.45714084995128584,null,0.45497438153921821]
[null,null,null,null,"Proceeds from share issues - WR - nominal","CF","£m",null,{"$f":"'[1]FinStat_Water Resources'!$J66","v":0},{"$f":"'[1]FinStat_Water Resources'!$K66","v":0},{"$f":"'[1]FinStat_Water Resources'!$L66","v":0},{"$f":"'[1]FinStat_Water Resources'!$M66","v":0},{"$f":"'[1]FinStat_Water Resources'!$N66","v":0},{"$f":"'[1]FinStat_Water Resources'!$O66","v":0},{"$f":"'[1]FinStat_Water Resources'!$P66","v":0},null,0,null,{"$f":"'[2]FinStat_Water Resources'!$J66","v":0},{"$f":"'[2]FinStat_Water Resources'!$K66","v":0},{"$f":"'[2]FinStat_Water Resources'!$L66","v":0},{"$f":"'[2]FinStat_Water Resources'!$M66","v":0},{"$f":"'[2]FinStat_Water Resources'!$N66","v":0},{"$f":"'[2]FinStat_Water Resources'!$O66","v":0},{"$f":"'[2]FinStat_Water Resources'!$P66","v":0},null,0,null,0,0,0,0,0,0,0,null,0,null,0,0,0,0,0,0,0,null,0]
[null,null,null,null,"Net loans received - WR - nominal","CF","£m",null,{"$f":"'[1]FinStat_Water Resources'!$J67","v":0},{"$f":"'[1]FinStat_Water Resources'!$K67","v":0},{"$f":"'[1]FinStat_Water Resources'!$L67","v":0},{"$f":"'[1]FinStat_Water Resources'!$M67","v":0},{"$f":"'[1]FinStat_Water Resources'!$N67","v":0},{"$f":"'[1]FinStat_Water Resources'!$O67","v":0},{"$f":"'[1]FinStat_Water Resources'!$P67","v":0},null,0,null,{"$f":"'[2]FinStat_Water Resources'!$J67","v":0},{"$f":"'[2]FinStat_Water Resources'!$K67","v":0},{"$f":"'[2]FinStat_Water Resources'!$L67","v":0},{"$f":"'[2]FinStat_Water Resources'!$M67","v":0},{"$f":"'[2]FinStat_Water Resources'!$N67","v":0},{"$f":"'[2]FinStat_Water Resources'!$O67","v":0},{"$f":"'[2]FinStat_Water Resources'!$P67","v":0},null,0,null,0,0,0,0,0,0,0,null,0,null,0,0,0,0,0,0,0,null,0]
[null,null,null,null,"Net cash generated / (used) in financing activities - WR - nominal",null,"£m",null,{"$f":"'[1]FinStat_Water Resources'!$J68","v":0},{"$f":"'[1]FinStat_Water Resources'!$K68","v":0},{"$f":"'[1]FinStat_Water Resources'!$L68","v":-2.2106788866783393},{"$f":"'[1]FinStat_Water Resources'!$M68","v":-2.2853335126814671},{"$f":"'[1]FinStat_Water Resources'!$N68","v":-2.3625092254047209},{"$f":"'[1]FinStat_Water Resources'!$O68","v":-2.4422911619466383},{"$f":"'[1]FinStat_Water Resources'!$P68","v":-2.5247673344855763},null,-11.825580121196742,null,{"$f":"'[2]FinStat_Water Resources'!$J68","v":0},{"$f":"'[2]FinStat_Water Resources'!$K68","v":0},{"$f":"'[2]FinStat_Water Resources'!$L68","v":-1.5230248788855616},{"$f":"'[2]FinStat_Water Resources'!$M68","v":-1.5718811997312758},{"$f":"'[2]FinStat_Water Resources'!$N68","v":-1.6234327984687484},{"$f":"'[2]FinStat_Water Resources'!$O68","v":-1.6770836809059848},{"$f":"'[2]FinStat_Water Resources'!$P68","v":-1.7325076069758318},null,-8.1279301649674025,null,0,0,-0.68799999999999994,-0.71299999999999997,-0.73899999999999999,-0.76500000000000001,-0.79200000000000004,null,-3.698,null,0,0,0.45173260761401884,0.45359662048371868,0.45520824803899385,0.45614897378688701,0.45714084995128584,null,0.45497438153921821]
[null,null,null,null,null,null,null,null,null,null,null,null,null,null,null,null,null,null,null,null,null,null,null,null,null,null,null,null,0,0,0,0,0,0,0,null,0,null,0,0,0,0,0,0,0,null,0]
[null,null,null,null,"Net increase / (decrease) in cash - WR - nominal",null,"£m",null,{"$f":"'[1]FinStat_Water Resources'!$J70","v":0},{"$f":"'[1]FinStat_Water Resources'!$K70","v":0},{"$f":"'[1]FinStat_Water Resources'!$L70","v":27.769687681408129},{"$f":"'[1]FinStat_Water Resources'!$M70","v":-11.924885123186447},{"$f":"'[1]FinStat_Water Resources'!$N70","v":-16.685724692591474},{"$f":"'[1]FinStat_Water Resources'!$O70","v":-7.1846502017394602},{"$f":"'[1]FinStat_Water Resources'!$P70","v":2.360566241675476},null,-5.6650060944337763,null,{"$f":"'[2]FinStat_Water Resources'!$J70","v":0},{"$f":"'[2]FinStat_Water Resources'!$K70","v":0},{"$f":"'[2]FinStat_Water Resources'!$L70","v":36.806036057620602},{"$f":"'[2]FinStat_Water Resources'!$M70","v":-1.0417865221477451},{"$f":"'[2]FinStat_Water Resources'!$N70","v":-2.7297368753271023},{"$f":"'[2]FinStat_Water Resources'!$O70","v":1.6872477524022649},{"$f":"'[2]FinStat_Water Resources'!$P70","v":6.8491888131689738},null,41.570949225716987,null,0,0,-9.0359999999999996,-10.882999999999999,-13.956,-8.8719999999999999,-4.4889999999999999,null,-47.235999999999997,null,0,0,-0.24550321001299777,10.446478015057851,5.1125806762337351,-5.2582674876100732,-0.6554060812820599,null,-1.1362742703690405]
[null,null,null,null,null,null,null,null,null,null,null,null,null,null,null,null,null,null,null,null,null,null,null,null,null,null,null,null,0,0,0,0,0,0,0,null,0,null,0,0,0,0,0,0,0,null,0]
[null,"Retained cash balance - WR",null,null,null,null,null,null,null,null,null,null,null,null,null,null,null,null,null,null,null,null,null,null,null,null,null,null,0,0,0,0,0,0,0,null,0,null,0,0,0,0,0,0,0,null,0]
[null,null,null,null,"Cash and cash equivalents - WR b/f - nominal",0,"£m",null,{"$f":"'[1]FinStat_Water Resources'!$J73","v":0},{"$f":"'[1]FinStat_Water Resources'!$K73","v":13.000181465211639},{"$f":"'[1]FinStat_Water Resources'!$L73","v":0},{"$f":"'[1]FinStat_Water Resources'!$M73","v":0},{"$f":"'[1]FinStat_Water Resources'!$N73","v":0},{"$f":"'[1]FinStat_Water Resources'!$O73","v":0},{"$f":"'[1]FinStat_Water Resources'!$P73","v":0},null,13.000181465211639,null,{"$f":"'[2]FinStat_Water Resources'!$J73","v":0},{"$f":"'[2]FinStat_Water Resources'!$K73","v":13.019094387110492},{"$f":"'[2]FinStat_Water Resources'!$L73","v":0},{"$f":"'[2]FinStat_Water Resources'!$M73","v":0},{"$f":"'[2]FinStat_Water Resources'!$N73","v":0},{"$f":"'[2]FinStat_Water Resources'!$O73","v":0},{"$f":"'[2]FinStat_Water Resources'!$P73","v":0},null,13.019094387110492,null,0,-1.9E-2,0,0,0,0,0,null,-1.9E-2,null,0,-1.4593949037508232E-3,0,0,0,0,0,null,-1.4593949037508232E-3]
[null,null,null,null,"Last pre-forecast period flag",0,"flag",null,{"$f":"'[1]FinStat_Water Resources'!$J74","v":0},{"$f":"'[1]FinStat_Water Resources'!$K74","v":1},{"$f":"'[1]FinStat_Water Resources'!$L74","v":0},{"$f":"'[1]FinStat_Water Resources'!$M74","v":0},{"$f":"'[1]FinStat_Water Resources'!$N74","v":0},{"$f":"'[1]FinStat_Water Resources'!$O74","v":0},{"$f":"'[1]FinStat_Water Resources'!$P74","v":0},null,1,null,{"$f":"'[2]FinStat_Water Resources'!$J74","v":0},{"$f":"'[2]FinStat_Water Resources'!$K74","v":1},{"$f":"'[2]FinStat_Water Resources'!$L74","v":0},{"$f":"'[2]FinStat_Water Resources'!$M74","v":0},{"$f":"'[2]FinStat_Water Resources'!$N74","v":0},{"$f":"'[2]FinStat_Water Resources'!$O74","v":0},{"$f":"'[2]FinStat_Water Resources'!$P74","v":0},null,1,null,0,0,0,0,0,0,0,null,0,null,0,0,0,0,0,0,0,null,0]
[null,null,null,null,null,null,null,null,null,null,null,null,null,null,null,null,null,null,null,null,null,null,null,null,null,null,null,null,0,0,0,0,0,0,0,null,0,null,0,0,0,0,0,0,0,null,0]
[null,null,null,null,"Retained cash balance - WR BEG - nominal",null,"£m",null,{"$f":"'[1]FinStat_Water Resources'!$J76","v":0},{"$f":"'[1]FinStat_Water Resources'!$K76","v":0},{"$f":"'[1]FinStat_Water Resources'!$L76","v":13.000181465211639},{"$f":"'[1]FinStat_Water Resources'!$M76","v":40.769869146619769},{"$f":"'[1]FinStat_Water Resources'!$N76","v":28.844984023433319},{"$f":"'[1]FinStat_Water Resources'!$O76","v":12.159259330841845},{"$f":"'[1]FinStat_Water Resources'!$P76","v":4.9746091291023848},null,99.748903095208959,null,{"$f":"'[2]FinStat_Water Resources'!$J76","v":0},{"$f":"'[2]FinStat_Water Resources'!$K76","v":0},{"$f":"'[2]FinStat_Water Resources'!$L76","v":13.019094387110492},{"$f":"'[2]FinStat_Water Resources'!$M76","v":49.825130444731094},{"$f":"'[2]FinStat_Water Resources'!$N76","v":48.783343922583349},{"$f":"'[2]FinStat_Water Resources'!$O76","v":46.05360704725625},{"$f":"'[2]FinStat_Water Resources'!$P76","v":47.740854799658514},null,205.42203060133971,null,0,0,-1.9E-2,-9.0549999999999997,-19.937999999999999,-33.893999999999998,-42.765999999999998,null,-105.673,null,0,0,-1.4593949037508232E-3,-0.18173560047262349,-0.40870507014936441,-0.73596841101329791,-0.89579460148890966,null,-0.51441902161447539]
[null,null,null,"plus","Net increase / (decrease) in cash - WR - nominal",0,"£m",null,{"$f":"'[1]FinStat_Water Resources'!$J77","v":0},{"$f":"'[1]FinStat_Water Resources'!$K77","v":0},{"$f":"'[1]FinStat_Water Resources'!$L77","v":27.769687681408129},{"$f":"'[1]FinStat_Water Resources'!$M77","v":-11.924885123186447},{"$f":"'[1]FinStat_Water Resources'!$N77","v":-16.685724692591474},{"$f":"'[1]FinStat_Water Resources'!$O77","v":-7.1846502017394602},{"$f":"'[1]FinStat_Water Resources'!$P77","v":2.360566241675476},null,-5.6650060944337763,null,{"$f":"'[2]FinStat_Water Resources'!$J77","v":0},{"$f":"'[2]FinStat_Water Resources'!$K77","v":0},{"$f":"'[2]FinStat_Water Resources'!$L77","v":36.806036057620602},{"$f":"'[2]FinStat_Water Resources'!$M77","v":-1.0417865221477451},{"$f":"'[2]FinStat_Water Resources'!$N77","v":-2.7297368753271023},{"$f":"'[2]FinStat_Water Resources'!$O77","v":1.6872477524022649},{"$f":"'[2]FinStat_Water Resources'!$P77","v":6.8491888131689738},null,41.570949225716987,null,0,0,-9.0359999999999996,-10.882999999999999,-13.956,-8.8719999999999999,-4.4889999999999999,null,-47.235999999999997,null,0,0,-0.24550321001299777,10.446478015057851,5.1125806762337351,-5.2582674876100732,-0.6554060812820599,null,-1.1362742703690405]
[null,null,null,null,"Retained cash balance - WR - nominal",null,"£m",null,{"$f":"'[1]FinStat_Water Resources'!$J78","v":0},{"$f":"'[1]FinStat_Water Resources'!$K78","v":13.000181465211639},{"$f":"'[1]FinStat_Water Resources'!$L78","v":40.769869146619769},{"$f":"'[1]FinStat_Water Resources'!$M78","v":28.844984023433319},{"$f":"'[1]FinStat_Water Resources'!$N78","v":12.159259330841845},{"$f":"'[1]FinStat_Water Resources'!$O78","v":4.9746091291023848},{"$f":"'[1]FinStat_Water Resources'!$P78","v":7.3351753707778613},null,107.08407846598682,null,{"$f":"'[2]FinStat_Water Resources'!$J78","v":0},{"$f":"'[2]FinStat_Water Resources'!$K78","v":13.019094387110492},{"$f":"'[2]FinStat_Water Resources'!$L78","v":49.825130444731094},{"$f":"'[2]FinStat_Water Resources'!$M78","v":48.783343922583349},{"$f":"'[2]FinStat_Water Resources'!$N78","v":46.05360704725625},{"$f":"'[2]FinStat_Water Resources'!$O78","v":47.740854799658514},{"$f":"'[2]FinStat_Water Resources'!$P78","v":54.590043612827486},null,260.01207421416723,null,0,-1.9E-2,-9.0549999999999997,-19.937999999999999,-33.893999999999998,-42.765999999999998,-47.255000000000003,null,-152.928,null,0,-1.4593949037508232E-3,-0.18173560047262349,-0.40870507014936441,-0.73596841101329791,-0.89579460148890966,-0.8656340400668977,null,-0.58815730177990111]
[]
["BALANCE SHEET"]
[]
[null,"Non-current assets"]
[null,null,null,null,"Wholesale fixed assets balance - WR - nominal","BS","£m",null,{"$f":"'[1]FinStat_Water Resources'!$J85","v":0},{"$f":"'[1]FinStat_Water Resources'!$K85","v":241.51316253999994},{"$f":"'[1]FinStat_Water Resources'!$L85","v":251.50554151264282},{"$f":"'[1]FinStat_Water Resources'!$M85","v":261.02696917582745},{"$f":"'[1]FinStat_Water Resources'!$N85","v":273.02060602407408},{"$f":"'[1]FinStat_Water Resources'!$O85","v":275.64433091300782},{"$f":"'[1]FinStat_Water Resources'!$P85","v":269.32173095498064},null,{"$f":"SUM(I89:O89)","v":1572.0323411205329},null,{"$f":"'[2]FinStat_Water Resources'!$J85","v":0},{"$f":"'[2]FinStat_Water Resources'!$K85","v":241.51316254},{"$f":"'[2]FinStat_Water Resources'!$L85","v":237.63726418660792},{"$f":"'[2]FinStat_Water Resources'!$M85","v":237.39661768434786},{"$f":"'[2]FinStat_Water Resources'!$N85","v":241.33957029617179},{"$f":"'[2]FinStat_Water Resources'!$O85","v":239.52764995299125},{"$f":"'[2]FinStat_Water Resources'!$P85","v":232.48690017477912},null,{"$f":"SUM(S89:Y89)","v":1429.9011648348978},null,{"$f":"ROUND(I89 - S89, 3)","v":0},0,13.868,23.63,31.681000000000001,36.116999999999997,36.835000000000001,null,{"$f":"ROUND(Q89 - AA89, 3)","v":142.131},null,{"$f":"IF(S89 = 0, 0, AC89 / S89)","v":0},{"$f":"IF(T89 = 0, 0, AD89 / T89)","v":0},{"$f":"IF(U89 = 0, 0, AE89 / U89)","v":5.8357850766662431E-2},{"$f":"IF(V89 = 0, 0, AF89 / V89)","v":9.9538065160723568E-2},{"$f":"IF(W89 = 0, 0, AG89 / W89)","v":0.13127146932896705},{"$f":"IF(X89 = 0, 0, AH89 / X89)","v":0.15078426230578465},{"$f":"IF(Y89 = 0, 0, AI89 / Y89)","v":0.15843903451036667},null,{"$f":"IF(AA89 = 0, 0, AK89 / AA89)","v":9.9399177716182244E-2}]
[null,null,null,null,"Intangible asset and investments balance - WR - nominal","BS","£m",null,{"$f":"'[1]FinStat_Water Resources'!$J86","v":0},{"$f":"'[1]FinStat_Water Resources'!$K86","v":3.2995964210177703E-4},{"$f":"'[1]FinStat_Water Resources'!$L86","v":3.2995964210177703E-4},{"$f":"'[1]FinStat_Water Resources'!$M86","v":3.2995964210177703E-4},{"$f":"'[1]FinStat_Water Resources'!$N86","v":3.2995964210177703E-4},{"$f":"'[1]FinStat_Water Resources'!$O86","v":3.2995964210177703E-4},{"$f":"'[1]FinStat_Water Resources'!$P86","v":3.2995964210177703E-4},null,{"$f":"SUM(I90:O90)","v":1.9797578526106622E-3},null,{"$f":"'[2]FinStat_Water Resources'!$J86","v":0},{"$f":"'[2]FinStat_Water Resources'!$K86","v":3.3043967393498987E-4},{"$f":"'[2]FinStat_Water Resources'!$L86","v":3.3043967393498987E-4},{"$f":"'[2]FinStat_Water Resources'!$M86","v":3.3043967393498987E-4},{"$f":"'[2]FinStat_Water Resources'!$N86","v":3.3043967393498987E-4},{"$f":"'[2]FinStat_Water Resources'!$O86","v":3.3043967393498987E-4},{"$f":"'[2]FinStat_Water Resources'!$P86","v":3.3043967393498987E-4},null,{"$f":"SUM(S90:Y90)","v":1.9826380436099391E-3},null,0,0,0,0,0,0,0,null,{"$f":"ROUND(Q90 - AA90, 3)","v":0},null,0,0,0,0,0,0,0,null,0]
[null,null,null,null,"Retirement benefit asset balance - WR - nominal","BS","£m",null,{"$f":"'[1]FinStat_Water Resources'!$J87","v":0},{"$f":"'[1]FinStat_Water Resources'!$K87","v":0.87477377423367286},{"$f":"'[1]FinStat_Water Resources'!$L87","v":1.3823868763136729},{"$f":"'[1]FinStat_Water Resources'!$M87","v":1.9045032098816728},{"$f":"'[1]FinStat_Water Resources'!$N87","v":2.4426093561651925},{"$f":"'[1]FinStat_Water Resources'!$O87","v":2.9960043739864175},{"$f":"'[1]FinStat_Water Resources'!$P87","v":3.566238896644411},null,null,null,{"$f":"'[2]FinStat_Water Resources'!$J87","v":0},{"$f":"'[2]FinStat_Water Resources'!$K87","v":0.87604641247457127},{"$f":"'[2]FinStat_Water Resources'!$L87","v":1.9240233868033652},{"$f":"'[2]FinStat_Water Resources'!$M87","v":2.9916208877699546},{"$f":"'[2]FinStat_Water Resources'!$N87","v":4.0820439056131574},{"$f":"'[2]FinStat_Water Resources'!$O87","v":4.0820439056131574},{"$f":"'[2]FinStat_Water Resources'!$P87","v":4.0820439056131574},null,18.037822403887365,null,0,-1E-3,-0.54200000000000004,-1.087,-1.639,-1.0860000000000001,-0.51600000000000001,null,{"$f":"ROUND(Q91 - AA91, 3)","v":-18.038},null,{"$f":"IF(S91 = 0, 0, AC91 / S91)","v":0},{"$f":"IF(T91 = 0, 0, AD91 / T91)","v":-1.1414920325685674E-3},{"$f":"IF(U91 = 0, 0, AE91 / U91)","v":-0.28170135753936776},{"$f":"IF(V91 = 0, 0, AF91 / V91)","v":-0.36334817838843309},{"$f":"IF(W91 = 0, 0, AG91 / W91)","v":-0.40151454464912434},{"$f":"IF(X91 = 0, 0, AH91 / X91)","v":-0.26604319431906592},{"$f":"IF(Y91 = 0, 0, AI91 / Y91)","v":-0.12640726359911419},null,{"$f":"IF(AA91 = 0, 0, AK91 / AA91)","v":-1.0000098457623465}]
[null,null,null,null,"Total non-current assets - WR - nominal",null,"£m",null,{"$f":"'[1]FinStat_Water Resources'!$J88","v":0},{"$f":"'[1]FinStat_Water Resources'!$K88","v":242.3882662738757},{"$f":"'[1]FinStat_Water Resources'!$L88","v":252.88825834859858},{"$f":"'[1]FinStat_Water Resources'!$M88","v":262.93180234535123},{"$f":"'[1]FinStat_Water Resources'!$N88","v":275.46354533988136},{"$f":"'[1]FinStat_Water Resources'!$O88","v":278.64066524663633},{"$f":"'[1]FinStat_Water Resources'!$P88","v":272.88829981126713},null,1585.2008373656104,null,{"$f":"'[2]FinStat_Water Resources'!$J88","v":0},{"$f":"'[2]FinStat_Water Resources'!$K88","v":242.38953939214852},{"$f":"'[2]FinStat_Water Resources'!$L88","v":239.56161801308522},{"$f":"'[2]FinStat_Water Resources'!$M88","v":240.38856901179176},{"$f":"'[2]FinStat_Water Resources'!$N88","v":245.42194464145888},{"$f":"'[2]FinStat_Water Resources'!$O88","v":243.61002429827835},{"$f":"'[2]FinStat_Water Resources'!$P88","v":236.56927452006622},null,1447.9409698768291,null,0,-1E-3,13.327,22.542999999999999,30.042000000000002,35.030999999999999,36.319000000000003,null,{"$f":"ROUND(Q92 - AA92, 3)","v":137.26},null,0,-4.1255905783217644E-6,5.563078138532216E-2,9.3777337635776684E-2,0.12240959154605703,0.14379950127630101,0.15352374087328641,null,9.4796682223638018E-2]
[]
[null,"Current assets"]
[null,null,null,null,"Inventories balance - WR - nominal","BS","£m",null,{"$f":"'[1]FinStat_Water Resources'!$J91","v":0},{"$f":"'[1]FinStat_Water Resources'!$K91","v":0.26165799618670921},{"$f":"'[1]FinStat_Water Resources'!$L91","v":0.27875737133985268},{"$f":"'[1]FinStat_Water Resources'!$M91","v":0.28894321800205935},{"$f":"'[1]FinStat_Water Resources'!$N91","v":0.30053759235098393},{"$f":"'[1]FinStat_Water Resources'!$O91","v":0.29807884754989361},{"$f":"'[1]FinStat_Water Resources'!$P91","v":0.29314016261564119},null,1.7211151880451401,null,{"$f":"'[2]FinStat_Water Resources'!$J91","v":0},{"$f":"'[2]FinStat_Water Resources'!$K91","v":0.26203866143044696},{"$f":"'[2]FinStat_Water Resources'!$L91","v":0.26445427258835802},{"$f":"'[2]FinStat_Water Resources'!$M91","v":0.26411363009122052},{"$f":"'[2]FinStat_Water Resources'!$N91","v":0.26934488049575905},{"$f":"'[2]FinStat_Water Resources'!$O91","v":0.26875409457109123},{"$f":"'[2]FinStat_Water Resources'!$P91","v":0.2672283925143652},null,1.5959339316912411,null,{"$f":"ROUND(I95 - S95, 3)","v":0},0,1.4E-2,2.5000000000000001E-2,3.1E-2,2.9000000000000001E-2,2.5999999999999999E-2,null,{"$f":"ROUND(Q95 - AA95, 3)","v":0.125},null,0,0,5.2939208971647063E-2,9.4656228046108071E-2,0.11509407545798186,0.10790533274025664,9.7295050706868044E-2,null,7.8324044321518474E-2]
[null,null,null,null,"Trade debtors and other receivables balance - WR - nominal","BS","£m",null,{"$f":"'[1]FinStat_Water Resources'!$J92","v":0},{"$f":"'[1]FinStat_Water Resources'!$K92","v":2.3781714296930927},{"$f":"'[1]FinStat_Water Resources'!$L92","v":2.4984802159108752},{"$f":"'[1]FinStat_Water Resources'!$M92","v":2.5770633167234274},{"$f":"'[1]FinStat_Water Resources'!$N92","v":2.6553205837297589},{"$f":"'[1]FinStat_Water Resources'!$O92","v":2.6102912238446283},{"$f":"'[1]FinStat_Water Resources'!$P92","v":2.5408824466360747},null,15.260209216537856,null,{"$f":"'[2]FinStat_Water Resources'!$J92","v":0},{"$f":"'[2]FinStat_Water Resources'!$K92","v":2.3816312406682112},{"$f":"'[2]FinStat_Water Resources'!$L92","v":2.3702826759317062},{"$f":"'[2]FinStat_Water Resources'!$M92","v":2.3556100477495692},{"$f":"'[2]FinStat_Water Resources'!$N92","v":2.3797256100573789},{"$f":"'[2]FinStat_Water Resources'!$O92","v":2.3534929103407931},{"$f":"'[2]FinStat_Water Resources'!$P92","v":2.316284216137281},null,14.157026700884938,null,0,-3.0000000000000001E-3,0.128,0.221,0.27600000000000002,0.25700000000000001,0.22500000000000001,null,{"$f":"ROUND(Q96 - AA96, 3)","v":1.103},null,0,-1.2596408498396646E-3,5.4001997862843938E-2,9.3818584366768279E-2,0.11597975784836187,0.10919939417314226,9.7138338392348977E-2,null,7.7911840056856918E-2]
[null,null,null,null,"Retained cash balance - WR - nominal","BS","£m",null,{"$f":"'[1]FinStat_Water Resources'!$J93","v":0},{"$f":"'[1]FinStat_Water Resources'!$K93","v":13.000181465211639},{"$f":"'[1]FinStat_Water Resources'!$L93","v":40.769869146619783},{"$f":"'[1]FinStat_Water Resources'!$M93","v":28.844984023433334},{"$f":"'[1]FinStat_Water Resources'!$N93","v":12.159259330841859},{"$f":"'[1]FinStat_Water Resources'!$O93","v":4.9746091291023973},{"$f":"'[1]FinStat_Water Resources'!$P93","v":7.3351753707778737},null,107.08407846598689,null,{"$f":"'[2]FinStat_Water Resources'!$J93","v":0},{"$f":"'[2]FinStat_Water Resources'!$K93","v":13.019094387110492},{"$f":"'[2]FinStat_Water Resources'!$L93","v":49.825130444731094},{"$f":"'[2]FinStat_Water Resources'!$M93","v":48.783343922583349},{"$f":"'[2]FinStat_Water Resources'!$N93","v":46.053607047256243},{"$f":"'[2]FinStat_Water Resources'!$O93","v":47.740854799658507},{"$f":"'[2]FinStat_Water Resources'!$P93","v":54.590043612827486},null,260.01207421416717,null,0,-1.9E-2,-9.0549999999999997,-19.937999999999999,-33.893999999999998,-42.765999999999998,-47.255000000000003,null,{"$f":"ROUND(Q97 - AA97, 3)","v":-152.928},null,0,-1.4593949037508232E-3,-0.18173560047262349,-0.40870507014936441,-0.73596841101329802,-0.89579460148890977,-0.8656340400668977,null,-0.58815730177990122]
[null,null,null,null,"Total current assets - WR - nominal",null,"£m",null,{"$f":"'[1]FinStat_Water Resources'!$J94","v":0},{"$f":"'[1]FinStat_Water Resources'!$K94","v":15.640010891091441},{"$f":"'[1]FinStat_Water Resources'!$L94","v":43.547106733870514},{"$f":"'[1]FinStat_Water Resources'!$M94","v":31.710990558158819},{"$f":"'[1]FinStat_Water Resources'!$N94","v":15.115117506922601},{"$f":"'[1]FinStat_Water Resources'!$O94","v":7.8829792004969192},{"$f":"'[1]FinStat_Water Resources'!$P94","v":10.16919798002959},null,124.06540287056988,null,{"$f":"'[2]FinStat_Water Resources'!$J94","v":0},{"$f":"'[2]FinStat_Water Resources'!$K94","v":15.66276428920915},{"$f":"'[2]FinStat_Water Resources'!$L94","v":52.459867393251159},{"$f":"'[2]FinStat_Water Resources'!$M94","v":51.403067600424137},{"$f":"'[2]FinStat_Water Resources'!$N94","v":48.702677537809379},{"$f":"'[2]FinStat_Water Resources'!$O94","v":50.363101804570391},{"$f":"'[2]FinStat_Water Resources'!$P94","v":57.173556221479132},null,275.76503484674333,null,0,-2.3E-2,-8.9130000000000003,-19.692,-33.588000000000001,-42.48,-47.003999999999998,null,{"$f":"ROUND(Q98 - AA98, 3)","v":-151.69999999999999},null,0,-1.4684508797623821E-3,-0.16990130632977232,-0.3830899772961705,-0.68965407443819915,-0.8434746566015715,-0.82212832481358566,null,-0.55010599905933466]
[]
[null,"Liabilities"]
[null,null,null,null,"Trade creditors and other payables balance - WR - nominal","BS","£m",null,{"$f":"'[1]FinStat_Water Resources'!$J97","v":0},{"$f":"'[1]FinStat_Water Resources'!$K97","v":16.087360021248656},{"$f":"'[1]FinStat_Water Resources'!$L97","v":52.082281149983302},{"$f":"'[1]FinStat_Water Resources'!$M97","v":52.760410868076114},{"$f":"'[1]FinStat_Water Resources'!$N97","v":48.684800563532093},{"$f":"'[1]FinStat_Water Resources'!$O97","v":47.558556003432763},{"$f":"'[1]FinStat_Water Resources'!$P97","v":45.224549364019516},null,262.39795797029245,null,{"$f":"'[2]FinStat_Water Resources'!$J97","v":0},{"$f":"'[2]FinStat_Water Resources'!$K97","v":16.110764231755631},{"$f":"'[2]FinStat_Water Resources'!$L97","v":51.047815982947633},{"$f":"'[2]FinStat_Water Resources'!$M97","v":49.792253942738597},{"$f":"'[2]FinStat_Water Resources'!$N97","v":50.777634582085028},{"$f":"'[2]FinStat_Water Resources'!$O97","v":52.106113531656099},{"$f":"'[2]FinStat_Water Resources'!$P97","v":52.008330560444357},null,271.8429128316273,null,{"$f":"ROUND(I101 - S101, 3)","v":0},{"$f":"ROUND(J101 - T101, 3)","v":-2.3E-2},{"$f":"ROUND(K101 - U101, 3)","v":1.034},{"$f":"ROUND(L101 - V101, 3)","v":2.968},{"$f":"ROUND(M101 - W101, 3)","v":-2.093},{"$f":"ROUND(N101 - X101, 3)","v":-4.548},{"$f":"ROUND(O101 - Y101, 3)","v":-6.7839999999999998},null,{"$f":"ROUND(Q101 - AA101, 3)","v":-9.4450000000000003},null,0,-1.4276169441214417E-3,2.0255518871667391E-2,5.9607665148342523E-2,-4.1218934620054867E-2,-8.7283423992790155E-2,-0.13044064146830475,null,-3.4744330472393066E-2]
[null,null,null,null,"Capex creditors balance - WR - nominal","BS","£m",null,{"$f":"'[1]FinStat_Water Resources'!$J98","v":0},{"$f":"'[1]FinStat_Water Resources'!$K98","v":4.4787198928239365},{"$f":"'[1]FinStat_Water Resources'!$L98","v":8.0323774217479702},{"$f":"'[1]FinStat_Water Resources'!$M98","v":5.807884733592406},{"$f":"'[1]FinStat_Water Resources'!$N98","v":6.0803157216923367},{"$f":"'[1]FinStat_Water Resources'!$O98","v":3.4970876945160114},{"$f":"'[1]FinStat_Water Resources'!$P98","v":2.3000980600038474},null,30.196483524376507,null,{"$f":"'[2]FinStat_Water Resources'!$J98","v":0},{"$f":"'[2]FinStat_Water Resources'!$K98","v":4.4852356233748125},{"$f":"'[2]FinStat_Water Resources'!$L98","v":3.0554469998326557},{"$f":"'[2]FinStat_Water Resources'!$M98","v":3.1841127529979172},{"$f":"'[2]FinStat_Water Resources'!$N98","v":3.9942704846451456},{"$f":"'[2]FinStat_Water Resources'!$O98","v":2.3768570503534825},{"$f":"'[2]FinStat_Water Resources'!$P98","v":1.7544790929851732},null,18.850402004189185,null,0,-7.0000000000000001E-3,4.9770000000000003,2.6240000000000001,2.0859999999999999,1.1200000000000001,0.54600000000000004,null,11.346,null,0,-1.5606760910217268E-3,1.6288942338952652,0.82409141998173341,0.52224805706549993,0.47121050036788514,0.31120348038516876,null,0.60189697797842945]
[null,null,null,null,"Dividend creditors balance - WR - nominal","BS","£m",null,{"$f":"'[1]FinStat_Water Resources'!$J99","v":0},{"$f":"'[1]FinStat_Water Resources'!$K99","v":0},{"$f":"'[1]FinStat_Water Resources'!$L99","v":0},{"$f":"'[1]FinStat_Water Resources'!$M99","v":0},{"$f":"'[1]FinStat_Water Resources'!$N99","v":0},{"$f":"'[1]FinStat_Water Resources'!$O99","v":0},{"$f":"'[1]FinStat_Water Resources'!$P99","v":0},null,0,null,{"$f":"'[2]FinStat_Water Resources'!$J99","v":0},{"$f":"'[2]FinStat_Water Resources'!$K99","v":0},{"$f":"'[2]FinStat_Water Resources'!$L99","v":0},{"$f":"'[2]FinStat_Water Resources'!$M99","v":0},{"$f":"'[2]FinStat_Water Resources'!$N99","v":0},{"$f":"'[2]FinStat_Water Resources'!$O99","v":0},{"$f":"'[2]FinStat_Water Resources'!$P99","v":0},null,0,null,0,0,0,0,0,0,0,null,0,null,0,0,0,0,0,0,0,null,0]
[null,null,null,null,"Total borrowing balance - WR - nominal","BS","£m",null,{"$f":"'[1]FinStat_Water Resources'!$J100","v":0},{"$f":"'[1]FinStat_Water Resources'!$K100","v":134.33202468478345},{"$f":"'[1]FinStat_Water Resources'!$L100","v":135.5332099326572},{"$f":"'[1]FinStat_Water Resources'!$M100","v":136.77043073796719},{"$f":"'[1]FinStat_Water Resources'!$N100","v":138.04476816743644},{"$f":"'[1]FinStat_Water Resources'!$O100","v":139.3573357197898},{"$f":"'[1]FinStat_Water Resources'!$P100","v":140.70928029871374},null,824.74704954134791,null,{"$f":"'[2]FinStat_Water Resources'!$J100","v":0},{"$f":"'[2]FinStat_Water Resources'!$K100","v":133.19044616913797},{"$f":"'[2]FinStat_Water Resources'!$L100","v":134.38014255178004},{"$f":"'[2]FinStat_Water Resources'!$M100","v":135.60552982590139},{"$f":"'[2]FinStat_Water Resources'!$N100","v":136.86767871824634},{"$f":"'[2]FinStat_Water Resources'!$O100","v":138.16769207736166},{"$f":"'[2]FinStat_Water Resources'!$P100","v":139.50670583725048},null,817.71819517967776,null,0,1.1419999999999999,1.153,1.165,1.177,1.19,1.2030000000000001,null,7.0289999999999999,null,0,8.5741885611658585E-3,8.5801367531346401E-3,8.5910950792028751E-3,8.5995467375679976E-3,8.6127225700035961E-3,8.6232413902986756E-3,null,8.5958708531066897E-3]
[null,null,null,null,"Preference share capital balance - WR - nominal","BS","£m",null,{"$f":"'[1]FinStat_Water Resources'!$J101","v":0},{"$f":"'[1]FinStat_Water Resources'!$K101","v":0},{"$f":"'[1]FinStat_Water Resources'!$L101","v":0},{"$f":"'[1]FinStat_Water Resources'!$M101","v":0},{"$f":"'[1]FinStat_Water Resources'!$N101","v":0},{"$f":"'[1]FinStat_Water Resources'!$O101","v":0},{"$f":"'[1]FinStat_Water Resources'!$P101","v":0},null,0,null,{"$f":"'[2]FinStat_Water Resources'!$J101","v":0},{"$f":"'[2]FinStat_Water Resources'!$K101","v":0},{"$f":"'[2]FinStat_Water Resources'!$L101","v":0},{"$f":"'[2]FinStat_Water Resources'!$M101","v":0},{"$f":"'[2]FinStat_Water Resources'!$N101","v":0},{"$f":"'[2]FinStat_Water Resources'!$O101","v":0},{"$f":"'[2]FinStat_Water Resources'!$P101","v":0},null,0,null,0,0,0,0,0,0,0,null,0,null,0,0,0,0,0,0,0,null,0]
[null,null,null,null,"Current tax liabilities - WR - nominal","BS","£m",null,{"$f":"'[1]FinStat_Water Resources'!$J102","v":0},{"$f":"'[1]FinStat_Water Resources'!$K102","v":0},{"$f":"'[1]FinStat_Water Resources'!$L102","v":0},{"$f":"'[1]FinStat_Water Resources'!$M102","v":0},{"$f":"'[1]FinStat_Water Resources'!$N102","v":0},{"$f":"'[1]FinStat_Water Resources'!$O102","v":0},{"$f":"'[1]FinStat_Water Resources'!$P102","v":0},null,0,null,{"$f":"'[2]FinStat_Water Resources'!$J102","v":0},{"$f":"'[2]FinStat_Water Resources'!$K102","v":0},{"$f":"'[2]FinStat_Water Resources'!$L102","v":0},{"$f":"'[2]FinStat_Water Resources'!$M102","v":0},{"$f":"'[2]FinStat_Water Resources'!$N102","v":0},{"$f":"'[2]FinStat_Water Resources'!$O102","v":0},{"$f":"'[2]FinStat_Water Resources'!$P102","v":0},null,0,null,0,0,0,0,0,0,0,null,0,null,0,0,0,0,0,0,0,null,0]
[null,null,null,null,"Retirement benefit liability balance - WR - nominal","BS","£m",null,{"$f":"'[1]FinStat_Water Resources'!$J103","v":0},{"$f":"'[1]FinStat_Water Resources'!$K103","v":0},{"$f":"'[1]FinStat_Water Resources'!$L103","v":0},{"$f":"'[1]FinStat_Water Resources'!$M103","v":0},{"$f":"'[1]FinStat_Water Resources'!$N103","v":0},{"$f":"'[1]FinStat_Water Resources'!$O103","v":0},{"$f":"'[1]FinStat_Water Resources'!$P103","v":0},null,0,null,{"$f":"'[2]FinStat_Water Resources'!$J103","v":0},{"$f":"'[2]FinStat_Water Resources'!$K103","v":0},{"$f":"'[2]FinStat_Water Resources'!$L103","v":0},{"$f":"'[2]FinStat_Water Resources'!$M103","v":0},{"$f":"'[2]FinStat_Water Resources'!$N103","v":0},{"$f":"'[2]FinStat_Water Resources'!$O103","v":0},{"$f":"'[2]FinStat_Water Resources'!$P103","v":0},null,0,null,0,0,0,0,0,0,0,null,0,null,0,0,0,0,0,0,0,null,0]
[null,null,null,null,"Provisions balance - WR - nominal","BS","£m",null,{"$f":"'[1]FinStat_Water Resources'!$J104","v":0},{"$f":"'[1]FinStat_Water Resources'!$K104","v":0},{"$f":"'[1]FinStat_Water Resources'!$L104","v":8.8784673320830843E-3},{"$f":"'[1]FinStat_Water Resources'!$M104","v":1.8033317217527135E-2},{"$f":"'[1]FinStat_Water Resources'!$N104","v":2.7612970129253636E-2},{"$f":"'[1]FinStat_Water Resources'!$O104","v":3.7112215472352966E-2},{"$f":"'[1]FinStat_Water Resources'!$P104","v":4.6397430766223866E-2},null,0.13803440091744068,null,{"$f":"'[2]FinStat_Water Resources'!$J104","v":0},{"$f":"'[2]FinStat_Water Resources'!$K104","v":0.42527586035433201},{"$f":"'[2]FinStat_Water Resources'!$L104","v":0.43369877167940324},{"$f":"'[2]FinStat_Water Resources'!$M104","v":0.44206692322455421},{"$f":"'[2]FinStat_Water Resources'!$N104","v":0.45065230666532685},{"$f":"'[2]FinStat_Water Resources'!$O104","v":0.45921702402879555},{"$f":"'[2]FinStat_Water Resources'!$P104","v":0.46768148394786951},null,2.6785923699002816,null,0,-0.42499999999999999,-0.42499999999999999,-0.42399999999999999,-0.42299999999999999,-0.42199999999999999,-0.42099999999999999,null,-2.5409999999999999,null,0,-0.99935133784903241,-0.97994282611011518,-0.95913079609582808,-0.938639376174629,-0.91895547838735647,-0.90018530655989593,null,-0.94863258349929369]
[null,null,null,null,"Other liabilities balance - WR - nominal","BS","£m",null,{"$f":"'[1]FinStat_Water Resources'!$J105","v":0},{"$f":"'[1]FinStat_Water Resources'!$K105","v":0},{"$f":"'[1]FinStat_Water Resources'!$L105","v":0},{"$f":"'[1]FinStat_Water Resources'!$M105","v":0},{"$f":"'[1]FinStat_Water Resources'!$N105","v":0},{"$f":"'[1]FinStat_Water Resources'!$O105","v":0},{"$f":"'[1]FinStat_Water Resources'!$P105","v":0},null,0,null,{"$f":"'[2]FinStat_Water Resources'!$J105","v":0},{"$f":"'[2]FinStat_Water Resources'!$K105","v":15.030175661115296},{"$f":"'[2]FinStat_Water Resources'!$L105","v":15.030175661115296},{"$f":"'[2]FinStat_Water Resources'!$M105","v":15.030175661115296},{"$f":"'[2]FinStat_Water Resources'!$N105","v":15.030175661115296},{"$f":"'[2]FinStat_Water Resources'!$O105","v":15.030175661115296},{"$f":"'[2]FinStat_Water Resources'!$P105","v":15.030175661115296},null,90.181053966691778,null,0,-15.03,-15.03,-15.03,-15.03,-15.03,-15.03,null,-90.180999999999997,null,0,-0.99998831277030575,-0.99998831277030575,-0.99998831277030575,-0.99998831277030575,-0.99998831277030575,-0.99998831277030575,null,-0.9999994015739514]
[null,null,null,null,"Total liabilities - WR - nominal",null,"£m",null,{"$f":"'[1]FinStat_Water Resources'!$J106","v":0},{"$f":"'[1]FinStat_Water Resources'!$K106","v":154.89810459885604},{"$f":"'[1]FinStat_Water Resources'!$L106","v":195.65674697172057},{"$f":"'[1]FinStat_Water Resources'!$M106","v":195.35675965685323},{"$f":"'[1]FinStat_Water Resources'!$N106","v":192.83749742279011},{"$f":"'[1]FinStat_Water Resources'!$O106","v":190.45009163321092},{"$f":"'[1]FinStat_Water Resources'!$P106","v":188.28032515350333},null,1117.4795254369342,null,{"$f":"'[2]FinStat_Water Resources'!$J106","v":0},{"$f":"'[2]FinStat_Water Resources'!$K106","v":169.24189754573803},{"$f":"'[2]FinStat_Water Resources'!$L106","v":203.94727996735503},{"$f":"'[2]FinStat_Water Resources'!$M106","v":204.05413910597775},{"$f":"'[2]FinStat_Water Resources'!$N106","v":207.12041175275712},{"$f":"'[2]FinStat_Water Resources'!$O106","v":208.14005534451533},{"$f":"'[2]FinStat_Water Resources'!$P106","v":208.76737263574319},null,1201.2711563520866,null,0,-14.343999999999999,-8.2910000000000004,-8.6969999999999992,-14.282999999999999,-17.690000000000001,-20.486999999999998,null,-83.792000000000002,null,0,-8.4754426699354984E-2,-4.0652662792693806E-2,-4.2621041837740507E-2,-6.8959886083317753E-2,-8.4990848929675511E-2,-9.8133150507889316E-2,null,-6.9752777761227611E-2]
[]
[null,null,null,null,"Net assets before deferred tax - WR - nominal",null,"£m",null,{"$f":"'[1]FinStat_Water Resources'!$J108","v":0},{"$f":"'[1]FinStat_Water Resources'!$K108","v":103.13017256611113},{"$f":"'[1]FinStat_Water Resources'!$L108","v":100.77861811074854},{"$f":"'[1]FinStat_Water Resources'!$M108","v":99.286033246656814},{"$f":"'[1]FinStat_Water Resources'!$N108","v":97.741165424013872},{"$f":"'[1]FinStat_Water Resources'!$O108","v":96.073552813922362},{"$f":"'[1]FinStat_Water Resources'!$P108","v":94.777172637793399},null,591.78671479924606,null,{"$f":"'[2]FinStat_Water Resources'!$J108","v":0},{"$f":"'[2]FinStat_Water Resources'!$K108","v":88.810406135619644},{"$f":"'[2]FinStat_Water Resources'!$L108","v":88.07420543898138},{"$f":"'[2]FinStat_Water Resources'!$M108","v":87.737497506238128},{"$f":"'[2]FinStat_Water Resources'!$N108","v":87.00421042651115},{"$f":"'[2]FinStat_Water Resources'!$O108","v":85.833070758333378},{"$f":"'[2]FinStat_Water Resources'!$P108","v":84.975458105802147},null,522.43484837148594,null,{"$f":"ROUND(I112 - S112, 3)","v":0},14.32,12.704000000000001,11.548999999999999,10.737,10.24,9.8019999999999996,null,{"$f":"ROUND(Q112 - AA112, 3)","v":69.352000000000004},null,0,0.16124236587920077,0.14424200521231439,0.13163129024940409,0.12340782069471337,0.11930133583163011,0.11535095212779696,null,0.13274765306369096]
[]
[null,"Net assets"]
[null,null,null,null,"Deferred tax balance - WR - nominal","BS","£m",null,{"$f":"'[1]FinStat_Water Resources'!$J111","v":0},{"$f":"'[1]FinStat_Water Resources'!$K111","v":-19.4935334066653},{"$f":"'[1]FinStat_Water Resources'!$L111","v":-19.053482215013599},{"$f":"'[1]FinStat_Water Resources'!$M111","v":-18.384556844675458},{"$f":"'[1]FinStat_Water Resources'!$N111","v":-17.558744170751833},{"$f":"'[1]FinStat_Water Resources'!$O111","v":-16.582201641361642},{"$f":"'[1]FinStat_Water Resources'!$P111","v":-15.590256572886625},null,-106.66277485135447,null,{"$f":"'[2]FinStat_Water Resources'!$J111","v":0},{"$f":"'[2]FinStat_Water Resources'!$K111","v":-19.521892985786526},{"$f":"'[2]FinStat_Water Resources'!$L111","v":-19.040446969760577},{"$f":"'[2]FinStat_Water Resources'!$M111","v":-18.357108714017361},{"$f":"'[2]FinStat_Water Resources'!$N111","v":-17.528116851375355},{"$f":"'[2]FinStat_Water Resources'!$O111","v":-16.561916145669489},{"$f":"'[2]FinStat_Water Resources'!$P111","v":-15.58642205023917},null,-106.59590371684847,null,{"$f":"ROUND(I115 - S115, 3)","v":0},2.8000000000000001E-2,-1.2999999999999999E-2,-2.7E-2,-3.1E-2,-0.02,-4.0000000000000001E-3,null,{"$f":"ROUND(Q115 - AA115, 3)","v":-6.7000000000000004E-2},null,0,-1.4342871370305228E-3,6.8275708131464456E-4,1.4708198562545412E-3,1.7685870229446562E-3,1.2075897392603019E-3,2.5663362554324143E-4,null,6.2854197641564748E-4]
[null,null,null,null,"Net assets - WR - nominal",null,"£m",null,{"$f":"'[1]FinStat_Water Resources'!$J112","v":0},{"$f":"'[1]FinStat_Water Resources'!$K112","v":83.636639159445821},{"$f":"'[1]FinStat_Water Resources'!$L112","v":81.725135895734937},{"$f":"'[1]FinStat_Water Resources'!$M112","v":80.901476401981355},{"$f":"'[1]FinStat_Water Resources'!$N112","v":80.182421253262035},{"$f":"'[1]FinStat_Water Resources'!$O112","v":79.491351172560712},{"$f":"'[1]FinStat_Water Resources'!$P112","v":79.186916064906768},null,485.12393994789164,null,{"$f":"'[2]FinStat_Water Resources'!$J112","v":0},{"$f":"'[2]FinStat_Water Resources'!$K112","v":69.288513149833122},{"$f":"'[2]FinStat_Water Resources'!$L112","v":69.0337584692208},{"$f":"'[2]FinStat_Water Resources'!$M112","v":69.380388792220771},{"$f":"'[2]FinStat_Water Resources'!$N112","v":69.476093575135792},{"$f":"'[2]FinStat_Water Resources'!$O112","v":69.271154612663892},{"$f":"'[2]FinStat_Water Resources'!$P112","v":69.389036055562983},null,415.83894465463737,null,0,14.348000000000001,12.691000000000001,11.521000000000001,10.706,10.220000000000001,9.798,null,{"$f":"ROUND(Q116 - AA116, 3)","v":69.284999999999997},null,0,0.20707617103823733,0.18383759310538444,0.16605556988881828,0.15409617105806131,0.14753615782999549,0.14120386385183809,null,0.16661498613974837]
[]
[null,"Equity"]
[null,null,null,null,"Called up share capital balance - WR - nominal","BS","£m",null,{"$f":"'[1]FinStat_Water Resources'!$J115","v":0},{"$f":"'[1]FinStat_Water Resources'!$K115","v":0.25381510930905926},{"$f":"'[1]FinStat_Water Resources'!$L115","v":0.25381510930905926},{"$f":"'[1]FinStat_Water Resources'!$M115","v":0.25381510930905926},{"$f":"'[1]FinStat_Water Resources'!$N115","v":0.25381510930905926},{"$f":"'[1]FinStat_Water Resources'!$O115","v":0.25381510930905926},{"$f":"'[1]FinStat_Water Resources'!$P115","v":0.25381510930905926},null,1.5228906558543556,null,{"$f":"'[2]FinStat_Water Resources'!$J115","v":0},{"$f":"'[2]FinStat_Water Resources'!$K115","v":0.2541843645653768},{"$f":"'[2]FinStat_Water Resources'!$L115","v":0.2541843645653768},{"$f":"'[2]FinStat_Water Resources'!$M115","v":0.2541843645653768},{"$f":"'[2]FinStat_Water Resources'!$N115","v":0.2541843645653768},{"$f":"'[2]FinStat_Water Resources'!$O115","v":0.2541843645653768},{"$f":"'[2]FinStat_Water Resources'!$P115","v":0.2541843645653768},null,1.5251061873922607,null,{"$f":"ROUND(I119 - S119, 3)","v":0},0,0,0,0,0,0,null,{"$f":"ROUND(Q119 - AA119, 3)","v":-2E-3},null,0,0,0,0,0,0,0,null,-1.3113840967491897E-3]
[null,null,null,null,"Non-distributable reserves balance - WR - nominal","BS","£m",null,{"$f":"'[1]FinStat_Water Resources'!$J116","v":0},{"$f":"'[1]FinStat_Water Resources'!$K116","v":19.606734945417141},{"$f":"'[1]FinStat_Water Resources'!$L116","v":19.606734945417141},{"$f":"'[1]FinStat_Water Resources'!$M116","v":19.606734945417141},{"$f":"'[1]FinStat_Water Resources'!$N116","v":19.606734945417141},{"$f":"'[1]FinStat_Water Resources'!$O116","v":19.606734945417141},{"$f":"'[1]FinStat_Water Resources'!$P116","v":19.606734945417141},null,117.64040967250286,null,{"$f":"'[2]FinStat_Water Resources'!$J116","v":0},{"$f":"'[2]FinStat_Water Resources'!$K116","v":19.635259212382685},{"$f":"'[2]FinStat_Water Resources'!$L116","v":19.635259212382685},{"$f":"'[2]FinStat_Water Resources'!$M116","v":19.635259212382685},{"$f":"'[2]FinStat_Water Resources'!$N116","v":19.635259212382685},{"$f":"'[2]FinStat_Water Resources'!$O116","v":19.635259212382685},{"$f":"'[2]FinStat_Water Resources'!$P116","v":19.635259212382685},null,117.81155527429613,null,0,-2.9000000000000001E-2,-2.9000000000000001E-2,-2.9000000000000001E-2,-2.9000000000000001E-2,-2.9000000000000001E-2,-2.9000000000000001E-2,null,{"$f":"ROUND(Q120 - AA120, 3)","v":-0.17100000000000001},null,0,-1.4769349203045702E-3,-1.4769349203045702E-3,-1.4769349203045702E-3,-1.4769349203045702E-3,-1.4769349203045702E-3,-1.4769349203045702E-3,null,-1.4514705251269051E-3]
[null,null,null,null,"Retained earnings balance - WR - nominal","BS","£m",null,{"$f":"'[1]FinStat_Water Resources'!$J117","v":0},{"$f":"'[1]FinStat_Water Resources'!$K117","v":63.776089104719617},{"$f":"'[1]FinStat_Water Resources'!$L117","v":61.864585841008719},{"$f":"'[1]FinStat_Water Resources'!$M117","v":61.04092634725508},{"$f":"'[1]FinStat_Water Resources'!$N117","v":60.321871198535717},{"$f":"'[1]FinStat_Water Resources'!$O117","v":59.63080111783438},{"$f":"'[1]FinStat_Water Resources'!$P117","v":59.326366010180465},null,365.96063961953394,null,{"$f":"'[2]FinStat_Water Resources'!$J117","v":0},{"$f":"'[2]FinStat_Water Resources'!$K117","v":49.399069572885061},{"$f":"'[2]FinStat_Water Resources'!$L117","v":49.144314892272767},{"$f":"'[2]FinStat_Water Resources'!$M117","v":49.490945215272774},{"$f":"'[2]FinStat_Water Resources'!$N117","v":49.586649998187767},{"$f":"'[2]FinStat_Water Resources'!$O117","v":49.381711035715909},{"$f":"'[2]FinStat_Water Resources'!$P117","v":49.499592478615043},null,296.50228319294933,null,0,14.377000000000001,12.72,11.55,10.734999999999999,10.249000000000001,9.827,null,{"$f":"ROUND(Q121 - AA121, 3)","v":69.457999999999998},null,0,0.29103787023331862,0.25882953151108096,0.23337602362938303,0.216489720527447,0.2075464738876158,0.19852688694852363,null,0.23425789255997093]
[null,null,null,null,"Total equity - WR - nominal",null,"£m",null,{"$f":"'[1]FinStat_Water Resources'!$J118","v":0},{"$f":"'[1]FinStat_Water Resources'!$K118","v":83.636639159445821},{"$f":"'[1]FinStat_Water Resources'!$L118","v":81.725135895734923},{"$f":"'[1]FinStat_Water Resources'!$M118","v":80.901476401981284},{"$f":"'[1]FinStat_Water Resources'!$N118","v":80.182421253261921},{"$f":"'[1]FinStat_Water Resources'!$O118","v":79.491351172560584},{"$f":"'[1]FinStat_Water Resources'!$P118","v":79.186916064906669},null,485.12393994789119,null,{"$f":"'[2]FinStat_Water Resources'!$J118","v":0},{"$f":"'[2]FinStat_Water Resources'!$K118","v":69.288513149833122},{"$f":"'[2]FinStat_Water Resources'!$L118","v":69.033758469220828},{"$f":"'[2]FinStat_Water Resources'!$M118","v":69.380388792220828},{"$f":"'[2]FinStat_Water Resources'!$N118","v":69.47609357513582},{"$f":"'[2]FinStat_Water Resources'!$O118","v":69.271154612663963},{"$f":"'[2]FinStat_Water Resources'!$P118","v":69.38903605556311},null,415.83894465463766,null,0,14.348000000000001,12.691000000000001,11.521000000000001,10.706,10.220000000000001,9.798,null,{"$f":"ROUND(Q122 - AA122, 3)","v":69.284999999999997},null,0,0.20707617103823733,0.18383759310538436,0.16605556988881814,0.15409617105806125,0.14753615782999535,0.14120386385183784,null,0.16661498613974826]
[]
["Calculations"]
[]
[null,null,null,null,"Net debt",null,"£m",null,{"$f":"SUM(I97,I104:I105)","v":0},{"$f":"SUM(J97,J104:J105)","v":147.3322061499951},{"$f":"SUM(K97,K104:K105)","v":176.30307907927698},165.61541476140053,150.20402749827829,144.33194484889219,148.04445566949161,null,{"$f":"SUM(I126:O126)","v":931.83112800733477},null,{"$f":"SUM(S97,S104:S105)","v":0},{"$f":"SUM(T97,T104:T105)","v":146.20954055624847},{"$f":"SUM(U97,U104:U105)","v":184.20527299651113},184.38887374848474,182.92128576550257,185.90854687702017,194.09674945007797,null,{"$f":"SUM(S126:Y126)","v":1077.730269393845},null,{"$f":"ROUND(I126 - S126, 3)","v":0},1.123,-7.9020000000000001,-18.773,-32.716999999999999,-41.576999999999998,-46.052,null,{"$f":"ROUND(Q126 - AA126, 3)","v":-145.899},null,{"$f":"IF(S126 = 0, 0, AC126 / S126)","v":0},{"$f":"IF(T126 = 0, 0, AD126 / T126)","v":7.6807573276517424E-3},{"$f":"IF(U126 = 0, 0, AE126 / U126)","v":-4.2897794788695681E-2},{"$f":"IF(V126 = 0, 0, AF126 / V126)","v":-0.1018119999236357},{"$f":"IF(W126 = 0, 0, AG126 / W126)","v":-0.17885835354307439},{"$f":"IF(X126 = 0, 0, AH126 / X126)","v":-0.22364221924397848},{"$f":"IF(Y126 = 0, 0, AI126 / Y126)","v":-0.23726311816388587},null,{"$f":"IF(AA126 = 0, 0, AK126 / AA126)","v":-0.13537617355969686}]
[null,null,null,null,"Average net debt",null,"£m",null,null,{"$f":"SUM(I97:J97,I104:J105)","v":147.3322061499951},{"$f":"SUM(J97:K97,J104:K105)","v":323.63528522927209},341.91849384067751,315.81944225967879,294.53597234717051,292.37640051838378,null,{"$f":"SUM(I127:O127)","v":1715.6178003451778},null,null,{"$f":"SUM(S97:T97,S104:T105)","v":146.20954055624847},{"$f":"SUM(T97:U97,T104:U105)","v":330.4148135527596},{"$f":"SUM(U97:V97,U104:V105)","v":368.5941467449959},{"$f":"SUM(V97:W97,V104:W105)","v":367.31015951398729},{"$f":"SUM(W97:X97,W104:X105)","v":368.82983264252277},{"$f":"SUM(X97:Y97,X104:Y105)","v":380.00529632709811},null,{"$f":"SUM(S127:Y127)","v":1961.3637893376122},null,0,1.123,-6.78,-26.675999999999998,-51.491,-74.293999999999997,-87.629000000000005,null,{"$f":"ROUND(Q127 - AA127, 3)","v":-245.74600000000001},null,0,7.6807573276517424E-3,-2.0519661110525212E-2,-7.2372283270290855E-2,-0.14018397984997527,-0.20143164523247017,-0.23059941755277899,null,-0.12529343171110183]
[]
[null,null,null,null,"Total interest as a percentage of average net debt",null,"%",null,null,{"$f":" IF( J127 = 0, 0, SUM( J27:J28 ) / J127 )","v":0},{"$f":" IF( K127 = 0, 0, SUM( K27:K28 ) / K127 )","v":-1.4503478362115867E-2},-1.2891042859808393E-2,-1.605836278572154E-2,-1.9134747792233644E-2,{"$f":" IF( O127 = 0, 0, SUM( O27:O28 ) / O127 )","v":-1.9822054368777976E-2},null,null,null,null,{"$f":" IF( T127 = 0, 0, SUM( T27:T28 ) / T127 )","v":0},{"$f":" IF( U127 = 0, 0, SUM( U27:U28 ) / U127 )","v":-1.2925303299682438E-2},-9.7324017494060354E-3,-1.0115215876193739E-2,-1.0273429952622263E-2,{"$f":" IF( Y127 = 0, 0, SUM( Y27:Y28 ) / Y127 )","v":-9.6529808057489747E-3},null,null,null,null,{"$f":"ROUND(J129 - T129, 3)","v":0},-2E-3,-3.0000000000000001E-3,-6.0000000000000001E-3,-8.9999999999999993E-3,-0.01,null,null,null,null,0,0.1547352471062817,0.30824868077225531,0.5931657883961784,0.87604627096355248,1.0359494337794968]

{"sheet":"FinStat_Water Network","index":7,"n_rows":129,"n_cols":47,"rows_kept":129,"cut":false,"hidden":false,"merged":[[0,8,0,16],[0,18,0,26],[0,28,0,36],[0,38,0,46]]}
[null,null,null,null,{"$f":" RIGHT(CELL(\"FILENAME\", $A$1), LEN(CELL(\"FILENAME\", $A$1)) - SEARCH(\"]\", CELL(\"FILENAME\", $A$1)))","v":"FinStat_Water Network"},null,null,null,{"$f":"'Front sheet'!$F5 & \": \" & 'Front sheet'!$G5 & \" - \" & 'Front sheet'!$H5","v":"Model 1: ANH - Company 1 April NTN Post"},null,null,null,null,null,null,null,null,null,{"$f":"'Front sheet'!$F6 & \": \" & 'Front sheet'!$G6 & \" - \" & 'Front sheet'!$H6","v":"Model 2: ANH - Ofwat FD NTN Post "},null,null,null,null,null,null,null,null,null,{"$f":"\"Delta (\" & 'Front sheet'!$F5 & \" - \" & 'Front sheet'!$F6 & \")\"","v":"Delta (Model 1 - Model 2)"},null,null,null,null,null,null,null,null,null,{"$f":"\"Delta  (\" & 'Front sheet'!$F5 & \" - \" & 'Front sheet'!$F6 & \") - %\"","v":"Delta  (Model 1 - Model 2) - %"}]
[]
[null,null,null,"Model period ending",null,null,null,null,"2019-03-31","2020-03-31","2021-03-31","2022-03-31","2023-03-31","2024-03-31","2025-03-31",null,null,null,"2019-03-31","2020-03-31","2021-03-31","2022-03-31","2023-03-31","2024-03-31","2025-03-31",null,null,null,"2019-03-31","2020-03-31","2021-03-31","2022-03-31","2023-03-31","2024-03-31","2025-03-31",null,null,null,"2019-03-31","2020-03-31","2021-03-31","2022-03-31","2023-03-31","2024-03-31","2025-03-31"]
[null,null,null,"Timeline label",null,null,null,null,"Pre-Fcst","Pre-Fcst","Forecast","Forecast","Forecast","Forecast","Forecast",null,"Total",null,"Pre-Fcst","Pre-Fcst","Forecast","Forecast","Forecast","Forecast","Forecast",null,"Total",null,"Pre-Fcst","Pre-Fcst","Forecast","Forecast","Forecast","Forecast","Forecast",null,"Total",null,"Pre-Fcst","Pre-Fcst","Forecast","Forecast","Forecast","Forecast","Forecast",null,"Total"]
[null,null,null,"Financial year ending",null,null,null,null,2019,2020,2021,2022,2023,2024,2025,null,null,null,2019,2020,2021,2022,2023,2024,2025,null,null,null,2019,2020,2021,2022,2023,2024,2025,null,null,null,2019,2020,2021,2022,2023,2024,2025]
[null,null,null,"Model column counter",null,null,null,null,1,2,3,4,5,6,7,null,null,null,1,2,3,4,5,6,7,null,null,null,1,2,3,4,5,6,7,null,null,null,1,2,3,4,5,6,7]
[]
[null,null,null,null,{"$f":"'Front sheet'!$F5 & \": \" & 'Front sheet'!$G5 & \" - \" & 'Front sheet'!$I5","v":"Model 1: ANH - "}]
[null,null,null,null,{"$f":"'Front sheet'!$F6 & \": \" & 'Front sheet'!$G6 & \" - \" & 'Front sheet'!$I6","v":"Model 2: ANH - "}]
[null,null,null,null,"3rd model not in use"]
[]
[null,null,null,"Check Delta (numbers)",null,null,null,null,null,null,null,null,null,null,null,null,null,null,null,null,null,null,null,null,null,null,null,null,{"$f":"COUNTIF(AC19:AC310,\"<>0\") - COUNTBLANK(AC19:AC310) - AC13","v":0},25,57,58,58,58,58,null,{"$f":"COUNTIF(AK19:AK310,\"<>0\") - COUNTBLANK(AK19:AK310) - AK13","v":59},null,{"$f":"COUNTIF(AM19:AM310,\"<>0\") - COUNTBLANK(AM19:AM310) - AM13","v":0},25,57,58,58,57,57,null,{"$f":"COUNTIF(AU19:AU310,\"<>0\") - COUNTBLANK(AU19:AU310) - AU13","v":59}]
[null,null,null,"Check Delta (errors)",null,null,null,null,null,null,null,null,null,null,null,null,null,null,null,null,null,null,null,null,null,null,null,null,{"$f":"COUNT( IF( ISERROR(AC19:AC308), 1) )","v":1},{"$f":"COUNT( IF( ISERROR(AD19:AD308), 1) )","v":1},{"$f":"COUNT( IF( ISERROR(AE19:AE308), 1) )","v":1},{"$f":"COUNT( IF( ISERROR(AF19:AF308), 1) )","v":1},{"$f":"COUNT( IF( ISERROR(AG19:AG308), 1) )","v":1},{"$f":"COUNT( IF( ISERROR(AH19:AH308), 1) )","v":1},{"$f":"COUNT( IF( ISERROR(AI19:AI308), 1) )","v":1},null,{"$f":"COUNT( IF( ISERROR(AK19:AK308), 1) )","v":0},null,{"$f":"COUNT( IF( ISERROR(AM19:AM308), 1) )","v":1},{"$f":"COUNT( IF( ISERROR(AN19:AN308), 1) )","v":1},{"$f":"COUNT( IF( ISERROR(AO19:AO308), 1) )","v":1},{"$f":"COUNT( IF( ISERROR(AP19:AP308), 1) )","v":1},{"$f":"COUNT( IF( ISERROR(AQ19:AQ308), 1) )","v":1},{"$f":"COUNT( IF( ISERROR(AR19:AR308), 1) )","v":1},{"$f":"COUNT( IF( ISERROR(AS19:AS308), 1) )","v":1},null,{"$f":"COUNT( IF( ISERROR(AU19:AU308), 1) )","v":0}]
[]
["PROFIT & LOSS"]
[]
[null,null,null,null,"Revenue requirement incl. tax charge - WN - nominal","PL","£m",null,{"$f":"'[1]FinStat_Water Network'!$J9","v":0},{"$f":"'[1]FinStat_Water Network'!$K9","v":0},{"$f":"'[1]FinStat_Water Network'!$L9","v":431.50601737383175},{"$f":"'[1]FinStat_Water Network'!$M9","v":457.18334560397489},{"$f":"'[1]FinStat_Water Network'!$N9","v":477.3598858049628},{"$f":"'[1]FinStat_Water Network'!$O9","v":501.30112877129824},{"$f":"'[1]FinStat_Water Network'!$P9","v":513.96209848865578},null,{"$f":"SUM(I17:O17)","v":2381.3124760427236},null,{"$f":"'[2]FinStat_Water Network'!$J9","v":0},{"$f":"'[2]FinStat_Water Network'!$K9","v":0},{"$f":"'[2]FinStat_Water Network'!$L9","v":400.55387252141918},{"$f":"'[2]FinStat_Water Network'!$M9","v":425.79127204888033},{"$f":"'[2]FinStat_Water Network'!$N9","v":435.13134379596875},{"$f":"'[2]FinStat_Water Network'!$O9","v":445.17958806514923},{"$f":"'[2]FinStat_Water Network'!$P9","v":452.8437215122965},null,{"$f":"SUM(S17:Y17)","v":2159.4997979437139},null,{"$f":"ROUND(I17 - S17, 3)","v":0},{"$f":"ROUND(J17 - T17, 3)","v":0},{"$f":"ROUND(K17 - U17, 3)","v":30.952000000000002},{"$f":"ROUND(L17 - V17, 3)","v":31.391999999999999},{"$f":"ROUND(M17 - W17, 3)","v":42.228999999999999},{"$f":"ROUND(N17 - X17, 3)","v":56.122},{"$f":"ROUND(O17 - Y17, 3)","v":61.118000000000002},null,{"$f":"ROUND(Q17 - AA17, 3)","v":221.81299999999999},null,{"$f":"IF(S17 = 0, 0, AC17 / S17)","v":0},{"$f":"IF(T17 = 0, 0, AD17 / T17)","v":0},{"$f":"IF(U17 = 0, 0, AE17 / U17)","v":7.7273001519526888E-2},{"$f":"IF(V17 = 0, 0, AF17 / V17)","v":7.3726264629483146E-2},{"$f":"IF(W17 = 0, 0, AG17 / W17)","v":9.7048858010561984E-2},{"$f":"IF(X17 = 0, 0, AH17 / X17)","v":0.1260659776516683},{"$f":"IF(Y17 = 0, 0, AI17 / Y17)","v":0.13496488324027786},null,{"$f":"IF(AA17 = 0, 0, AK17 / AA17)","v":0.10271498993017336}]
[null,null,null,null,"Total direct procurement from customers - infrastructure cost (as revenue) - WN - nominal","PL","£m",null,{"$f":"'[1]FinStat_Water Network'!$J10","v":0},{"$f":"'[1]FinStat_Water Network'!$K10","v":0},{"$f":"'[1]FinStat_Water Network'!$L10","v":0},{"$f":"'[1]FinStat_Water Network'!$M10","v":0},{"$f":"'[1]FinStat_Water Network'!$N10","v":0},{"$f":"'[1]FinStat_Water Network'!$O10","v":0},{"$f":"'[1]FinStat_Water Network'!$P10","v":0},null,{"$f":"SUM(I18:O18)","v":0},null,{"$f":"'[2]FinStat_Water Network'!$J10","v":0},{"$f":"'[2]FinStat_Water Network'!$K10","v":0},{"$f":"'[2]FinStat_Water Network'!$L10","v":0},{"$f":"'[2]FinStat_Water Network'!$M10","v":0},{"$f":"'[2]FinStat_Water Network'!$N10","v":0},{"$f":"'[2]FinStat_Water Network'!$O10","v":0},{"$f":"'[2]FinStat_Water Network'!$P10","v":0},null,{"$f":"SUM(S18:Y18)","v":0},null,0,0,0,0,0,0,0,null,0,null,0,0,0,0,0,0,0,null,0]
[null,null,null,null,"Operating expenditure - WN - nominal","PL","£m",null,{"$f":"'[1]FinStat_Water Network'!$J11","v":0},{"$f":"'[1]FinStat_Water Network'!$K11","v":0},{"$f":"'[1]FinStat_Water Network'!$L11","v":-240.73766279400488},{"$f":"'[1]FinStat_Water Network'!$M11","v":-245.97365924674949},{"$f":"'[1]FinStat_Water Network'!$N11","v":-252.84179390016851},{"$f":"'[1]FinStat_Water Network'!$O11","v":-259.27544465648481},{"$f":"'[1]FinStat_Water Network'!$P11","v":-255.80220077434723},null,-1254.6307613717549,null,{"$f":"'[2]FinStat_Water Network'!$J11","v":0},{"$f":"'[2]FinStat_Water Network'!$K11","v":0},{"$f":"'[2]FinStat_Water Network'!$L11","v":-209.6561126799638},{"$f":"'[2]FinStat_Water Network'!$M11","v":-217.62438073228498},{"$f":"'[2]FinStat_Water Network'!$N11","v":-225.31029629612124},{"$f":"'[2]FinStat_Water Network'!$O11","v":-230.9726579090474},{"$f":"'[2]FinStat_Water Network'!$P11","v":-230.8439826054269},null,-1114.4074302228444,null,0,0,-31.082000000000001,-28.349,-27.530999999999999,-28.303000000000001,-24.957999999999998,null,-140.22300000000001,null,0,0,0.14825229564112974,0.13026573541350633,0.1221914863749347,0.12253831365245482,0.10811631179773824,null,0.12582740943494974]
[null,null,null,null,"Operating income - WN - nominal","PL","£m",null,{"$f":"'[1]FinStat_Water Network'!$J12","v":0},{"$f":"'[1]FinStat_Water Network'!$K12","v":0},{"$f":"'[1]FinStat_Water Network'!$L12","v":0},{"$f":"'[1]FinStat_Water Network'!$M12","v":0},{"$f":"'[1]FinStat_Water Network'!$N12","v":0},{"$f":"'[1]FinStat_Water Network'!$O12","v":0},{"$f":"'[1]FinStat_Water Network'!$P12","v":0},null,0,null,{"$f":"'[2]FinStat_Water Network'!$J12","v":0},{"$f":"'[2]FinStat_Water Network'!$K12","v":0},{"$f":"'[2]FinStat_Water Network'!$L12","v":0},{"$f":"'[2]FinStat_Water Network'!$M12","v":0},{"$f":"'[2]FinStat_Water Network'!$N12","v":0},{"$f":"'[2]FinStat_Water Network'!$O12","v":0},{"$f":"'[2]FinStat_Water Network'!$P12","v":0},null,0,null,0,0,0,0,0,0,0,null,0,null,0,0,0,0,0,0,0,null,0]
[null,null,null,null,"EBITDA - WN - nominal",null,"£m",null,{"$f":"'[1]FinStat_Water Network'!$J13","v":0},{"$f":"'[1]FinStat_Water Network'!$K13","v":0},{"$f":"'[1]FinStat_Water Network'!$L13","v":190.76835457982688},{"$f":"'[1]FinStat_Water Network'!$M13","v":211.20968635722539},{"$f":"'[1]FinStat_Water Network'!$N13","v":224.51809190479429},{"$f":"'[1]FinStat_Water Network'!$O13","v":242.02568411481343},{"$f":"'[1]FinStat_Water Network'!$P13","v":258.15989771430856},null,1126.6817146709684,null,{"$f":"'[2]FinStat_Water Network'!$J13","v":0},{"$f":"'[2]FinStat_Water Network'!$K13","v":0},{"$f":"'[2]FinStat_Water Network'!$L13","v":190.89775984145538},{"$f":"'[2]FinStat_Water Network'!$M13","v":208.16689131659535},{"$f":"'[2]FinStat_Water Network'!$N13","v":209.82104749984751},{"$f":"'[2]FinStat_Water Network'!$O13","v":214.20693015610183},{"$f":"'[2]FinStat_Water Network'!$P13","v":221.9997389068696},null,1045.0923677208698,null,0,0,-0.129,3.0430000000000001,14.696999999999999,27.818999999999999,36.159999999999997,null,81.588999999999999,null,0,0,-6.7575439390769811E-4,1.461807869999838E-2,7.0045403810171519E-2,0.12986974781687546,0.16288307444888195,null,7.8068697581180055E-2]
[null,null,null,null,null,null,null,null,null,null,null,null,null,null,null,null,null,null,null,null,null,null,null,null,null,null,null,null,0,0,0,0,0,0,0,null,0,null,0,0,0,0,0,0,0,null,0]
[null,null,null,null,"Wholesale fixed assets depreciation - WN - nominal","PL","£m",null,{"$f":"'[1]FinStat_Water Network'!$J15","v":0},{"$f":"'[1]FinStat_Water Network'!$K15","v":0},{"$f":"'[1]FinStat_Water Network'!$L15","v":-113.3683408918058},{"$f":"'[1]FinStat_Water Network'!$M15","v":-120.66600106342774},{"$f":"'[1]FinStat_Water Network'!$N15","v":-127.07812530641439},{"$f":"'[1]FinStat_Water Network'!$O15","v":-139.6342037608639},{"$f":"'[1]FinStat_Water Network'!$P15","v":-151.92140281028841},null,-652.66807383280025,null,{"$f":"'[2]FinStat_Water Network'!$J15","v":0},{"$f":"'[2]FinStat_Water Network'!$K15","v":0},{"$f":"'[2]FinStat_Water Network'!$L15","v":-112.91642810578647},{"$f":"'[2]FinStat_Water Network'!$M15","v":-119.22257926508409},{"$f":"'[2]FinStat_Water Network'!$N15","v":-124.29048139082457},{"$f":"'[2]FinStat_Water Network'!$O15","v":-134.71325861069056},{"$f":"'[2]FinStat_Water Network'!$P15","v":-144.97306221930472},null,-636.11580959169032,null,0,0,-0.45200000000000001,-1.4430000000000001,-2.7879999999999998,-4.9210000000000003,-6.9480000000000004,null,-16.552,null,0,0,4.0029604866400927E-3,1.2103412028954499E-2,2.2431323531793938E-2,3.6529440759957094E-2,4.792614499298891E-2,null,2.6020419160190954E-2]
[null,null,null,null,"Earnings before interest and tax (EBIT) - WN - nominal",null,"£m",null,{"$f":"'[1]FinStat_Water Network'!$J16","v":0},{"$f":"'[1]FinStat_Water Network'!$K16","v":0},{"$f":"'[1]FinStat_Water Network'!$L16","v":77.400013688021076},{"$f":"'[1]FinStat_Water Network'!$M16","v":90.543685293797651},{"$f":"'[1]FinStat_Water Network'!$N16","v":97.439966598379897},{"$f":"'[1]FinStat_Water Network'!$O16","v":102.39148035394953},{"$f":"'[1]FinStat_Water Network'!$P16","v":106.23849490402014},null,474.01364083816827,null,{"$f":"'[2]FinStat_Water Network'!$J16","v":0},{"$f":"'[2]FinStat_Water Network'!$K16","v":0},{"$f":"'[2]FinStat_Water Network'!$L16","v":77.981331735668917},{"$f":"'[2]FinStat_Water Network'!$M16","v":88.944312051511261},{"$f":"'[2]FinStat_Water Network'!$N16","v":85.530566109022942},{"$f":"'[2]FinStat_Water Network'!$O16","v":79.493671545411274},{"$f":"'[2]FinStat_Water Network'!$P16","v":77.026676687564873},null,408.97655812917924,null,0,0,-0.58099999999999996,1.599,11.909000000000001,22.898,29.212,null,65.037000000000006,null,0,0,-7.4505011272364393E-3,1.7977540813109604E-2,0.13923677279091076,0.28804808678284999,0.37924523368039792,null,0.15902378438878015]
[null,null,null,null,null,null,null,null,null,null,null,null,null,null,null,null,null,null,null,null,null,null,null,null,null,null,null,null,0,0,0,0,0,0,0,null,0,null,0,0,0,0,0,0,0,null,0]
[null,null,null,null,"Total other income (incl. 3rd party income) - WN - nominal","PL & CF","£m",null,{"$f":"'[1]FinStat_Water Network'!$J18","v":0},{"$f":"'[1]FinStat_Water Network'!$K18","v":0},{"$f":"'[1]FinStat_Water Network'!$L18","v":18.363071334446502},{"$f":"'[1]FinStat_Water Network'!$M18","v":19.185397730804578},{"$f":"'[1]FinStat_Water Network'!$N18","v":19.658856763531677},{"$f":"'[1]FinStat_Water Network'!$O18","v":20.268871118789608},{"$f":"'[1]FinStat_Water Network'!$P18","v":20.677566458477344},null,98.153763406049706,null,{"$f":"'[2]FinStat_Water Network'!$J18","v":0},{"$f":"'[2]FinStat_Water Network'!$K18","v":0},{"$f":"'[2]FinStat_Water Network'!$L18","v":18.291569572727578},{"$f":"'[2]FinStat_Water Network'!$M18","v":19.111480605372908},{"$f":"'[2]FinStat_Water Network'!$N18","v":19.597538883577794},{"$f":"'[2]FinStat_Water Network'!$O18","v":20.225460006246077},{"$f":"'[2]FinStat_Water Network'!$P18","v":20.65350872339091},null,97.879557791315278,null,0,0,7.1999999999999995E-2,7.3999999999999996E-2,6.0999999999999999E-2,4.2999999999999997E-2,2.4E-2,null,0.27400000000000002,null,0,0,3.9362395727565542E-3,3.8720181616486585E-3,3.112635742803212E-3,2.1260332267706459E-3,1.162030157753247E-3,null,2.7993587852550728E-3]
[null,null,null,null,"Interest income /(expense) excl. indexation of index-linked loans - WN - nominal","PL & CF","£m",null,{"$f":"'[1]FinStat_Water Network'!$J19","v":0},{"$f":"'[1]FinStat_Water Network'!$K19","v":0},{"$f":"'[1]FinStat_Water Network'!$L19","v":-58.927682136257744},{"$f":"'[1]FinStat_Water Network'!$M19","v":-63.977991954701253},{"$f":"'[1]FinStat_Water Network'!$N19","v":-72.257321701086113},{"$f":"'[1]FinStat_Water Network'!$O19","v":-81.597442222169235},{"$f":"'[1]FinStat_Water Network'!$P19","v":-88.231115105341999},null,-364.99155311955633,null,{"$f":"'[2]FinStat_Water Network'!$J19","v":0},{"$f":"'[2]FinStat_Water Network'!$K19","v":0},{"$f":"'[2]FinStat_Water Network'!$L19","v":-54.459910251204676},{"$f":"'[2]FinStat_Water Network'!$M19","v":-57.004091168748346},{"$f":"'[2]FinStat_Water Network'!$N19","v":-61.96580288219954},{"$f":"'[2]FinStat_Water Network'!$O19","v":-67.173996872383341},{"$f":"'[2]FinStat_Water Network'!$P19","v":-70.183632475396493},null,-310.78743364993238,null,0,0,-4.468,-6.9740000000000002,-10.292,-14.423,-18.047000000000001,null,-54.204000000000001,null,0,0,8.2042000792705419E-2,0.12234209610245296,0.16609161055438382,0.21471105891466766,0.25713972565222437,null,0.17440859613730331]
[null,null,null,null,"Indexation of index-linked loans - WN - nominal","PL","£m",null,{"$f":"'[1]FinStat_Water Network'!$J20","v":0},{"$f":"'[1]FinStat_Water Network'!$K20","v":0},{"$f":"'[1]FinStat_Water Network'!$L20","v":-16.947677951462577},{"$f":"'[1]FinStat_Water Network'!$M20","v":-17.456108290006451},{"$f":"'[1]FinStat_Water Network'!$N20","v":-17.979791538706646},{"$f":"'[1]FinStat_Water Network'!$O20","v":-18.519185284867845},{"$f":"'[1]FinStat_Water Network'!$P20","v":-19.07476084341388},null,-89.9775239084574,null,{"$f":"'[2]FinStat_Water Network'!$J20","v":0},{"$f":"'[2]FinStat_Water Network'!$K20","v":0},{"$f":"'[2]FinStat_Water Network'!$L20","v":-16.785462280150707},{"$f":"'[2]FinStat_Water Network'!$M20","v":-17.289026148555227},{"$f":"'[2]FinStat_Water Network'!$N20","v":-17.807696933011883},{"$f":"'[2]FinStat_Water Network'!$O20","v":-18.341927841002242},{"$f":"'[2]FinStat_Water Network'!$P20","v":-18.892185676232305},null,-89.116298878952364,null,0,0,-0.16200000000000001,-0.16700000000000001,-0.17199999999999999,-0.17699999999999999,-0.183,null,-0.86099999999999999,null,0,0,9.6512087243238853E-3,9.6593063464106982E-3,9.6587447914809593E-3,9.6500216081063985E-3,9.6865446452935738E-3,null,9.661532299153331E-3]
[null,null,null,null,"Earnings before tax (EBT) - WN - nominal",null,"£m",null,{"$f":"'[1]FinStat_Water Network'!$J21","v":0},{"$f":"'[1]FinStat_Water Network'!$K21","v":0},{"$f":"'[1]FinStat_Water Network'!$L21","v":19.887724934747254},{"$f":"'[1]FinStat_Water Network'!$M21","v":28.294982779894525},{"$f":"'[1]FinStat_Water Network'!$N21","v":26.861710122118808},{"$f":"'[1]FinStat_Water Network'!$O21","v":22.543723965702057},{"$f":"'[1]FinStat_Water Network'!$P21","v":19.610185413741604},null,117.19832721620425,null,{"$f":"'[2]FinStat_Water Network'!$J21","v":0},{"$f":"'[2]FinStat_Water Network'!$K21","v":0},{"$f":"'[2]FinStat_Water Network'!$L21","v":25.027528777041113},{"$f":"'[2]FinStat_Water Network'!$M21","v":33.762675339580596},{"$f":"'[2]FinStat_Water Network'!$N21","v":25.354605177389317},{"$f":"'[2]FinStat_Water Network'!$O21","v":14.203206838271768},{"$f":"'[2]FinStat_Water Network'!$P21","v":8.6043672593269918},null,106.95238339160979,null,0,0,-5.14,-5.468,1.5069999999999999,8.3409999999999993,11.006,null,10.246,null,0,0,-0.2053738523603319,-0.16195399046442757,5.9436934215954959E-2,0.58726174271605014,1.2791178791293083,null,9.5799641626348089E-2]
[null,null,null,null,null,null,null,null,null,null,null,null,null,null,null,null,null,null,null,null,null,null,null,null,null,null,null,null,0,0,0,0,0,0,0,null,0,null,0,0,0,0,0,0,0,null,0]
[null,null,null,null,"Water network tax - nominal","PL","£m",null,{"$f":"'[1]FinStat_Water Network'!$J23","v":0},{"$f":"'[1]FinStat_Water Network'!$K23","v":0},{"$f":"'[1]FinStat_Water Network'!$L23","v":0},{"$f":"'[1]FinStat_Water Network'!$M23","v":0},{"$f":"'[1]FinStat_Water Network'!$N23","v":0},{"$f":"'[1]FinStat_Water Network'!$O23","v":0},{"$f":"'[1]FinStat_Water Network'!$P23","v":0},null,0,null,{"$f":"'[2]FinStat_Water Network'!$J23","v":0},{"$f":"'[2]FinStat_Water Network'!$K23","v":0},{"$f":"'[2]FinStat_Water Network'!$L23","v":0},{"$f":"'[2]FinStat_Water Network'!$M23","v":0},{"$f":"'[2]FinStat_Water Network'!$N23","v":0},{"$f":"'[2]FinStat_Water Network'!$O23","v":0},{"$f":"'[2]FinStat_Water Network'!$P23","v":0},null,0,null,0,0,0,0,0,0,0,null,0,null,0,0,0,0,0,0,0,null,0]
[null,null,null,null,"Movement in deferred tax provision - WN - nominal","PL","£m",null,{"$f":"'[1]FinStat_Water Network'!$J24","v":0},{"$f":"'[1]FinStat_Water Network'!$K24","v":0},{"$f":"'[1]FinStat_Water Network'!$L24","v":-5.9909338383326896},{"$f":"'[1]FinStat_Water Network'!$M24","v":-5.0418448948465642},{"$f":"'[1]FinStat_Water Network'!$N24","v":-4.9698736857011747},{"$f":"'[1]FinStat_Water Network'!$O24","v":-3.9363663304748302},{"$f":"'[1]FinStat_Water Network'!$P24","v":-1.6581750476287074},null,-21.597193796983962,null,{"$f":"'[2]FinStat_Water Network'!$J24","v":0},{"$f":"'[2]FinStat_Water Network'!$K24","v":0},{"$f":"'[2]FinStat_Water Network'!$L24","v":-5.5129824195875115},{"$f":"'[2]FinStat_Water Network'!$M24","v":-4.1724670551395606},{"$f":"'[2]FinStat_Water Network'!$N24","v":-3.489091665220696},{"$f":"'[2]FinStat_Water Network'!$O24","v":-1.7237633084002448},{"$f":"'[2]FinStat_Water Network'!$P24","v":0.56399032412420014},null,-14.334314124223814,null,0,0,-0.47799999999999998,-0.86899999999999999,-1.4810000000000001,-2.2130000000000001,-2.222,null,-7.2629999999999999,null,0,0,8.6704430310112351E-2,0.20827006864669748,0.42446577565233506,1.2838189496293411,-3.9397839022335397,null,0.50668625907437914]
[null,null,null,null,"Earnings after tax (EAT) - WN - nominal",null,"£m",null,{"$f":"'[1]FinStat_Water Network'!$J25","v":0},{"$f":"'[1]FinStat_Water Network'!$K25","v":0},{"$f":"'[1]FinStat_Water Network'!$L25","v":13.896791096414564},{"$f":"'[1]FinStat_Water Network'!$M25","v":23.253137885047963},{"$f":"'[1]FinStat_Water Network'!$N25","v":21.891836436417634},{"$f":"'[1]FinStat_Water Network'!$O25","v":18.607357635227228},{"$f":"'[1]FinStat_Water Network'!$P25","v":17.952010366112898},null,95.60113341922029,null,{"$f":"'[2]FinStat_Water Network'!$J25","v":0},{"$f":"'[2]FinStat_Water Network'!$K25","v":0},{"$f":"'[2]FinStat_Water Network'!$L25","v":19.5145463574536},{"$f":"'[2]FinStat_Water Network'!$M25","v":29.590208284441037},{"$f":"'[2]FinStat_Water Network'!$N25","v":21.865513512168622},{"$f":"'[2]FinStat_Water Network'!$O25","v":12.479443529871524},{"$f":"'[2]FinStat_Water Network'!$P25","v":9.1683575834511917},null,92.618069267385991,null,0,0,-5.6180000000000003,-6.3369999999999997,2.5999999999999999E-2,6.1280000000000001,8.7840000000000007,null,2.9830000000000001,null,0,0,-0.28788780928305818,-0.21415868178704531,1.1890870976128893E-3,0.49104753632096348,0.9580778149245669,null,3.2207538157464237E-2]
[null,null,null,null,null,null,null,null,null,null,null,null,null,null,null,null,null,null,null,null,null,null,null,null,null,null,null,null,0,0,0,0,0,0,0,null,0,null,0,0,0,0,0,0,0,null,0]
[null,null,null,null,"Ordinary dividend declared - WN - nominal","PL","£m",null,{"$f":"'[1]FinStat_Water Network'!$J27","v":0},{"$f":"'[1]FinStat_Water Network'!$K27","v":0},{"$f":"'[1]FinStat_Water Network'!$L27","v":-31.190754208679571},{"$f":"'[1]FinStat_Water Network'!$M27","v":-32.244065978306686},{"$f":"'[1]FinStat_Water Network'!$N27","v":-33.332948086394111},{"$f":"'[1]FinStat_Water Network'!$O27","v":-34.458601743271643},{"$f":"'[1]FinStat_Water Network'!$P27","v":-35.622268724141925},null,-166.84863874079394,null,{"$f":"'[2]FinStat_Water Network'!$J27","v":0},{"$f":"'[2]FinStat_Water Network'!$K27","v":0},{"$f":"'[2]FinStat_Water Network'!$L27","v":-21.488404125001018},{"$f":"'[2]FinStat_Water Network'!$M27","v":-22.177719434913499},{"$f":"'[2]FinStat_Water Network'!$N27","v":-22.90506250219897},{"$f":"'[2]FinStat_Water Network'!$O27","v":-23.662024426759153},{"$f":"'[2]FinStat_Water Network'!$P27","v":-24.444002277609833},null,-114.67721276648246,null,0,0,-9.702,-10.066000000000001,-10.428000000000001,-10.797000000000001,-11.178000000000001,null,-52.170999999999999,null,0,0,0.45149932696547052,0.45387894952595975,0.45527053239862914,0.45630077145004461,0.45729008993910963,null,0.45493780971321618]
[null,null,null,null,"Retained earnings - WN - nominal",null,"£m",null,{"$f":"'[1]FinStat_Water Network'!$J28","v":0},{"$f":"'[1]FinStat_Water Network'!$K28","v":0},{"$f":"'[1]FinStat_Water Network'!$L28","v":-17.293963112265008},{"$f":"'[1]FinStat_Water Network'!$M28","v":-8.9909280932587237},{"$f":"'[1]FinStat_Water Network'!$N28","v":-11.441111649976477},{"$f":"'[1]FinStat_Water Network'!$O28","v":-15.851244108044416},{"$f":"'[1]FinStat_Water Network'!$P28","v":-17.670258358029027},null,-71.247505321573655,null,{"$f":"'[2]FinStat_Water Network'!$J28","v":0},{"$f":"'[2]FinStat_Water Network'!$K28","v":0},{"$f":"'[2]FinStat_Water Network'!$L28","v":-1.9738577675474183},{"$f":"'[2]FinStat_Water Network'!$M28","v":7.4124888495275378},{"$f":"'[2]FinStat_Water Network'!$N28","v":-1.0395489900303474},{"$f":"'[2]FinStat_Water Network'!$O28","v":-11.182580896887629},{"$f":"'[2]FinStat_Water Network'!$P28","v":-15.275644694158641},null,-22.0591434990965,null,0,0,-15.32,-16.402999999999999,-10.401999999999999,-4.6689999999999996,-2.395,null,-49.188000000000002,null,0,0,7.7614508258290531,-2.21288697129649,10.00626242703226,0.41752436607004473,0.15678552676181584,null,2.2298236557559292]
[null,null,null,null,null,null,null,null,null,null,null,null,null,null,null,null,null,null,null,null,null,null,null,null,null,null,null,null,0,0,0,0,0,0,0,null,0,null,0,0,0,0,0,0,0,null,0]
[null,"Retained earnings balance - WN",null,null,null,null,null,null,null,null,null,null,null,null,null,null,null,null,null,null,null,null,null,null,null,null,null,null,0,0,0,0,0,0,0,null,0,null,0,0,0,0,0,0,0,null,0]
[null,null,null,null,"Accumulated profit reserve b/f - WN - nominal",0,"£m",null,{"$f":"'[1]FinStat_Water Network'!$J31","v":0},{"$f":"'[1]FinStat_Water Network'!$K31","v":1617.3925311153168},{"$f":"'[1]FinStat_Water Network'!$L31","v":0},{"$f":"'[1]FinStat_Water Network'!$M31","v":0},{"$f":"'[1]FinStat_Water Network'!$N31","v":0},{"$f":"'[1]FinStat_Water Network'!$O31","v":0},{"$f":"'[1]FinStat_Water Network'!$P31","v":0},null,1617.3925311153168,null,{"$f":"'[2]FinStat_Water Network'!$J31","v":0},{"$f":"'[2]FinStat_Water Network'!$K31","v":1414.564324230389},{"$f":"'[2]FinStat_Water Network'!$L31","v":0},{"$f":"'[2]FinStat_Water Network'!$M31","v":0},{"$f":"'[2]FinStat_Water Network'!$N31","v":0},{"$f":"'[2]FinStat_Water Network'!$O31","v":0},{"$f":"'[2]FinStat_Water Network'!$P31","v":0},null,1414.564324230389,null,0,202.828,0,0,0,0,0,null,202.828,null,0,0.14338549087214614,0,0,0,0,0,null,0.14338549087214614]
[null,null,null,null,"Last pre-forecast period flag",0,"flag",null,{"$f":"'[1]FinStat_Water Network'!$J32","v":0},{"$f":"'[1]FinStat_Water Network'!$K32","v":1},{"$f":"'[1]FinStat_Water Network'!$L32","v":0},{"$f":"'[1]FinStat_Water Network'!$M32","v":0},{"$f":"'[1]FinStat_Water Network'!$N32","v":0},{"$f":"'[1]FinStat_Water Network'!$O32","v":0},{"$f":"'[1]FinStat_Water Network'!$P32","v":0},null,1,null,{"$f":"'[2]FinStat_Water Network'!$J32","v":0},{"$f":"'[2]FinStat_Water Network'!$K32","v":1},{"$f":"'[2]FinStat_Water Network'!$L32","v":0},{"$f":"'[2]FinStat_Water Network'!$M32","v":0},{"$f":"'[2]FinStat_Water Network'!$N32","v":0},{"$f":"'[2]FinStat_Water Network'!$O32","v":0},{"$f":"'[2]FinStat_Water Network'!$P32","v":0},null,1,null,0,0,0,0,0,0,0,null,0,null,0,0,0,0,0,0,0,null,0]
[null,null,null,null,null,null,null,null,{"$f":"'[1]FinStat_Water Network'!$J33","v":0},{"$f":"'[1]FinStat_Water Network'!$K33","v":0},{"$f":"'[1]FinStat_Water Network'!$L33","v":0},{"$f":"'[1]FinStat_Water Network'!$M33","v":0},{"$f":"'[1]FinStat_Water Network'!$N33","v":0},{"$f":"'[1]FinStat_Water Network'!$O33","v":0},{"$f":"'[1]FinStat_Water Network'!$P33","v":0},null,null,null,{"$f":"'[2]FinStat_Water Network'!$J33","v":0},{"$f":"'[2]FinStat_Water Network'!$K33","v":0},{"$f":"'[2]FinStat_Water Network'!$L33","v":0},{"$f":"'[2]FinStat_Water Network'!$M33","v":0},{"$f":"'[2]FinStat_Water Network'!$N33","v":0},{"$f":"'[2]FinStat_Water Network'!$O33","v":0},{"$f":"'[2]FinStat_Water Network'!$P33","v":0},null,null,null,0,0,0,0,0,0,0,null,0,null,0,0,0,0,0,0,0,null,0]
[null,null,null,null,"Retained earnings balance - WN BEG - nominal",null,"£m",null,{"$f":"'[1]FinStat_Water Network'!$J34","v":0},{"$f":"'[1]FinStat_Water Network'!$K34","v":0},{"$f":"'[1]FinStat_Water Network'!$L34","v":1617.3925311153168},{"$f":"'[1]FinStat_Water Network'!$M34","v":1600.0985680030519},{"$f":"'[1]FinStat_Water Network'!$N34","v":1591.1076399097933},{"$f":"'[1]FinStat_Water Network'!$O34","v":1579.6665282598169},{"$f":"'[1]FinStat_Water Network'!$P34","v":1563.8152841517724},null,7952.0805514397516,null,{"$f":"'[2]FinStat_Water Network'!$J34","v":0},{"$f":"'[2]FinStat_Water Network'!$K34","v":0},{"$f":"'[2]FinStat_Water Network'!$L34","v":1414.564324230389},{"$f":"'[2]FinStat_Water Network'!$M34","v":1412.5904664628417},{"$f":"'[2]FinStat_Water Network'!$N34","v":1420.0029553123693},{"$f":"'[2]FinStat_Water Network'!$O34","v":1418.9634063223389},{"$f":"'[2]FinStat_Water Network'!$P34","v":1407.7808254254512},null,7073.9019777533913,null,0,0,202.828,187.50800000000001,171.10499999999999,160.703,156.03399999999999,null,878.17899999999997,null,0,0,0.14338549087214614,0.13274052490919344,0.12049622809577933,0.11325380153143562,0.11083685555444635,null,0.12414350704346371]
[null,null,null,"plus","Retained earnings - WN - nominal",0,"£m",null,{"$f":"'[1]FinStat_Water Network'!$J35","v":0},{"$f":"'[1]FinStat_Water Network'!$K35","v":0},{"$f":"'[1]FinStat_Water Network'!$L35","v":-17.293963112265008},{"$f":"'[1]FinStat_Water Network'!$M35","v":-8.9909280932587237},{"$f":"'[1]FinStat_Water Network'!$N35","v":-11.441111649976477},{"$f":"'[1]FinStat_Water Network'!$O35","v":-15.851244108044416},{"$f":"'[1]FinStat_Water Network'!$P35","v":-17.670258358029027},null,-71.247505321573655,null,{"$f":"'[2]FinStat_Water Network'!$J35","v":0},{"$f":"'[2]FinStat_Water Network'!$K35","v":0},{"$f":"'[2]FinStat_Water Network'!$L35","v":-1.9738577675474183},{"$f":"'[2]FinStat_Water Network'!$M35","v":7.4124888495275378},{"$f":"'[2]FinStat_Water Network'!$N35","v":-1.0395489900303474},{"$f":"'[2]FinStat_Water Network'!$O35","v":-11.182580896887629},{"$f":"'[2]FinStat_Water Network'!$P35","v":-15.275644694158641},null,-22.0591434990965,null,0,0,-15.32,-16.402999999999999,-10.401999999999999,-4.6689999999999996,-2.395,null,-49.188000000000002,null,0,0,7.7614508258290531,-2.21288697129649,10.00626242703226,0.41752436607004473,0.15678552676181584,null,2.2298236557559292]
[null,null,null,null,"Retained earnings balance - WN - nominal",null,"£m",null,{"$f":"'[1]FinStat_Water Network'!$J36","v":0},{"$f":"'[1]FinStat_Water Network'!$K36","v":1617.3925311153168},{"$f":"'[1]FinStat_Water Network'!$L36","v":1600.0985680030519},{"$f":"'[1]FinStat_Water Network'!$M36","v":1591.1076399097933},{"$f":"'[1]FinStat_Water Network'!$N36","v":1579.6665282598169},{"$f":"'[1]FinStat_Water Network'!$O36","v":1563.8152841517724},{"$f":"'[1]FinStat_Water Network'!$P36","v":1546.1450257937433},null,9498.2255772334956,null,{"$f":"'[2]FinStat_Water Network'!$J36","v":0},{"$f":"'[2]FinStat_Water Network'!$K36","v":1414.564324230389},{"$f":"'[2]FinStat_Water Network'!$L36","v":1412.5904664628417},{"$f":"'[2]FinStat_Water Network'!$M36","v":1420.0029553123693},{"$f":"'[2]FinStat_Water Network'!$N36","v":1418.9634063223389},{"$f":"'[2]FinStat_Water Network'!$O36","v":1407.7808254254512},{"$f":"'[2]FinStat_Water Network'!$P36","v":1392.5051807312925},null,8466.4071584846843,null,0,202.828,187.50800000000001,171.10499999999999,160.703,156.03399999999999,153.63999999999999,null,1031.818,null,0,0.14338549087214614,0.13274052490919344,0.12049622809577933,0.11325380153143562,0.11083685555444635,0.11033352128665971,null,0.12187200316322544]
[]
["CASH FLOW "]
[]
[null,"Cash flow from operating activities"]
[null,null,null,null,"Earnings before interest and tax (EBIT) - WN - nominal",0,"£m",null,{"$f":"'[1]FinStat_Water Network'!$J43","v":0},{"$f":"'[1]FinStat_Water Network'!$K43","v":0},{"$f":"'[1]FinStat_Water Network'!$L43","v":77.400013688021076},{"$f":"'[1]FinStat_Water Network'!$M43","v":90.543685293797651},{"$f":"'[1]FinStat_Water Network'!$N43","v":97.439966598379897},{"$f":"'[1]FinStat_Water Network'!$O43","v":102.39148035394953},{"$f":"'[1]FinStat_Water Network'!$P43","v":106.23849490402014},null,{"$f":"SUM(I49:O49)","v":474.01364083816827},null,{"$f":"'[2]FinStat_Water Network'!$J43","v":0},{"$f":"'[2]FinStat_Water Network'!$K43","v":0},{"$f":"'[2]FinStat_Water Network'!$L43","v":77.981331735668917},{"$f":"'[2]FinStat_Water Network'!$M43","v":88.944312051511261},{"$f":"'[2]FinStat_Water Network'!$N43","v":85.530566109022942},{"$f":"'[2]FinStat_Water Network'!$O43","v":79.493671545411274},{"$f":"'[2]FinStat_Water Network'!$P43","v":77.026676687564873},null,{"$f":"SUM(S49:Y49)","v":408.97655812917924},null,{"$f":"ROUND(I49 - S49, 3)","v":0},{"$f":"ROUND(J49 - T49, 3)","v":0},{"$f":"ROUND(K49 - U49, 3)","v":-0.58099999999999996},{"$f":"ROUND(L49 - V49, 3)","v":1.599},{"$f":"ROUND(M49 - W49, 3)","v":11.909000000000001},{"$f":"ROUND(N49 - X49, 3)","v":22.898},{"$f":"ROUND(O49 - Y49, 3)","v":29.212},null,{"$f":"ROUND(Q49 - AA49, 3)","v":65.037000000000006},null,{"$f":"IF(S49 = 0, 0, AC49 / S49)","v":0},{"$f":"IF(T49 = 0, 0, AD49 / T49)","v":0},{"$f":"IF(U49 = 0, 0, AE49 / U49)","v":-7.4505011272364393E-3},{"$f":"IF(V49 = 0, 0, AF49 / V49)","v":1.7977540813109604E-2},{"$f":"IF(W49 = 0, 0, AG49 / W49)","v":0.13923677279091076},{"$f":"IF(X49 = 0, 0, AH49 / X49)","v":0.28804808678284999},{"$f":"IF(Y49 = 0, 0, AI49 / Y49)","v":0.37924523368039792},null,{"$f":"IF(AA49 = 0, 0, AK49 / AA49)","v":0.15902378438878015}]
[null,null,null,null,"Wholesale fixed assets depreciation - WN - nominal POS","CF","£m",null,{"$f":"'[1]FinStat_Water Network'!$J44","v":0},{"$f":"'[1]FinStat_Water Network'!$K44","v":0},{"$f":"'[1]FinStat_Water Network'!$L44","v":113.3683408918058},{"$f":"'[1]FinStat_Water Network'!$M44","v":120.66600106342774},{"$f":"'[1]FinStat_Water Network'!$N44","v":127.07812530641439},{"$f":"'[1]FinStat_Water Network'!$O44","v":139.6342037608639},{"$f":"'[1]FinStat_Water Network'!$P44","v":151.92140281028841},null,{"$f":"SUM(I50:O50)","v":652.66807383280025},null,{"$f":"'[2]FinStat_Water Network'!$J44","v":0},{"$f":"'[2]FinStat_Water Network'!$K44","v":0},{"$f":"'[2]FinStat_Water Network'!$L44","v":112.91642810578647},{"$f":"'[2]FinStat_Water Network'!$M44","v":119.22257926508409},{"$f":"'[2]FinStat_Water Network'!$N44","v":124.29048139082457},{"$f":"'[2]FinStat_Water Network'!$O44","v":134.71325861069056},{"$f":"'[2]FinStat_Water Network'!$P44","v":144.97306221930472},null,{"$f":"SUM(S50:Y50)","v":636.11580959169032},null,0,0,0.45200000000000001,1.4430000000000001,2.7879999999999998,4.9210000000000003,6.9480000000000004,null,16.552,null,0,0,4.0029604866400927E-3,1.2103412028954499E-2,2.2431323531793938E-2,3.6529440759957094E-2,4.792614499298891E-2,null,2.6020419160190954E-2]
[null,null,null,null,"Movement in inventories - WN - nominal","CF","£m",null,{"$f":"'[1]FinStat_Water Network'!$J45","v":0},{"$f":"'[1]FinStat_Water Network'!$K45","v":0},{"$f":"'[1]FinStat_Water Network'!$L45","v":-0.14269734977806836},{"$f":"'[1]FinStat_Water Network'!$M45","v":-0.15253567469955742},{"$f":"'[1]FinStat_Water Network'!$N45","v":-0.18355192237686246},{"$f":"'[1]FinStat_Water Network'!$O45","v":-0.12135164806836496},{"$f":"'[1]FinStat_Water Network'!$P45","v":-7.6574220882823951E-2},null,-0.67671081580567716,null,{"$f":"'[2]FinStat_Water Network'!$J45","v":0},{"$f":"'[2]FinStat_Water Network'!$K45","v":0},{"$f":"'[2]FinStat_Water Network'!$L45","v":-0.13571894072332924},{"$f":"'[2]FinStat_Water Network'!$M45","v":-0.11521117519277002},{"$f":"'[2]FinStat_Water Network'!$N45","v":-0.13706142809113597},{"$f":"'[2]FinStat_Water Network'!$O45","v":-0.10655147796840847},{"$f":"'[2]FinStat_Water Network'!$P45","v":-0.10249486524602425},null,-0.59703788722166795,null,0,0,-7.0000000000000001E-3,-3.6999999999999998E-2,-4.5999999999999999E-2,-1.4999999999999999E-2,2.5999999999999999E-2,null,-0.08,null,0,0,5.1577178267769544E-2,0.32114940185352697,0.3356159398062985,0.14077702427034716,-0.25367124428712329,null,0.13399484641130929]
[null,null,null,null,"Movement in trade debtors and other receivables - WN - nominal","CF","£m",null,{"$f":"'[1]FinStat_Water Network'!$J46","v":0},{"$f":"'[1]FinStat_Water Network'!$K46","v":0},{"$f":"'[1]FinStat_Water Network'!$L46","v":-0.814067247521713},{"$f":"'[1]FinStat_Water Network'!$M46","v":-1.1917601728880527},{"$f":"'[1]FinStat_Water Network'!$N46","v":-1.2880510646328602},{"$f":"'[1]FinStat_Water Network'!$O46","v":-0.73660118772549055},{"$f":"'[1]FinStat_Water Network'!$P46","v":-0.28071178054734958},null,-4.311191453315466,null,{"$f":"'[2]FinStat_Water Network'!$J46","v":0},{"$f":"'[2]FinStat_Water Network'!$K46","v":0},{"$f":"'[2]FinStat_Water Network'!$L46","v":-0.75084721601701432},{"$f":"'[2]FinStat_Water Network'!$M46","v":-0.85893757053728592},{"$f":"'[2]FinStat_Water Network'!$N46","v":-0.88055698101315016},{"$f":"'[2]FinStat_Water Network'!$O46","v":-0.61367629175821037},{"$f":"'[2]FinStat_Water Network'!$P46","v":-0.51433334104288519},null,-3.618351400368546,null,0,0,-6.3E-2,-0.33300000000000002,-0.40699999999999997,-0.123,0.23400000000000001,null,-0.69299999999999995,null,0,0,8.3905218872879744E-2,0.38768824583106848,0.46220745366383265,0.20043140276382426,-0.45495786745135203,null,0.19152368670699443]
[null,null,null,null,"Movement in working capital - trade payables - WN - nominal","CF","£m",null,{"$f":"'[1]FinStat_Water Network'!$J47","v":0},{"$f":"'[1]FinStat_Water Network'!$K47","v":0},{"$f":"'[1]FinStat_Water Network'!$L47","v":13.91942471173998},{"$f":"'[1]FinStat_Water Network'!$M47","v":0.15225521561364097},{"$f":"'[1]FinStat_Water Network'!$N47","v":6.6778266526228691},{"$f":"'[1]FinStat_Water Network'!$O47","v":-11.249128446840796},{"$f":"'[1]FinStat_Water Network'!$P47","v":-10.897972304409386},null,-1.3975941712736919,null,{"$f":"'[2]FinStat_Water Network'!$J47","v":0},{"$f":"'[2]FinStat_Water Network'!$K47","v":0},{"$f":"'[2]FinStat_Water Network'!$L47","v":-4.5168428947153796},{"$f":"'[2]FinStat_Water Network'!$M47","v":3.4710141136708774},{"$f":"'[2]FinStat_Water Network'!$N47","v":0.93108678463490158},{"$f":"'[2]FinStat_Water Network'!$O47","v":-14.156892987508833},{"$f":"'[2]FinStat_Water Network'!$P47","v":-3.2708446336587151},null,-17.54247961757715,null,0,0,18.436,-3.319,5.7469999999999999,2.9079999999999999,-7.6269999999999998,null,16.145,null,0,0,-4.0816119643146695,-0.9562046973326449,6.1723569648274168,-0.20541230357295484,2.3318135999228304,null,-0.92033739539438264]
[null,null,null,null,"Movement in other creditors - WN - nominal","CF","£m",null,{"$f":"'[1]FinStat_Water Network'!$J48","v":0},{"$f":"'[1]FinStat_Water Network'!$K48","v":0},{"$f":"'[1]FinStat_Water Network'!$L48","v":21.2458653869827},{"$f":"'[1]FinStat_Water Network'!$M48","v":-1.1588882756191197},{"$f":"'[1]FinStat_Water Network'!$N48","v":-3.1792428900823211},{"$f":"'[1]FinStat_Water Network'!$O48","v":4.4042971980059917},{"$f":"'[1]FinStat_Water Network'!$P48","v":-0.84759786453705033},null,20.464433554750201,null,{"$f":"'[2]FinStat_Water Network'!$J48","v":0},{"$f":"'[2]FinStat_Water Network'!$K48","v":0},{"$f":"'[2]FinStat_Water Network'!$L48","v":27.135071987595637},{"$f":"'[2]FinStat_Water Network'!$M48","v":1.6503278562541652},{"$f":"'[2]FinStat_Water Network'!$N48","v":-4.8430763371138426},{"$f":"'[2]FinStat_Water Network'!$O48","v":-0.3964308051686487},{"$f":"'[2]FinStat_Water Network'!$P48","v":-4.2872819169751892},null,19.258610784592122,null,0,0,-5.8890000000000002,-2.8090000000000002,1.6639999999999999,4.8010000000000002,3.44,null,1.206,null,0,0,-0.2170254054491568,-1.7020860366350072,-0.34358326901608066,-12.11056239173333,-0.80237317410351849,null,6.2621339279822927E-2]
[null,null,null,null,"Movement in Pensions (+ve = increase in provision) - WN - nominal",0,"£m",null,{"$f":"'[1]FinStat_Water Network'!$J49","v":0},{"$f":"'[1]FinStat_Water Network'!$K49","v":0},{"$f":"'[1]FinStat_Water Network'!$L49","v":-4.1824760217599994},{"$f":"'[1]FinStat_Water Network'!$M49","v":-4.3074597519359994},{"$f":"'[1]FinStat_Water Network'!$N49","v":-4.4368793381191667},{"$f":"'[1]FinStat_Water Network'!$O49","v":-4.5697527238488878},{"$f":"'[1]FinStat_Water Network'!$P49","v":-4.706166293272549},null,-22.202734128936601,null,{"$f":"'[2]FinStat_Water Network'!$J49","v":0},{"$f":"'[2]FinStat_Water Network'!$K49","v":0},{"$f":"'[2]FinStat_Water Network'!$L49","v":-8.6348018767175034},{"$f":"'[2]FinStat_Water Network'!$M49","v":-8.8076793829743618},{"$f":"'[2]FinStat_Water Network'!$N49","v":-8.9909312337215859},{"$f":"'[2]FinStat_Water Network'!$O49","v":0},{"$f":"'[2]FinStat_Water Network'!$P49","v":0},null,-26.433412493413453,null,0,0,4.452,4.5,4.5540000000000003,-4.57,-4.7060000000000004,null,4.2309999999999999,null,0,0,-0.51558797336209594,-0.51091778030643364,-0.50651038047312236,0,0,null,-0.16006257236194002]
[null,null,null,null,"Movement in provisions - WN - nominal","CF","£m",null,{"$f":"'[1]FinStat_Water Network'!$J50","v":0},{"$f":"'[1]FinStat_Water Network'!$K50","v":0},{"$f":"'[1]FinStat_Water Network'!$L50","v":0.1221282932225365},{"$f":"'[1]FinStat_Water Network'!$M50","v":0.12632371975939707},{"$f":"'[1]FinStat_Water Network'!$N50","v":0.13293656528687348},{"$f":"'[1]FinStat_Water Network'!$O50","v":0.13677535584403236},{"$f":"'[1]FinStat_Water Network'!$P50","v":0.13837152841306452},null,0.656535462525904,null,{"$f":"'[2]FinStat_Water Network'!$J50","v":0},{"$f":"'[2]FinStat_Water Network'!$K50","v":0},{"$f":"'[2]FinStat_Water Network'!$L50","v":0.12207626607316076},{"$f":"'[2]FinStat_Water Network'!$M50","v":0.12508937823713751},{"$f":"'[2]FinStat_Water Network'!$N50","v":0.1302128897593077},{"$f":"'[2]FinStat_Water Network'!$O50","v":0.13358060843164796},{"$f":"'[2]FinStat_Water Network'!$P50","v":0.13601718832058224},null,0.64697633082183614,null,0,0,0,1E-3,3.0000000000000001E-3,3.0000000000000001E-3,2E-3,null,0.01,null,0,0,0,7.9942838799970332E-3,2.3039193781394119E-2,2.2458349570514752E-2,1.4704023989131072E-2,null,1.5456515986137046E-2]
[null,null,null,null,"Movement in other liabilities - WN - nominal","CF","£m",null,{"$f":"'[1]FinStat_Water Network'!$J51","v":"na"},{"$f":"'[1]FinStat_Water Network'!$K51","v":"na"},{"$f":"'[1]FinStat_Water Network'!$L51","v":"na"},{"$f":"'[1]FinStat_Water Network'!$M51","v":"na"},{"$f":"'[1]FinStat_Water Network'!$N51","v":"na"},{"$f":"'[1]FinStat_Water Network'!$O51","v":"na"},{"$f":"'[1]FinStat_Water Network'!$P51","v":"na"},null,0,null,{"$f":"'[2]FinStat_Water Network'!$J51","v":"na"},{"$f":"'[2]FinStat_Water Network'!$K51","v":"na"},{"$f":"'[2]FinStat_Water Network'!$L51","v":"na"},{"$f":"'[2]FinStat_Water Network'!$M51","v":"na"},{"$f":"'[2]FinStat_Water Network'!$N51","v":"na"},{"$f":"'[2]FinStat_Water Network'!$O51","v":"na"},{"$f":"'[2]FinStat_Water Network'!$P51","v":"na"},null,0,null,{"$error":"#VALUE!"},{"$error":"#VALUE!"},{"$error":"#VALUE!"},{"$error":"#VALUE!"},{"$error":"#VALUE!"},{"$error":"#VALUE!"},{"$error":"#VALUE!"},null,0,null,{"$error":"#VALUE!"},{"$error":"#VALUE!"},{"$error":"#VALUE!"},{"$error":"#VALUE!"},{"$error":"#VALUE!"},{"$error":"#VALUE!"},{"$error":"#VALUE!"},null,0]
[null,null,null,null,"Net cash generated / (used) in operations - WN - nominal",null,"£m",null,{"$f":"'[1]FinStat_Water Network'!$J52","v":0},{"$f":"'[1]FinStat_Water Network'!$K52","v":0},{"$f":"'[1]FinStat_Water Network'!$L52","v":220.91653235271232},{"$f":"'[1]FinStat_Water Network'!$M52","v":204.67762141745573},{"$f":"'[1]FinStat_Water Network'!$N52","v":222.24112990749285},{"$f":"'[1]FinStat_Water Network'!$O52","v":229.88992266217994},{"$f":"'[1]FinStat_Water Network'!$P52","v":241.48924677907246},null,1119.2144531189133,null,{"$f":"'[2]FinStat_Water Network'!$J52","v":0},{"$f":"'[2]FinStat_Water Network'!$K52","v":0},{"$f":"'[2]FinStat_Water Network'!$L52","v":204.11669716695096},{"$f":"'[2]FinStat_Water Network'!$M52","v":203.63149453605314},{"$f":"'[2]FinStat_Water Network'!$N52","v":196.03072119430203},{"$f":"'[2]FinStat_Water Network'!$O52","v":199.0669592021294},{"$f":"'[2]FinStat_Water Network'!$P52","v":213.96080133826734},null,1016.8066734377028,null,0,0,16.8,1.046,26.21,30.823,27.527999999999999,null,102.408,null,0,0,8.2305858526894343E-2,5.1367299659768727E-3,0.13370353299889731,0.15483734781271674,0.12865908067187892,null,0.10071531066350174]
[null,null,null,null,null,null,null,null,null,null,null,null,null,null,null,null,null,null,null,null,null,null,null,null,null,null,null,null,0,0,0,0,0,0,0,null,0,null,0,0,0,0,0,0,0,null,0]
[null,null,null,null,"Total other income (incl. 3rd party income) - WN - nominal","PL & CF","£m",null,{"$f":"'[1]FinStat_Water Network'!$J54","v":0},{"$f":"'[1]FinStat_Water Network'!$K54","v":0},{"$f":"'[1]FinStat_Water Network'!$L54","v":18.363071334446502},{"$f":"'[1]FinStat_Water Network'!$M54","v":19.185397730804578},{"$f":"'[1]FinStat_Water Network'!$N54","v":19.658856763531677},{"$f":"'[1]FinStat_Water Network'!$O54","v":20.268871118789608},{"$f":"'[1]FinStat_Water Network'!$P54","v":20.677566458477344},null,98.153763406049706,null,{"$f":"'[2]FinStat_Water Network'!$J54","v":0},{"$f":"'[2]FinStat_Water Network'!$K54","v":0},{"$f":"'[2]FinStat_Water Network'!$L54","v":18.291569572727578},{"$f":"'[2]FinStat_Water Network'!$M54","v":19.111480605372908},{"$f":"'[2]FinStat_Water Network'!$N54","v":19.597538883577794},{"$f":"'[2]FinStat_Water Network'!$O54","v":20.225460006246077},{"$f":"'[2]FinStat_Water Network'!$P54","v":20.65350872339091},null,97.879557791315278,null,0,0,7.1999999999999995E-2,7.3999999999999996E-2,6.0999999999999999E-2,4.2999999999999997E-2,2.4E-2,null,0.27400000000000002,null,0,0,3.9362395727565542E-3,3.8720181616486585E-3,3.112635742803212E-3,2.1260332267706459E-3,1.162030157753247E-3,null,2.7993587852550728E-3]
[null,null,null,null,"Interest income /(expense) excl. indexation of index-linked loans - WN - nominal","PL & CF","£m",null,{"$f":"'[1]FinStat_Water Network'!$J55","v":0},{"$f":"'[1]FinStat_Water Network'!$K55","v":0},{"$f":"'[1]FinStat_Water Network'!$L55","v":-58.927682136257744},{"$f":"'[1]FinStat_Water Network'!$M55","v":-63.977991954701253},{"$f":"'[1]FinStat_Water Network'!$N55","v":-72.257321701086113},{"$f":"'[1]FinStat_Water Network'!$O55","v":-81.597442222169235},{"$f":"'[1]FinStat_Water Network'!$P55","v":-88.231115105341999},null,-364.99155311955633,null,{"$f":"'[2]FinStat_Water Network'!$J55","v":0},{"$f":"'[2]FinStat_Water Network'!$K55","v":0},{"$f":"'[2]FinStat_Water Network'!$L55","v":-54.459910251204676},{"$f":"'[2]FinStat_Water Network'!$M55","v":-57.004091168748346},{"$f":"'[2]FinStat_Water Network'!$N55","v":-61.96580288219954},{"$f":"'[2]FinStat_Water Network'!$O55","v":-67.173996872383341},{"$f":"'[2]FinStat_Water Network'!$P55","v":-70.183632475396493},null,-310.78743364993238,null,0,0,-4.468,-6.9740000000000002,-10.292,-14.423,-18.047000000000001,null,-54.204000000000001,null,0,0,8.2042000792705419E-2,0.12234209610245296,0.16609161055438382,0.21471105891466766,0.25713972565222437,null,0.17440859613730331]
[null,null,null,null,"Tax paid - WN - nominal","CF","£m",null,{"$f":"'[1]FinStat_Water Network'!$J56","v":0},{"$f":"'[1]FinStat_Water Network'!$K56","v":0},{"$f":"'[1]FinStat_Water Network'!$L56","v":0},{"$f":"'[1]FinStat_Water Network'!$M56","v":0},{"$f":"'[1]FinStat_Water Network'!$N56","v":0},{"$f":"'[1]FinStat_Water Network'!$O56","v":0},{"$f":"'[1]FinStat_Water Network'!$P56","v":0},null,0,null,{"$f":"'[2]FinStat_Water Network'!$J56","v":0},{"$f":"'[2]FinStat_Water Network'!$K56","v":0},{"$f":"'[2]FinStat_Water Network'!$L56","v":0},{"$f":"'[2]FinStat_Water Network'!$M56","v":0},{"$f":"'[2]FinStat_Water Network'!$N56","v":0},{"$f":"'[2]FinStat_Water Network'!$O56","v":0},{"$f":"'[2]FinStat_Water Network'!$P56","v":0},null,0,null,0,0,0,0,0,0,0,null,0,null,0,0,0,0,0,0,0,null,0]
[null,null,null,null,"Net cash generated / (used) in operating activities - WN - nominal",null,"£m",null,{"$f":"'[1]FinStat_Water Network'!$J57","v":0},{"$f":"'[1]FinStat_Water Network'!$K57","v":0},{"$f":"'[1]FinStat_Water Network'!$L57","v":180.35192155090107},{"$f":"'[1]FinStat_Water Network'!$M57","v":159.88502719355904},{"$f":"'[1]FinStat_Water Network'!$N57","v":169.64266496993841},{"$f":"'[1]FinStat_Water Network'!$O57","v":168.56135155880031},{"$f":"'[1]FinStat_Water Network'!$P57","v":173.93569813220779},null,852.37666340540659,null,{"$f":"'[2]FinStat_Water Network'!$J57","v":0},{"$f":"'[2]FinStat_Water Network'!$K57","v":0},{"$f":"'[2]FinStat_Water Network'!$L57","v":167.94835648847385},{"$f":"'[2]FinStat_Water Network'!$M57","v":165.73888397267768},{"$f":"'[2]FinStat_Water Network'!$N57","v":153.6624571956803},{"$f":"'[2]FinStat_Water Network'!$O57","v":152.11842233599214},{"$f":"'[2]FinStat_Water Network'!$P57","v":164.43067758626177},null,803.89879757908579,null,0,0,12.404,-5.8540000000000001,15.98,16.443000000000001,9.5050000000000008,null,48.478000000000002,null,0,0,7.3856036816003473E-2,-3.5320619155158793E-2,0.10399417197689602,0.10809341661249591,5.7805515001989792E-2,null,6.0303610536537523E-2]
[null,null,null,null,null,null,null,null,null,null,null,null,null,null,null,null,null,null,null,null,null,null,null,null,null,null,null,null,0,0,0,0,0,0,0,null,0,null,0,0,0,0,0,0,0,null,0]
[null,"Cash flow from investing activities",null,null,null,null,null,null,null,null,null,null,null,null,null,null,null,null,null,null,null,null,null,null,null,null,null,null,0,0,0,0,0,0,0,null,0,null,0,0,0,0,0,0,0,null,0]
[null,null,null,null,"Wholesale fixed assets ongoing capex - WN - nominal","CF","£m",null,{"$f":"'[1]FinStat_Water Network'!$J60","v":0},{"$f":"'[1]FinStat_Water Network'!$K60","v":0},{"$f":"'[1]FinStat_Water Network'!$L60","v":-209.63757528418788},{"$f":"'[1]FinStat_Water Network'!$M60","v":-293.39176009439569},{"$f":"'[1]FinStat_Water Network'!$N60","v":-347.82066420426867},{"$f":"'[1]FinStat_Water Network'!$O60","v":-349.25036619722636},{"$f":"'[1]FinStat_Water Network'!$P60","v":-222.63513130637381},null,-1422.7354970864524,null,{"$f":"'[2]FinStat_Water Network'!$J60","v":0},{"$f":"'[2]FinStat_Water Network'!$K60","v":0},{"$f":"'[2]FinStat_Water Network'!$L60","v":-163.54247111022059},{"$f":"'[2]FinStat_Water Network'!$M60","v":-241.23978860796973},{"$f":"'[2]FinStat_Water Network'!$N60","v":-265.55042396607593},{"$f":"'[2]FinStat_Water Network'!$O60","v":-237.87426357776334},{"$f":"'[2]FinStat_Water Network'!$P60","v":-167.1746339719752},null,-1075.3815812340047,null,0,0,-46.094999999999999,-52.152000000000001,-82.27,-111.376,-55.46,null,-347.35399999999998,null,0,0,0.2818533906640921,0.21618324365534236,0.30980933402881705,0.46821374588760478,0.33174889444828815,null,0.32300534625245292]
[null,null,null,null,"Movement in intangible asset and investments - WN - nominal","CF","£m",null,{"$f":"'[1]FinStat_Water Network'!$J61","v":0},{"$f":"'[1]FinStat_Water Network'!$K61","v":0},{"$f":"'[1]FinStat_Water Network'!$L61","v":0},{"$f":"'[1]FinStat_Water Network'!$M61","v":0},{"$f":"'[1]FinStat_Water Network'!$N61","v":0},{"$f":"'[1]FinStat_Water Network'!$O61","v":0},{"$f":"'[1]FinStat_Water Network'!$P61","v":0},null,0,null,{"$f":"'[2]FinStat_Water Network'!$J61","v":0},{"$f":"'[2]FinStat_Water Network'!$K61","v":0},{"$f":"'[2]FinStat_Water Network'!$L61","v":0},{"$f":"'[2]FinStat_Water Network'!$M61","v":0},{"$f":"'[2]FinStat_Water Network'!$N61","v":0},{"$f":"'[2]FinStat_Water Network'!$O61","v":0},{"$f":"'[2]FinStat_Water Network'!$P61","v":0},null,0,null,0,0,0,0,0,0,0,null,0,null,0,0,0,0,0,0,0,null,0]
[null,null,null,null,"Net cash generated / (used) in investing activities - WN - nominal",null,"£m",null,{"$f":"'[1]FinStat_Water Network'!$J62","v":0},{"$f":"'[1]FinStat_Water Network'!$K62","v":0},{"$f":"'[1]FinStat_Water Network'!$L62","v":-209.63757528418788},{"$f":"'[1]FinStat_Water Network'!$M62","v":-293.39176009439569},{"$f":"'[1]FinStat_Water Network'!$N62","v":-347.82066420426867},{"$f":"'[1]FinStat_Water Network'!$O62","v":-349.25036619722636},{"$f":"'[1]FinStat_Water Network'!$P62","v":-222.63513130637381},null,-1422.7354970864524,null,{"$f":"'[2]FinStat_Water Network'!$J62","v":0},{"$f":"'[2]FinStat_Water Network'!$K62","v":0},{"$f":"'[2]FinStat_Water Network'!$L62","v":-163.54247111022059},{"$f":"'[2]FinStat_Water Network'!$M62","v":-241.23978860796973},{"$f":"'[2]FinStat_Water Network'!$N62","v":-265.55042396607593},{"$f":"'[2]FinStat_Water Network'!$O62","v":-237.87426357776334},{"$f":"'[2]FinStat_Water Network'!$P62","v":-167.1746339719752},null,-1075.3815812340047,null,0,0,-46.094999999999999,-52.152000000000001,-82.27,-111.376,-55.46,null,-347.35399999999998,null,0,0,0.2818533906640921,0.21618324365534236,0.30980933402881705,0.46821374588760478,0.33174889444828815,null,0.32300534625245292]
[null,null,null,null,null,null,null,null,null,null,null,null,null,null,null,null,null,null,null,null,null,null,null,null,null,null,null,null,0,0,0,0,0,0,0,null,0,null,0,0,0,0,0,0,0,null,0]
[null,"Cash flows from financing activities",null,null,null,null,null,null,null,null,null,null,null,null,null,null,null,null,null,null,null,null,null,null,null,null,null,null,0,0,0,0,0,0,0,null,0,null,0,0,0,0,0,0,0,null,0]
[null,null,null,null,"Equity dividends paid - WN - nominal","CF","£m",null,{"$f":"'[1]FinStat_Water Network'!$J65","v":0},{"$f":"'[1]FinStat_Water Network'!$K65","v":0},{"$f":"'[1]FinStat_Water Network'!$L65","v":-31.190754208679571},{"$f":"'[1]FinStat_Water Network'!$M65","v":-32.244065978306686},{"$f":"'[1]FinStat_Water Network'!$N65","v":-33.332948086394111},{"$f":"'[1]FinStat_Water Network'!$O65","v":-34.458601743271643},{"$f":"'[1]FinStat_Water Network'!$P65","v":-35.622268724141925},null,-166.84863874079394,null,{"$f":"'[2]FinStat_Water Network'!$J65","v":0},{"$f":"'[2]FinStat_Water Network'!$K65","v":0},{"$f":"'[2]FinStat_Water Network'!$L65","v":-21.488404125001018},{"$f":"'[2]FinStat_Water Network'!$M65","v":-22.177719434913499},{"$f":"'[2]FinStat_Water Network'!$N65","v":-22.90506250219897},{"$f":"'[2]FinStat_Water Network'!$O65","v":-23.662024426759153},{"$f":"'[2]FinStat_Water Network'!$P65","v":-24.444002277609833},null,-114.67721276648246,null,0,0,-9.702,-10.066000000000001,-10.428000000000001,-10.797000000000001,-11.178000000000001,null,-52.170999999999999,null,0,0,0.45149932696547052,0.45387894952595975,0.45527053239862914,0.45630077145004461,0.45729008993910963,null,0.45493780971321618]
[null,null,null,null,"Proceeds from share issues - WN - nominal","CF","£m",null,{"$f":"'[1]FinStat_Water Network'!$J66","v":0},{"$f":"'[1]FinStat_Water Network'!$K66","v":0},{"$f":"'[1]FinStat_Water Network'!$L66","v":0},{"$f":"'[1]FinStat_Water Network'!$M66","v":0},{"$f":"'[1]FinStat_Water Network'!$N66","v":0},{"$f":"'[1]FinStat_Water Network'!$O66","v":0},{"$f":"'[1]FinStat_Water Network'!$P66","v":0},null,0,null,{"$f":"'[2]FinStat_Water Network'!$J66","v":0},{"$f":"'[2]FinStat_Water Network'!$K66","v":0},{"$f":"'[2]FinStat_Water Network'!$L66","v":0},{"$f":"'[2]FinStat_Water Network'!$M66","v":0},{"$f":"'[2]FinStat_Water Network'!$N66","v":0},{"$f":"'[2]FinStat_Water Network'!$O66","v":0},{"$f":"'[2]FinStat_Water Network'!$P66","v":0},null,0,null,0,0,0,0,0,0,0,null,0,null,0,0,0,0,0,0,0,null,0]
[null,null,null,null,"Net loans received - WN - nominal","CF","£m",null,{"$f":"'[1]FinStat_Water Network'!$J67","v":0},{"$f":"'[1]FinStat_Water Network'!$K67","v":0},{"$f":"'[1]FinStat_Water Network'!$L67","v":0},{"$f":"'[1]FinStat_Water Network'!$M67","v":0},{"$f":"'[1]FinStat_Water Network'!$N67","v":0},{"$f":"'[1]FinStat_Water Network'!$O67","v":0},{"$f":"'[1]FinStat_Water Network'!$P67","v":0},null,0,null,{"$f":"'[2]FinStat_Water Network'!$J67","v":0},{"$f":"'[2]FinStat_Water Network'!$K67","v":0},{"$f":"'[2]FinStat_Water Network'!$L67","v":0},{"$f":"'[2]FinStat_Water Network'!$M67","v":0},{"$f":"'[2]FinStat_Water Network'!$N67","v":0},{"$f":"'[2]FinStat_Water Network'!$O67","v":0},{"$f":"'[2]FinStat_Water Network'!$P67","v":0},null,0,null,0,0,0,0,0,0,0,null,0,null,0,0,0,0,0,0,0,null,0]
[null,null,null,null,"Net cash generated / (used) in financing activities - WN - nominal",null,"£m",null,{"$f":"'[1]FinStat_Water Network'!$J68","v":0},{"$f":"'[1]FinStat_Water Network'!$K68","v":0},{"$f":"'[1]FinStat_Water Network'!$L68","v":-31.190754208679571},{"$f":"'[1]FinStat_Water Network'!$M68","v":-32.244065978306686},{"$f":"'[1]FinStat_Water Network'!$N68","v":-33.332948086394111},{"$f":"'[1]FinStat_Water Network'!$O68","v":-34.458601743271643},{"$f":"'[1]FinStat_Water Network'!$P68","v":-35.622268724141925},null,-166.84863874079394,null,{"$f":"'[2]FinStat_Water Network'!$J68","v":0},{"$f":"'[2]FinStat_Water Network'!$K68","v":0},{"$f":"'[2]FinStat_Water Network'!$L68","v":-21.488404125001018},{"$f":"'[2]FinStat_Water Network'!$M68","v":-22.177719434913499},{"$f":"'[2]FinStat_Water Network'!$N68","v":-22.90506250219897},{"$f":"'[2]FinStat_Water Network'!$O68","v":-23.662024426759153},{"$f":"'[2]FinStat_Water Network'!$P68","v":-24.444002277609833},null,-114.67721276648246,null,0,0,-9.702,-10.066000000000001,-10.428000000000001,-10.797000000000001,-11.178000000000001,null,-52.170999999999999,null,0,0,0.45149932696547052,0.45387894952595975,0.45527053239862914,0.45630077145004461,0.45729008993910963,null,0.45493780971321618]
[null,null,null,null,null,null,null,null,null,null,null,null,null,null,null,null,null,null,null,null,null,null,null,null,null,null,null,null,0,0,0,0,0,0,0,null,0,null,0,0,0,0,0,0,0,null,0]
[null,null,null,null,"Net increase / (decrease) in cash - WN - nominal",null,"£m",null,{"$f":"'[1]FinStat_Water Network'!$J70","v":0},{"$f":"'[1]FinStat_Water Network'!$K70","v":0},{"$f":"'[1]FinStat_Water Network'!$L70","v":-60.476407941966379},{"$f":"'[1]FinStat_Water Network'!$M70","v":-165.75079887914333},{"$f":"'[1]FinStat_Water Network'!$N70","v":-211.51094732072437},{"$f":"'[1]FinStat_Water Network'!$O70","v":-215.14761638169767},{"$f":"'[1]FinStat_Water Network'!$P70","v":-84.321701898307936},null,-737.20747242183984,null,{"$f":"'[2]FinStat_Water Network'!$J70","v":0},{"$f":"'[2]FinStat_Water Network'!$K70","v":0},{"$f":"'[2]FinStat_Water Network'!$L70","v":-17.082518746747759},{"$f":"'[2]FinStat_Water Network'!$M70","v":-97.678624070205544},{"$f":"'[2]FinStat_Water Network'!$N70","v":-134.79302927259459},{"$f":"'[2]FinStat_Water Network'!$O70","v":-109.41786566853037},{"$f":"'[2]FinStat_Water Network'!$P70","v":-27.187958663323265},null,-386.15999642140156,null,0,0,-43.393999999999998,-68.072000000000003,-76.718000000000004,-105.73,-57.134,null,-351.04700000000003,null,0,0,2.5402577127721009,0.696897613454034,0.56915406096298704,0.96629558028757068,2.1014450076045668,null,0.90907137780505864]
[null,null,null,null,null,null,null,null,null,null,null,null,null,null,null,null,null,null,null,null,null,null,null,null,null,null,null,null,0,0,0,0,0,0,0,null,0,null,0,0,0,0,0,0,0,null,0]
[null,"Retained cash balance - WN",null,null,null,null,null,null,null,null,null,null,null,null,null,null,null,null,null,null,null,null,null,null,null,null,null,null,0,0,0,0,0,0,0,null,0,null,0,0,0,0,0,0,0,null,0]
[null,null,null,null,"Cash and cash equivalents - WN b/f - nominal",0,"£m",null,{"$f":"'[1]FinStat_Water Network'!$J73","v":0},{"$f":"'[1]FinStat_Water Network'!$K73","v":183.42124095594508},{"$f":"'[1]FinStat_Water Network'!$L73","v":0},{"$f":"'[1]FinStat_Water Network'!$M73","v":0},{"$f":"'[1]FinStat_Water Network'!$N73","v":0},{"$f":"'[1]FinStat_Water Network'!$O73","v":0},{"$f":"'[1]FinStat_Water Network'!$P73","v":0},null,183.42124095594508,null,{"$f":"'[2]FinStat_Water Network'!$J73","v":0},{"$f":"'[2]FinStat_Water Network'!$K73","v":183.68679685421182},{"$f":"'[2]FinStat_Water Network'!$L73","v":0},{"$f":"'[2]FinStat_Water Network'!$M73","v":0},{"$f":"'[2]FinStat_Water Network'!$N73","v":0},{"$f":"'[2]FinStat_Water Network'!$O73","v":0},{"$f":"'[2]FinStat_Water Network'!$P73","v":0},null,183.68679685421182,null,0,-0.26600000000000001,0,0,0,0,0,null,-0.26600000000000001,null,0,-1.4481171458998131E-3,0,0,0,0,0,null,-1.4481171458998131E-3]
[null,null,null,null,"Last pre-forecast period flag",0,"flag",null,{"$f":"'[1]FinStat_Water Network'!$J74","v":0},{"$f":"'[1]FinStat_Water Network'!$K74","v":1},{"$f":"'[1]FinStat_Water Network'!$L74","v":0},{"$f":"'[1]FinStat_Water Network'!$M74","v":0},{"$f":"'[1]FinStat_Water Network'!$N74","v":0},{"$f":"'[1]FinStat_Water Network'!$O74","v":0},{"$f":"'[1]FinStat_Water Network'!$P74","v":0},null,1,null,{"$f":"'[2]FinStat_Water Network'!$J74","v":0},{"$f":"'[2]FinStat_Water Network'!$K74","v":1},{"$f":"'[2]FinStat_Water Network'!$L74","v":0},{"$f":"'[2]FinStat_Water Network'!$M74","v":0},{"$f":"'[2]FinStat_Water Network'!$N74","v":0},{"$f":"'[2]FinStat_Water Network'!$O74","v":0},{"$f":"'[2]FinStat_Water Network'!$P74","v":0},null,1,null,0,0,0,0,0,0,0,null,0,null,0,0,0,0,0,0,0,null,0]
[null,null,null,null,null,null,null,null,{"$f":"'[1]FinStat_Water Network'!$J75","v":0},{"$f":"'[1]FinStat_Water Network'!$K75","v":0},{"$f":"'[1]FinStat_Water Network'!$L75","v":0},{"$f":"'[1]FinStat_Water Network'!$M75","v":0},{"$f":"'[1]FinStat_Water Network'!$N75","v":0},{"$f":"'[1]FinStat_Water Network'!$O75","v":0},{"$f":"'[1]FinStat_Water Network'!$P75","v":0},null,null,null,{"$f":"'[2]FinStat_Water Network'!$J75","v":0},{"$f":"'[2]FinStat_Water Network'!$K75","v":0},{"$f":"'[2]FinStat_Water Network'!$L75","v":0},{"$f":"'[2]FinStat_Water Network'!$M75","v":0},{"$f":"'[2]FinStat_Water Network'!$N75","v":0},{"$f":"'[2]FinStat_Water Network'!$O75","v":0},{"$f":"'[2]FinStat_Water Network'!$P75","v":0},null,null,null,0,0,0,0,0,0,0,null,0,null,0,0,0,0,0,0,0,null,0]
[null,null,null,null,"Retained cash balance - WN BEG - nominal",null,"£m",null,{"$f":"'[1]FinStat_Water Network'!$J76","v":0},{"$f":"'[1]FinStat_Water Network'!$K76","v":0},{"$f":"'[1]FinStat_Water Network'!$L76","v":183.42124095594508},{"$f":"'[1]FinStat_Water Network'!$M76","v":122.94483301397869},{"$f":"'[1]FinStat_Water Network'!$N76","v":-42.805965865164637},{"$f":"'[1]FinStat_Water Network'!$O76","v":-254.31691318588901},{"$f":"'[1]FinStat_Water Network'!$P76","v":-469.46452956758668},null,-460.22133464871655,null,{"$f":"'[2]FinStat_Water Network'!$J76","v":0},{"$f":"'[2]FinStat_Water Network'!$K76","v":0},{"$f":"'[2]FinStat_Water Network'!$L76","v":183.68679685421182},{"$f":"'[2]FinStat_Water Network'!$M76","v":166.60427810746407},{"$f":"'[2]FinStat_Water Network'!$N76","v":68.925654037258525},{"$f":"'[2]FinStat_Water Network'!$O76","v":-65.86737523533607},{"$f":"'[2]FinStat_Water Network'!$P76","v":-175.28524090386645},null,178.06411285973195,null,0,0,-0.26600000000000001,-43.658999999999999,-111.732,-188.45,-294.17899999999997,null,-638.28499999999997,null,0,0,-1.4481171458998131E-3,-0.26205209431560222,-1.6210509941567188,2.8610522178345685,1.6782873360190074,null,-3.5845796761012814]
[null,null,null,"plus","Net increase / (decrease) in cash - WN - nominal",0,"£m",null,{"$f":"'[1]FinStat_Water Network'!$J77","v":0},{"$f":"'[1]FinStat_Water Network'!$K77","v":0},{"$f":"'[1]FinStat_Water Network'!$L77","v":-60.476407941966379},{"$f":"'[1]FinStat_Water Network'!$M77","v":-165.75079887914333},{"$f":"'[1]FinStat_Water Network'!$N77","v":-211.51094732072437},{"$f":"'[1]FinStat_Water Network'!$O77","v":-215.14761638169767},{"$f":"'[1]FinStat_Water Network'!$P77","v":-84.321701898307936},null,-737.20747242183984,null,{"$f":"'[2]FinStat_Water Network'!$J77","v":0},{"$f":"'[2]FinStat_Water Network'!$K77","v":0},{"$f":"'[2]FinStat_Water Network'!$L77","v":-17.082518746747759},{"$f":"'[2]FinStat_Water Network'!$M77","v":-97.678624070205544},{"$f":"'[2]FinStat_Water Network'!$N77","v":-134.79302927259459},{"$f":"'[2]FinStat_Water Network'!$O77","v":-109.41786566853037},{"$f":"'[2]FinStat_Water Network'!$P77","v":-27.187958663323265},null,-386.15999642140156,null,0,0,-43.393999999999998,-68.072000000000003,-76.718000000000004,-105.73,-57.134,null,-351.04700000000003,null,0,0,2.5402577127721009,0.696897613454034,0.56915406096298704,0.96629558028757068,2.1014450076045668,null,0.90907137780505864]
[null,null,null,null,"Retained cash balance - WN - nominal",null,"£m",null,{"$f":"'[1]FinStat_Water Network'!$J78","v":0},{"$f":"'[1]FinStat_Water Network'!$K78","v":183.42124095594508},{"$f":"'[1]FinStat_Water Network'!$L78","v":122.94483301397869},{"$f":"'[1]FinStat_Water Network'!$M78","v":-42.805965865164637},{"$f":"'[1]FinStat_Water Network'!$N78","v":-254.31691318588901},{"$f":"'[1]FinStat_Water Network'!$O78","v":-469.46452956758668},{"$f":"'[1]FinStat_Water Network'!$P78","v":-553.78623146589462},null,-1014.0075661146111,null,{"$f":"'[2]FinStat_Water Network'!$J78","v":0},{"$f":"'[2]FinStat_Water Network'!$K78","v":183.68679685421182},{"$f":"'[2]FinStat_Water Network'!$L78","v":166.60427810746407},{"$f":"'[2]FinStat_Water Network'!$M78","v":68.925654037258525},{"$f":"'[2]FinStat_Water Network'!$N78","v":-65.86737523533607},{"$f":"'[2]FinStat_Water Network'!$O78","v":-175.28524090386645},{"$f":"'[2]FinStat_Water Network'!$P78","v":-202.47319956718971},null,-24.40908670745776,null,0,-0.26600000000000001,-43.658999999999999,-111.732,-188.45,-294.17899999999997,-351.31299999999999,null,-989.59799999999996,null,0,-1.4481171458998131E-3,-0.26205209431560222,-1.6210509941567188,2.8610522178345685,1.6782873360190074,1.7351086501866562,null,40.542196922822434]
[]
["BALANCE SHEET"]
[]
[null,"Non-current assets"]
[null,null,null,null,"Wholesale fixed assets balance - WN - nominal","BS","£m",null,{"$f":"'[1]FinStat_Water Network'!$J85","v":0},{"$f":"'[1]FinStat_Water Network'!$K85","v":4125.1078780600019},{"$f":"'[1]FinStat_Water Network'!$L85","v":4221.3771124523837},{"$f":"'[1]FinStat_Water Network'!$M85","v":4394.1028714833519},{"$f":"'[1]FinStat_Water Network'!$N85","v":4614.8454103812064},{"$f":"'[1]FinStat_Water Network'!$O85","v":4824.4615728175686},{"$f":"'[1]FinStat_Water Network'!$P85","v":4895.175301313654},null,{"$f":"SUM(I89:O89)","v":27075.070146508166},null,{"$f":"'[2]FinStat_Water Network'!$J85","v":0},{"$f":"'[2]FinStat_Water Network'!$K85","v":4125.1078780600001},{"$f":"'[2]FinStat_Water Network'!$L85","v":4175.7339210644341},{"$f":"'[2]FinStat_Water Network'!$M85","v":4297.7511304073196},{"$f":"'[2]FinStat_Water Network'!$N85","v":4439.011072982571},{"$f":"'[2]FinStat_Water Network'!$O85","v":4542.1720779496436},{"$f":"'[2]FinStat_Water Network'!$P85","v":4564.3736497023137},null,{"$f":"SUM(S89:Y89)","v":26144.149730166282},null,{"$f":"ROUND(I89 - S89, 3)","v":0},0,45.643000000000001,96.352000000000004,175.834,282.28899999999999,330.80200000000002,null,{"$f":"ROUND(Q89 - AA89, 3)","v":930.92},null,{"$f":"IF(S89 = 0, 0, AC89 / S89)","v":0},{"$f":"IF(T89 = 0, 0, AD89 / T89)","v":0},{"$f":"IF(U89 = 0, 0, AE89 / U89)","v":1.0930533617037833E-2},{"$f":"IF(V89 = 0, 0, AF89 / V89)","v":2.2419166926231079E-2},{"$f":"IF(W89 = 0, 0, AG89 / W89)","v":3.961107487885971E-2},{"$f":"IF(X89 = 0, 0, AH89 / X89)","v":6.2148460066142296E-2},{"$f":"IF(Y89 = 0, 0, AI89 / Y89)","v":7.2474785236211939E-2},null,{"$f":"IF(AA89 = 0, 0, AK89 / AA89)","v":3.5607201213580228E-2}]
[null,null,null,null,"Intangible asset and investments balance - WN - nominal","BS","£m",null,{"$f":"'[1]FinStat_Water Network'!$J86","v":0},{"$f":"'[1]FinStat_Water Network'!$K86","v":4.6554432475917886E-3},{"$f":"'[1]FinStat_Water Network'!$L86","v":4.6554432475917886E-3},{"$f":"'[1]FinStat_Water Network'!$M86","v":4.6554432475917886E-3},{"$f":"'[1]FinStat_Water Network'!$N86","v":4.6554432475917886E-3},{"$f":"'[1]FinStat_Water Network'!$O86","v":4.6554432475917886E-3},{"$f":"'[1]FinStat_Water Network'!$P86","v":4.6554432475917886E-3},null,{"$f":"SUM(I90:O90)","v":2.7932659485550734E-2},null,{"$f":"'[2]FinStat_Water Network'!$J86","v":0},{"$f":"'[2]FinStat_Water Network'!$K86","v":4.6621833634420623E-3},{"$f":"'[2]FinStat_Water Network'!$L86","v":4.6621833634420623E-3},{"$f":"'[2]FinStat_Water Network'!$M86","v":4.6621833634420623E-3},{"$f":"'[2]FinStat_Water Network'!$N86","v":4.6621833634420623E-3},{"$f":"'[2]FinStat_Water Network'!$O86","v":4.6621833634420623E-3},{"$f":"'[2]FinStat_Water Network'!$P86","v":4.6621833634420623E-3},null,{"$f":"SUM(S90:Y90)","v":2.7973100180652372E-2},null,0,0,0,0,0,0,0,null,{"$f":"ROUND(Q90 - AA90, 3)","v":0},null,0,0,0,0,0,0,0,null,0]
[null,null,null,null,"Retirement benefit asset balance - WN - nominal",null,null,null,{"$f":"'[1]FinStat_Water Network'!$J87","v":0},{"$f":"'[1]FinStat_Water Network'!$K87","v":12.342296271403924},{"$f":"'[1]FinStat_Water Network'!$L87","v":16.524772293163924},{"$f":"'[1]FinStat_Water Network'!$M87","v":20.832232045099921},{"$f":"'[1]FinStat_Water Network'!$N87","v":25.269111383219087},{"$f":"'[1]FinStat_Water Network'!$O87","v":29.838864107067977},{"$f":"'[1]FinStat_Water Network'!$P87","v":34.545030400340522},null,{"$f":"SUM(I91:O91)","v":139.35230650029536},null,{"$f":"'[2]FinStat_Water Network'!$J87","v":0},{"$f":"'[2]FinStat_Water Network'!$K87","v":12.3601653554639},{"$f":"'[2]FinStat_Water Network'!$L87","v":20.994967232181402},{"$f":"'[2]FinStat_Water Network'!$M87","v":29.802646615155766},{"$f":"'[2]FinStat_Water Network'!$N87","v":38.793577848877348},{"$f":"'[2]FinStat_Water Network'!$O87","v":38.793577848877348},{"$f":"'[2]FinStat_Water Network'!$P87","v":38.793577848877348},null,179.5385127494331,null,0,-1.7999999999999999E-2,-4.47,-8.9700000000000006,-13.523999999999999,-8.9550000000000001,-4.2489999999999997,null,{"$f":"ROUND(Q91 - AA91, 3)","v":-40.186},null,{"$f":"IF(S91 = 0, 0, AC91 / S91)","v":0},{"$f":"IF(T91 = 0, 0, AD91 / T91)","v":-1.4562911969493166E-3},{"$f":"IF(U91 = 0, 0, AE91 / U91)","v":-0.21290816749398478},{"$f":"IF(V91 = 0, 0, AF91 / V91)","v":-0.30097998059804593},{"$f":"IF(W91 = 0, 0, AG91 / W91)","v":-0.34861440346346845},{"$f":"IF(X91 = 0, 0, AH91 / X91)","v":-0.2308371770937119},{"$f":"IF(Y91 = 0, 0, AI91 / Y91)","v":-0.10952843835524086},null,{"$f":"IF(AA91 = 0, 0, AK91 / AA91)","v":-0.22382941344782242}]
[null,null,null,null,"Total non-current assets - WN - nominal",null,"£m",null,{"$f":"'[1]FinStat_Water Network'!$J88","v":0},{"$f":"'[1]FinStat_Water Network'!$K88","v":4137.4548297746533},{"$f":"'[1]FinStat_Water Network'!$L88","v":4237.9065401887947},{"$f":"'[1]FinStat_Water Network'!$M88","v":4414.9397589716991},{"$f":"'[1]FinStat_Water Network'!$N88","v":4640.1191772076727},{"$f":"'[1]FinStat_Water Network'!$O88","v":4854.3050923678838},{"$f":"'[1]FinStat_Water Network'!$P88","v":4929.7249871572421},null,27214.450385667944,null,{"$f":"'[2]FinStat_Water Network'!$J88","v":0},{"$f":"'[2]FinStat_Water Network'!$K88","v":4137.4727055988278},{"$f":"'[2]FinStat_Water Network'!$L88","v":4196.7335504799794},{"$f":"'[2]FinStat_Water Network'!$M88","v":4327.558439205839},{"$f":"'[2]FinStat_Water Network'!$N88","v":4477.8093130148118},{"$f":"'[2]FinStat_Water Network'!$O88","v":4580.9703179818844},{"$f":"'[2]FinStat_Water Network'!$P88","v":4603.1718897345545},null,26323.716216015899,null,0,-1.7999999999999999E-2,41.173000000000002,87.381,162.31,273.33499999999998,326.553,null,{"$f":"ROUND(Q92 - AA92, 3)","v":890.73400000000004},null,0,-4.3504818716126878E-6,9.8107252949835369E-3,2.0191755057162326E-2,3.6247635540942721E-2,5.9667489860623216E-2,7.0940865955546786E-2,null,3.3837699536437747E-2]
[]
[null,"Current assets"]
[null,null,null,null,"Inventories balance - WN - nominal","BS","£m",null,{"$f":"'[1]FinStat_Water Network'!$J91","v":0},{"$f":"'[1]FinStat_Water Network'!$K91","v":3.6917664953402882},{"$f":"'[1]FinStat_Water Network'!$L91","v":3.8344638451183566},{"$f":"'[1]FinStat_Water Network'!$M91","v":3.986999519817914},{"$f":"'[1]FinStat_Water Network'!$N91","v":4.1705514421947765},{"$f":"'[1]FinStat_Water Network'!$O91","v":4.2919030902631414},{"$f":"'[1]FinStat_Water Network'!$P91","v":4.3684773111459654},null,24.344161703880442,null,{"$f":"'[2]FinStat_Water Network'!$J91","v":0},{"$f":"'[2]FinStat_Water Network'!$K91","v":3.6971114072095554},{"$f":"'[2]FinStat_Water Network'!$L91","v":3.8328303479328847},{"$f":"'[2]FinStat_Water Network'!$M91","v":3.9480415231256547},{"$f":"'[2]FinStat_Water Network'!$N91","v":4.0851029512167907},{"$f":"'[2]FinStat_Water Network'!$O91","v":4.1916544291851991},{"$f":"'[2]FinStat_Water Network'!$P91","v":4.2941492944312234},null,24.048889953101309,null,{"$f":"ROUND(I95 - S95, 3)","v":0},-5.0000000000000001E-3,2E-3,3.9E-2,8.5000000000000006E-2,0.1,7.3999999999999996E-2,null,{"$f":"ROUND(Q95 - AA95, 3)","v":0.29499999999999998},null,0,-1.3524071766541159E-3,5.2180759867929884E-4,9.8783155576144498E-3,2.0807309146194681E-2,2.3856928496712611E-2,1.7232749708065653E-2,null,1.2266678444422639E-2]
[null,null,null,null,"Trade debtors and other receivables balance - WN - nominal","BS","£m",null,{"$f":"'[1]FinStat_Water Network'!$J92","v":0},{"$f":"'[1]FinStat_Water Network'!$K92","v":33.553928151508295},{"$f":"'[1]FinStat_Water Network'!$L92","v":34.367995399030008},{"$f":"'[1]FinStat_Water Network'!$M92","v":35.55975557191806},{"$f":"'[1]FinStat_Water Network'!$N92","v":36.847806636550921},{"$f":"'[1]FinStat_Water Network'!$O92","v":37.584407824276411},{"$f":"'[1]FinStat_Water Network'!$P92","v":37.865119604823761},null,215.77901318810746,null,{"$f":"'[2]FinStat_Water Network'!$J92","v":0},{"$f":"'[2]FinStat_Water Network'!$K92","v":33.602507277263918},{"$f":"'[2]FinStat_Water Network'!$L92","v":34.353354493280932},{"$f":"'[2]FinStat_Water Network'!$M92","v":35.212292063818218},{"$f":"'[2]FinStat_Water Network'!$N92","v":36.092849044831368},{"$f":"'[2]FinStat_Water Network'!$O92","v":36.706525336589579},{"$f":"'[2]FinStat_Water Network'!$P92","v":37.220858677632464},null,213.18838689341649,null,0,-4.9000000000000002E-2,1.4999999999999999E-2,0.34699999999999998,0.755,0.878,0.64400000000000002,null,{"$f":"ROUND(Q96 - AA96, 3)","v":2.5910000000000002},null,0,-1.4582245186553181E-3,4.366385822069808E-4,9.8545132867551618E-3,2.091827106976801E-2,2.3919452793446438E-2,1.7302126358170397E-2,null,1.2153570078352206E-2]
[null,null,null,null,"Retained cash balance - WN - nominal","BS","£m",null,{"$f":"'[1]FinStat_Water Network'!$J93","v":0},{"$f":"'[1]FinStat_Water Network'!$K93","v":183.42124095594508},{"$f":"'[1]FinStat_Water Network'!$L93","v":122.94483301397867},{"$f":"'[1]FinStat_Water Network'!$M93","v":-42.805965865164673},{"$f":"'[1]FinStat_Water Network'!$N93","v":-254.31691318588904},{"$f":"'[1]FinStat_Water Network'!$O93","v":-469.46452956758674},{"$f":"'[1]FinStat_Water Network'!$P93","v":-553.78623146589473},null,-1014.0075661146114,null,{"$f":"'[2]FinStat_Water Network'!$J93","v":0},{"$f":"'[2]FinStat_Water Network'!$K93","v":183.68679685421182},{"$f":"'[2]FinStat_Water Network'!$L93","v":166.60427810746407},{"$f":"'[2]FinStat_Water Network'!$M93","v":68.925654037258496},{"$f":"'[2]FinStat_Water Network'!$N93","v":-65.867375235336112},{"$f":"'[2]FinStat_Water Network'!$O93","v":-175.28524090386648},{"$f":"'[2]FinStat_Water Network'!$P93","v":-202.47319956718974},null,-24.409086707457931,null,0,-0.26600000000000001,-43.658999999999999,-111.732,-188.45,-294.17899999999997,-351.31299999999999,null,{"$f":"ROUND(Q97 - AA97, 3)","v":-989.59799999999996},null,0,-1.4481171458998131E-3,-0.26205209431560222,-1.6210509941567195,2.8610522178345668,1.6782873360190071,1.7351086501866559,null,40.54219692282215]
[null,null,null,null,"Total current assets - WN - nominal",null,"£m",null,{"$f":"'[1]FinStat_Water Network'!$J94","v":0},{"$f":"'[1]FinStat_Water Network'!$K94","v":220.66693560279367},{"$f":"'[1]FinStat_Water Network'!$L94","v":161.14729225812704},{"$f":"'[1]FinStat_Water Network'!$M94","v":-3.2592107734286984},{"$f":"'[1]FinStat_Water Network'!$N94","v":-213.29855510714333},{"$f":"'[1]FinStat_Water Network'!$O94","v":-427.58821865304719},{"$f":"'[1]FinStat_Water Network'!$P94","v":-511.55263454992502},null,-773.88439122262355,null,{"$f":"'[2]FinStat_Water Network'!$J94","v":0},{"$f":"'[2]FinStat_Water Network'!$K94","v":220.98641553868529},{"$f":"'[2]FinStat_Water Network'!$L94","v":204.79046294867788},{"$f":"'[2]FinStat_Water Network'!$M94","v":108.08598762420237},{"$f":"'[2]FinStat_Water Network'!$N94","v":-25.689423239287954},{"$f":"'[2]FinStat_Water Network'!$O94","v":-134.3870611380917},{"$f":"'[2]FinStat_Water Network'!$P94","v":-160.95819159512604},null,212.82819013905993,null,0,-0.31900000000000001,-43.643000000000001,-111.345,-187.60900000000001,-293.20100000000002,-350.59399999999999,null,{"$f":"ROUND(Q98 - AA98, 3)","v":-986.71299999999997},null,0,-1.4435276450020372E-3,-0.21311050998960476,-1.0301520340187729,7.3029666042903365,2.1817651008731889,2.1781681101505139,null,-4.6361950423733385]
[]
[null,"Liabilities"]
[null,null,null,null,"Trade creditors and other payables balance - WN - nominal","BS","£m",null,{"$f":"'[1]FinStat_Water Network'!$J97","v":0},{"$f":"'[1]FinStat_Water Network'!$K97","v":226.97864231347097},{"$f":"'[1]FinStat_Water Network'!$L97","v":251.44525095673546},{"$f":"'[1]FinStat_Water Network'!$M97","v":250.68512674682341},{"$f":"'[1]FinStat_Water Network'!$N97","v":248.01170550975297},{"$f":"'[1]FinStat_Water Network'!$O97","v":252.8266987697375},{"$f":"'[1]FinStat_Water Network'!$P97","v":251.75738424094348},null,1481.704808537464,null,{"$f":"'[2]FinStat_Water Network'!$J97","v":0},{"$f":"'[2]FinStat_Water Network'!$K97","v":227.30726029104426},{"$f":"'[2]FinStat_Water Network'!$L97","v":255.56512061062355},{"$f":"'[2]FinStat_Water Network'!$M97","v":257.77658922879243},{"$f":"'[2]FinStat_Water Network'!$N97","v":253.48084720102577},{"$f":"'[2]FinStat_Water Network'!$O97","v":253.44337395469327},{"$f":"'[2]FinStat_Water Network'!$P97","v":249.14532262667953},null,1496.7185139128587,null,{"$f":"ROUND(I101 - S101, 3)","v":0},{"$f":"ROUND(J101 - T101, 3)","v":-0.32900000000000001},{"$f":"ROUND(K101 - U101, 3)","v":-4.12},{"$f":"ROUND(L101 - V101, 3)","v":-7.0910000000000002},{"$f":"ROUND(M101 - W101, 3)","v":-5.4690000000000003},{"$f":"ROUND(N101 - X101, 3)","v":-0.61699999999999999},{"$f":"ROUND(O101 - Y101, 3)","v":2.6120000000000001},null,{"$f":"ROUND(Q101 - AA101, 3)","v":-15.013999999999999},null,0,-1.4473800774280081E-3,-1.6121135740886923E-2,-2.7508316489152959E-2,-2.1575594607598694E-2,-2.4344688534263981E-3,1.048384120746201E-2,null,-1.0031278333525136E-2]
[null,null,null,null,"Capex creditors balance - WN - nominal","BS","£m",null,{"$f":"'[1]FinStat_Water Network'!$J98","v":0},{"$f":"'[1]FinStat_Water Network'!$K98","v":63.190837976696663},{"$f":"'[1]FinStat_Water Network'!$L98","v":73.889519432154827},{"$f":"'[1]FinStat_Water Network'!$M98","v":73.643010582061379},{"$f":"'[1]FinStat_Water Network'!$N98","v":79.815015581672355},{"$f":"'[1]FinStat_Water Network'!$O98","v":68.155191072853029},{"$f":"'[1]FinStat_Water Network'!$P98","v":57.478935432700638},null,416.17251007813888,null,{"$f":"'[2]FinStat_Water Network'!$J98","v":0},{"$f":"'[2]FinStat_Water Network'!$K98","v":63.282325198425582},{"$f":"'[2]FinStat_Water Network'!$L98","v":57.642693971726544},{"$f":"'[2]FinStat_Water Network'!$M98","v":60.552567323482663},{"$f":"'[2]FinStat_Water Network'!$N98","v":60.936319798770398},{"$f":"'[2]FinStat_Water Network'!$O98","v":46.42046925242542},{"$f":"'[2]FinStat_Water Network'!$P98","v":43.160394029805246},null,331.99476957463582,null,0,-9.0999999999999998E-2,16.247,13.09,18.879000000000001,21.734999999999999,14.319000000000001,null,84.177999999999997,null,0,-1.4380002585977043E-3,0.28185705560481045,0.21617580523169025,0.30981523108622244,0.46822016989551152,0.33176249480279857,null,0.25355218730660128]
[null,null,null,null,"Dividend creditors balance - WN - nominal","BS","£m",null,{"$f":"'[1]FinStat_Water Network'!$J99","v":0},{"$f":"'[1]FinStat_Water Network'!$K99","v":0},{"$f":"'[1]FinStat_Water Network'!$L99","v":0},{"$f":"'[1]FinStat_Water Network'!$M99","v":0},{"$f":"'[1]FinStat_Water Network'!$N99","v":0},{"$f":"'[1]FinStat_Water Network'!$O99","v":0},{"$f":"'[1]FinStat_Water Network'!$P99","v":0},null,0,null,{"$f":"'[2]FinStat_Water Network'!$J99","v":0},{"$f":"'[2]FinStat_Water Network'!$K99","v":0},{"$f":"'[2]FinStat_Water Network'!$L99","v":0},{"$f":"'[2]FinStat_Water Network'!$M99","v":0},{"$f":"'[2]FinStat_Water Network'!$N99","v":0},{"$f":"'[2]FinStat_Water Network'!$O99","v":0},{"$f":"'[2]FinStat_Water Network'!$P99","v":0},null,0,null,0,0,0,0,0,0,0,null,0,null,0,0,0,0,0,0,0,null,0]
[null,null,null,null,"Total borrowing balance - WN - nominal","BS","£m",null,{"$f":"'[1]FinStat_Water Network'!$J100","v":0},{"$f":"'[1]FinStat_Water Network'!$K100","v":1895.3079027198416},{"$f":"'[1]FinStat_Water Network'!$L100","v":1912.2555806713042},{"$f":"'[1]FinStat_Water Network'!$M100","v":1929.7116889613108},{"$f":"'[1]FinStat_Water Network'!$N100","v":1947.6914805000174},{"$f":"'[1]FinStat_Water Network'!$O100","v":1966.2106657848851},{"$f":"'[1]FinStat_Water Network'!$P100","v":1985.2854266282989},null,11636.462745265659,null,{"$f":"'[2]FinStat_Water Network'!$J100","v":0},{"$f":"'[2]FinStat_Water Network'!$K100","v":1879.1880372734752},{"$f":"'[2]FinStat_Water Network'!$L100","v":1895.973499553626},{"$f":"'[2]FinStat_Water Network'!$M100","v":1913.2625257021809},{"$f":"'[2]FinStat_Water Network'!$N100","v":1931.070222635193},{"$f":"'[2]FinStat_Water Network'!$O100","v":1949.4121504761952},{"$f":"'[2]FinStat_Water Network'!$P100","v":1968.3043361524274},null,11537.210771793098,null,0,16.12,16.282,16.449000000000002,16.620999999999999,16.798999999999999,16.981000000000002,null,99.251999999999995,null,0,8.578172955692397E-3,8.5876727727646589E-3,8.5973564939621147E-3,8.6071442691082016E-3,8.6174696284192151E-3,8.6272227765315339E-3,null,8.6027725386327823E-3]
[null,null,null,null,"Preference share capital balance - WN - nominal","BS","£m",null,{"$f":"'[1]FinStat_Water Network'!$J101","v":0},{"$f":"'[1]FinStat_Water Network'!$K101","v":0},{"$f":"'[1]FinStat_Water Network'!$L101","v":0},{"$f":"'[1]FinStat_Water Network'!$M101","v":0},{"$f":"'[1]FinStat_Water Network'!$N101","v":0},{"$f":"'[1]FinStat_Water Network'!$O101","v":0},{"$f":"'[1]FinStat_Water Network'!$P101","v":0},null,0,null,{"$f":"'[2]FinStat_Water Network'!$J101","v":0},{"$f":"'[2]FinStat_Water Network'!$K101","v":0},{"$f":"'[2]FinStat_Water Network'!$L101","v":0},{"$f":"'[2]FinStat_Water Network'!$M101","v":0},{"$f":"'[2]FinStat_Water Network'!$N101","v":0},{"$f":"'[2]FinStat_Water Network'!$O101","v":0},{"$f":"'[2]FinStat_Water Network'!$P101","v":0},null,0,null,0,0,0,0,0,0,0,null,0,null,0,0,0,0,0,0,0,null,0]
[null,null,null,null,"Current tax liabilities - WN - nominal","BS","£m",null,{"$f":"'[1]FinStat_Water Network'!$J102","v":0},{"$f":"'[1]FinStat_Water Network'!$K102","v":0},{"$f":"'[1]FinStat_Water Network'!$L102","v":0},{"$f":"'[1]FinStat_Water Network'!$M102","v":0},{"$f":"'[1]FinStat_Water Network'!$N102","v":0},{"$f":"'[1]FinStat_Water Network'!$O102","v":0},{"$f":"'[1]FinStat_Water Network'!$P102","v":0},null,0,null,{"$f":"'[2]FinStat_Water Network'!$J102","v":0},{"$f":"'[2]FinStat_Water Network'!$K102","v":0},{"$f":"'[2]FinStat_Water Network'!$L102","v":0},{"$f":"'[2]FinStat_Water Network'!$M102","v":0},{"$f":"'[2]FinStat_Water Network'!$N102","v":0},{"$f":"'[2]FinStat_Water Network'!$O102","v":0},{"$f":"'[2]FinStat_Water Network'!$P102","v":0},null,0,null,0,0,0,0,0,0,0,null,0,null,0,0,0,0,0,0,0,null,0]
[null,null,null,null,"Retirement benefit liability balance - WN - nominal","BS","£m",null,{"$f":"'[1]FinStat_Water Network'!$J103","v":0},{"$f":"'[1]FinStat_Water Network'!$K103","v":0},{"$f":"'[1]FinStat_Water Network'!$L103","v":0},{"$f":"'[1]FinStat_Water Network'!$M103","v":0},{"$f":"'[1]FinStat_Water Network'!$N103","v":0},{"$f":"'[1]FinStat_Water Network'!$O103","v":0},{"$f":"'[1]FinStat_Water Network'!$P103","v":0},null,0,null,{"$f":"'[2]FinStat_Water Network'!$J103","v":0},{"$f":"'[2]FinStat_Water Network'!$K103","v":0},{"$f":"'[2]FinStat_Water Network'!$L103","v":0},{"$f":"'[2]FinStat_Water Network'!$M103","v":0},{"$f":"'[2]FinStat_Water Network'!$N103","v":0},{"$f":"'[2]FinStat_Water Network'!$O103","v":0},{"$f":"'[2]FinStat_Water Network'!$P103","v":0},null,0,null,0,0,0,0,0,0,0,null,0,null,0,0,0,0,0,0,0,null,0]
[null,null,null,null,"Provisions balance - WN - nominal","BS","£m",null,{"$f":"'[1]FinStat_Water Network'!$J104","v":0},{"$f":"'[1]FinStat_Water Network'!$K104","v":0},{"$f":"'[1]FinStat_Water Network'!$L104","v":0.1221282932225365},{"$f":"'[1]FinStat_Water Network'!$M104","v":0.24845201298193359},{"$f":"'[1]FinStat_Water Network'!$N104","v":0.38138857826880707},{"$f":"'[1]FinStat_Water Network'!$O104","v":0.51816393411283945},{"$f":"'[1]FinStat_Water Network'!$P104","v":0.656535462525904},null,1.9266682811120206,null,{"$f":"'[2]FinStat_Water Network'!$J104","v":0},{"$f":"'[2]FinStat_Water Network'!$K104","v":6.0002299887499353},{"$f":"'[2]FinStat_Water Network'!$L104","v":6.122306254823096},{"$f":"'[2]FinStat_Water Network'!$M104","v":6.2473956330602336},{"$f":"'[2]FinStat_Water Network'!$N104","v":6.3776085228195409},{"$f":"'[2]FinStat_Water Network'!$O104","v":6.5111891312511885},{"$f":"'[2]FinStat_Water Network'!$P104","v":6.6472063195717705},null,37.90593585027576,null,0,-6,-6,-5.9989999999999997,-5.9960000000000004,-5.9930000000000003,-5.9909999999999997,null,-35.978999999999999,null,0,-0.99996167001092184,-0.98002284601056278,-0.96024013082415283,-0.94016432312298293,-0.92041559217438784,-0.90128088583023769,null,-0.94916532709053947]
[null,null,null,null,"Other liabilities balance - WN - nominal","BS","£m",null,{"$f":"'[1]FinStat_Water Network'!$J105","v":0},{"$f":"'[1]FinStat_Water Network'!$K105","v":0},{"$f":"'[1]FinStat_Water Network'!$L105","v":0},{"$f":"'[1]FinStat_Water Network'!$M105","v":0},{"$f":"'[1]FinStat_Water Network'!$N105","v":0},{"$f":"'[1]FinStat_Water Network'!$O105","v":0},{"$f":"'[1]FinStat_Water Network'!$P105","v":0},null,0,null,{"$f":"'[2]FinStat_Water Network'!$J105","v":0},{"$f":"'[2]FinStat_Water Network'!$K105","v":212.06120343360968},{"$f":"'[2]FinStat_Water Network'!$L105","v":212.06120343360968},{"$f":"'[2]FinStat_Water Network'!$M105","v":212.06120343360968},{"$f":"'[2]FinStat_Water Network'!$N105","v":212.06120343360968},{"$f":"'[2]FinStat_Water Network'!$O105","v":212.06120343360968},{"$f":"'[2]FinStat_Water Network'!$P105","v":212.06120343360968},null,1272.3672206016581,null,0,-212.06100000000001,-212.06100000000001,-212.06100000000001,-212.06100000000001,-212.06100000000001,-212.06100000000001,null,-1272.367,null,0,-0.99999904068445156,-0.99999904068445156,-0.99999904068445156,-0.99999904068445156,-0.99999904068445156,-0.99999904068445156,null,-0.99999982662107711]
[null,null,null,null,"Total liabilities - WN - nominal",null,"£m",null,{"$f":"'[1]FinStat_Water Network'!$J106","v":0},{"$f":"'[1]FinStat_Water Network'!$K106","v":2185.4773830100094},{"$f":"'[1]FinStat_Water Network'!$L106","v":2237.7124793534172},{"$f":"'[1]FinStat_Water Network'!$M106","v":2254.2882783031773},{"$f":"'[1]FinStat_Water Network'!$N106","v":2275.8995901697117},{"$f":"'[1]FinStat_Water Network'!$O106","v":2287.7107195615881},{"$f":"'[1]FinStat_Water Network'!$P106","v":2295.1782817644689},null,13536.266732162372,null,{"$f":"'[2]FinStat_Water Network'!$J106","v":0},{"$f":"'[2]FinStat_Water Network'!$K106","v":2387.8390561853048},{"$f":"'[2]FinStat_Water Network'!$L106","v":2427.3648238244086},{"$f":"'[2]FinStat_Water Network'!$M106","v":2449.9002813211255},{"$f":"'[2]FinStat_Water Network'!$N106","v":2463.9262015914182},{"$f":"'[2]FinStat_Water Network'!$O106","v":2467.8483862481748},{"$f":"'[2]FinStat_Water Network'!$P106","v":2479.3184625620938},null,14676.197211732528,null,0,-202.36199999999999,-189.65199999999999,-195.61199999999999,-188.02699999999999,-180.13800000000001,-184.14,null,-1139.93,null,0,-8.4746917710309858E-2,-7.8130818300808952E-2,-7.9844882459670918E-2,-7.6311944683471356E-2,-7.2993949305719119E-2,-7.4270410510198129E-2,null,-7.76720279479967E-2]
[]
[null,null,null,null,"Net assets before deferred tax - WN - nominal",null,"£m",null,{"$f":"'[1]FinStat_Water Network'!$J108","v":0},{"$f":"'[1]FinStat_Water Network'!$K108","v":2172.6443823674372},{"$f":"'[1]FinStat_Water Network'!$L108","v":2161.3413530935045},{"$f":"'[1]FinStat_Water Network'!$M108","v":2157.3922698950928},{"$f":"'[1]FinStat_Water Network'!$N108","v":2150.9210319308177},{"$f":"'[1]FinStat_Water Network'!$O108","v":2139.0061541532486},{"$f":"'[1]FinStat_Water Network'!$P108","v":2122.9940708428485},null,12904.299262282948,null,{"$f":"'[2]FinStat_Water Network'!$J108","v":0},{"$f":"'[2]FinStat_Water Network'!$K108","v":1970.6200649522079},{"$f":"'[2]FinStat_Water Network'!$L108","v":1974.1591896042482},{"$f":"'[2]FinStat_Water Network'!$M108","v":1985.7441455089156},{"$f":"'[2]FinStat_Water Network'!$N108","v":1988.1936881841057},{"$f":"'[2]FinStat_Water Network'!$O108","v":1978.7348705956178},{"$f":"'[2]FinStat_Water Network'!$P108","v":1962.8952355773349},null,11860.347194422429,null,{"$f":"ROUND(I112 - S112, 3)","v":0},202.024,187.18199999999999,171.648,162.727,160.27099999999999,160.09899999999999,null,{"$f":"ROUND(Q112 - AA112, 3)","v":1043.952},null,0,0.10251798588324003,9.4816061939525562E-2,8.6440139022043672E-2,8.1846653556487681E-2,8.0996702681929739E-2,8.156268205160272E-2,null,8.8020357489276516E-2]
[]
[null,"Net assets"]
[null,null,null,null,"Deferred tax balance - WN - nominal ","BS","£m",null,{"$f":"'[1]FinStat_Water Network'!$J111","v":0},{"$f":"'[1]FinStat_Water Network'!$K111","v":-275.03678295836102},{"$f":"'[1]FinStat_Water Network'!$L111","v":-281.02771679669371},{"$f":"'[1]FinStat_Water Network'!$M111","v":-286.06956169154029},{"$f":"'[1]FinStat_Water Network'!$N111","v":-291.03943537724149},{"$f":"'[1]FinStat_Water Network'!$O111","v":-294.9758017077163},{"$f":"'[1]FinStat_Water Network'!$P111","v":-296.63397675534503},null,-1724.7832752868978,null,{"$f":"'[2]FinStat_Water Network'!$J111","v":0},{"$f":"'[2]FinStat_Water Network'!$K111","v":-275.43497915185662},{"$f":"'[2]FinStat_Water Network'!$L111","v":-280.94796157144413},{"$f":"'[2]FinStat_Water Network'!$M111","v":-285.1204286265837},{"$f":"'[2]FinStat_Water Network'!$N111","v":-288.60952029180442},{"$f":"'[2]FinStat_Water Network'!$O111","v":-290.33328360020465},{"$f":"'[2]FinStat_Water Network'!$P111","v":-289.76929327608048},null,-1710.2154665179742,null,{"$f":"ROUND(I115 - S115, 3)","v":0},0.39800000000000002,-0.08,-0.94899999999999995,-2.4300000000000002,-4.6429999999999998,-6.8650000000000002,null,{"$f":"ROUND(Q115 - AA115, 3)","v":-14.568},null,0,-1.444987129904692E-3,2.8475024183315269E-4,3.3284181164124353E-3,8.4196806728450962E-3,1.5991965999990251E-2,2.3691261149121505E-2,null,8.5182249168057628E-3]
[null,null,null,null,"Net assets - WN - nominal",null,"£m",null,{"$f":"'[1]FinStat_Water Network'!$J112","v":0},{"$f":"'[1]FinStat_Water Network'!$K112","v":1897.6075994090761},{"$f":"'[1]FinStat_Water Network'!$L112","v":1880.3136362968107},{"$f":"'[1]FinStat_Water Network'!$M112","v":1871.3227082035526},{"$f":"'[1]FinStat_Water Network'!$N112","v":1859.8815965535762},{"$f":"'[1]FinStat_Water Network'!$O112","v":1844.0303524455323},{"$f":"'[1]FinStat_Water Network'!$P112","v":1826.3600940875035},null,11179.515986996052,null,{"$f":"'[2]FinStat_Water Network'!$J112","v":0},{"$f":"'[2]FinStat_Water Network'!$K112","v":1695.1850858003513},{"$f":"'[2]FinStat_Water Network'!$L112","v":1693.2112280328042},{"$f":"'[2]FinStat_Water Network'!$M112","v":1700.6237168823318},{"$f":"'[2]FinStat_Water Network'!$N112","v":1699.5841678923011},{"$f":"'[2]FinStat_Water Network'!$O112","v":1688.4015869954133},{"$f":"'[2]FinStat_Water Network'!$P112","v":1673.1259423012543},null,10150.131727904456,null,0,202.423,187.102,170.69900000000001,160.297,155.62899999999999,153.23400000000001,null,{"$f":"ROUND(Q116 - AA116, 3)","v":1029.384},null,0,0.11941055976458737,0.11050127527052703,0.10037434989612748,9.4315423165413748E-2,9.2175345722665905E-2,9.1585454582838274E-2,null,0.10141582667050976]
[]
[null,"Equity"]
[null,null,null,null,"Called up share capital balance - WN - nominal","BS","£m",null,{"$f":"'[1]FinStat_Water Network'!$J115","v":0},{"$f":"'[1]FinStat_Water Network'!$K115","v":3.5811101904552221},{"$f":"'[1]FinStat_Water Network'!$L115","v":3.5811101904552221},{"$f":"'[1]FinStat_Water Network'!$M115","v":3.5811101904552221},{"$f":"'[1]FinStat_Water Network'!$N115","v":3.5811101904552221},{"$f":"'[1]FinStat_Water Network'!$O115","v":3.5811101904552221},{"$f":"'[1]FinStat_Water Network'!$P115","v":3.5811101904552221},null,21.486661142731329,null,{"$f":"'[2]FinStat_Water Network'!$J115","v":0},{"$f":"'[2]FinStat_Water Network'!$K115","v":3.586294894955433},{"$f":"'[2]FinStat_Water Network'!$L115","v":3.586294894955433},{"$f":"'[2]FinStat_Water Network'!$M115","v":3.586294894955433},{"$f":"'[2]FinStat_Water Network'!$N115","v":3.586294894955433},{"$f":"'[2]FinStat_Water Network'!$O115","v":3.586294894955433},{"$f":"'[2]FinStat_Water Network'!$P115","v":3.586294894955433},null,21.517769369732598,null,{"$f":"ROUND(I119 - S119, 3)","v":0},-5.0000000000000001E-3,-5.0000000000000001E-3,-5.0000000000000001E-3,-5.0000000000000001E-3,-5.0000000000000001E-3,-5.0000000000000001E-3,null,{"$f":"ROUND(Q119 - AA119, 3)","v":-3.1E-2},null,0,-1.3941965584127278E-3,-1.3941965584127278E-3,-1.3941965584127278E-3,-1.3941965584127278E-3,-1.3941965584127278E-3,-1.3941965584127278E-3,null,-1.4406697770264854E-3]
[null,null,null,null,"Non-distributable reserves balance - WN - nominal","BS","£m",null,{"$f":"'[1]FinStat_Water Network'!$J116","v":0},{"$f":"'[1]FinStat_Water Network'!$K116","v":276.63395810330405},{"$f":"'[1]FinStat_Water Network'!$L116","v":276.63395810330405},{"$f":"'[1]FinStat_Water Network'!$M116","v":276.63395810330405},{"$f":"'[1]FinStat_Water Network'!$N116","v":276.63395810330405},{"$f":"'[1]FinStat_Water Network'!$O116","v":276.63395810330405},{"$f":"'[1]FinStat_Water Network'!$P116","v":276.63395810330405},null,1659.8037486198241,null,{"$f":"'[2]FinStat_Water Network'!$J116","v":0},{"$f":"'[2]FinStat_Water Network'!$K116","v":277.0344666750068},{"$f":"'[2]FinStat_Water Network'!$L116","v":277.0344666750068},{"$f":"'[2]FinStat_Water Network'!$M116","v":277.0344666750068},{"$f":"'[2]FinStat_Water Network'!$N116","v":277.0344666750068},{"$f":"'[2]FinStat_Water Network'!$O116","v":277.0344666750068},{"$f":"'[2]FinStat_Water Network'!$P116","v":277.0344666750068},null,1662.2068000500408,null,0,-0.40100000000000002,-0.40100000000000002,-0.40100000000000002,-0.40100000000000002,-0.40100000000000002,-0.40100000000000002,null,{"$f":"ROUND(Q120 - AA120, 3)","v":-2.403},null,0,-1.4474733227704082E-3,-1.4474733227704082E-3,-1.4474733227704082E-3,-1.4474733227704082E-3,-1.4474733227704082E-3,-1.4474733227704082E-3,null,-1.4456684931908939E-3]
[null,null,null,null,"Retained earnings balance - WN - nominal","BS","£m",null,{"$f":"'[1]FinStat_Water Network'!$J117","v":0},{"$f":"'[1]FinStat_Water Network'!$K117","v":1617.3925311153168},{"$f":"'[1]FinStat_Water Network'!$L117","v":1600.0985680030517},{"$f":"'[1]FinStat_Water Network'!$M117","v":1591.1076399097929},{"$f":"'[1]FinStat_Water Network'!$N117","v":1579.6665282598165},{"$f":"'[1]FinStat_Water Network'!$O117","v":1563.8152841517719},{"$f":"'[1]FinStat_Water Network'!$P117","v":1546.1450257937429},null,9498.225577233492,null,{"$f":"'[2]FinStat_Water Network'!$J117","v":0},{"$f":"'[2]FinStat_Water Network'!$K117","v":1414.564324230389},{"$f":"'[2]FinStat_Water Network'!$L117","v":1412.5904664628415},{"$f":"'[2]FinStat_Water Network'!$M117","v":1420.0029553123691},{"$f":"'[2]FinStat_Water Network'!$N117","v":1418.9634063223389},{"$f":"'[2]FinStat_Water Network'!$O117","v":1407.7808254254512},{"$f":"'[2]FinStat_Water Network'!$P117","v":1392.5051807312925},null,8466.4071584846824,null,0,202.828,187.50800000000001,171.10499999999999,160.703,156.03399999999999,153.63999999999999,null,{"$f":"ROUND(Q121 - AA121, 3)","v":1031.818},null,0,0.14338549087214614,0.13274052490919344,0.12049622809577935,0.11325380153143562,0.11083685555444635,0.11033352128665971,null,0.12187200316322547]
[null,null,null,null,"Total equity- Wholesale - nominal",null,"£m",null,{"$f":"'[1]FinStat_Water Network'!$J118","v":0},{"$f":"'[1]FinStat_Water Network'!$K118","v":1897.6075994090761},{"$f":"'[1]FinStat_Water Network'!$L118","v":1880.313636296811},{"$f":"'[1]FinStat_Water Network'!$M118","v":1871.3227082035521},{"$f":"'[1]FinStat_Water Network'!$N118","v":1859.8815965535757},{"$f":"'[1]FinStat_Water Network'!$O118","v":1844.0303524455312},{"$f":"'[1]FinStat_Water Network'!$P118","v":1826.3600940875021},null,11179.515986996048,null,{"$f":"'[2]FinStat_Water Network'!$J118","v":0},{"$f":"'[2]FinStat_Water Network'!$K118","v":1695.1850858003513},{"$f":"'[2]FinStat_Water Network'!$L118","v":1693.2112280328038},{"$f":"'[2]FinStat_Water Network'!$M118","v":1700.6237168823313},{"$f":"'[2]FinStat_Water Network'!$N118","v":1699.5841678923011},{"$f":"'[2]FinStat_Water Network'!$O118","v":1688.4015869954135},{"$f":"'[2]FinStat_Water Network'!$P118","v":1673.1259423012548},null,10150.131727904454,null,0,202.423,187.102,170.69900000000001,160.297,155.62899999999999,153.23400000000001,null,{"$f":"ROUND(Q122 - AA122, 3)","v":1029.384},null,0,0.11941055976458737,0.11050127527052706,0.10037434989612751,9.4315423165413748E-2,9.2175345722665891E-2,9.1585454582838247E-2,null,0.10141582667050977]
[]
["Calculations"]
[]
[null,null,null,null,"Net debt",null,"£m",null,{"$f":"SUM(I97,I104:I105)","v":0},{"$f":"SUM(J97,J104:J105)","v":2078.7291436757869},{"$f":"SUM(K97,K104:K105)","v":2035.2004136852829},1886.9057230961462,1693.3745673141284,1496.7461362172985,1431.4991951624042,null,{"$f":"SUM(I126:O126)","v":10622.455179151046},null,{"$f":"SUM(S97,S104:S105)","v":0},{"$f":"SUM(T97,T104:T105)","v":2062.8748341276869},{"$f":"SUM(U97,U104:U105)","v":2062.5777776610898},1982.1881797394394,1865.2028473998569,1774.1269095723287,1765.8311365852376,null,{"$f":"SUM(S126:Y126)","v":11512.801685085638},null,{"$f":"ROUND(I126 - S126, 3)","v":0},15.853999999999999,-27.376999999999999,-95.281999999999996,-171.828,-277.38099999999997,-334.33199999999999,null,{"$f":"ROUND(Q126 - AA126, 3)","v":-890.34699999999998},null,{"$f":"IF(S126 = 0, 0, AC126 / S126)","v":0},{"$f":"IF(T126 = 0, 0, AD126 / T126)","v":7.685391153023623E-3},{"$f":"IF(U126 = 0, 0, AE126 / U126)","v":-1.327319643240063E-2},{"$f":"IF(V126 = 0, 0, AF126 / V126)","v":-4.8069099076418119E-2},{"$f":"IF(W126 = 0, 0, AG126 / W126)","v":-9.2122956084660104E-2},{"$f":"IF(X126 = 0, 0, AH126 / X126)","v":-0.1563478906178507},{"$f":"IF(Y126 = 0, 0, AI126 / Y126)","v":-0.18933407225253196},null,{"$f":"IF(AA126 = 0, 0, AK126 / AA126)","v":-7.7335389278302941E-2}]
[null,null,null,null,"Average net debt",null,"£m",null,null,{"$f":"SUM(I97:J97,I104:J105)","v":2078.7291436757869},{"$f":"SUM(J97:K97,J104:K105)","v":4113.9295573610698},3922.1061367814291,3580.2802904102746,3190.1207035314264,2928.2453313797023,null,{"$f":"SUM(I127:O127)","v":19813.411163139688},null,null,{"$f":"SUM(S97:T97,S104:T105)","v":2062.8748341276869},{"$f":"SUM(T97:U97,T104:U105)","v":4125.4526117887772},{"$f":"SUM(U97:V97,U104:V105)","v":4044.7659574005293},{"$f":"SUM(V97:W97,V104:W105)","v":3847.3910271392961},{"$f":"SUM(W97:X97,W104:X105)","v":3639.3297569721854},{"$f":"SUM(X97:Y97,X104:Y105)","v":3539.9580461575661},null,{"$f":"SUM(S127:Y127)","v":21259.772233586045},null,0,15.853999999999999,-11.523,-122.66,-267.11099999999999,-449.209,-611.71299999999997,null,{"$f":"ROUND(Q127 - AA127, 3)","v":-1446.3610000000001},null,0,7.685391153023623E-3,-2.7931480698801872E-3,-3.032561124471848E-2,-6.9426527773187835E-2,-0.12343179376351117,-0.17280233042987092,null,-6.8032760845624152E-2]
[]
[null,null,null,null,"Total interest as a percentage of average net debt",null,"%",null,null,{"$f":" IF( J127 = 0, 0, SUM( J27:J28 ) / J127 )","v":0},{"$f":" IF( K127 = 0, 0, SUM( K27:K28 ) / K127 )","v":-1.8443524379739621E-2},-2.0762849704912476E-2,-2.520392425182226E-2,-3.1383335243775928E-2,{"$f":" IF( O127 = 0, 0, SUM( O27:O28 ) / O127 )","v":-3.6645111254457817E-2},null,null,null,null,{"$f":" IF( T127 = 0, 0, SUM( T27:T28 ) / T127 )","v":0},{"$f":" IF( U127 = 0, 0, SUM( U27:U28 ) / U127 )","v":-1.7269710559216368E-2},-1.8367717217697786E-2,-2.0734440365560273E-2,-2.3497712607535817E-2,{"$f":" IF( Y127 = 0, 0, SUM( Y27:Y28 ) / Y127 )","v":-2.5162958710292005E-2},null,null,null,null,{"$f":"ROUND(J129 - T129, 3)","v":0},-1E-3,-2E-3,-4.0000000000000001E-3,-8.0000000000000002E-3,-1.0999999999999999E-2,null,null,null,null,0,5.7904850030409315E-2,0.10888669377340733,0.19291574450420015,0.34045867074884412,0.43715050072791495]

{"sheet":"FinStat_Wastewater Network","index":8,"n_rows":129,"n_cols":47,"rows_kept":129,"cut":false,"hidden":false,"merged":[[0,8,0,16],[0,18,0,26],[0,28,0,36],[0,38,0,46]]}
[null,null,null,null,{"$f":" RIGHT(CELL(\"FILENAME\", $A$1), LEN(CELL(\"FILENAME\", $A$1)) - SEARCH(\"]\", CELL(\"FILENAME\", $A$1)))","v":"FinStat_Wastewater Network"},null,null,null,{"$f":"'Front sheet'!$F5 & \": \" & 'Front sheet'!$G5 & \" - \" & 'Front sheet'!$H5","v":"Model 1: ANH - Company 1 April NTN Post"},null,null,null,null,null,null,null,null,null,{"$f":"'Front sheet'!$F6 & \": \" & 'Front sheet'!$G6 & \" - \" & 'Front sheet'!$H6","v":"Model 2: ANH - Ofwat FD NTN Post "},null,null,null,null,null,null,null,null,null,{"$f":"\"Delta (\" & 'Front sheet'!$F5 & \" - \" & 'Front sheet'!$F6 & \")\"","v":"Delta (Model 1 - Model 2)"},null,null,null,null,null,null,null,null,null,{"$f":"\"Delta  (\" & 'Front sheet'!$F5 & \" - \" & 'Front sheet'!$F6 & \") - %\"","v":"Delta  (Model 1 - Model 2) - %"}]
[]
[null,null,null,"Model period ending",null,null,null,null,"2019-03-31","2020-03-31","2021-03-31","2022-03-31","2023-03-31","2024-03-31","2025-03-31",null,null,null,"2019-03-31","2020-03-31","2021-03-31","2022-03-31","2023-03-31","2024-03-31","2025-03-31",null,null,null,"2019-03-31","2020-03-31","2021-03-31","2022-03-31","2023-03-31","2024-03-31","2025-03-31",null,null,null,"2019-03-31","2020-03-31","2021-03-31","2022-03-31","2023-03-31","2024-03-31","2025-03-31"]
[null,null,null,"Timeline label",null,null,null,null,"Pre-Fcst","Pre-Fcst","Forecast","Forecast","Forecast","Forecast","Forecast",null,"Total",null,"Pre-Fcst","Pre-Fcst","Forecast","Forecast","Forecast","Forecast","Forecast",null,"Total",null,"Pre-Fcst","Pre-Fcst","Forecast","Forecast","Forecast","Forecast","Forecast",null,"Total",null,"Pre-Fcst","Pre-Fcst","Forecast","Forecast","Forecast","Forecast","Forecast",null,"Total"]
[null,null,null,"Financial year ending",null,null,null,null,2019,2020,2021,2022,2023,2024,2025,null,null,null,2019,2020,2021,2022,2023,2024,2025,null,null,null,2019,2020,2021,2022,2023,2024,2025,null,null,null,2019,2020,2021,2022,2023,2024,2025]
[null,null,null,"Model column counter",null,null,null,null,1,2,3,4,5,6,7,null,null,null,1,2,3,4,5,6,7,null,null,null,1,2,3,4,5,6,7,null,null,null,1,2,3,4,5,6,7]
[]
[null,null,null,null,{"$f":"'Front sheet'!$F5 & \": \" & 'Front sheet'!$G5 & \" - \" & 'Front sheet'!$I5","v":"Model 1: ANH - "}]
[null,null,null,null,{"$f":"'Front sheet'!$F6 & \": \" & 'Front sheet'!$G6 & \" - \" & 'Front sheet'!$I6","v":"Model 2: ANH - "}]
[null,null,null,null,"3rd model not in use"]
[]
[null,null,null,"Check Delta (numbers)",null,null,null,null,null,null,null,null,null,null,null,null,null,null,null,null,null,null,null,null,null,null,null,null,{"$f":"COUNTIF(AC19:AC310,\"<>0\") - COUNTBLANK(AC19:AC310) - AC13","v":0},25,58,58,58,58,58,null,{"$f":"COUNTIF(AK19:AK310,\"<>0\") - COUNTBLANK(AK19:AK310) - AK13","v":59},null,{"$f":"COUNTIF(AM19:AM310,\"<>0\") - COUNTBLANK(AM19:AM310) - AM13","v":0},25,58,58,58,57,57,null,{"$f":"COUNTIF(AU19:AU310,\"<>0\") - COUNTBLANK(AU19:AU310) - AU13","v":59}]
[null,null,null,"Check Delta (errors)",null,null,null,null,null,null,null,null,null,null,null,null,null,null,null,null,null,null,null,null,null,null,null,null,{"$f":"COUNT( IF( ISERROR(AC19:AC308), 1) )","v":1},{"$f":"COUNT( IF( ISERROR(AD19:AD308), 1) )","v":1},{"$f":"COUNT( IF( ISERROR(AE19:AE308), 1) )","v":1},{"$f":"COUNT( IF( ISERROR(AF19:AF308), 1) )","v":1},{"$f":"COUNT( IF( ISERROR(AG19:AG308), 1) )","v":1},{"$f":"COUNT( IF( ISERROR(AH19:AH308), 1) )","v":1},{"$f":"COUNT( IF( ISERROR(AI19:AI308), 1) )","v":1},null,{"$f":"COUNT( IF( ISERROR(AK19:AK308), 1) )","v":0},null,{"$f":"COUNT( IF( ISERROR(AM19:AM308), 1) )","v":1},{"$f":"COUNT( IF( ISERROR(AN19:AN308), 1) )","v":1},{"$f":"COUNT( IF( ISERROR(AO19:AO308), 1) )","v":1},{"$f":"COUNT( IF( ISERROR(AP19:AP308), 1) )","v":1},{"$f":"COUNT( IF( ISERROR(AQ19:AQ308), 1) )","v":1},{"$f":"COUNT( IF( ISERROR(AR19:AR308), 1) )","v":1},{"$f":"COUNT( IF( ISERROR(AS19:AS308), 1) )","v":1},null,{"$f":"COUNT( IF( ISERROR(AU19:AU308), 1) )","v":0}]
[]
["PROFIT & LOSS"]
[]
[null,null,null,null,"Revenue requirement incl. tax charge - WWN - nominal","PL","£m",null,{"$f":"'[1]FinStat_Wastewater Network'!$J9","v":0},{"$f":"'[1]FinStat_Wastewater Network'!$K9","v":0},{"$f":"'[1]FinStat_Wastewater Network'!$L9","v":612.14464179512322},{"$f":"'[1]FinStat_Wastewater Network'!$M9","v":635.23572061160917},{"$f":"'[1]FinStat_Wastewater Network'!$N9","v":660.96027510930276},{"$f":"'[1]FinStat_Wastewater Network'!$O9","v":682.45424902035359},{"$f":"'[1]FinStat_Wastewater Network'!$P9","v":709.74003757272078},null,{"$f":"SUM(I17:O17)","v":3300.5349241091094},null,{"$f":"'[2]FinStat_Wastewater Network'!$J9","v":0},{"$f":"'[2]FinStat_Wastewater Network'!$K9","v":0},{"$f":"'[2]FinStat_Wastewater Network'!$L9","v":565.0441354328309},{"$f":"'[2]FinStat_Wastewater Network'!$M9","v":586.23990347588358},{"$f":"'[2]FinStat_Wastewater Network'!$N9","v":603.75544654838018},{"$f":"'[2]FinStat_Wastewater Network'!$O9","v":623.59057678511783},{"$f":"'[2]FinStat_Wastewater Network'!$P9","v":644.70716126226193},null,{"$f":"SUM(S17:Y17)","v":3023.3372235044744},null,{"$f":"ROUND(I17 - S17, 3)","v":0},{"$f":"ROUND(J17 - T17, 3)","v":0},{"$f":"ROUND(K17 - U17, 3)","v":47.100999999999999},{"$f":"ROUND(L17 - V17, 3)","v":48.996000000000002},{"$f":"ROUND(M17 - W17, 3)","v":57.204999999999998},{"$f":"ROUND(N17 - X17, 3)","v":58.863999999999997},{"$f":"ROUND(O17 - Y17, 3)","v":65.033000000000001},null,{"$f":"ROUND(Q17 - AA17, 3)","v":277.19799999999998},null,{"$f":"IF(S17 = 0, 0, AC17 / S17)","v":0},{"$f":"IF(T17 = 0, 0, AD17 / T17)","v":0},{"$f":"IF(U17 = 0, 0, AE17 / U17)","v":8.3358090185149947E-2},{"$f":"IF(V17 = 0, 0, AF17 / V17)","v":8.3576705900599915E-2},{"$f":"IF(W17 = 0, 0, AG17 / W17)","v":9.4748627655512244E-2},{"$f":"IF(X17 = 0, 0, AH17 / X17)","v":9.4395268612732508E-2},{"$f":"IF(Y17 = 0, 0, AI17 / Y17)","v":0.10087215391352707},null,{"$f":"IF(AA17 = 0, 0, AK17 / AA17)","v":9.1686100328129586E-2}]
[null,null,null,null,"Total direct procurement from customers - infrastructure cost (as revenue) - WWN - nominal","PL","£m",null,{"$f":"'[1]FinStat_Wastewater Network'!$J10","v":0},{"$f":"'[1]FinStat_Wastewater Network'!$K10","v":0},{"$f":"'[1]FinStat_Wastewater Network'!$L10","v":0},{"$f":"'[1]FinStat_Wastewater Network'!$M10","v":0},{"$f":"'[1]FinStat_Wastewater Network'!$N10","v":0},{"$f":"'[1]FinStat_Wastewater Network'!$O10","v":0},{"$f":"'[1]FinStat_Wastewater Network'!$P10","v":0},null,{"$f":"SUM(I18:O18)","v":0},null,{"$f":"'[2]FinStat_Wastewater Network'!$J10","v":0},{"$f":"'[2]FinStat_Wastewater Network'!$K10","v":0},{"$f":"'[2]FinStat_Wastewater Network'!$L10","v":0},{"$f":"'[2]FinStat_Wastewater Network'!$M10","v":0},{"$f":"'[2]FinStat_Wastewater Network'!$N10","v":0},{"$f":"'[2]FinStat_Wastewater Network'!$O10","v":0},{"$f":"'[2]FinStat_Wastewater Network'!$P10","v":0},null,{"$f":"SUM(S18:Y18)","v":0},null,0,0,0,0,0,0,0,null,0,null,0,0,0,0,0,0,0,null,0]
[null,null,null,null,"Operating expenditure - WWN - nominal","PL","£m",null,{"$f":"'[1]FinStat_Wastewater Network'!$J11","v":0},{"$f":"'[1]FinStat_Wastewater Network'!$K11","v":0},{"$f":"'[1]FinStat_Wastewater Network'!$L11","v":-232.02357588573636},{"$f":"'[1]FinStat_Wastewater Network'!$M11","v":-237.12000994201213},{"$f":"'[1]FinStat_Wastewater Network'!$N11","v":-245.65526196188603},{"$f":"'[1]FinStat_Wastewater Network'!$O11","v":-242.72786268318021},{"$f":"'[1]FinStat_Wastewater Network'!$P11","v":-242.47013170577509},null,-1199.9968421785898,null,{"$f":"'[2]FinStat_Wastewater Network'!$J11","v":0},{"$f":"'[2]FinStat_Wastewater Network'!$K11","v":0},{"$f":"'[2]FinStat_Wastewater Network'!$L11","v":-193.64535306576298},{"$f":"'[2]FinStat_Wastewater Network'!$M11","v":-200.52382270992064},{"$f":"'[2]FinStat_Wastewater Network'!$N11","v":-206.66775375844907},{"$f":"'[2]FinStat_Wastewater Network'!$O11","v":-211.19307889933503},{"$f":"'[2]FinStat_Wastewater Network'!$P11","v":-218.71919263817978},null,-1030.7492010716473,null,0,0,-38.378,-36.595999999999997,-38.988,-31.535,-23.751000000000001,null,-169.24799999999999,null,0,0,0.19818704344000773,0.18250200652188875,0.18865062057803528,0.14931834018590698,0.10859129330863308,null,0.16419901157724551]
[null,null,null,null,"Operating income - WWN - nominal","PL","£m",null,{"$f":"'[1]FinStat_Wastewater Network'!$J12","v":0},{"$f":"'[1]FinStat_Wastewater Network'!$K12","v":0},{"$f":"'[1]FinStat_Wastewater Network'!$L12","v":0},{"$f":"'[1]FinStat_Wastewater Network'!$M12","v":0},{"$f":"'[1]FinStat_Wastewater Network'!$N12","v":0},{"$f":"'[1]FinStat_Wastewater Network'!$O12","v":0},{"$f":"'[1]FinStat_Wastewater Network'!$P12","v":0},null,0,null,{"$f":"'[2]FinStat_Wastewater Network'!$J12","v":0},{"$f":"'[2]FinStat_Wastewater Network'!$K12","v":0},{"$f":"'[2]FinStat_Wastewater Network'!$L12","v":0},{"$f":"'[2]FinStat_Wastewater Network'!$M12","v":0},{"$f":"'[2]FinStat_Wastewater Network'!$N12","v":0},{"$f":"'[2]FinStat_Wastewater Network'!$O12","v":0},{"$f":"'[2]FinStat_Wastewater Network'!$P12","v":0},null,0,null,0,0,0,0,0,0,0,null,0,null,0,0,0,0,0,0,0,null,0]
[null,null,null,null,"EBITDA - WWN - nominal",null,"£m",null,{"$f":"'[1]FinStat_Wastewater Network'!$J13","v":0},{"$f":"'[1]FinStat_Wastewater Network'!$K13","v":0},{"$f":"'[1]FinStat_Wastewater Network'!$L13","v":380.12106590938686},{"$f":"'[1]FinStat_Wastewater Network'!$M13","v":398.11571066959704},{"$f":"'[1]FinStat_Wastewater Network'!$N13","v":415.30501314741673},{"$f":"'[1]FinStat_Wastewater Network'!$O13","v":439.72638633717338},{"$f":"'[1]FinStat_Wastewater Network'!$P13","v":467.26990586694569},null,2100.5380819305196,null,{"$f":"'[2]FinStat_Wastewater Network'!$J13","v":0},{"$f":"'[2]FinStat_Wastewater Network'!$K13","v":0},{"$f":"'[2]FinStat_Wastewater Network'!$L13","v":371.39878236706795},{"$f":"'[2]FinStat_Wastewater Network'!$M13","v":385.71608076596294},{"$f":"'[2]FinStat_Wastewater Network'!$N13","v":397.08769278993111},{"$f":"'[2]FinStat_Wastewater Network'!$O13","v":412.3974978857828},{"$f":"'[2]FinStat_Wastewater Network'!$P13","v":425.98796862408216},null,1992.5880224328268,null,0,0,8.7219999999999995,12.4,18.216999999999999,27.329000000000001,41.281999999999996,null,107.95,null,0,0,2.3484191155424161E-2,3.2147998536581165E-2,4.5876516272785182E-2,6.6268588291893596E-2,9.6908840250438527E-2,null,5.4175774813802063E-2]
[null,null,null,null,null,null,null,null,null,null,null,null,null,null,null,null,null,null,null,null,null,null,null,null,null,null,null,null,0,0,0,0,0,0,0,null,0,null,0,0,0,0,0,0,0,null,0]
[null,null,null,null,"Wholesale fixed assets depreciation - WWN - nominal","PL","£m",null,{"$f":"'[1]FinStat_Wastewater Network'!$J15","v":0},{"$f":"'[1]FinStat_Wastewater Network'!$K15","v":0},{"$f":"'[1]FinStat_Wastewater Network'!$L15","v":-187.95196488587396},{"$f":"'[1]FinStat_Wastewater Network'!$M15","v":-195.15595135974917},{"$f":"'[1]FinStat_Wastewater Network'!$N15","v":-203.8568622820892},{"$f":"'[1]FinStat_Wastewater Network'!$O15","v":-214.46745437234705},{"$f":"'[1]FinStat_Wastewater Network'!$P15","v":-237.03170668076797},null,-1038.4639395808272,null,{"$f":"'[2]FinStat_Wastewater Network'!$J15","v":0},{"$f":"'[2]FinStat_Wastewater Network'!$K15","v":0},{"$f":"'[2]FinStat_Wastewater Network'!$L15","v":-187.41294604227517},{"$f":"'[2]FinStat_Wastewater Network'!$M15","v":-194.21321284467558},{"$f":"'[2]FinStat_Wastewater Network'!$N15","v":-202.94864085501999},{"$f":"'[2]FinStat_Wastewater Network'!$O15","v":-211.95033684600648},{"$f":"'[2]FinStat_Wastewater Network'!$P15","v":-231.12538944700896},null,-1027.6505260349863,null,0,0,-0.53900000000000003,-0.94299999999999995,-0.90800000000000003,-2.5169999999999999,-5.9059999999999997,null,-10.813000000000001,null,0,0,2.8760019592158621E-3,4.8554883892177603E-3,4.4740383388359138E-3,1.1875423448035084E-2,2.5553228981596121E-2,null,1.0522059519319385E-2]
[null,null,null,null,"Earnings before interest and tax (EBIT) - WWN - nominal",null,"£m",null,{"$f":"'[1]FinStat_Wastewater Network'!$J16","v":0},{"$f":"'[1]FinStat_Wastewater Network'!$K16","v":0},{"$f":"'[1]FinStat_Wastewater Network'!$L16","v":192.16910102351289},{"$f":"'[1]FinStat_Wastewater Network'!$M16","v":202.95975930984787},{"$f":"'[1]FinStat_Wastewater Network'!$N16","v":211.44815086532753},{"$f":"'[1]FinStat_Wastewater Network'!$O16","v":225.25893196482633},{"$f":"'[1]FinStat_Wastewater Network'!$P16","v":230.23819918617772},null,1062.0741423496925,null,{"$f":"'[2]FinStat_Wastewater Network'!$J16","v":0},{"$f":"'[2]FinStat_Wastewater Network'!$K16","v":0},{"$f":"'[2]FinStat_Wastewater Network'!$L16","v":183.98583632479279},{"$f":"'[2]FinStat_Wastewater Network'!$M16","v":191.50286792128736},{"$f":"'[2]FinStat_Wastewater Network'!$N16","v":194.13905193491112},{"$f":"'[2]FinStat_Wastewater Network'!$O16","v":200.44716103977632},{"$f":"'[2]FinStat_Wastewater Network'!$P16","v":194.8625791770732},null,964.93749639784073,null,0,0,8.1829999999999998,11.457000000000001,17.309000000000001,24.812000000000001,35.375999999999998,null,97.137,null,0,0,4.4476249712800904E-2,5.9826780268946805E-2,8.9157744552101653E-2,0.12378324477779139,0.18154332221916011,null,0.10066662386177054]
[null,null,null,null,null,null,null,null,null,null,null,null,null,null,null,null,null,null,null,null,null,null,null,null,null,null,null,null,0,0,0,0,0,0,0,null,0,null,0,0,0,0,0,0,0,null,0]
[null,null,null,null,"Total other income (incl. 3rd party income) - WWN - nominal","PL & CF","£m",null,{"$f":"'[1]FinStat_Wastewater Network'!$J18","v":0},{"$f":"'[1]FinStat_Wastewater Network'!$K18","v":0},{"$f":"'[1]FinStat_Wastewater Network'!$L18","v":1.3102380000000002},{"$f":"'[1]FinStat_Wastewater Network'!$M18","v":1.3371299999999999},{"$f":"'[1]FinStat_Wastewater Network'!$N18","v":1.3640220000000003},{"$f":"'[1]FinStat_Wastewater Network'!$O18","v":1.391661},{"$f":"'[1]FinStat_Wastewater Network'!$P18","v":1.4200470000000001},null,6.8230980000000008,null,{"$f":"'[2]FinStat_Wastewater Network'!$J18","v":0},{"$f":"'[2]FinStat_Wastewater Network'!$K18","v":0},{"$f":"'[2]FinStat_Wastewater Network'!$L18","v":1.3051362213506199},{"$f":"'[2]FinStat_Wastewater Network'!$M18","v":1.3319783316679052},{"$f":"'[2]FinStat_Wastewater Network'!$N18","v":1.3597674831551692},{"$f":"'[2]FinStat_Wastewater Network'!$O18","v":1.3886803923509945},{"$f":"'[2]FinStat_Wastewater Network'!$P18","v":1.4183948174472305},null,6.8039572459719189,null,0,0,5.0000000000000001E-3,5.0000000000000001E-3,4.0000000000000001E-3,3.0000000000000001E-3,2E-3,null,1.9E-2,null,0,0,3.8310177268896508E-3,3.7538148189985888E-3,2.9416794044217795E-3,2.1603243024992161E-3,1.4100446331293843E-3,null,2.7924925617732808E-3]
[null,null,null,null,"Interest income /(expense) excl. indexation of index-linked loans - WWN - nominal","PL & CF","£m",null,{"$f":"'[1]FinStat_Wastewater Network'!$J19","v":0},{"$f":"'[1]FinStat_Wastewater Network'!$K19","v":0},{"$f":"'[1]FinStat_Wastewater Network'!$L19","v":-95.678424815780616},{"$f":"'[1]FinStat_Wastewater Network'!$M19","v":-101.7356740460957},{"$f":"'[1]FinStat_Wastewater Network'!$N19","v":-107.27333216801945},{"$f":"'[1]FinStat_Wastewater Network'!$O19","v":-115.5520229605432},{"$f":"'[1]FinStat_Wastewater Network'!$P19","v":-124.04115029019592},null,-544.28060428063486,null,{"$f":"'[2]FinStat_Wastewater Network'!$J19","v":0},{"$f":"'[2]FinStat_Wastewater Network'!$K19","v":0},{"$f":"'[2]FinStat_Wastewater Network'!$L19","v":-89.041397893895123},{"$f":"'[2]FinStat_Wastewater Network'!$M19","v":-93.895380728310045},{"$f":"'[2]FinStat_Wastewater Network'!$N19","v":-98.862739062084046},{"$f":"'[2]FinStat_Wastewater Network'!$O19","v":-104.43053470724175},{"$f":"'[2]FinStat_Wastewater Network'!$P19","v":-107.6179404329242},null,-493.8479928244551,null,0,0,-6.6369999999999996,-7.84,-8.4109999999999996,-11.121,-16.422999999999998,null,-50.433,null,0,0,7.4538362570507749E-2,8.3497185262876208E-2,8.5077553786144247E-2,0.10649184198066558,0.15260466734388101,null,0.10212251691367527]
[null,null,null,null,"Indexation of index-linked loans - WWN - nominal","PL","£m",null,{"$f":"'[1]FinStat_Wastewater Network'!$J20","v":0},{"$f":"'[1]FinStat_Wastewater Network'!$K20","v":0},{"$f":"'[1]FinStat_Wastewater Network'!$L20","v":-27.185756368822631},{"$f":"'[1]FinStat_Wastewater Network'!$M20","v":-28.001329059887308},{"$f":"'[1]FinStat_Wastewater Network'!$N20","v":-28.841368931683927},{"$f":"'[1]FinStat_Wastewater Network'!$O20","v":-29.706609999634445},{"$f":"'[1]FinStat_Wastewater Network'!$P20","v":-30.59780829962348},null,-144.3328726596518,null,{"$f":"'[2]FinStat_Wastewater Network'!$J20","v":0},{"$f":"'[2]FinStat_Wastewater Network'!$K20","v":0},{"$f":"'[2]FinStat_Wastewater Network'!$L20","v":-26.852971818288854},{"$f":"'[2]FinStat_Wastewater Network'!$M20","v":-27.65856097283752},{"$f":"'[2]FinStat_Wastewater Network'!$N20","v":-28.48831780202265},{"$f":"'[2]FinStat_Wastewater Network'!$O20","v":-29.342967336083326},{"$f":"'[2]FinStat_Wastewater Network'!$P20","v":-30.223256356165827},null,-142.56607428539817,null,0,0,-0.33300000000000002,-0.34300000000000003,-0.35299999999999998,-0.36399999999999999,-0.375,null,-1.7669999999999999,null,0,0,1.2400862081611484E-2,1.2401223633320909E-2,1.2391044022084633E-2,1.2405016705736701E-2,1.2407663673987152E-2,null,1.23942530427169E-2]
[null,null,null,null,"Earnings before tax (EBT) - WWN - nominal",null,"£m",null,{"$f":"'[1]FinStat_Wastewater Network'!$J21","v":0},{"$f":"'[1]FinStat_Wastewater Network'!$K21","v":0},{"$f":"'[1]FinStat_Wastewater Network'!$L21","v":70.615157838909653},{"$f":"'[1]FinStat_Wastewater Network'!$M21","v":74.559886203864863},{"$f":"'[1]FinStat_Wastewater Network'!$N21","v":76.697471765624158},{"$f":"'[1]FinStat_Wastewater Network'!$O21","v":81.391960004648695},{"$f":"'[1]FinStat_Wastewater Network'!$P21","v":77.019287596358311},null,380.28376340940571,null,{"$f":"'[2]FinStat_Wastewater Network'!$J21","v":0},{"$f":"'[2]FinStat_Wastewater Network'!$K21","v":0},{"$f":"'[2]FinStat_Wastewater Network'!$L21","v":69.396602833959435},{"$f":"'[2]FinStat_Wastewater Network'!$M21","v":71.280904551807708},{"$f":"'[2]FinStat_Wastewater Network'!$N21","v":68.147762553959595},{"$f":"'[2]FinStat_Wastewater Network'!$O21","v":68.062339388802229},{"$f":"'[2]FinStat_Wastewater Network'!$P21","v":58.439777205430403},null,335.32738653395938,null,0,0,1.2190000000000001,3.2789999999999999,8.5500000000000007,13.33,18.579999999999998,null,44.956000000000003,null,0,0,1.7565701348762258E-2,4.6001099742172723E-2,0.12546266641153606,0.19584986528090279,0.31793413473645976,null,0.13406599581584489]
[null,null,null,null,null,null,null,null,null,null,null,null,null,null,null,null,null,null,null,null,null,null,null,null,null,null,null,null,0,0,0,0,0,0,0,null,0,null,0,0,0,0,0,0,0,null,0]
[null,null,null,null,"Wastewater network tax - nominal","PL","£m",null,{"$f":"'[1]FinStat_Wastewater Network'!$J23","v":0},{"$f":"'[1]FinStat_Wastewater Network'!$K23","v":0},{"$f":"'[1]FinStat_Wastewater Network'!$L23","v":0},{"$f":"'[1]FinStat_Wastewater Network'!$M23","v":0},{"$f":"'[1]FinStat_Wastewater Network'!$N23","v":0},{"$f":"'[1]FinStat_Wastewater Network'!$O23","v":0},{"$f":"'[1]FinStat_Wastewater Network'!$P23","v":0},null,0,null,{"$f":"'[2]FinStat_Wastewater Network'!$J23","v":0},{"$f":"'[2]FinStat_Wastewater Network'!$K23","v":0},{"$f":"'[2]FinStat_Wastewater Network'!$L23","v":0},{"$f":"'[2]FinStat_Wastewater Network'!$M23","v":0},{"$f":"'[2]FinStat_Wastewater Network'!$N23","v":0},{"$f":"'[2]FinStat_Wastewater Network'!$O23","v":0},{"$f":"'[2]FinStat_Wastewater Network'!$P23","v":0},null,0,null,0,0,0,0,0,0,0,null,0,null,0,0,0,0,0,0,0,null,0]
[null,null,null,null,"Movement in deferred tax provision - WWN - nominal","PL","£m",null,{"$f":"'[1]FinStat_Wastewater Network'!$J24","v":0},{"$f":"'[1]FinStat_Wastewater Network'!$K24","v":0},{"$f":"'[1]FinStat_Wastewater Network'!$L24","v":-8.3891115978701496},{"$f":"'[1]FinStat_Wastewater Network'!$M24","v":-6.5665146934744154},{"$f":"'[1]FinStat_Wastewater Network'!$N24","v":-5.3689848705632865},{"$f":"'[1]FinStat_Wastewater Network'!$O24","v":-6.8520202690216099},{"$f":"'[1]FinStat_Wastewater Network'!$P24","v":-3.9263656155111715},null,-31.102997046440635,null,{"$f":"'[2]FinStat_Wastewater Network'!$J24","v":0},{"$f":"'[2]FinStat_Wastewater Network'!$K24","v":0},{"$f":"'[2]FinStat_Wastewater Network'!$L24","v":-8.0310534690128534},{"$f":"'[2]FinStat_Wastewater Network'!$M24","v":-6.4788727452231765},{"$f":"'[2]FinStat_Wastewater Network'!$N24","v":-5.1968660156611595},{"$f":"'[2]FinStat_Wastewater Network'!$O24","v":-5.0759388475557916},{"$f":"'[2]FinStat_Wastewater Network'!$P24","v":-1.2190657773396265},null,-26.001796854792605,null,0,0,-0.35799999999999998,-8.7999999999999995E-2,-0.17199999999999999,-1.776,-2.7069999999999999,null,-5.101,null,0,0,4.4576966319712974E-2,1.358260973174411E-2,3.3096870206325242E-2,0.34988601189614299,2.220552861312783,null,0.1961787498181993]
[null,null,null,null,"Earnings after tax (EAT) - WWN - nominal",null,"£m",null,{"$f":"'[1]FinStat_Wastewater Network'!$J25","v":0},{"$f":"'[1]FinStat_Wastewater Network'!$K25","v":0},{"$f":"'[1]FinStat_Wastewater Network'!$L25","v":62.226046241039505},{"$f":"'[1]FinStat_Wastewater Network'!$M25","v":67.993371510390446},{"$f":"'[1]FinStat_Wastewater Network'!$N25","v":71.328486895060877},{"$f":"'[1]FinStat_Wastewater Network'!$O25","v":74.539939735627087},{"$f":"'[1]FinStat_Wastewater Network'!$P25","v":73.092921980847137},null,349.18076636296507,null,{"$f":"'[2]FinStat_Wastewater Network'!$J25","v":0},{"$f":"'[2]FinStat_Wastewater Network'!$K25","v":0},{"$f":"'[2]FinStat_Wastewater Network'!$L25","v":61.365549364946581},{"$f":"'[2]FinStat_Wastewater Network'!$M25","v":64.802031806584537},{"$f":"'[2]FinStat_Wastewater Network'!$N25","v":62.950896538298437},{"$f":"'[2]FinStat_Wastewater Network'!$O25","v":62.986400541246439},{"$f":"'[2]FinStat_Wastewater Network'!$P25","v":57.220711428090773},null,309.3255896791668,null,0,0,0.86,3.1909999999999998,8.3780000000000001,11.554,15.872,null,39.854999999999997,null,0,0,1.4014377918879217E-2,4.9242283166741112E-2,0.13308785832625819,0.1834364227946936,0.27738208078636578,null,0.12884482024696919]
[null,null,null,null,null,null,null,null,null,null,null,null,null,null,null,null,null,null,null,null,null,null,null,null,null,null,null,null,0,0,0,0,0,0,0,null,0,null,0,0,0,0,0,0,0,null,0]
[null,null,null,null,"Ordinary dividend declared - WWN - nominal","PL","£m",null,{"$f":"'[1]FinStat_Wastewater Network'!$J27","v":0},{"$f":"'[1]FinStat_Wastewater Network'!$K27","v":0},{"$f":"'[1]FinStat_Wastewater Network'!$L27","v":-50.033063367469445},{"$f":"'[1]FinStat_Wastewater Network'!$M27","v":-51.722679917388895},{"$f":"'[1]FinStat_Wastewater Network'!$N27","v":-53.469354818199129},{"$f":"'[1]FinStat_Wastewater Network'!$O27","v":-55.275014930409718},{"$f":"'[1]FinStat_Wastewater Network'!$P27","v":-57.141652184609654},null,-267.64176521807684,null,{"$f":"'[2]FinStat_Wastewater Network'!$J27","v":0},{"$f":"'[2]FinStat_Wastewater Network'!$K27","v":0},{"$f":"'[2]FinStat_Wastewater Network'!$L27","v":-34.376623101468347},{"$f":"'[2]FinStat_Wastewater Network'!$M27","v":-35.479372866834282},{"$f":"'[2]FinStat_Wastewater Network'!$N27","v":-36.642958507912567},{"$f":"'[2]FinStat_Wastewater Network'!$O27","v":-37.853927672090379},{"$f":"'[2]FinStat_Wastewater Network'!$P27","v":-39.10491670301213},null,-183.4577988513177,null,0,0,-15.656000000000001,-16.242999999999999,-16.826000000000001,-17.420999999999999,-18.036999999999999,null,-84.183999999999997,null,0,0,0.45542576866228834,0.45781530752996402,0.45918781357042027,0.46021644440464404,0.46124634753692406,null,0.4588739237421377]
[null,null,null,null,"Retained earnings - WWN - nominal",null,"£m",null,{"$f":"'[1]FinStat_Wastewater Network'!$J28","v":0},{"$f":"'[1]FinStat_Wastewater Network'!$K28","v":0},{"$f":"'[1]FinStat_Wastewater Network'!$L28","v":12.19298287357006},{"$f":"'[1]FinStat_Wastewater Network'!$M28","v":16.270691593001551},{"$f":"'[1]FinStat_Wastewater Network'!$N28","v":17.859132076861748},{"$f":"'[1]FinStat_Wastewater Network'!$O28","v":19.264924805217369},{"$f":"'[1]FinStat_Wastewater Network'!$P28","v":15.951269796237483},null,81.539001144888203,null,{"$f":"'[2]FinStat_Wastewater Network'!$J28","v":0},{"$f":"'[2]FinStat_Wastewater Network'!$K28","v":0},{"$f":"'[2]FinStat_Wastewater Network'!$L28","v":26.988926263478234},{"$f":"'[2]FinStat_Wastewater Network'!$M28","v":29.322658939750255},{"$f":"'[2]FinStat_Wastewater Network'!$N28","v":26.30793803038587},{"$f":"'[2]FinStat_Wastewater Network'!$O28","v":25.132472869156061},{"$f":"'[2]FinStat_Wastewater Network'!$P28","v":18.115794725078644},null,125.86779082784906,null,0,0,-14.795999999999999,-13.052,-8.4489999999999998,-5.8680000000000003,-2.165,null,-44.329000000000001,null,0,0,-0.54822484805637262,-0.44511652325998663,-0.32115781899141393,-0.23348279457217794,-0.11950897174844211,null,-0.35218700279429965]
[null,null,null,null,null,null,null,null,null,null,null,null,null,null,null,null,null,null,null,null,null,null,null,null,null,null,null,null,0,0,0,0,0,0,0,null,0,null,0,0,0,0,0,0,0,null,0]
[null,"Retained earnings balance - WWN",null,null,null,null,null,null,null,null,null,null,null,null,null,null,null,null,null,null,null,null,null,null,null,null,null,null,0,0,0,0,0,0,0,null,0,null,0,0,0,0,0,0,0,null,0]
[null,null,null,null,"Accumulated profit reserve b/f - WWN - nominal",0,"£m",null,{"$f":"'[1]FinStat_Wastewater Network'!$J31","v":0},{"$f":"'[1]FinStat_Wastewater Network'!$K31","v":1046.743567247574},{"$f":"'[1]FinStat_Wastewater Network'!$L31","v":0},{"$f":"'[1]FinStat_Wastewater Network'!$M31","v":0},{"$f":"'[1]FinStat_Wastewater Network'!$N31","v":0},{"$f":"'[1]FinStat_Wastewater Network'!$O31","v":0},{"$f":"'[1]FinStat_Wastewater Network'!$P31","v":0},null,1046.743567247574,null,{"$f":"'[2]FinStat_Wastewater Network'!$J31","v":0},{"$f":"'[2]FinStat_Wastewater Network'!$K31","v":733.10645755911332},{"$f":"'[2]FinStat_Wastewater Network'!$L31","v":0},{"$f":"'[2]FinStat_Wastewater Network'!$M31","v":0},{"$f":"'[2]FinStat_Wastewater Network'!$N31","v":0},{"$f":"'[2]FinStat_Wastewater Network'!$O31","v":0},{"$f":"'[2]FinStat_Wastewater Network'!$P31","v":0},null,733.10645755911332,null,0,313.637,0,0,0,0,0,null,313.637,null,0,0.42781917519081486,0,0,0,0,0,null,0.42781917519081486]
[null,null,null,null,"Last pre-forecast period flag",0,"flag",null,{"$f":"'[1]FinStat_Wastewater Network'!$J32","v":0},{"$f":"'[1]FinStat_Wastewater Network'!$K32","v":1},{"$f":"'[1]FinStat_Wastewater Network'!$L32","v":0},{"$f":"'[1]FinStat_Wastewater Network'!$M32","v":0},{"$f":"'[1]FinStat_Wastewater Network'!$N32","v":0},{"$f":"'[1]FinStat_Wastewater Network'!$O32","v":0},{"$f":"'[1]FinStat_Wastewater Network'!$P32","v":0},null,1,null,{"$f":"'[2]FinStat_Wastewater Network'!$J32","v":0},{"$f":"'[2]FinStat_Wastewater Network'!$K32","v":1},{"$f":"'[2]FinStat_Wastewater Network'!$L32","v":0},{"$f":"'[2]FinStat_Wastewater Network'!$M32","v":0},{"$f":"'[2]FinStat_Wastewater Network'!$N32","v":0},{"$f":"'[2]FinStat_Wastewater Network'!$O32","v":0},{"$f":"'[2]FinStat_Wastewater Network'!$P32","v":0},null,1,null,0,0,0,0,0,0,0,null,0,null,0,0,0,0,0,0,0,null,0]
[null,null,null,null,null,null,null,null,{"$f":"'[1]FinStat_Wastewater Network'!$J33","v":0},{"$f":"'[1]FinStat_Wastewater Network'!$K33","v":0},{"$f":"'[1]FinStat_Wastewater Network'!$L33","v":0},{"$f":"'[1]FinStat_Wastewater Network'!$M33","v":0},{"$f":"'[1]FinStat_Wastewater Network'!$N33","v":0},{"$f":"'[1]FinStat_Wastewater Network'!$O33","v":0},{"$f":"'[1]FinStat_Wastewater Network'!$P33","v":0},null,null,null,{"$f":"'[2]FinStat_Wastewater Network'!$J33","v":0},{"$f":"'[2]FinStat_Wastewater Network'!$K33","v":0},{"$f":"'[2]FinStat_Wastewater Network'!$L33","v":0},{"$f":"'[2]FinStat_Wastewater Network'!$M33","v":0},{"$f":"'[2]FinStat_Wastewater Network'!$N33","v":0},{"$f":"'[2]FinStat_Wastewater Network'!$O33","v":0},{"$f":"'[2]FinStat_Wastewater Network'!$P33","v":0},null,null,null,0,0,0,0,0,0,0,null,0,null,0,0,0,0,0,0,0,null,0]
[null,null,null,null,"Retained earnings balance - WWN BEG - nominal",null,"£m",null,{"$f":"'[1]FinStat_Wastewater Network'!$J34","v":0},{"$f":"'[1]FinStat_Wastewater Network'!$K34","v":0},{"$f":"'[1]FinStat_Wastewater Network'!$L34","v":1046.743567247574},{"$f":"'[1]FinStat_Wastewater Network'!$M34","v":1058.9365501211441},{"$f":"'[1]FinStat_Wastewater Network'!$N34","v":1075.2072417141458},{"$f":"'[1]FinStat_Wastewater Network'!$O34","v":1093.0663737910074},{"$f":"'[1]FinStat_Wastewater Network'!$P34","v":1112.3312985962248},null,5386.2850314700963,null,{"$f":"'[2]FinStat_Wastewater Network'!$J34","v":0},{"$f":"'[2]FinStat_Wastewater Network'!$K34","v":0},{"$f":"'[2]FinStat_Wastewater Network'!$L34","v":733.10645755911332},{"$f":"'[2]FinStat_Wastewater Network'!$M34","v":760.09538382259154},{"$f":"'[2]FinStat_Wastewater Network'!$N34","v":789.41804276234177},{"$f":"'[2]FinStat_Wastewater Network'!$O34","v":815.72598079272768},{"$f":"'[2]FinStat_Wastewater Network'!$P34","v":840.85845366188369},null,3939.2043185986581,null,0,0,313.637,298.84100000000001,285.78899999999999,277.33999999999997,271.47300000000001,null,1447.0809999999999,null,0,0,0.42781917519081486,0.39316249823423527,0.36202491521471114,0.33999162283697182,0.32285219803375087,null,0.36735362854059522]
[null,null,null,"plus","Retained earnings - WWN - nominal",0,"£m",null,{"$f":"'[1]FinStat_Wastewater Network'!$J35","v":0},{"$f":"'[1]FinStat_Wastewater Network'!$K35","v":0},{"$f":"'[1]FinStat_Wastewater Network'!$L35","v":12.19298287357006},{"$f":"'[1]FinStat_Wastewater Network'!$M35","v":16.270691593001551},{"$f":"'[1]FinStat_Wastewater Network'!$N35","v":17.859132076861748},{"$f":"'[1]FinStat_Wastewater Network'!$O35","v":19.264924805217369},{"$f":"'[1]FinStat_Wastewater Network'!$P35","v":15.951269796237483},null,81.539001144888203,null,{"$f":"'[2]FinStat_Wastewater Network'!$J35","v":0},{"$f":"'[2]FinStat_Wastewater Network'!$K35","v":0},{"$f":"'[2]FinStat_Wastewater Network'!$L35","v":26.988926263478234},{"$f":"'[2]FinStat_Wastewater Network'!$M35","v":29.322658939750255},{"$f":"'[2]FinStat_Wastewater Network'!$N35","v":26.30793803038587},{"$f":"'[2]FinStat_Wastewater Network'!$O35","v":25.132472869156061},{"$f":"'[2]FinStat_Wastewater Network'!$P35","v":18.115794725078644},null,125.86779082784906,null,0,0,-14.795999999999999,-13.052,-8.4489999999999998,-5.8680000000000003,-2.165,null,-44.329000000000001,null,0,0,-0.54822484805637262,-0.44511652325998663,-0.32115781899141393,-0.23348279457217794,-0.11950897174844211,null,-0.35218700279429965]
[null,null,null,null,"Retained earnings balance - WWN - nominal",null,"£m",null,{"$f":"'[1]FinStat_Wastewater Network'!$J36","v":0},{"$f":"'[1]FinStat_Wastewater Network'!$K36","v":1046.743567247574},{"$f":"'[1]FinStat_Wastewater Network'!$L36","v":1058.9365501211441},{"$f":"'[1]FinStat_Wastewater Network'!$M36","v":1075.2072417141458},{"$f":"'[1]FinStat_Wastewater Network'!$N36","v":1093.0663737910074},{"$f":"'[1]FinStat_Wastewater Network'!$O36","v":1112.3312985962248},{"$f":"'[1]FinStat_Wastewater Network'!$P36","v":1128.2825683924623},null,6514.5675998625584,null,{"$f":"'[2]FinStat_Wastewater Network'!$J36","v":0},{"$f":"'[2]FinStat_Wastewater Network'!$K36","v":733.10645755911332},{"$f":"'[2]FinStat_Wastewater Network'!$L36","v":760.09538382259154},{"$f":"'[2]FinStat_Wastewater Network'!$M36","v":789.41804276234177},{"$f":"'[2]FinStat_Wastewater Network'!$N36","v":815.72598079272768},{"$f":"'[2]FinStat_Wastewater Network'!$O36","v":840.85845366188369},{"$f":"'[2]FinStat_Wastewater Network'!$P36","v":858.97424838696236},null,4798.1785669856208,null,0,313.637,298.84100000000001,285.78899999999999,277.33999999999997,271.47300000000001,269.30799999999999,null,1716.3889999999999,null,0,0.42781917519081486,0.39316249823423527,0.36202491521471114,0.33999162283697182,0.32285219803375087,0.31352278663268901,null,0.35771678274122548]
[]
["CASH FLOW "]
[]
[null,"Cash flow from operating activities"]
[null,null,null,null,"Earnings before interest and tax (EBIT) - WWN - nominal",0,"£m",null,{"$f":"'[1]FinStat_Wastewater Network'!$J43","v":0},{"$f":"'[1]FinStat_Wastewater Network'!$K43","v":0},{"$f":"'[1]FinStat_Wastewater Network'!$L43","v":192.16910102351289},{"$f":"'[1]FinStat_Wastewater Network'!$M43","v":202.95975930984787},{"$f":"'[1]FinStat_Wastewater Network'!$N43","v":211.44815086532753},{"$f":"'[1]FinStat_Wastewater Network'!$O43","v":225.25893196482633},{"$f":"'[1]FinStat_Wastewater Network'!$P43","v":230.23819918617772},null,{"$f":"SUM(I49:O49)","v":1062.0741423496925},null,{"$f":"'[2]FinStat_Wastewater Network'!$J43","v":0},{"$f":"'[2]FinStat_Wastewater Network'!$K43","v":0},{"$f":"'[2]FinStat_Wastewater Network'!$L43","v":183.98583632479279},{"$f":"'[2]FinStat_Wastewater Network'!$M43","v":191.50286792128736},{"$f":"'[2]FinStat_Wastewater Network'!$N43","v":194.13905193491112},{"$f":"'[2]FinStat_Wastewater Network'!$O43","v":200.44716103977632},{"$f":"'[2]FinStat_Wastewater Network'!$P43","v":194.8625791770732},null,{"$f":"SUM(S49:Y49)","v":964.93749639784073},null,{"$f":"ROUND(I49 - S49, 3)","v":0},{"$f":"ROUND(J49 - T49, 3)","v":0},{"$f":"ROUND(K49 - U49, 3)","v":8.1829999999999998},{"$f":"ROUND(L49 - V49, 3)","v":11.457000000000001},{"$f":"ROUND(M49 - W49, 3)","v":17.309000000000001},{"$f":"ROUND(N49 - X49, 3)","v":24.812000000000001},{"$f":"ROUND(O49 - Y49, 3)","v":35.375999999999998},null,{"$f":"ROUND(Q49 - AA49, 3)","v":97.137},null,{"$f":"IF(S49 = 0, 0, AC49 / S49)","v":0},{"$f":"IF(T49 = 0, 0, AD49 / T49)","v":0},{"$f":"IF(U49 = 0, 0, AE49 / U49)","v":4.4476249712800904E-2},{"$f":"IF(V49 = 0, 0, AF49 / V49)","v":5.9826780268946805E-2},{"$f":"IF(W49 = 0, 0, AG49 / W49)","v":8.9157744552101653E-2},{"$f":"IF(X49 = 0, 0, AH49 / X49)","v":0.12378324477779139},{"$f":"IF(Y49 = 0, 0, AI49 / Y49)","v":0.18154332221916011},null,{"$f":"IF(AA49 = 0, 0, AK49 / AA49)","v":0.10066662386177054}]
[null,null,null,null,"Wholesale fixed assets depreciation - WWN - nominal POS","CF","£m",null,{"$f":"'[1]FinStat_Wastewater Network'!$J44","v":0},{"$f":"'[1]FinStat_Wastewater Network'!$K44","v":0},{"$f":"'[1]FinStat_Wastewater Network'!$L44","v":187.95196488587396},{"$f":"'[1]FinStat_Wastewater Network'!$M44","v":195.15595135974917},{"$f":"'[1]FinStat_Wastewater Network'!$N44","v":203.8568622820892},{"$f":"'[1]FinStat_Wastewater Network'!$O44","v":214.46745437234705},{"$f":"'[1]FinStat_Wastewater Network'!$P44","v":237.03170668076797},null,{"$f":"SUM(I50:O50)","v":1038.4639395808272},null,{"$f":"'[2]FinStat_Wastewater Network'!$J44","v":0},{"$f":"'[2]FinStat_Wastewater Network'!$K44","v":0},{"$f":"'[2]FinStat_Wastewater Network'!$L44","v":187.41294604227517},{"$f":"'[2]FinStat_Wastewater Network'!$M44","v":194.21321284467558},{"$f":"'[2]FinStat_Wastewater Network'!$N44","v":202.94864085501999},{"$f":"'[2]FinStat_Wastewater Network'!$O44","v":211.95033684600648},{"$f":"'[2]FinStat_Wastewater Network'!$P44","v":231.12538944700896},null,{"$f":"SUM(S50:Y50)","v":1027.6505260349863},null,0,0,0.53900000000000003,0.94299999999999995,0.90800000000000003,2.5169999999999999,5.9059999999999997,null,10.813000000000001,null,0,0,2.8760019592158621E-3,4.8554883892177603E-3,4.4740383388359138E-3,1.1875423448035084E-2,2.5553228981596121E-2,null,1.0522059519319385E-2]
[null,null,null,null,"Movement in inventories - WWN - nominal","CF","£m",null,{"$f":"'[1]FinStat_Wastewater Network'!$J45","v":0},{"$f":"'[1]FinStat_Wastewater Network'!$K45","v":0},{"$f":"'[1]FinStat_Wastewater Network'!$L45","v":-4.5162918908148164E-2},{"$f":"'[1]FinStat_Wastewater Network'!$M45","v":-5.1360794789894193E-2},{"$f":"'[1]FinStat_Wastewater Network'!$N45","v":-2.9794686604325271E-2},{"$f":"'[1]FinStat_Wastewater Network'!$O45","v":-0.12140244044351522},{"$f":"'[1]FinStat_Wastewater Network'!$P45","v":-0.1529756255528234},null,-0.40069646629870626,null,{"$f":"'[2]FinStat_Wastewater Network'!$J45","v":0},{"$f":"'[2]FinStat_Wastewater Network'!$K45","v":0},{"$f":"'[2]FinStat_Wastewater Network'!$L45","v":-7.2348202021974117E-2},{"$f":"'[2]FinStat_Wastewater Network'!$M45","v":-0.10573719909590462},{"$f":"'[2]FinStat_Wastewater Network'!$N45","v":-8.7213749500722137E-2},{"$f":"'[2]FinStat_Wastewater Network'!$O45","v":-0.13013239168326418},{"$f":"'[2]FinStat_Wastewater Network'!$P45","v":-0.12887350295928801},null,-0.52430504526115307,null,0,0,2.7E-2,5.3999999999999999E-2,5.7000000000000002E-2,8.9999999999999993E-3,-2.4E-2,null,0.124,null,0,0,-0.37319517618142556,-0.51070011747730804,-0.65356667184143979,-6.9160336512569101E-2,0.18622912739154579,null,-0.23650354144167424]
[null,null,null,null,"Movement in trade debtors and other receivables - WWN - nominal","CF","£m",null,{"$f":"'[1]FinStat_Wastewater Network'!$J46","v":0},{"$f":"'[1]FinStat_Wastewater Network'!$K46","v":0},{"$f":"'[1]FinStat_Wastewater Network'!$L46","v":0.34098257625196737},{"$f":"'[1]FinStat_Wastewater Network'!$M46","v":-0.19556417504768575},{"$f":"'[1]FinStat_Wastewater Network'!$N46","v":0.24044606733754392},{"$f":"'[1]FinStat_Wastewater Network'!$O46","v":-0.59023293811990385},{"$f":"'[1]FinStat_Wastewater Network'!$P46","v":-0.77536747850915333},null,-0.97973594808723163,null,{"$f":"'[2]FinStat_Wastewater Network'!$J46","v":0},{"$f":"'[2]FinStat_Wastewater Network'!$K46","v":0},{"$f":"'[2]FinStat_Wastewater Network'!$L46","v":9.6389711923784205E-2},{"$f":"'[2]FinStat_Wastewater Network'!$M46","v":-0.67967338405195932},{"$f":"'[2]FinStat_Wastewater Network'!$N46","v":-0.26065923225667831},{"$f":"'[2]FinStat_Wastewater Network'!$O46","v":-0.6563945833257705},{"$f":"'[2]FinStat_Wastewater Network'!$P46","v":-0.55393429516502124},null,-2.0542717828756452,null,0,0,0.245,0.48399999999999999,0.501,6.6000000000000003E-2,-0.221,null,1.075,null,0,0,2.5417650401707044,-0.71210674326331924,-1.9220497032180757,-0.10054927581150379,0.39896428498647557,null,-0.52329979361113332]
[null,null,null,null,"Movement in working capital - trade payables - WWN - nominal","CF","£m",null,{"$f":"'[1]FinStat_Wastewater Network'!$J47","v":0},{"$f":"'[1]FinStat_Wastewater Network'!$K47","v":0},{"$f":"'[1]FinStat_Wastewater Network'!$L47","v":-19.460387533887896},{"$f":"'[1]FinStat_Wastewater Network'!$M47","v":4.1910924801618101},{"$f":"'[1]FinStat_Wastewater Network'!$N47","v":-4.521185217765284},{"$f":"'[1]FinStat_Wastewater Network'!$O47","v":16.153768805896625},{"$f":"'[1]FinStat_Wastewater Network'!$P47","v":8.7487699626119344},null,5.1120584970171912,null,{"$f":"'[2]FinStat_Wastewater Network'!$J47","v":0},{"$f":"'[2]FinStat_Wastewater Network'!$K47","v":0},{"$f":"'[2]FinStat_Wastewater Network'!$L47","v":-37.865658125682614},{"$f":"'[2]FinStat_Wastewater Network'!$M47","v":23.101113105579387},{"$f":"'[2]FinStat_Wastewater Network'!$N47","v":-9.4835603738393903},{"$f":"'[2]FinStat_Wastewater Network'!$O47","v":-6.153105303472195},{"$f":"'[2]FinStat_Wastewater Network'!$P47","v":-0.731755587346548},null,-31.132966284761359,null,0,0,18.405000000000001,-18.91,4.9619999999999997,22.306999999999999,9.4809999999999999,null,36.244999999999997,null,0,0,-0.48606048094847976,-0.81857527442834999,-0.52322121696908108,-3.6253239461727018,-12.956511933690157,null,-1.1642000209193308]
[null,null,null,null,"Movement in other creditors - WWN - nominal","CF","£m",null,{"$f":"'[1]FinStat_Wastewater Network'!$J48","v":0},{"$f":"'[1]FinStat_Wastewater Network'!$K48","v":0},{"$f":"'[1]FinStat_Wastewater Network'!$L48","v":-117.16368577864375},{"$f":"'[1]FinStat_Wastewater Network'!$M48","v":-1.0691911317455833},{"$f":"'[1]FinStat_Wastewater Network'!$N48","v":-1.3092495773646249},{"$f":"'[1]FinStat_Wastewater Network'!$O48","v":-4.0848957635772933},{"$f":"'[1]FinStat_Wastewater Network'!$P48","v":1.9618867672032252},null,-121.66513548412803,null,{"$f":"'[2]FinStat_Wastewater Network'!$J48","v":0},{"$f":"'[2]FinStat_Wastewater Network'!$K48","v":0},{"$f":"'[2]FinStat_Wastewater Network'!$L48","v":-121.67080237434766},{"$f":"'[2]FinStat_Wastewater Network'!$M48","v":0.99264251511425527},{"$f":"'[2]FinStat_Wastewater Network'!$N48","v":-5.4273179947310553},{"$f":"'[2]FinStat_Wastewater Network'!$O48","v":-1.05411803462016},{"$f":"'[2]FinStat_Wastewater Network'!$P48","v":3.9079542332034123},null,-123.25164165538121,null,0,0,4.5069999999999997,-2.0619999999999998,4.1180000000000003,-3.0310000000000001,-1.946,null,1.587,null,0,0,-3.7042576460811015E-2,-2.0772835825621061,-0.75875414044244949,2.8753895678221539,-0.49795874871462675,null,-1.2876096242493425E-2]
[null,null,null,null,"Movement in Pensions (+ve = increase in provision) - WWN - nominal","CF","£m",null,{"$f":"'[1]FinStat_Wastewater Network'!$J49","v":0},{"$f":"'[1]FinStat_Wastewater Network'!$K49","v":0},{"$f":"'[1]FinStat_Wastewater Network'!$L49","v":-5.2190993193107156},{"$f":"'[1]FinStat_Wastewater Network'!$M49","v":-5.3756227510271994},{"$f":"'[1]FinStat_Wastewater Network'!$N49","v":-5.5363910720716794},{"$f":"'[1]FinStat_Wastewater Network'!$O49","v":-5.703703251163545},{"$f":"'[1]FinStat_Wastewater Network'!$P49","v":-5.8741422641492145},null,-27.708958657722356,null,{"$f":"'[2]FinStat_Wastewater Network'!$J49","v":0},{"$f":"'[2]FinStat_Wastewater Network'!$K49","v":0},{"$f":"'[2]FinStat_Wastewater Network'!$L49","v":-10.774930534615596},{"$f":"'[2]FinStat_Wastewater Network'!$M49","v":-10.991805937035199},{"$f":"'[2]FinStat_Wastewater Network'!$N49","v":-11.218991461933179},{"$f":"'[2]FinStat_Wastewater Network'!$O49","v":0},{"$f":"'[2]FinStat_Wastewater Network'!$P49","v":0},null,-32.985727933583973,null,0,0,5.556,5.6159999999999997,5.6829999999999998,-5.7039999999999997,-5.8739999999999997,null,5.2770000000000001,null,0,0,-0.51564137533423227,-0.51092605093015253,-0.50655177154584841,0,0,null,-0.15997827941299708]
[null,null,null,null,"Movement in provisions - WWN - nominal","CF","£m",null,{"$f":"'[1]FinStat_Wastewater Network'!$J50","v":0},{"$f":"'[1]FinStat_Wastewater Network'!$K50","v":0},{"$f":"'[1]FinStat_Wastewater Network'!$L50","v":0.19005381737577465},{"$f":"'[1]FinStat_Wastewater Network'!$M50","v":0.19068906291033771},{"$f":"'[1]FinStat_Wastewater Network'!$N50","v":0.19278920720940698},{"$f":"'[1]FinStat_Wastewater Network'!$O50","v":0.19661679748356073},{"$f":"'[1]FinStat_Wastewater Network'!$P50","v":0.20027014546165356},null,0.97041903044073363,null,{"$f":"'[2]FinStat_Wastewater Network'!$J50","v":0},{"$f":"'[2]FinStat_Wastewater Network'!$K50","v":0},{"$f":"'[2]FinStat_Wastewater Network'!$L50","v":0.19068362319790369},{"$f":"'[2]FinStat_Wastewater Network'!$M50","v":0.19303843810511798},{"$f":"'[2]FinStat_Wastewater Network'!$N50","v":0.19698299221351318},{"$f":"'[2]FinStat_Wastewater Network'!$O50","v":0.20108789237939026},{"$f":"'[2]FinStat_Wastewater Network'!$P50","v":0.20395069578465466},null,0.98574364168057971,null,0,0,-1E-3,-2E-3,-4.0000000000000001E-3,-4.0000000000000001E-3,-4.0000000000000001E-3,null,-1.4999999999999999E-2,null,0,0,-5.2442888551689406E-3,-1.0360630865190235E-2,-2.0306321652705593E-2,-1.9891799315561204E-2,-1.9612583250137466E-2,null,-1.5216938122397343E-2]
[null,null,null,null,"Movement in other liabilities - WWN - nominal","CF","£m",null,{"$f":"'[1]FinStat_Wastewater Network'!$J51","v":"na"},{"$f":"'[1]FinStat_Wastewater Network'!$K51","v":"na"},{"$f":"'[1]FinStat_Wastewater Network'!$L51","v":"na"},{"$f":"'[1]FinStat_Wastewater Network'!$M51","v":"na"},{"$f":"'[1]FinStat_Wastewater Network'!$N51","v":"na"},{"$f":"'[1]FinStat_Wastewater Network'!$O51","v":"na"},{"$f":"'[1]FinStat_Wastewater Network'!$P51","v":"na"},null,0,null,{"$f":"'[2]FinStat_Wastewater Network'!$J51","v":"na"},{"$f":"'[2]FinStat_Wastewater Network'!$K51","v":"na"},{"$f":"'[2]FinStat_Wastewater Network'!$L51","v":"na"},{"$f":"'[2]FinStat_Wastewater Network'!$M51","v":"na"},{"$f":"'[2]FinStat_Wastewater Network'!$N51","v":"na"},{"$f":"'[2]FinStat_Wastewater Network'!$O51","v":"na"},{"$f":"'[2]FinStat_Wastewater Network'!$P51","v":"na"},null,0,null,{"$error":"#VALUE!"},{"$error":"#VALUE!"},{"$error":"#VALUE!"},{"$error":"#VALUE!"},{"$error":"#VALUE!"},{"$error":"#VALUE!"},{"$error":"#VALUE!"},null,0,null,{"$error":"#VALUE!"},{"$error":"#VALUE!"},{"$error":"#VALUE!"},{"$error":"#VALUE!"},{"$error":"#VALUE!"},{"$error":"#VALUE!"},{"$error":"#VALUE!"},null,0]
[null,null,null,null,"Net cash generated / (used) in operations - WWN - nominal",null,"£m",null,{"$f":"'[1]FinStat_Wastewater Network'!$J52","v":0},{"$f":"'[1]FinStat_Wastewater Network'!$K52","v":0},{"$f":"'[1]FinStat_Wastewater Network'!$L52","v":238.76376675226408},{"$f":"'[1]FinStat_Wastewater Network'!$M52","v":395.80575336005876},{"$f":"'[1]FinStat_Wastewater Network'!$N52","v":404.34162786815773},{"$f":"'[1]FinStat_Wastewater Network'!$O52","v":445.5765375472493},{"$f":"'[1]FinStat_Wastewater Network'!$P52","v":471.37834737401135},null,1955.8660329017412,null,{"$f":"'[2]FinStat_Wastewater Network'!$J52","v":0},{"$f":"'[2]FinStat_Wastewater Network'!$K52","v":0},{"$f":"'[2]FinStat_Wastewater Network'!$L52","v":201.30211646552178},{"$f":"'[2]FinStat_Wastewater Network'!$M52","v":398.22565830457859},{"$f":"'[2]FinStat_Wastewater Network'!$N52","v":370.80693296988358},{"$f":"'[2]FinStat_Wastewater Network'!$O52","v":404.60483546506077},{"$f":"'[2]FinStat_Wastewater Network'!$P52","v":428.68531016759937},null,1803.6248533726439,null,0,0,37.462000000000003,-2.42,33.534999999999997,40.972000000000001,42.692999999999998,null,152.24100000000001,null,0,0,0.18609839110368392,-6.0769564932179462E-3,9.0437899128287508E-2,0.10126423712387415,9.9590536431744509E-2,null,8.440835116865944E-2]
[null,null,null,null,null,null,null,null,null,null,null,null,null,null,null,null,null,null,null,null,null,null,null,null,null,null,null,null,0,0,0,0,0,0,0,null,0,null,0,0,0,0,0,0,0,null,0]
[null,null,null,null,"Total other income (incl. 3rd party income) - WWN - nominal","PL & CF","£m",null,{"$f":"'[1]FinStat_Wastewater Network'!$J54","v":0},{"$f":"'[1]FinStat_Wastewater Network'!$K54","v":0},{"$f":"'[1]FinStat_Wastewater Network'!$L54","v":1.3102380000000002},{"$f":"'[1]FinStat_Wastewater Network'!$M54","v":1.3371299999999999},{"$f":"'[1]FinStat_Wastewater Network'!$N54","v":1.3640220000000003},{"$f":"'[1]FinStat_Wastewater Network'!$O54","v":1.391661},{"$f":"'[1]FinStat_Wastewater Network'!$P54","v":1.4200470000000001},null,6.8230980000000008,null,{"$f":"'[2]FinStat_Wastewater Network'!$J54","v":0},{"$f":"'[2]FinStat_Wastewater Network'!$K54","v":0},{"$f":"'[2]FinStat_Wastewater Network'!$L54","v":1.3051362213506199},{"$f":"'[2]FinStat_Wastewater Network'!$M54","v":1.3319783316679052},{"$f":"'[2]FinStat_Wastewater Network'!$N54","v":1.3597674831551692},{"$f":"'[2]FinStat_Wastewater Network'!$O54","v":1.3886803923509945},{"$f":"'[2]FinStat_Wastewater Network'!$P54","v":1.4183948174472305},null,6.8039572459719189,null,0,0,5.0000000000000001E-3,5.0000000000000001E-3,4.0000000000000001E-3,3.0000000000000001E-3,2E-3,null,1.9E-2,null,0,0,3.8310177268896508E-3,3.7538148189985888E-3,2.9416794044217795E-3,2.1603243024992161E-3,1.4100446331293843E-3,null,2.7924925617732808E-3]
[null,null,null,null,"Interest income /(expense) excl. indexation of index-linked loans - WWN - nominal","PL & CF","£m",null,{"$f":"'[1]FinStat_Wastewater Network'!$J55","v":0},{"$f":"'[1]FinStat_Wastewater Network'!$K55","v":0},{"$f":"'[1]FinStat_Wastewater Network'!$L55","v":-95.678424815780616},{"$f":"'[1]FinStat_Wastewater Network'!$M55","v":-101.7356740460957},{"$f":"'[1]FinStat_Wastewater Network'!$N55","v":-107.27333216801945},{"$f":"'[1]FinStat_Wastewater Network'!$O55","v":-115.5520229605432},{"$f":"'[1]FinStat_Wastewater Network'!$P55","v":-124.04115029019592},null,-544.28060428063486,null,{"$f":"'[2]FinStat_Wastewater Network'!$J55","v":0},{"$f":"'[2]FinStat_Wastewater Network'!$K55","v":0},{"$f":"'[2]FinStat_Wastewater Network'!$L55","v":-89.041397893895123},{"$f":"'[2]FinStat_Wastewater Network'!$M55","v":-93.895380728310045},{"$f":"'[2]FinStat_Wastewater Network'!$N55","v":-98.862739062084046},{"$f":"'[2]FinStat_Wastewater Network'!$O55","v":-104.43053470724175},{"$f":"'[2]FinStat_Wastewater Network'!$P55","v":-107.6179404329242},null,-493.8479928244551,null,0,0,-6.6369999999999996,-7.84,-8.4109999999999996,-11.121,-16.422999999999998,null,-50.433,null,0,0,7.4538362570507749E-2,8.3497185262876208E-2,8.5077553786144247E-2,0.10649184198066558,0.15260466734388101,null,0.10212251691367527]
[null,null,null,null,"Tax paid - WWN - nominal","CF","£m",null,{"$f":"'[1]FinStat_Wastewater Network'!$J56","v":0},{"$f":"'[1]FinStat_Wastewater Network'!$K56","v":0},{"$f":"'[1]FinStat_Wastewater Network'!$L56","v":0},{"$f":"'[1]FinStat_Wastewater Network'!$M56","v":0},{"$f":"'[1]FinStat_Wastewater Network'!$N56","v":0},{"$f":"'[1]FinStat_Wastewater Network'!$O56","v":0},{"$f":"'[1]FinStat_Wastewater Network'!$P56","v":0},null,0,null,{"$f":"'[2]FinStat_Wastewater Network'!$J56","v":0},{"$f":"'[2]FinStat_Wastewater Network'!$K56","v":0},{"$f":"'[2]FinStat_Wastewater Network'!$L56","v":0},{"$f":"'[2]FinStat_Wastewater Network'!$M56","v":0},{"$f":"'[2]FinStat_Wastewater Network'!$N56","v":0},{"$f":"'[2]FinStat_Wastewater Network'!$O56","v":0},{"$f":"'[2]FinStat_Wastewater Network'!$P56","v":0},null,0,null,0,0,0,0,0,0,0,null,0,null,0,0,0,0,0,0,0,null,0]
[null,null,null,null,"Net cash generated / (used) in operating activities - WWN - nominal",null,"£m",null,{"$f":"'[1]FinStat_Wastewater Network'!$J57","v":0},{"$f":"'[1]FinStat_Wastewater Network'!$K57","v":0},{"$f":"'[1]FinStat_Wastewater Network'!$L57","v":144.39557993648344},{"$f":"'[1]FinStat_Wastewater Network'!$M57","v":295.40720931396305},{"$f":"'[1]FinStat_Wastewater Network'!$N57","v":298.4323177001383},{"$f":"'[1]FinStat_Wastewater Network'!$O57","v":331.41617558670612},{"$f":"'[1]FinStat_Wastewater Network'!$P57","v":348.75724408381541},null,1418.4085266211064,null,{"$f":"'[2]FinStat_Wastewater Network'!$J57","v":0},{"$f":"'[2]FinStat_Wastewater Network'!$K57","v":0},{"$f":"'[2]FinStat_Wastewater Network'!$L57","v":113.56585479297728},{"$f":"'[2]FinStat_Wastewater Network'!$M57","v":305.66225590793647},{"$f":"'[2]FinStat_Wastewater Network'!$N57","v":273.30396139095467},{"$f":"'[2]FinStat_Wastewater Network'!$O57","v":301.56298115017},{"$f":"'[2]FinStat_Wastewater Network'!$P57","v":322.48576455212242},null,1316.5808177941608,null,0,0,30.83,-10.255000000000001,25.128,29.853000000000002,26.271000000000001,null,101.828,null,0,0,0.27147244262988168,-3.3550102447352029E-2,9.1941587206103487E-2,9.8994246197393956E-2,8.1464061015176684E-2,null,7.7342764396799962E-2]
[null,null,null,null,null,null,null,null,null,null,null,null,null,null,null,null,null,null,null,null,null,null,null,null,null,null,null,null,0,0,0,0,0,0,0,null,0,null,0,0,0,0,0,0,0,null,0]
[null,"Cash flow from investing activities",null,null,null,null,null,null,null,null,null,null,null,null,null,null,null,null,null,null,null,null,null,null,null,null,null,null,0,0,0,0,0,0,0,null,0,null,0,0,0,0,0,0,0,null,0]
[null,null,null,null,"Wholesale fixed assets ongoing capex - WWN - nominal","CF","£m",null,{"$f":"'[1]FinStat_Wastewater Network'!$J60","v":0},{"$f":"'[1]FinStat_Wastewater Network'!$K60","v":0},{"$f":"'[1]FinStat_Wastewater Network'!$L60","v":-245.39580161026163},{"$f":"'[1]FinStat_Wastewater Network'!$M60","v":-359.73906219525742},{"$f":"'[1]FinStat_Wastewater Network'!$N60","v":-371.13745528130471},{"$f":"'[1]FinStat_Wastewater Network'!$O60","v":-520.15228030035371},{"$f":"'[1]FinStat_Wastewater Network'!$P60","v":-427.11808688392762},null,-1923.5426862711049,null,{"$f":"'[2]FinStat_Wastewater Network'!$J60","v":0},{"$f":"'[2]FinStat_Wastewater Network'!$K60","v":0},{"$f":"'[2]FinStat_Wastewater Network'!$L60","v":-200.11821874795524},{"$f":"'[2]FinStat_Wastewater Network'!$M60","v":-371.10419265368012},{"$f":"'[2]FinStat_Wastewater Network'!$N60","v":-362.67176021525029},{"$f":"'[2]FinStat_Wastewater Network'!$O60","v":-393.47070302761114},{"$f":"'[2]FinStat_Wastewater Network'!$P60","v":-292.73215766856225},null,-1620.0970323130589,null,0,0,-45.277999999999999,11.365,-8.4659999999999993,-126.682,-134.386,null,-303.44600000000003,null,0,0,0.22625626134033655,-3.0624822421788118E-2,2.334342214837825E-2,0.32196043828734638,0.4590749477963223,null,0.18730112699901777]
[null,null,null,null,"Movement in intangible asset and investments - WWN - nominal","CF","£m",null,{"$f":"'[1]FinStat_Wastewater Network'!$J61","v":0},{"$f":"'[1]FinStat_Wastewater Network'!$K61","v":0},{"$f":"'[1]FinStat_Wastewater Network'!$L61","v":0},{"$f":"'[1]FinStat_Wastewater Network'!$M61","v":0},{"$f":"'[1]FinStat_Wastewater Network'!$N61","v":0},{"$f":"'[1]FinStat_Wastewater Network'!$O61","v":0},{"$f":"'[1]FinStat_Wastewater Network'!$P61","v":0},null,0,null,{"$f":"'[2]FinStat_Wastewater Network'!$J61","v":0},{"$f":"'[2]FinStat_Wastewater Network'!$K61","v":0},{"$f":"'[2]FinStat_Wastewater Network'!$L61","v":0},{"$f":"'[2]FinStat_Wastewater Network'!$M61","v":0},{"$f":"'[2]FinStat_Wastewater Network'!$N61","v":0},{"$f":"'[2]FinStat_Wastewater Network'!$O61","v":0},{"$f":"'[2]FinStat_Wastewater Network'!$P61","v":0},null,0,null,0,0,0,0,0,0,0,null,0,null,0,0,0,0,0,0,0,null,0]
[null,null,null,null,"Net cash generated / (used) in investing activities - WWN - nominal",null,"£m",null,{"$f":"'[1]FinStat_Wastewater Network'!$J62","v":0},{"$f":"'[1]FinStat_Wastewater Network'!$K62","v":0},{"$f":"'[1]FinStat_Wastewater Network'!$L62","v":-245.39580161026163},{"$f":"'[1]FinStat_Wastewater Network'!$M62","v":-359.73906219525742},{"$f":"'[1]FinStat_Wastewater Network'!$N62","v":-371.13745528130471},{"$f":"'[1]FinStat_Wastewater Network'!$O62","v":-520.15228030035371},{"$f":"'[1]FinStat_Wastewater Network'!$P62","v":-427.11808688392762},null,-1923.5426862711049,null,{"$f":"'[2]FinStat_Wastewater Network'!$J62","v":0},{"$f":"'[2]FinStat_Wastewater Network'!$K62","v":0},{"$f":"'[2]FinStat_Wastewater Network'!$L62","v":-200.11821874795524},{"$f":"'[2]FinStat_Wastewater Network'!$M62","v":-371.10419265368012},{"$f":"'[2]FinStat_Wastewater Network'!$N62","v":-362.67176021525029},{"$f":"'[2]FinStat_Wastewater Network'!$O62","v":-393.47070302761114},{"$f":"'[2]FinStat_Wastewater Network'!$P62","v":-292.73215766856225},null,-1620.0970323130589,null,0,0,-45.277999999999999,11.365,-8.4659999999999993,-126.682,-134.386,null,-303.44600000000003,null,0,0,0.22625626134033655,-3.0624822421788118E-2,2.334342214837825E-2,0.32196043828734638,0.4590749477963223,null,0.18730112699901777]
[null,null,null,null,null,null,null,null,null,null,null,null,null,null,null,null,null,null,null,null,null,null,null,null,null,null,null,null,0,0,0,0,0,0,0,null,0,null,0,0,0,0,0,0,0,null,0]
[null,"Cash flows from financing activities",null,null,null,null,null,null,null,null,null,null,null,null,null,null,null,null,null,null,null,null,null,null,null,null,null,null,0,0,0,0,0,0,0,null,0,null,0,0,0,0,0,0,0,null,0]
[null,null,null,null,"Equity dividends paid - WWN - nominal","CF","£m",null,{"$f":"'[1]FinStat_Wastewater Network'!$J65","v":0},{"$f":"'[1]FinStat_Wastewater Network'!$K65","v":0},{"$f":"'[1]FinStat_Wastewater Network'!$L65","v":-50.033063367469445},{"$f":"'[1]FinStat_Wastewater Network'!$M65","v":-51.722679917388895},{"$f":"'[1]FinStat_Wastewater Network'!$N65","v":-53.469354818199129},{"$f":"'[1]FinStat_Wastewater Network'!$O65","v":-55.275014930409718},{"$f":"'[1]FinStat_Wastewater Network'!$P65","v":-57.141652184609654},null,-267.64176521807684,null,{"$f":"'[2]FinStat_Wastewater Network'!$J65","v":0},{"$f":"'[2]FinStat_Wastewater Network'!$K65","v":0},{"$f":"'[2]FinStat_Wastewater Network'!$L65","v":-34.376623101468347},{"$f":"'[2]FinStat_Wastewater Network'!$M65","v":-35.479372866834282},{"$f":"'[2]FinStat_Wastewater Network'!$N65","v":-36.642958507912567},{"$f":"'[2]FinStat_Wastewater Network'!$O65","v":-37.853927672090379},{"$f":"'[2]FinStat_Wastewater Network'!$P65","v":-39.10491670301213},null,-183.4577988513177,null,0,0,-15.656000000000001,-16.242999999999999,-16.826000000000001,-17.420999999999999,-18.036999999999999,null,-84.183999999999997,null,0,0,0.45542576866228834,0.45781530752996402,0.45918781357042027,0.46021644440464404,0.46124634753692406,null,0.4588739237421377]
[null,null,null,null,"Proceeds from share issues - WWN - nominal","CF","£m",null,{"$f":"'[1]FinStat_Wastewater Network'!$J66","v":0},{"$f":"'[1]FinStat_Wastewater Network'!$K66","v":0},{"$f":"'[1]FinStat_Wastewater Network'!$L66","v":0},{"$f":"'[1]FinStat_Wastewater Network'!$M66","v":0},{"$f":"'[1]FinStat_Wastewater Network'!$N66","v":0},{"$f":"'[1]FinStat_Wastewater Network'!$O66","v":0},{"$f":"'[1]FinStat_Wastewater Network'!$P66","v":0},null,0,null,{"$f":"'[2]FinStat_Wastewater Network'!$J66","v":0},{"$f":"'[2]FinStat_Wastewater Network'!$K66","v":0},{"$f":"'[2]FinStat_Wastewater Network'!$L66","v":0},{"$f":"'[2]FinStat_Wastewater Network'!$M66","v":0},{"$f":"'[2]FinStat_Wastewater Network'!$N66","v":0},{"$f":"'[2]FinStat_Wastewater Network'!$O66","v":0},{"$f":"'[2]FinStat_Wastewater Network'!$P66","v":0},null,0,null,0,0,0,0,0,0,0,null,0,null,0,0,0,0,0,0,0,null,0]
[null,null,null,null,"Net loans received - WWN - nominal","CF","£m",null,{"$f":"'[1]FinStat_Wastewater Network'!$J67","v":0},{"$f":"'[1]FinStat_Wastewater Network'!$K67","v":0},{"$f":"'[1]FinStat_Wastewater Network'!$L67","v":0},{"$f":"'[1]FinStat_Wastewater Network'!$M67","v":0},{"$f":"'[1]FinStat_Wastewater Network'!$N67","v":0},{"$f":"'[1]FinStat_Wastewater Network'!$O67","v":0},{"$f":"'[1]FinStat_Wastewater Network'!$P67","v":0},null,0,null,{"$f":"'[2]FinStat_Wastewater Network'!$J67","v":0},{"$f":"'[2]FinStat_Wastewater Network'!$K67","v":0},{"$f":"'[2]FinStat_Wastewater Network'!$L67","v":0},{"$f":"'[2]FinStat_Wastewater Network'!$M67","v":0},{"$f":"'[2]FinStat_Wastewater Network'!$N67","v":0},{"$f":"'[2]FinStat_Wastewater Network'!$O67","v":0},{"$f":"'[2]FinStat_Wastewater Network'!$P67","v":0},null,0,null,0,0,0,0,0,0,0,null,0,null,0,0,0,0,0,0,0,null,0]
[null,null,null,null,"Net cash generated / (used) in financing activities - WWN - nominal",null,"£m",null,{"$f":"'[1]FinStat_Wastewater Network'!$J68","v":0},{"$f":"'[1]FinStat_Wastewater Network'!$K68","v":0},{"$f":"'[1]FinStat_Wastewater Network'!$L68","v":-50.033063367469445},{"$f":"'[1]FinStat_Wastewater Network'!$M68","v":-51.722679917388895},{"$f":"'[1]FinStat_Wastewater Network'!$N68","v":-53.469354818199129},{"$f":"'[1]FinStat_Wastewater Network'!$O68","v":-55.275014930409718},{"$f":"'[1]FinStat_Wastewater Network'!$P68","v":-57.141652184609654},null,-267.64176521807684,null,{"$f":"'[2]FinStat_Wastewater Network'!$J68","v":0},{"$f":"'[2]FinStat_Wastewater Network'!$K68","v":0},{"$f":"'[2]FinStat_Wastewater Network'!$L68","v":-34.376623101468347},{"$f":"'[2]FinStat_Wastewater Network'!$M68","v":-35.479372866834282},{"$f":"'[2]FinStat_Wastewater Network'!$N68","v":-36.642958507912567},{"$f":"'[2]FinStat_Wastewater Network'!$O68","v":-37.853927672090379},{"$f":"'[2]FinStat_Wastewater Network'!$P68","v":-39.10491670301213},null,-183.4577988513177,null,0,0,-15.656000000000001,-16.242999999999999,-16.826000000000001,-17.420999999999999,-18.036999999999999,null,-84.183999999999997,null,0,0,0.45542576866228834,0.45781530752996402,0.45918781357042027,0.46021644440464404,0.46124634753692406,null,0.4588739237421377]
[null,null,null,null,null,null,null,null,null,null,null,null,null,null,null,null,null,null,null,null,null,null,null,null,null,null,null,null,0,0,0,0,0,0,0,null,0,null,0,0,0,0,0,0,0,null,0]
[null,null,null,null,"Net increase / (decrease) in cash - WWN - nominal",null,"£m",null,{"$f":"'[1]FinStat_Wastewater Network'!$J70","v":0},{"$f":"'[1]FinStat_Wastewater Network'!$K70","v":0},{"$f":"'[1]FinStat_Wastewater Network'!$L70","v":-151.03328504124764},{"$f":"'[1]FinStat_Wastewater Network'!$M70","v":-116.05453279868325},{"$f":"'[1]FinStat_Wastewater Network'!$N70","v":-126.17449239936553},{"$f":"'[1]FinStat_Wastewater Network'!$O70","v":-244.01111964405732},{"$f":"'[1]FinStat_Wastewater Network'!$P70","v":-135.50249498472186},null,-772.77592486807566,null,{"$f":"'[2]FinStat_Wastewater Network'!$J70","v":0},{"$f":"'[2]FinStat_Wastewater Network'!$K70","v":0},{"$f":"'[2]FinStat_Wastewater Network'!$L70","v":-120.92898705644632},{"$f":"'[2]FinStat_Wastewater Network'!$M70","v":-100.92130961257793},{"$f":"'[2]FinStat_Wastewater Network'!$N70","v":-126.01075733220819},{"$f":"'[2]FinStat_Wastewater Network'!$O70","v":-129.76164954953151},{"$f":"'[2]FinStat_Wastewater Network'!$P70","v":-9.3513098194519628},null,-486.97401337021591,null,0,0,-30.103999999999999,-15.132999999999999,-0.16400000000000001,-114.249,-126.151,null,-285.80200000000002,null,0,0,0.24893948698956919,0.14994850996378625,1.3014761872086758E-3,0.88045274082609315,13.490195751785404,null,0.58689374002124139]
[null,null,null,null,null,null,null,null,null,null,null,null,null,null,null,null,null,null,null,null,null,null,null,null,null,null,null,null,0,0,0,0,0,0,0,null,0,null,0,0,0,0,0,0,0,null,0]
[null,"Retained cash balance - WWN",null,null,null,null,null,null,null,null,null,null,null,null,null,null,null,null,null,null,null,null,null,null,null,null,null,null,0,0,0,0,0,0,0,null,0,null,0,0,0,0,0,0,0,null,0]
[null,null,null,null,"Cash and cash equivalents - WWN b/f - nominal",0,"£m",null,{"$f":"'[1]FinStat_Wastewater Network'!$J73","v":0},{"$f":"'[1]FinStat_Wastewater Network'!$K73","v":294.22586290442848},{"$f":"'[1]FinStat_Wastewater Network'!$L73","v":0},{"$f":"'[1]FinStat_Wastewater Network'!$M73","v":0},{"$f":"'[1]FinStat_Wastewater Network'!$N73","v":0},{"$f":"'[1]FinStat_Wastewater Network'!$O73","v":0},{"$f":"'[1]FinStat_Wastewater Network'!$P73","v":0},null,294.22586290442848,null,{"$f":"'[2]FinStat_Wastewater Network'!$J73","v":0},{"$f":"'[2]FinStat_Wastewater Network'!$K73","v":293.85764282171527},{"$f":"'[2]FinStat_Wastewater Network'!$L73","v":0},{"$f":"'[2]FinStat_Wastewater Network'!$M73","v":0},{"$f":"'[2]FinStat_Wastewater Network'!$N73","v":0},{"$f":"'[2]FinStat_Wastewater Network'!$O73","v":0},{"$f":"'[2]FinStat_Wastewater Network'!$P73","v":0},null,293.85764282171527,null,0,0.36799999999999999,0,0,0,0,0,null,0.36799999999999999,null,0,1.252307057479758E-3,0,0,0,0,0,null,1.252307057479758E-3]
[null,null,null,null,"Last pre-forecast period flag",0,"flag",null,{"$f":"'[1]FinStat_Wastewater Network'!$J74","v":0},{"$f":"'[1]FinStat_Wastewater Network'!$K74","v":1},{"$f":"'[1]FinStat_Wastewater Network'!$L74","v":0},{"$f":"'[1]FinStat_Wastewater Network'!$M74","v":0},{"$f":"'[1]FinStat_Wastewater Network'!$N74","v":0},{"$f":"'[1]FinStat_Wastewater Network'!$O74","v":0},{"$f":"'[1]FinStat_Wastewater Network'!$P74","v":0},null,1,null,{"$f":"'[2]FinStat_Wastewater Network'!$J74","v":0},{"$f":"'[2]FinStat_Wastewater Network'!$K74","v":1},{"$f":"'[2]FinStat_Wastewater Network'!$L74","v":0},{"$f":"'[2]FinStat_Wastewater Network'!$M74","v":0},{"$f":"'[2]FinStat_Wastewater Network'!$N74","v":0},{"$f":"'[2]FinStat_Wastewater Network'!$O74","v":0},{"$f":"'[2]FinStat_Wastewater Network'!$P74","v":0},null,1,null,0,0,0,0,0,0,0,null,0,null,0,0,0,0,0,0,0,null,0]
[null,null,null,null,null,null,null,null,{"$f":"'[1]FinStat_Wastewater Network'!$J75","v":0},{"$f":"'[1]FinStat_Wastewater Network'!$K75","v":0},{"$f":"'[1]FinStat_Wastewater Network'!$L75","v":0},{"$f":"'[1]FinStat_Wastewater Network'!$M75","v":0},{"$f":"'[1]FinStat_Wastewater Network'!$N75","v":0},{"$f":"'[1]FinStat_Wastewater Network'!$O75","v":0},{"$f":"'[1]FinStat_Wastewater Network'!$P75","v":0},null,null,null,{"$f":"'[2]FinStat_Wastewater Network'!$J75","v":0},{"$f":"'[2]FinStat_Wastewater Network'!$K75","v":0},{"$f":"'[2]FinStat_Wastewater Network'!$L75","v":0},{"$f":"'[2]FinStat_Wastewater Network'!$M75","v":0},{"$f":"'[2]FinStat_Wastewater Network'!$N75","v":0},{"$f":"'[2]FinStat_Wastewater Network'!$O75","v":0},{"$f":"'[2]FinStat_Wastewater Network'!$P75","v":0},null,null,null,0,0,0,0,0,0,0,null,0,null,0,0,0,0,0,0,0,null,0]
[null,null,null,null,"Retained cash balance - WWN BEG - nominal",null,"£m",null,{"$f":"'[1]FinStat_Wastewater Network'!$J76","v":0},{"$f":"'[1]FinStat_Wastewater Network'!$K76","v":0},{"$f":"'[1]FinStat_Wastewater Network'!$L76","v":294.22586290442848},{"$f":"'[1]FinStat_Wastewater Network'!$M76","v":143.19257786318084},{"$f":"'[1]FinStat_Wastewater Network'!$N76","v":27.138045064497589},{"$f":"'[1]FinStat_Wastewater Network'!$O76","v":-99.036447334867944},{"$f":"'[1]FinStat_Wastewater Network'!$P76","v":-343.04756697892526},null,22.472471518313739,null,{"$f":"'[2]FinStat_Wastewater Network'!$J76","v":0},{"$f":"'[2]FinStat_Wastewater Network'!$K76","v":0},{"$f":"'[2]FinStat_Wastewater Network'!$L76","v":293.85764282171527},{"$f":"'[2]FinStat_Wastewater Network'!$M76","v":172.92865576526896},{"$f":"'[2]FinStat_Wastewater Network'!$N76","v":72.007346152691028},{"$f":"'[2]FinStat_Wastewater Network'!$O76","v":-54.003411179517158},{"$f":"'[2]FinStat_Wastewater Network'!$P76","v":-183.76506072904868},null,301.02517283110944,null,0,0,0.36799999999999999,-29.736000000000001,-44.869,-45.033000000000001,-159.28299999999999,null,-278.553,null,0,0,1.252307057479758E-3,-0.1719553064725331,-0.62311697899344365,0.83389176750894722,0.86677521487533404,null,-0.92534786170950067]
[null,null,null,"plus","Net increase / (decrease) in cash - WWN - nominal",0,"£m",null,{"$f":"'[1]FinStat_Wastewater Network'!$J77","v":0},{"$f":"'[1]FinStat_Wastewater Network'!$K77","v":0},{"$f":"'[1]FinStat_Wastewater Network'!$L77","v":-151.03328504124764},{"$f":"'[1]FinStat_Wastewater Network'!$M77","v":-116.05453279868325},{"$f":"'[1]FinStat_Wastewater Network'!$N77","v":-126.17449239936553},{"$f":"'[1]FinStat_Wastewater Network'!$O77","v":-244.01111964405732},{"$f":"'[1]FinStat_Wastewater Network'!$P77","v":-135.50249498472186},null,-772.77592486807566,null,{"$f":"'[2]FinStat_Wastewater Network'!$J77","v":0},{"$f":"'[2]FinStat_Wastewater Network'!$K77","v":0},{"$f":"'[2]FinStat_Wastewater Network'!$L77","v":-120.92898705644632},{"$f":"'[2]FinStat_Wastewater Network'!$M77","v":-100.92130961257793},{"$f":"'[2]FinStat_Wastewater Network'!$N77","v":-126.01075733220819},{"$f":"'[2]FinStat_Wastewater Network'!$O77","v":-129.76164954953151},{"$f":"'[2]FinStat_Wastewater Network'!$P77","v":-9.3513098194519628},null,-486.97401337021591,null,0,0,-30.103999999999999,-15.132999999999999,-0.16400000000000001,-114.249,-126.151,null,-285.80200000000002,null,0,0,0.24893948698956919,0.14994850996378625,1.3014761872086758E-3,0.88045274082609315,13.490195751785404,null,0.58689374002124139]
[null,null,null,null,"Retained cash balance - WWN - nominal",null,"£m",null,{"$f":"'[1]FinStat_Wastewater Network'!$J78","v":0},{"$f":"'[1]FinStat_Wastewater Network'!$K78","v":294.22586290442848},{"$f":"'[1]FinStat_Wastewater Network'!$L78","v":143.19257786318084},{"$f":"'[1]FinStat_Wastewater Network'!$M78","v":27.138045064497589},{"$f":"'[1]FinStat_Wastewater Network'!$N78","v":-99.036447334867944},{"$f":"'[1]FinStat_Wastewater Network'!$O78","v":-343.04756697892526},{"$f":"'[1]FinStat_Wastewater Network'!$P78","v":-478.55006196364712},null,-456.07759044533339,null,{"$f":"'[2]FinStat_Wastewater Network'!$J78","v":0},{"$f":"'[2]FinStat_Wastewater Network'!$K78","v":293.85764282171527},{"$f":"'[2]FinStat_Wastewater Network'!$L78","v":172.92865576526896},{"$f":"'[2]FinStat_Wastewater Network'!$M78","v":72.007346152691028},{"$f":"'[2]FinStat_Wastewater Network'!$N78","v":-54.003411179517158},{"$f":"'[2]FinStat_Wastewater Network'!$O78","v":-183.76506072904868},{"$f":"'[2]FinStat_Wastewater Network'!$P78","v":-193.11637054850064},null,107.9088022826088,null,0,0.36799999999999999,-29.736000000000001,-44.869,-45.033000000000001,-159.28299999999999,-285.43400000000003,null,-563.98599999999999,null,0,1.252307057479758E-3,-0.1719553064725331,-0.62311697899344365,0.83389176750894722,0.86677521487533404,1.4780414482174316,null,-5.2265059760643382]
[]
["BALANCE SHEET"]
[]
[null,"Non-current assets"]
[null,null,null,null,"Wholesale fixed assets balance - WWN - nominal","BS","£m",null,{"$f":"'[1]FinStat_Wastewater Network'!$J85","v":0},{"$f":"'[1]FinStat_Wastewater Network'!$K85","v":5069.367708421576},{"$f":"'[1]FinStat_Wastewater Network'!$L85","v":5126.8115451459635},{"$f":"'[1]FinStat_Wastewater Network'!$M85","v":5291.3946559814713},{"$f":"'[1]FinStat_Wastewater Network'!$N85","v":5458.6752489806868},{"$f":"'[1]FinStat_Wastewater Network'!$O85","v":5764.3600749086936},{"$f":"'[1]FinStat_Wastewater Network'!$P85","v":5954.4464551118526},null,{"$f":"SUM(I89:O89)","v":32665.055688550245},null,{"$f":"'[2]FinStat_Wastewater Network'!$J85","v":0},{"$f":"'[2]FinStat_Wastewater Network'!$K85","v":5069.3677084215797},{"$f":"'[2]FinStat_Wastewater Network'!$L85","v":5082.0729811272595},{"$f":"'[2]FinStat_Wastewater Network'!$M85","v":5258.9639609362639},{"$f":"'[2]FinStat_Wastewater Network'!$N85","v":5418.6870802964941},{"$f":"'[2]FinStat_Wastewater Network'!$O85","v":5600.207446478099},{"$f":"'[2]FinStat_Wastewater Network'!$P85","v":5661.8142146996524},null,{"$f":"SUM(S89:Y89)","v":32091.113391959349},null,{"$f":"ROUND(I89 - S89, 3)","v":0},{"$f":"ROUND(J89 - T89, 3)","v":0},{"$f":"ROUND(K89 - U89, 3)","v":44.738999999999997},{"$f":"ROUND(L89 - V89, 3)","v":32.430999999999997},{"$f":"ROUND(M89 - W89, 3)","v":39.988},{"$f":"ROUND(N89 - X89, 3)","v":164.15299999999999},{"$f":"ROUND(O89 - Y89, 3)","v":292.63200000000001},null,{"$f":"ROUND(Q89 - AA89, 3)","v":573.94200000000001},null,{"$f":"IF(S89 = 0, 0, AC89 / S89)","v":0},{"$f":"IF(T89 = 0, 0, AD89 / T89)","v":0},{"$f":"IF(U89 = 0, 0, AE89 / U89)","v":8.8032974272786602E-3},{"$f":"IF(V89 = 0, 0, AF89 / V89)","v":6.1668040018715477E-3},{"$f":"IF(W89 = 0, 0, AG89 / W89)","v":7.3796473956587979E-3},{"$f":"IF(X89 = 0, 0, AH89 / X89)","v":2.9311949882005493E-2},{"$f":"IF(Y89 = 0, 0, AI89 / Y89)","v":5.1685199991240535E-2},null,{"$f":"IF(AA89 = 0, 0, AK89 / AA89)","v":1.7884764326805972E-2}]
[null,null,null,null,"Intangible asset and investments balance - WWN - nominal","BS","£m",null,{"$f":"'[1]FinStat_Wastewater Network'!$J86","v":0},{"$f":"'[1]FinStat_Wastewater Network'!$K86","v":7.4677927135728076E-3},{"$f":"'[1]FinStat_Wastewater Network'!$L86","v":7.4677927135728076E-3},{"$f":"'[1]FinStat_Wastewater Network'!$M86","v":7.4677927135728076E-3},{"$f":"'[1]FinStat_Wastewater Network'!$N86","v":7.4677927135728076E-3},{"$f":"'[1]FinStat_Wastewater Network'!$O86","v":7.4677927135728076E-3},{"$f":"'[1]FinStat_Wastewater Network'!$P86","v":7.4677927135728076E-3},null,{"$f":"SUM(I90:O90)","v":4.4806756281436842E-2},null,{"$f":"'[2]FinStat_Wastewater Network'!$J86","v":0},{"$f":"'[2]FinStat_Wastewater Network'!$K86","v":7.4584468619758992E-3},{"$f":"'[2]FinStat_Wastewater Network'!$L86","v":7.4584468619758992E-3},{"$f":"'[2]FinStat_Wastewater Network'!$M86","v":7.4584468619758992E-3},{"$f":"'[2]FinStat_Wastewater Network'!$N86","v":7.4584468619758992E-3},{"$f":"'[2]FinStat_Wastewater Network'!$O86","v":7.4584468619758992E-3},{"$f":"'[2]FinStat_Wastewater Network'!$P86","v":7.4584468619758992E-3},null,{"$f":"SUM(S90:Y90)","v":4.4750681171855398E-2},null,0,0,0,0,0,0,0,null,0,null,0,0,0,0,0,0,0,null,0]
[null,null,null,null,"Retirement benefit asset balance - WWN - nominal","BS","£m",null,{"$f":"'[1]FinStat_Wastewater Network'!$J87","v":0},{"$f":"'[1]FinStat_Wastewater Network'!$K87","v":19.798267374868221},{"$f":"'[1]FinStat_Wastewater Network'!$L87","v":25.017366694178936},{"$f":"'[1]FinStat_Wastewater Network'!$M87","v":30.392989445206133},{"$f":"'[1]FinStat_Wastewater Network'!$N87","v":35.929380517277814},{"$f":"'[1]FinStat_Wastewater Network'!$O87","v":41.633083768441359},{"$f":"'[1]FinStat_Wastewater Network'!$P87","v":47.507226032590573},null,{"$f":"SUM(I91:O91)","v":200.27831383256304},null,{"$f":"'[2]FinStat_Wastewater Network'!$J87","v":0},{"$f":"'[2]FinStat_Wastewater Network'!$K87","v":19.773490084461493},{"$f":"'[2]FinStat_Wastewater Network'!$L87","v":30.548420619077088},{"$f":"'[2]FinStat_Wastewater Network'!$M87","v":41.540226556112287},{"$f":"'[2]FinStat_Wastewater Network'!$N87","v":52.759218018045466},{"$f":"'[2]FinStat_Wastewater Network'!$O87","v":52.759218018045466},{"$f":"'[2]FinStat_Wastewater Network'!$P87","v":52.759218018045466},null,{"$f":"SUM(S91:Y91)","v":250.13979131378724},null,0,2.5000000000000001E-2,-5.5309999999999997,-11.147,-16.829999999999998,-11.125999999999999,-5.2519999999999998,null,-49.860999999999997,null,{"$f":"IF(S91 = 0, 0, AC91 / S91)","v":0},{"$f":"IF(T91 = 0, 0, AD91 / T91)","v":1.264319039947613E-3},{"$f":"IF(U91 = 0, 0, AE91 / U91)","v":-0.18105682349240546},{"$f":"IF(V91 = 0, 0, AF91 / V91)","v":-0.26834230152651428},{"$f":"IF(W91 = 0, 0, AG91 / W91)","v":-0.31899638835138838},{"$f":"IF(X91 = 0, 0, AH91 / X91)","v":-0.21088257972653282},{"$f":"IF(Y91 = 0, 0, AI91 / Y91)","v":-9.9546585360754114E-2},null,{"$f":"IF(AA91 = 0, 0, AK91 / AA91)","v":-0.19933254016931673}]
[null,null,null,null,"Total non-current assets - WWN - nominal",null,"£m",null,{"$f":"'[1]FinStat_Wastewater Network'!$J88","v":0},{"$f":"'[1]FinStat_Wastewater Network'!$K88","v":5089.1734435891576},{"$f":"'[1]FinStat_Wastewater Network'!$L88","v":5151.8363796328558},{"$f":"'[1]FinStat_Wastewater Network'!$M88","v":5321.7951132193903},{"$f":"'[1]FinStat_Wastewater Network'!$N88","v":5494.6120972906774},{"$f":"'[1]FinStat_Wastewater Network'!$O88","v":5806.0006264698486},{"$f":"'[1]FinStat_Wastewater Network'!$P88","v":6001.9611489371564},null,32865.378809139089,null,{"$f":"'[2]FinStat_Wastewater Network'!$J88","v":0},{"$f":"'[2]FinStat_Wastewater Network'!$K88","v":5089.1486569529034},{"$f":"'[2]FinStat_Wastewater Network'!$L88","v":5112.6288601931983},{"$f":"'[2]FinStat_Wastewater Network'!$M88","v":5300.5116459392384},{"$f":"'[2]FinStat_Wastewater Network'!$N88","v":5471.4537567614016},{"$f":"'[2]FinStat_Wastewater Network'!$O88","v":5652.9741229430065},{"$f":"'[2]FinStat_Wastewater Network'!$P88","v":5714.5808911645599},null,32341.297933954309,null,0,2.5000000000000001E-2,39.207999999999998,21.283000000000001,23.158000000000001,153.02699999999999,287.38,null,524.08100000000002,null,0,4.9124129958051959E-6,7.668853161877741E-3,4.015272755094325E-3,4.2325131545491506E-3,2.7070175216074098E-2,5.0288902278787337E-2,null,1.6204699052902904E-2]
[null,null,null,null,null,null,null,null,null,null,null,null,null,null,null,null,null,null,null,null,null,null,null,null,null,null,null,null,0,0,0,0,0,0,0,null,0,null,0,0,0,0,0,0,0,null,0]
[null,"Current assets",null,null,null,null,null,null,null,null,null,null,null,null,null,null,null,null,null,null,null,null,null,null,null,null,null,null,0,0,0,0,0,0,0,null,0,null,0,0,0,0,0,0,0,null,0]
[null,null,null,null,"Inventories balance - WWN - nominal","BS","£m",null,{"$f":"'[1]FinStat_Wastewater Network'!$J91","v":0},{"$f":"'[1]FinStat_Wastewater Network'!$K91","v":5.9219596218632367},{"$f":"'[1]FinStat_Wastewater Network'!$L91","v":5.9671225407713848},{"$f":"'[1]FinStat_Wastewater Network'!$M91","v":6.018483335561279},{"$f":"'[1]FinStat_Wastewater Network'!$N91","v":6.0482780221656043},{"$f":"'[1]FinStat_Wastewater Network'!$O91","v":6.1696804626091195},{"$f":"'[1]FinStat_Wastewater Network'!$P91","v":6.3226560881619429},null,36.448180071132569,null,{"$f":"'[2]FinStat_Wastewater Network'!$J91","v":0},{"$f":"'[2]FinStat_Wastewater Network'!$K91","v":5.9145483615468883},{"$f":"'[2]FinStat_Wastewater Network'!$L91","v":5.9868965635688625},{"$f":"'[2]FinStat_Wastewater Network'!$M91","v":6.0926337626647671},{"$f":"'[2]FinStat_Wastewater Network'!$N91","v":6.1798475121654892},{"$f":"'[2]FinStat_Wastewater Network'!$O91","v":6.3099799038487534},{"$f":"'[2]FinStat_Wastewater Network'!$P91","v":6.4388534068080414},null,36.922759510602802,null,0,7.0000000000000001E-3,-0.02,-7.3999999999999996E-2,-0.13200000000000001,-0.14000000000000001,-0.11600000000000001,null,-0.47499999999999998,null,0,1.1835223202349846E-3,-3.3406289531880194E-3,-1.2145814582433433E-2,-2.1359750340141596E-2,-2.2187075415978336E-2,-1.8015629906614872E-2,null,-1.2864693925804711E-2]
[null,null,null,null,"Trade debtors and other receivables balance - WWN - nominal","BS","£m",null,{"$f":"'[1]FinStat_Wastewater Network'!$J92","v":0},{"$f":"'[1]FinStat_Wastewater Network'!$K92","v":53.823828760279341},{"$f":"'[1]FinStat_Wastewater Network'!$L92","v":53.482846184027373},{"$f":"'[1]FinStat_Wastewater Network'!$M92","v":53.678410359075059},{"$f":"'[1]FinStat_Wastewater Network'!$N92","v":53.437964291737515},{"$f":"'[1]FinStat_Wastewater Network'!$O92","v":54.028197229857419},{"$f":"'[1]FinStat_Wastewater Network'!$P92","v":54.803564708366572},null,323.25481153334329,null,{"$f":"'[2]FinStat_Wastewater Network'!$J92","v":0},{"$f":"'[2]FinStat_Wastewater Network'!$K92","v":53.756468894350455},{"$f":"'[2]FinStat_Wastewater Network'!$L92","v":53.660079182426671},{"$f":"'[2]FinStat_Wastewater Network'!$M92","v":54.33975256647863},{"$f":"'[2]FinStat_Wastewater Network'!$N92","v":54.600411798735308},{"$f":"'[2]FinStat_Wastewater Network'!$O92","v":55.256806382061079},{"$f":"'[2]FinStat_Wastewater Network'!$P92","v":55.8107406772261},null,327.42425950127824,null,0,6.7000000000000004E-2,-0.17699999999999999,-0.66100000000000003,-1.1619999999999999,-1.2290000000000001,-1.0069999999999999,null,-4.1689999999999996,null,0,1.2463616263872826E-3,-3.2985415358456338E-3,-1.216420702673131E-2,-2.1281890771873535E-2,-2.2241603894049701E-2,-1.8043121947150794E-2,null,-1.2732715670946563E-2]
[null,null,null,null,"Retained cash balance - WWN - nominal","BS","£m",null,{"$f":"'[1]FinStat_Wastewater Network'!$J93","v":0},{"$f":"'[1]FinStat_Wastewater Network'!$K93","v":294.22586290442848},{"$f":"'[1]FinStat_Wastewater Network'!$L93","v":143.19257786318084},{"$f":"'[1]FinStat_Wastewater Network'!$M93","v":27.138045064497554},{"$f":"'[1]FinStat_Wastewater Network'!$N93","v":-99.036447334868001},{"$f":"'[1]FinStat_Wastewater Network'!$O93","v":-343.04756697892532},{"$f":"'[1]FinStat_Wastewater Network'!$P93","v":-478.55006196364718},null,-456.07759044533361,null,{"$f":"'[2]FinStat_Wastewater Network'!$J93","v":0},{"$f":"'[2]FinStat_Wastewater Network'!$K93","v":293.85764282171527},{"$f":"'[2]FinStat_Wastewater Network'!$L93","v":172.92865576526899},{"$f":"'[2]FinStat_Wastewater Network'!$M93","v":72.007346152691085},{"$f":"'[2]FinStat_Wastewater Network'!$N93","v":-54.003411179517116},{"$f":"'[2]FinStat_Wastewater Network'!$O93","v":-183.76506072904863},{"$f":"'[2]FinStat_Wastewater Network'!$P93","v":-193.11637054850058},null,107.90880228260897,null,0,0.36799999999999999,-29.736000000000001,-44.869,-45.033000000000001,-159.28299999999999,-285.43400000000003,null,-563.98599999999999,null,0,1.252307057479758E-3,-0.17195530647253307,-0.62311697899344309,0.83389176750894789,0.86677521487533438,1.478041448217432,null,-5.2265059760643293]
[null,null,null,null,"Total current assets - WWN - nominal",null,"£m",null,{"$f":"'[1]FinStat_Wastewater Network'!$J94","v":0},{"$f":"'[1]FinStat_Wastewater Network'!$K94","v":353.97165128657105},{"$f":"'[1]FinStat_Wastewater Network'!$L94","v":202.64254658797961},{"$f":"'[1]FinStat_Wastewater Network'!$M94","v":86.834938759133891},{"$f":"'[1]FinStat_Wastewater Network'!$N94","v":-39.550205020964881},{"$f":"'[1]FinStat_Wastewater Network'!$O94","v":-282.84968928645878},{"$f":"'[1]FinStat_Wastewater Network'!$P94","v":-417.42384116711867},null,-96.374598840857743,null,{"$f":"'[2]FinStat_Wastewater Network'!$J94","v":0},{"$f":"'[2]FinStat_Wastewater Network'!$K94","v":353.52866007761259},{"$f":"'[2]FinStat_Wastewater Network'!$L94","v":232.57563151126453},{"$f":"'[2]FinStat_Wastewater Network'!$M94","v":132.43973248183448},{"$f":"'[2]FinStat_Wastewater Network'!$N94","v":6.7768481313836801},{"$f":"'[2]FinStat_Wastewater Network'!$O94","v":-122.19827444313879},{"$f":"'[2]FinStat_Wastewater Network'!$P94","v":-130.86677646446645},null,472.25582129449009,null,0,0.443,-29.933,-45.604999999999997,-46.326999999999998,-160.65100000000001,-286.55700000000002,null,-568.63,null,0,1.2530808673411236E-3,-0.12870221959840289,-0.34434530442935779,-6.8360687891851972,1.3146748653537985,2.1896848668676978,null,-1.2040719761618623]
[null,null,null,null,null,null,null,null,null,null,null,null,null,null,null,null,null,null,null,null,null,null,null,null,null,null,null,null,0,0,0,0,0,0,0,null,0,null,0,0,0,0,0,0,0,null,0]
[null,"Liabilities",null,null,null,null,null,null,null,null,null,null,null,null,null,null,null,null,null,null,null,null,null,null,null,null,null,null,0,0,0,0,0,0,0,null,0,null,0,0,0,0,0,0,0,null,0]
[null,null,null,null,"Trade creditors and other payables balance - WWN - nominal","BS","£m",null,{"$f":"'[1]FinStat_Wastewater Network'!$J97","v":0},{"$f":"'[1]FinStat_Wastewater Network'!$K97","v":364.09625486939575},{"$f":"'[1]FinStat_Wastewater Network'!$L97","v":242.34357677714021},{"$f":"'[1]FinStat_Wastewater Network'!$M97","v":241.6618914746937},{"$f":"'[1]FinStat_Wastewater Network'!$N97","v":240.96245935775994},{"$f":"'[1]FinStat_Wastewater Network'!$O97","v":236.69069125666527},{"$f":"'[1]FinStat_Wastewater Network'!$P97","v":238.63612560805058},null,1564.3909993437055,null,{"$f":"'[2]FinStat_Wastewater Network'!$J97","v":0},{"$f":"'[2]FinStat_Wastewater Network'!$K97","v":363.64059284240687},{"$f":"'[2]FinStat_Wastewater Network'!$L97","v":234.80735061304659},{"$f":"'[2]FinStat_Wastewater Network'!$M97","v":236.2861274796214},{"$f":"'[2]FinStat_Wastewater Network'!$N97","v":231.3016024053982},{"$f":"'[2]FinStat_Wastewater Network'!$O97","v":230.53264067569074},{"$f":"'[2]FinStat_Wastewater Network'!$P97","v":234.91723027084294},null,1531.4855442870069,null,0,0.45600000000000002,7.5359999999999996,5.3760000000000003,9.6609999999999996,6.1580000000000004,3.7189999999999999,null,32.905000000000001,null,0,1.2539854157525793E-3,3.2094395598453965E-2,2.2752076295565239E-2,4.1767976959655201E-2,2.6712052496995278E-2,1.5831107814919563E-2,null,2.1485674561374419E-2]
[null,null,null,null,"Capex creditors balance - WWN - nominal","BS","£m",null,{"$f":"'[1]FinStat_Wastewater Network'!$J98","v":0},{"$f":"'[1]FinStat_Wastewater Network'!$K98","v":101.36437162047719},{"$f":"'[1]FinStat_Wastewater Network'!$L98","v":86.492976400201087},{"$f":"'[1]FinStat_Wastewater Network'!$M98","v":90.296563051063799},{"$f":"'[1]FinStat_Wastewater Network'!$N98","v":85.165560372867617},{"$f":"'[1]FinStat_Wastewater Network'!$O98","v":101.50620151628164},{"$f":"'[1]FinStat_Wastewater Network'!$P98","v":110.27142389471146},null,575.09709685560279,null,{"$f":"'[2]FinStat_Wastewater Network'!$J98","v":0},{"$f":"'[2]FinStat_Wastewater Network'!$K98","v":101.23751534437071},{"$f":"'[2]FinStat_Wastewater Network'!$L98","v":70.534297073700714},{"$f":"'[2]FinStat_Wastewater Network'!$M98","v":93.149275827819565},{"$f":"'[2]FinStat_Wastewater Network'!$N98","v":83.222922533472342},{"$f":"'[2]FinStat_Wastewater Network'!$O98","v":76.784660925087451},{"$f":"'[2]FinStat_Wastewater Network'!$P98","v":75.576269975792115},null,500.50494168024289,null,0,0.127,15.959,-2.8530000000000002,1.9430000000000001,24.722000000000001,34.695,null,74.591999999999999,null,0,1.254475671079E-3,0.22625872323253707,-3.0628257435662592E-2,2.334693304261844E-2,0.32196534701272234,0.45907266938568386,null,0.14903349355470405]
[null,null,null,null,"Dividend creditors balance - WWN - nominal","BS","£m",null,{"$f":"'[1]FinStat_Wastewater Network'!$J99","v":0},{"$f":"'[1]FinStat_Wastewater Network'!$K99","v":0},{"$f":"'[1]FinStat_Wastewater Network'!$L99","v":0},{"$f":"'[1]FinStat_Wastewater Network'!$M99","v":0},{"$f":"'[1]FinStat_Wastewater Network'!$N99","v":0},{"$f":"'[1]FinStat_Wastewater Network'!$O99","v":0},{"$f":"'[1]FinStat_Wastewater Network'!$P99","v":0},null,0,null,{"$f":"'[2]FinStat_Wastewater Network'!$J99","v":0},{"$f":"'[2]FinStat_Wastewater Network'!$K99","v":0},{"$f":"'[2]FinStat_Wastewater Network'!$L99","v":0},{"$f":"'[2]FinStat_Wastewater Network'!$M99","v":0},{"$f":"'[2]FinStat_Wastewater Network'!$N99","v":0},{"$f":"'[2]FinStat_Wastewater Network'!$O99","v":0},{"$f":"'[2]FinStat_Wastewater Network'!$P99","v":0},null,0,null,0,0,0,0,0,0,0,null,0,null,0,0,0,0,0,0,0,null,0]
[null,null,null,null,"Total borrowing balance - WWN - nominal","BS","£m",null,{"$f":"'[1]FinStat_Wastewater Network'!$J100","v":0},{"$f":"'[1]FinStat_Wastewater Network'!$K100","v":3040.2618597551991},{"$f":"'[1]FinStat_Wastewater Network'!$L100","v":3067.4476161240218},{"$f":"'[1]FinStat_Wastewater Network'!$M100","v":3095.448945183909},{"$f":"'[1]FinStat_Wastewater Network'!$N100","v":3124.290314115593},{"$f":"'[1]FinStat_Wastewater Network'!$O100","v":3153.9969241152276},{"$f":"'[1]FinStat_Wastewater Network'!$P100","v":3184.594732414851},null,18666.040391708801,null,{"$f":"'[2]FinStat_Wastewater Network'!$J100","v":0},{"$f":"'[2]FinStat_Wastewater Network'!$K100","v":3006.279038608468},{"$f":"'[2]FinStat_Wastewater Network'!$L100","v":3033.132010426757},{"$f":"'[2]FinStat_Wastewater Network'!$M100","v":3060.7905713995947},{"$f":"'[2]FinStat_Wastewater Network'!$N100","v":3089.2788892016169},{"$f":"'[2]FinStat_Wastewater Network'!$O100","v":3118.6218565377003},{"$f":"'[2]FinStat_Wastewater Network'!$P100","v":3148.8451128938664},null,18456.947479068003,null,0,33.982999999999997,34.316000000000003,34.658000000000001,35.011000000000003,35.375,35.75,null,209.09299999999999,null,0,1.1304007234049E-2,1.1313717926563899E-2,1.1323218361899255E-2,1.1333065500294837E-2,1.1343151439101818E-2,1.1353368844218847E-2,null,1.1328688031275597E-2]
[null,null,null,null,"Preference share capital balance - WWN - nominal","BS","£m",null,{"$f":"'[1]FinStat_Wastewater Network'!$J101","v":0},{"$f":"'[1]FinStat_Wastewater Network'!$K101","v":0},{"$f":"'[1]FinStat_Wastewater Network'!$L101","v":0},{"$f":"'[1]FinStat_Wastewater Network'!$M101","v":0},{"$f":"'[1]FinStat_Wastewater Network'!$N101","v":0},{"$f":"'[1]FinStat_Wastewater Network'!$O101","v":0},{"$f":"'[1]FinStat_Wastewater Network'!$P101","v":0},null,0,null,{"$f":"'[2]FinStat_Wastewater Network'!$J101","v":0},{"$f":"'[2]FinStat_Wastewater Network'!$K101","v":0},{"$f":"'[2]FinStat_Wastewater Network'!$L101","v":0},{"$f":"'[2]FinStat_Wastewater Network'!$M101","v":0},{"$f":"'[2]FinStat_Wastewater Network'!$N101","v":0},{"$f":"'[2]FinStat_Wastewater Network'!$O101","v":0},{"$f":"'[2]FinStat_Wastewater Network'!$P101","v":0},null,0,null,0,0,0,0,0,0,0,null,0,null,0,0,0,0,0,0,0,null,0]
[null,null,null,null,"Current tax liabilities - WWN - nominal","BS","£m",null,{"$f":"'[1]FinStat_Wastewater Network'!$J102","v":0},{"$f":"'[1]FinStat_Wastewater Network'!$K102","v":0},{"$f":"'[1]FinStat_Wastewater Network'!$L102","v":0},{"$f":"'[1]FinStat_Wastewater Network'!$M102","v":0},{"$f":"'[1]FinStat_Wastewater Network'!$N102","v":0},{"$f":"'[1]FinStat_Wastewater Network'!$O102","v":0},{"$f":"'[1]FinStat_Wastewater Network'!$P102","v":0},null,0,null,{"$f":"'[2]FinStat_Wastewater Network'!$J102","v":0},{"$f":"'[2]FinStat_Wastewater Network'!$K102","v":0},{"$f":"'[2]FinStat_Wastewater Network'!$L102","v":0},{"$f":"'[2]FinStat_Wastewater Network'!$M102","v":0},{"$f":"'[2]FinStat_Wastewater Network'!$N102","v":0},{"$f":"'[2]FinStat_Wastewater Network'!$O102","v":0},{"$f":"'[2]FinStat_Wastewater Network'!$P102","v":0},null,0,null,0,0,0,0,0,0,0,null,0,null,0,0,0,0,0,0,0,null,0]
[null,null,null,null,"Retirement benefit liability balance - WWN - nominal","BS","£m",null,{"$f":"'[1]FinStat_Wastewater Network'!$J103","v":0},{"$f":"'[1]FinStat_Wastewater Network'!$K103","v":0},{"$f":"'[1]FinStat_Wastewater Network'!$L103","v":0},{"$f":"'[1]FinStat_Wastewater Network'!$M103","v":0},{"$f":"'[1]FinStat_Wastewater Network'!$N103","v":0},{"$f":"'[1]FinStat_Wastewater Network'!$O103","v":0},{"$f":"'[1]FinStat_Wastewater Network'!$P103","v":0},null,0,null,{"$f":"'[2]FinStat_Wastewater Network'!$J103","v":0},{"$f":"'[2]FinStat_Wastewater Network'!$K103","v":0},{"$f":"'[2]FinStat_Wastewater Network'!$L103","v":0},{"$f":"'[2]FinStat_Wastewater Network'!$M103","v":0},{"$f":"'[2]FinStat_Wastewater Network'!$N103","v":0},{"$f":"'[2]FinStat_Wastewater Network'!$O103","v":0},{"$f":"'[2]FinStat_Wastewater Network'!$P103","v":0},null,0,null,0,0,0,0,0,0,0,null,0,null,0,0,0,0,0,0,0,null,0]
[null,null,null,null,"Provisions balance - WWN - nominal","BS","£m",null,{"$f":"'[1]FinStat_Wastewater Network'!$J104","v":0},{"$f":"'[1]FinStat_Wastewater Network'!$K104","v":0},{"$f":"'[1]FinStat_Wastewater Network'!$L104","v":0.19005381737577465},{"$f":"'[1]FinStat_Wastewater Network'!$M104","v":0.38074288028611236},{"$f":"'[1]FinStat_Wastewater Network'!$N104","v":0.57353208749551932},{"$f":"'[1]FinStat_Wastewater Network'!$O104","v":0.77014888497908007},{"$f":"'[1]FinStat_Wastewater Network'!$P104","v":0.97041903044073363},null,2.8848967005772201,null,{"$f":"'[2]FinStat_Wastewater Network'!$J104","v":0},{"$f":"'[2]FinStat_Wastewater Network'!$K104","v":9.5990211113629833},{"$f":"'[2]FinStat_Wastewater Network'!$L104","v":9.7897047345608872},{"$f":"'[2]FinStat_Wastewater Network'!$M104","v":9.9827431726660052},{"$f":"'[2]FinStat_Wastewater Network'!$N104","v":10.179726164879519},{"$f":"'[2]FinStat_Wastewater Network'!$O104","v":10.38081405725891},{"$f":"'[2]FinStat_Wastewater Network'!$P104","v":10.584764753043565},null,60.516773993771871,null,0,-9.5990000000000002,-9.6,-9.6020000000000003,-9.6059999999999999,-9.6110000000000007,-9.6140000000000008,null,-57.631999999999998,null,0,-0.99999780067542954,-0.98062201673037519,-0.96185986496091302,-0.94364031452448127,-0.92584261185946137,-0.90828660100693981,null,-0.9523310017472385]
[null,null,null,null,"Other liabilities balance - WWN - nominal","BS","£m",null,{"$f":"'[1]FinStat_Wastewater Network'!$J105","v":0},{"$f":"'[1]FinStat_Wastewater Network'!$K105","v":0},{"$f":"'[1]FinStat_Wastewater Network'!$L105","v":0},{"$f":"'[1]FinStat_Wastewater Network'!$M105","v":0},{"$f":"'[1]FinStat_Wastewater Network'!$N105","v":0},{"$f":"'[1]FinStat_Wastewater Network'!$O105","v":0},{"$f":"'[1]FinStat_Wastewater Network'!$P105","v":0},null,0,null,{"$f":"'[2]FinStat_Wastewater Network'!$J105","v":0},{"$f":"'[2]FinStat_Wastewater Network'!$K105","v":339.2503241503822},{"$f":"'[2]FinStat_Wastewater Network'!$L105","v":339.2503241503822},{"$f":"'[2]FinStat_Wastewater Network'!$M105","v":339.2503241503822},{"$f":"'[2]FinStat_Wastewater Network'!$N105","v":339.2503241503822},{"$f":"'[2]FinStat_Wastewater Network'!$O105","v":339.2503241503822},{"$f":"'[2]FinStat_Wastewater Network'!$P105","v":339.2503241503822},null,2035.5019449022934,null,0,-339.25,-339.25,-339.25,-339.25,-339.25,-339.25,null,-2035.502,null,0,-0.99999904450973476,-0.99999904450973476,-0.99999904450973476,-0.99999904450973476,-0.99999904450973476,-0.99999904450973476,null,-1.0000000270683636]
[null,null,null,null,"Total liabilities - WWN - nominal",null,"£m",null,{"$f":"'[1]FinStat_Wastewater Network'!$J106","v":0},{"$f":"'[1]FinStat_Wastewater Network'!$K106","v":3505.7224862450721},{"$f":"'[1]FinStat_Wastewater Network'!$L106","v":3396.4742231187392},{"$f":"'[1]FinStat_Wastewater Network'!$M106","v":3427.7881425899527},{"$f":"'[1]FinStat_Wastewater Network'!$N106","v":3450.9918659337163},{"$f":"'[1]FinStat_Wastewater Network'!$O106","v":3492.9639657731532},{"$f":"'[1]FinStat_Wastewater Network'!$P106","v":3534.4727009480534},null,20808.413384608688,null,{"$f":"'[2]FinStat_Wastewater Network'!$J106","v":0},{"$f":"'[2]FinStat_Wastewater Network'!$K106","v":3820.0064920569907},{"$f":"'[2]FinStat_Wastewater Network'!$L106","v":3687.5136869984476},{"$f":"'[2]FinStat_Wastewater Network'!$M106","v":3739.4590420300842},{"$f":"'[2]FinStat_Wastewater Network'!$N106","v":3753.2334644557491},{"$f":"'[2]FinStat_Wastewater Network'!$O106","v":3775.5702963461194},{"$f":"'[2]FinStat_Wastewater Network'!$P106","v":3809.1737020439273},null,22584.956683931319,null,0,-314.28399999999999,-291.03899999999999,-311.67099999999999,-302.24200000000002,-282.60599999999999,-274.70100000000002,null,-1776.5429999999999,null,0,-8.227315860679725E-2,-7.8925537558315925E-2,-8.3346547320598402E-2,-8.0528430448657873E-2,-7.4851208643498798E-2,-7.2115640159072E-2,null,-7.8660456376432625E-2]
[null,null,null,null,null,null,null,null,null,null,null,null,null,null,null,null,null,null,null,null,null,null,null,null,null,null,null,null,0,0,0,0,0,0,0,null,0,null,0,0,0,0,0,0,0,null,0]
[null,null,null,null,"Net assets before deferred tax - WWN - nominal",null,"£m",null,{"$f":"'[1]FinStat_Wastewater Network'!$J108","v":0},{"$f":"'[1]FinStat_Wastewater Network'!$K108","v":1937.4226086306562},{"$f":"'[1]FinStat_Wastewater Network'!$L108","v":1958.0047031020958},{"$f":"'[1]FinStat_Wastewater Network'!$M108","v":1980.8419093885718},{"$f":"'[1]FinStat_Wastewater Network'!$N108","v":2004.0700263359959},{"$f":"'[1]FinStat_Wastewater Network'!$O108","v":2030.1869714102368},{"$f":"'[1]FinStat_Wastewater Network'!$P108","v":2050.0646068219844},null,11960.59082568954,null,{"$f":"'[2]FinStat_Wastewater Network'!$J108","v":0},{"$f":"'[2]FinStat_Wastewater Network'!$K108","v":1622.6708249735252},{"$f":"'[2]FinStat_Wastewater Network'!$L108","v":1657.6908047060156},{"$f":"'[2]FinStat_Wastewater Network'!$M108","v":1693.4923363909888},{"$f":"'[2]FinStat_Wastewater Network'!$N108","v":1724.9971404370358},{"$f":"'[2]FinStat_Wastewater Network'!$O108","v":1755.2055521537482},{"$f":"'[2]FinStat_Wastewater Network'!$P108","v":1774.5404126561666},null,10228.597071317479,null,0,314.75200000000001,300.31400000000002,287.35000000000002,279.07299999999998,274.98099999999999,275.524,null,1731.9939999999999,null,0,0.19397156536978802,0.18116406216855346,0.1696789491308672,0.16178171746377248,0.15666598117957234,0.15526499032365812,null,0.16932859784425089]
[null,null,null,null,null,null,null,null,null,null,null,null,null,null,null,null,null,null,null,null,null,null,null,null,null,null,null,null,0,0,0,0,0,0,0,null,0,null,0,0,0,0,0,0,0,null,0]
[null,"Net assets",null,null,null,null,null,null,null,null,null,null,null,null,null,null,null,null,null,null,null,null,null,null,null,null,null,null,0,0,0,0,0,0,0,null,0,null,0,0,0,0,0,0,0,null,0]
[null,null,null,null,"Deferred tax balance - WWN - nominal ","BS","£m",null,{"$f":"'[1]FinStat_Wastewater Network'!$J111","v":0},{"$f":"'[1]FinStat_Wastewater Network'!$K111","v":-441.18627905160781},{"$f":"'[1]FinStat_Wastewater Network'!$L111","v":-449.57539064947798},{"$f":"'[1]FinStat_Wastewater Network'!$M111","v":-456.14190534295238},{"$f":"'[1]FinStat_Wastewater Network'!$N111","v":-461.51089021351567},{"$f":"'[1]FinStat_Wastewater Network'!$O111","v":-468.3629104825373},{"$f":"'[1]FinStat_Wastewater Network'!$P111","v":-472.28927609804845},null,-2749.0666518381399,null,{"$f":"'[2]FinStat_Wastewater Network'!$J111","v":0},{"$f":"'[2]FinStat_Wastewater Network'!$K111","v":-440.63413979858399},{"$f":"'[2]FinStat_Wastewater Network'!$L111","v":-448.66519326759686},{"$f":"'[2]FinStat_Wastewater Network'!$M111","v":-455.14406601282002},{"$f":"'[2]FinStat_Wastewater Network'!$N111","v":-460.34093202848118},{"$f":"'[2]FinStat_Wastewater Network'!$O111","v":-465.41687087603697},{"$f":"'[2]FinStat_Wastewater Network'!$P111","v":-466.63593665337658},null,-2736.8371386368958,null,0,-0.55200000000000005,-0.91,-0.998,-1.17,-2.9460000000000002,-5.6529999999999996,null,-12.23,null,0,1.2527399721054796E-3,2.0282384585542158E-3,2.1927123179760174E-3,2.5415945413422682E-3,6.3298092191089962E-3,1.2114369160125624E-2,null,4.4686619555635134E-3]
[null,null,null,null,"Net assets - WWN - nominal",null,"£m",null,{"$f":"'[1]FinStat_Wastewater Network'!$J112","v":0},{"$f":"'[1]FinStat_Wastewater Network'!$K112","v":1496.2363295790483},{"$f":"'[1]FinStat_Wastewater Network'!$L112","v":1508.429312452618},{"$f":"'[1]FinStat_Wastewater Network'!$M112","v":1524.7000040456194},{"$f":"'[1]FinStat_Wastewater Network'!$N112","v":1542.5591361224801},{"$f":"'[1]FinStat_Wastewater Network'!$O112","v":1561.8240609276995},{"$f":"'[1]FinStat_Wastewater Network'!$P112","v":1577.7753307239359},null,9211.5241738514014,null,{"$f":"'[2]FinStat_Wastewater Network'!$J112","v":0},{"$f":"'[2]FinStat_Wastewater Network'!$K112","v":1182.0366851749413},{"$f":"'[2]FinStat_Wastewater Network'!$L112","v":1209.0256114384188},{"$f":"'[2]FinStat_Wastewater Network'!$M112","v":1238.3482703781688},{"$f":"'[2]FinStat_Wastewater Network'!$N112","v":1264.6562084085547},{"$f":"'[2]FinStat_Wastewater Network'!$O112","v":1289.7886812777112},{"$f":"'[2]FinStat_Wastewater Network'!$P112","v":1307.90447600279},null,7491.7599326805848,null,0,314.2,299.404,286.35199999999998,277.90300000000002,272.03500000000003,269.87099999999998,null,1719.7639999999999,null,0,0.26581239308448235,0.24764074240229611,0.23123704926123356,0.21974588678903778,0.21091439547330523,0.2063384635128539,null,0.22955407213437773]
[null,null,null,null,null,null,null,null,null,null,null,null,null,null,null,null,null,null,null,null,null,null,null,null,null,null,null,null,0,0,0,0,0,0,0,null,0,null,0,0,0,0,0,0,0,null,0]
[null,"Equity",null,null,null,null,null,null,null,null,null,null,null,null,null,null,null,null,null,null,null,null,null,null,null,null,null,null,0,0,0,0,0,0,0,null,0,null,0,0,0,0,0,0,0,null,0]
[null,null,null,null,"Called up share capital balance - WWN - nominal","BS","£m",null,{"$f":"'[1]FinStat_Wastewater Network'!$J115","v":0},{"$f":"'[1]FinStat_Wastewater Network'!$K115","v":5.7444559335175445},{"$f":"'[1]FinStat_Wastewater Network'!$L115","v":5.7444559335175445},{"$f":"'[1]FinStat_Wastewater Network'!$M115","v":5.7444559335175445},{"$f":"'[1]FinStat_Wastewater Network'!$N115","v":5.7444559335175445},{"$f":"'[1]FinStat_Wastewater Network'!$O115","v":5.7444559335175445},{"$f":"'[1]FinStat_Wastewater Network'!$P115","v":5.7444559335175445},null,34.466735601105263,null,{"$f":"'[2]FinStat_Wastewater Network'!$J115","v":0},{"$f":"'[2]FinStat_Wastewater Network'!$K115","v":5.7372668169045387},{"$f":"'[2]FinStat_Wastewater Network'!$L115","v":5.7372668169045387},{"$f":"'[2]FinStat_Wastewater Network'!$M115","v":5.7372668169045387},{"$f":"'[2]FinStat_Wastewater Network'!$N115","v":5.7372668169045387},{"$f":"'[2]FinStat_Wastewater Network'!$O115","v":5.7372668169045387},{"$f":"'[2]FinStat_Wastewater Network'!$P115","v":5.7372668169045387},null,34.423600901427228,null,0,7.0000000000000001E-3,7.0000000000000001E-3,7.0000000000000001E-3,7.0000000000000001E-3,7.0000000000000001E-3,7.0000000000000001E-3,null,4.2999999999999997E-2,null,0,1.2200931599302455E-3,1.2200931599302455E-3,1.2200931599302455E-3,1.2200931599302455E-3,1.2200931599302455E-3,1.2200931599302455E-3,null,1.2491429970714419E-3]
[null,null,null,null,"Non-distributable reserves balance - WWN - nominal","BS","£m",null,{"$f":"'[1]FinStat_Wastewater Network'!$J116","v":0},{"$f":"'[1]FinStat_Wastewater Network'!$K116","v":443.74830639795664},{"$f":"'[1]FinStat_Wastewater Network'!$L116","v":443.74830639795664},{"$f":"'[1]FinStat_Wastewater Network'!$M116","v":443.74830639795664},{"$f":"'[1]FinStat_Wastewater Network'!$N116","v":443.74830639795664},{"$f":"'[1]FinStat_Wastewater Network'!$O116","v":443.74830639795664},{"$f":"'[1]FinStat_Wastewater Network'!$P116","v":443.74830639795664},null,2662.4898383877398,null,{"$f":"'[2]FinStat_Wastewater Network'!$J116","v":0},{"$f":"'[2]FinStat_Wastewater Network'!$K116","v":443.19296079892348},{"$f":"'[2]FinStat_Wastewater Network'!$L116","v":443.19296079892348},{"$f":"'[2]FinStat_Wastewater Network'!$M116","v":443.19296079892348},{"$f":"'[2]FinStat_Wastewater Network'!$N116","v":443.19296079892348},{"$f":"'[2]FinStat_Wastewater Network'!$O116","v":443.19296079892348},{"$f":"'[2]FinStat_Wastewater Network'!$P116","v":443.19296079892348},null,2659.157764793541,null,0,0.55500000000000005,0.55500000000000005,0.55500000000000005,0.55500000000000005,0.55500000000000005,0.55500000000000005,null,3.3319999999999999,null,0,1.2522762071841735E-3,1.2522762071841735E-3,1.2522762071841735E-3,1.2522762071841735E-3,1.2522762071841735E-3,1.2522762071841735E-3,null,1.2530283250263262E-3]
[null,null,null,null,"Retained earnings balance - WWN - nominal","BS","£m",null,{"$f":"'[1]FinStat_Wastewater Network'!$J117","v":0},{"$f":"'[1]FinStat_Wastewater Network'!$K117","v":1046.743567247574},{"$f":"'[1]FinStat_Wastewater Network'!$L117","v":1058.9365501211441},{"$f":"'[1]FinStat_Wastewater Network'!$M117","v":1075.2072417141458},{"$f":"'[1]FinStat_Wastewater Network'!$N117","v":1093.0663737910074},{"$f":"'[1]FinStat_Wastewater Network'!$O117","v":1112.3312985962248},{"$f":"'[1]FinStat_Wastewater Network'!$P117","v":1128.2825683924623},null,6514.5675998625584,null,{"$f":"'[2]FinStat_Wastewater Network'!$J117","v":0},{"$f":"'[2]FinStat_Wastewater Network'!$K117","v":733.10645755911332},{"$f":"'[2]FinStat_Wastewater Network'!$L117","v":760.09538382259154},{"$f":"'[2]FinStat_Wastewater Network'!$M117","v":789.41804276234177},{"$f":"'[2]FinStat_Wastewater Network'!$N117","v":815.72598079272768},{"$f":"'[2]FinStat_Wastewater Network'!$O117","v":840.85845366188369},{"$f":"'[2]FinStat_Wastewater Network'!$P117","v":858.97424838696236},null,4798.1785669856208,null,0,313.637,298.84100000000001,285.78899999999999,277.33999999999997,271.47300000000001,269.30799999999999,null,1716.3889999999999,null,0,0.42781917519081486,0.39316249823423527,0.36202491521471114,0.33999162283697182,0.32285219803375087,0.31352278663268901,null,0.35771678274122548]
[null,null,null,null,"Total equity- WW - nominal",null,"£m",null,{"$f":"'[1]FinStat_Wastewater Network'!$J118","v":0},{"$f":"'[1]FinStat_Wastewater Network'!$K118","v":1496.2363295790483},{"$f":"'[1]FinStat_Wastewater Network'!$L118","v":1508.4293124526184},{"$f":"'[1]FinStat_Wastewater Network'!$M118","v":1524.7000040456201},{"$f":"'[1]FinStat_Wastewater Network'!$N118","v":1542.5591361224815},{"$f":"'[1]FinStat_Wastewater Network'!$O118","v":1561.8240609276991},{"$f":"'[1]FinStat_Wastewater Network'!$P118","v":1577.7753307239363},null,9211.5241738514051,null,{"$f":"'[2]FinStat_Wastewater Network'!$J118","v":0},{"$f":"'[2]FinStat_Wastewater Network'!$K118","v":1182.0366851749413},{"$f":"'[2]FinStat_Wastewater Network'!$L118","v":1209.0256114384197},{"$f":"'[2]FinStat_Wastewater Network'!$M118","v":1238.3482703781697},{"$f":"'[2]FinStat_Wastewater Network'!$N118","v":1264.6562084085558},{"$f":"'[2]FinStat_Wastewater Network'!$O118","v":1289.7886812777117},{"$f":"'[2]FinStat_Wastewater Network'!$P118","v":1307.9044760027905},null,7491.7599326805885,null,0,314.2,299.404,286.35199999999998,277.90300000000002,272.03500000000003,269.87099999999998,null,1719.7639999999999,null,0,0.26581239308448235,0.24764074240229592,0.23123704926123337,0.21974588678903759,0.21091439547330515,0.20633846351285381,null,0.22955407213437762]
[]
["Calculations"]
[]
[null,null,null,null,"Net debt",null,"£m",null,{"$f":"SUM(I97,I104:I105)","v":0},{"$f":"SUM(J97,J104:J105)","v":3334.4877226596277},{"$f":"SUM(K97,K104:K105)","v":3210.6401939872026},3122.5869902484064,3025.2538667807248,2810.9493571363023,2706.0446704512037,null,{"$f":"SUM(I126:O126)","v":18209.962801263468},null,{"$f":"SUM(S97,S104:S105)","v":0},{"$f":"SUM(T97,T104:T105)","v":3300.1366814301832},{"$f":"SUM(U97,U104:U105)","v":3206.060666192026},3132.797917552286,3035.2754780220998,2934.8567958086514,2955.7287423453658,null,{"$f":"SUM(S126:Y126)","v":18564.856281350614},null,{"$f":"ROUND(I126 - S126, 3)","v":0},34.350999999999999,4.58,-10.211,-10.022,-123.907,-249.684,null,{"$f":"ROUND(Q126 - AA126, 3)","v":-354.89299999999997},null,{"$f":"IF(S126 = 0, 0, AC126 / S126)","v":0},{"$f":"IF(T126 = 0, 0, AD126 / T126)","v":1.0408962814568419E-2},{"$f":"IF(U126 = 0, 0, AE126 / U126)","v":1.4285443966473223E-3},{"$f":"IF(V126 = 0, 0, AF126 / V126)","v":-3.2593867426910341E-3},{"$f":"IF(W126 = 0, 0, AG126 / W126)","v":-3.3018419819115445E-3},{"$f":"IF(X126 = 0, 0, AH126 / X126)","v":-4.2219095724518804E-2},{"$f":"IF(Y126 = 0, 0, AI126 / Y126)","v":-8.4474598911223553E-2},null,{"$f":"IF(AA126 = 0, 0, AK126 / AA126)","v":-1.9116388224158183E-2}]
[null,null,null,null,"Average net debt",null,"£m",null,null,{"$f":"SUM(I97:J97,I104:J105)","v":3334.4877226596277},{"$f":"SUM(J97:K97,J104:K105)","v":6545.1279166468303},6333.2271842356095,6147.8408570291322,5836.2032239170276,5516.994027587506,null,{"$f":"SUM(I127:O127)","v":33713.880932075735},null,null,{"$f":"SUM(S97:T97,S104:T105)","v":3300.1366814301832},{"$f":"SUM(T97:U97,T104:U105)","v":6506.1973476222092},{"$f":"SUM(U97:V97,U104:V105)","v":6338.8585837443115},{"$f":"SUM(V97:W97,V104:W105)","v":6168.0733955743854},{"$f":"SUM(W97:X97,W104:X105)","v":5970.1322738307517},{"$f":"SUM(X97:Y97,X104:Y105)","v":5890.5855381540168},null,{"$f":"SUM(S127:Y127)","v":34173.983820355854},null,0,34.350999999999999,38.930999999999997,-5.6310000000000002,-20.233000000000001,-133.929,-373.59199999999998,null,{"$f":"ROUND(Q127 - AA127, 3)","v":-460.10300000000001},null,0,1.0408962814568419E-2,5.9836795473515621E-3,-8.8833027675367618E-4,-3.2802787357422256E-3,-2.243317130293063E-2,-6.3421878449977612E-2,null,-1.3463545907279854E-2]
[]
[null,null,null,null,"Total interest as a percentage of average net debt",null,"%",null,null,{"$f":" IF( J127 = 0, 0, SUM( J27:J28 ) / J127 )","v":0},{"$f":" IF( K127 = 0, 0, SUM( K27:K28 ) / K127 )","v":-1.8771853315824642E-2},-2.0485133302799975E-2,-2.214024472414192E-2,-2.4889234899309387E-2,{"$f":" IF( O127 = 0, 0, SUM( O27:O28 ) / O127 )","v":-2.8029567880000144E-2},null,null,null,null,{"$f":" IF( T127 = 0, 0, SUM( T27:T28 ) / T127 )","v":0},{"$f":" IF( U127 = 0, 0, SUM( U27:U28 ) / U127 )","v":-1.7812919516580508E-2},-1.9175998343434673E-2,-2.0646812820917716E-2,-2.240712532110933E-2,{"$f":" IF( Y127 = 0, 0, SUM( Y27:Y28 ) / Y127 )","v":-2.3400253828125633E-2},null,null,null,null,{"$f":"ROUND(J129 - T129, 3)","v":0},-1E-3,-1E-3,-1E-3,-2E-3,-5.0000000000000001E-3,null,null,null,null,0,5.6139028701566097E-2,5.2148523487037753E-2,4.8433625503054842E-2,8.9257322005328266E-2,0.21367289588928795]

{"sheet":"FinStat_Bio Resources","index":9,"n_rows":129,"n_cols":47,"rows_kept":129,"cut":false,"hidden":false,"merged":[[0,8,0,16],[0,18,0,26],[0,28,0,36],[0,38,0,46]]}
[null,null,null,null,{"$f":" RIGHT(CELL(\"FILENAME\", $A$1), LEN(CELL(\"FILENAME\", $A$1)) - SEARCH(\"]\", CELL(\"FILENAME\", $A$1)))","v":"FinStat_Bio Resources"},null,null,null,{"$f":"'Front sheet'!$F5 & \": \" & 'Front sheet'!$G5 & \" - \" & 'Front sheet'!$H5","v":"Model 1: ANH - Company 1 April NTN Post"},null,null,null,null,null,null,null,null,null,{"$f":"'Front sheet'!$F6 & \": \" & 'Front sheet'!$G6 & \" - \" & 'Front sheet'!$H6","v":"Model 2: ANH - Ofwat FD NTN Post "},null,null,null,null,null,null,null,null,null,{"$f":"\"Delta (\" & 'Front sheet'!$F5 & \" - \" & 'Front sheet'!$F6 & \")\"","v":"Delta (Model 1 - Model 2)"},null,null,null,null,null,null,null,null,null,{"$f":"\"Delta  (\" & 'Front sheet'!$F5 & \" - \" & 'Front sheet'!$F6 & \") - %\"","v":"Delta  (Model 1 - Model 2) - %"}]
[]
[null,null,null,"Model period ending",null,null,null,null,"2019-03-31","2020-03-31","2021-03-31","2022-03-31","2023-03-31","2024-03-31","2025-03-31",null,null,null,"2019-03-31","2020-03-31","2021-03-31","2022-03-31","2023-03-31","2024-03-31","2025-03-31",null,null,null,"2019-03-31","2020-03-31","2021-03-31","2022-03-31","2023-03-31","2024-03-31","2025-03-31",null,null,null,"2019-03-31","2020-03-31","2021-03-31","2022-03-31","2023-03-31","2024-03-31","2025-03-31"]
[null,null,null,"Timeline label",null,null,null,null,"Pre-Fcst","Pre-Fcst","Forecast","Forecast","Forecast","Forecast","Forecast",null,"Total",null,"Pre-Fcst","Pre-Fcst","Forecast","Forecast","Forecast","Forecast","Forecast",null,"Total",null,"Pre-Fcst","Pre-Fcst","Forecast","Forecast","Forecast","Forecast","Forecast",null,"Total",null,"Pre-Fcst","Pre-Fcst","Forecast","Forecast","Forecast","Forecast","Forecast",null,"Total"]
[null,null,null,"Financial year ending",null,null,null,null,2019,2020,2021,2022,2023,2024,2025,null,null,null,2019,2020,2021,2022,2023,2024,2025,null,null,null,2019,2020,2021,2022,2023,2024,2025,null,null,null,2019,2020,2021,2022,2023,2024,2025]
[null,null,null,"Model column counter",null,null,null,null,1,2,3,4,5,6,7,null,null,null,1,2,3,4,5,6,7,null,null,null,1,2,3,4,5,6,7,null,null,null,1,2,3,4,5,6,7]
[]
[null,null,null,null,{"$f":"'Front sheet'!$F5 & \": \" & 'Front sheet'!$G5 & \" - \" & 'Front sheet'!$I5","v":"Model 1: ANH - "}]
[null,null,null,null,{"$f":"'Front sheet'!$F6 & \": \" & 'Front sheet'!$G6 & \" - \" & 'Front sheet'!$I6","v":"Model 2: ANH - "}]
[null,null,null,null,"3rd model not in use"]
[]
[null,null,null,"Check Delta (numbers)",null,null,null,null,null,null,null,null,null,null,null,null,null,null,null,null,null,null,null,null,null,null,null,null,{"$f":"COUNTIF(AC19:AC310,\"<>0\") - COUNTBLANK(AC19:AC310) - AC13","v":0},25,57,57,57,57,58,null,{"$f":"COUNTIF(AK19:AK310,\"<>0\") - COUNTBLANK(AK19:AK310) - AK13","v":59},null,{"$f":"COUNTIF(AM19:AM310,\"<>0\") - COUNTBLANK(AM19:AM310) - AM13","v":0},25,57,57,57,56,57,null,{"$f":"COUNTIF(AU19:AU310,\"<>0\") - COUNTBLANK(AU19:AU310) - AU13","v":59}]
[null,null,null,"Check Delta (errors)",null,null,null,null,null,null,null,null,null,null,null,null,null,null,null,null,null,null,null,null,null,null,null,null,{"$f":"COUNT( IF( ISERROR(AC19:AC308), 1) )","v":1},{"$f":"COUNT( IF( ISERROR(AD19:AD308), 1) )","v":1},{"$f":"COUNT( IF( ISERROR(AE19:AE308), 1) )","v":1},{"$f":"COUNT( IF( ISERROR(AF19:AF308), 1) )","v":1},{"$f":"COUNT( IF( ISERROR(AG19:AG308), 1) )","v":1},{"$f":"COUNT( IF( ISERROR(AH19:AH308), 1) )","v":1},{"$f":"COUNT( IF( ISERROR(AI19:AI308), 1) )","v":1},null,{"$f":"COUNT( IF( ISERROR(AK19:AK308), 1) )","v":0},null,{"$f":"COUNT( IF( ISERROR(AM19:AM308), 1) )","v":1},{"$f":"COUNT( IF( ISERROR(AN19:AN308), 1) )","v":1},{"$f":"COUNT( IF( ISERROR(AO19:AO308), 1) )","v":1},{"$f":"COUNT( IF( ISERROR(AP19:AP308), 1) )","v":1},{"$f":"COUNT( IF( ISERROR(AQ19:AQ308), 1) )","v":1},{"$f":"COUNT( IF( ISERROR(AR19:AR308), 1) )","v":1},{"$f":"COUNT( IF( ISERROR(AS19:AS308), 1) )","v":1},null,{"$f":"COUNT( IF( ISERROR(AU19:AU308), 1) )","v":0}]
[]
["PROFIT & LOSS"]
[]
[null,null,null,null,"Revenue requirement incl. tax charge - BR - nominal","PL","£m",null,{"$f":"'[1]FinStat_Bio Resources'!$J9","v":0},{"$f":"'[1]FinStat_Bio Resources'!$K9","v":0},{"$f":"'[1]FinStat_Bio Resources'!$L9","v":117.34992441052326},{"$f":"'[1]FinStat_Bio Resources'!$M9","v":121.43274124508478},{"$f":"'[1]FinStat_Bio Resources'!$N9","v":121.66163745640272},{"$f":"'[1]FinStat_Bio Resources'!$O9","v":122.83827680874899},{"$f":"'[1]FinStat_Bio Resources'!$P9","v":123.26566280478424},null,{"$f":"SUM(I17:O17)","v":606.54824272554401},null,{"$f":"'[2]FinStat_Bio Resources'!$J9","v":0},{"$f":"'[2]FinStat_Bio Resources'!$K9","v":0},{"$f":"'[2]FinStat_Bio Resources'!$L9","v":105.71557378567393},{"$f":"'[2]FinStat_Bio Resources'!$M9","v":105.5722861386386},{"$f":"'[2]FinStat_Bio Resources'!$N9","v":105.90779821157096},{"$f":"'[2]FinStat_Bio Resources'!$O9","v":104.16475107649681},{"$f":"'[2]FinStat_Bio Resources'!$P9","v":105.32380211787009},null,{"$f":"SUM(S17:Y17)","v":526.68421133025038},null,{"$f":"ROUND(I17 - S17, 3)","v":0},{"$f":"ROUND(J17 - T17, 3)","v":0},{"$f":"ROUND(K17 - U17, 3)","v":11.634},{"$f":"ROUND(L17 - V17, 3)","v":15.86},{"$f":"ROUND(M17 - W17, 3)","v":15.754},{"$f":"ROUND(N17 - X17, 3)","v":18.673999999999999},{"$f":"ROUND(O17 - Y17, 3)","v":17.942},null,{"$f":"ROUND(Q17 - AA17, 3)","v":79.864000000000004},null,{"$f":"IF(S17 = 0, 0, AC17 / S17)","v":0},{"$f":"IF(T17 = 0, 0, AD17 / T17)","v":0},{"$f":"IF(U17 = 0, 0, AE17 / U17)","v":0.11005001045150251},{"$f":"IF(V17 = 0, 0, AF17 / V17)","v":0.1502288202717566},{"$f":"IF(W17 = 0, 0, AG17 / W17)","v":0.14875203021904382},{"$f":"IF(X17 = 0, 0, AH17 / X17)","v":0.17927369678334021},{"$f":"IF(Y17 = 0, 0, AI17 / Y17)","v":0.17035085744360737},null,{"$f":"IF(AA17 = 0, 0, AK17 / AA17)","v":0.15163545494991559}]
[null,null,null,null,"Total direct procurement from customers - infrastructure cost (as revenue) - BR - nominal","PL","£m",null,{"$f":"'[1]FinStat_Bio Resources'!$J10","v":0},{"$f":"'[1]FinStat_Bio Resources'!$K10","v":0},{"$f":"'[1]FinStat_Bio Resources'!$L10","v":0},{"$f":"'[1]FinStat_Bio Resources'!$M10","v":0},{"$f":"'[1]FinStat_Bio Resources'!$N10","v":0},{"$f":"'[1]FinStat_Bio Resources'!$O10","v":0},{"$f":"'[1]FinStat_Bio Resources'!$P10","v":0},null,{"$f":"SUM(I18:O18)","v":0},null,{"$f":"'[2]FinStat_Bio Resources'!$J10","v":0},{"$f":"'[2]FinStat_Bio Resources'!$K10","v":0},{"$f":"'[2]FinStat_Bio Resources'!$L10","v":0},{"$f":"'[2]FinStat_Bio Resources'!$M10","v":0},{"$f":"'[2]FinStat_Bio Resources'!$N10","v":0},{"$f":"'[2]FinStat_Bio Resources'!$O10","v":0},{"$f":"'[2]FinStat_Bio Resources'!$P10","v":0},null,{"$f":"SUM(S18:Y18)","v":0},null,0,0,0,0,0,0,0,null,0,null,0,0,0,0,0,0,0,null,0]
[null,null,null,null,"Operating expenditure - BR - nominal","PL","£m",null,{"$f":"'[1]FinStat_Bio Resources'!$J11","v":0},{"$f":"'[1]FinStat_Bio Resources'!$K11","v":0},{"$f":"'[1]FinStat_Bio Resources'!$L11","v":-84.840451144278404},{"$f":"'[1]FinStat_Bio Resources'!$M11","v":-87.787724036976186},{"$f":"'[1]FinStat_Bio Resources'!$N11","v":-86.894149589795035},{"$f":"'[1]FinStat_Bio Resources'!$O11","v":-87.452861221958827},{"$f":"'[1]FinStat_Bio Resources'!$P11","v":-87.232681502664818},null,-434.20786749567327,null,{"$f":"'[2]FinStat_Bio Resources'!$J11","v":0},{"$f":"'[2]FinStat_Bio Resources'!$K11","v":0},{"$f":"'[2]FinStat_Bio Resources'!$L11","v":-70.733308910113522},{"$f":"'[2]FinStat_Bio Resources'!$M11","v":-70.809001292052017},{"$f":"'[2]FinStat_Bio Resources'!$N11","v":-71.859562230644883},{"$f":"'[2]FinStat_Bio Resources'!$O11","v":-73.336633078490564},{"$f":"'[2]FinStat_Bio Resources'!$P11","v":-74.691510712066233},null,-361.43001622336726,null,0,0,-14.106999999999999,-16.978999999999999,-15.035,-14.116,-12.541,null,-72.778000000000006,null,0,0,0.19943927715762447,0.23978589854657098,0.20922754791829565,0.19248224805864703,0.16790395428397772,null,0.20136125040323849]
[null,null,null,null,"Operating income - BR - nominal","PL","£m",null,{"$f":"'[1]FinStat_Bio Resources'!$J12","v":0},{"$f":"'[1]FinStat_Bio Resources'!$K12","v":0},{"$f":"'[1]FinStat_Bio Resources'!$L12","v":0},{"$f":"'[1]FinStat_Bio Resources'!$M12","v":0},{"$f":"'[1]FinStat_Bio Resources'!$N12","v":0},{"$f":"'[1]FinStat_Bio Resources'!$O12","v":0},{"$f":"'[1]FinStat_Bio Resources'!$P12","v":0},null,0,null,{"$f":"'[2]FinStat_Bio Resources'!$J12","v":0},{"$f":"'[2]FinStat_Bio Resources'!$K12","v":0},{"$f":"'[2]FinStat_Bio Resources'!$L12","v":0},{"$f":"'[2]FinStat_Bio Resources'!$M12","v":0},{"$f":"'[2]FinStat_Bio Resources'!$N12","v":0},{"$f":"'[2]FinStat_Bio Resources'!$O12","v":0},{"$f":"'[2]FinStat_Bio Resources'!$P12","v":0},null,0,null,0,0,0,0,0,0,0,null,0,null,0,0,0,0,0,0,0,null,0]
[null,null,null,null,"EBITDA - BR - nominal",null,"£m",null,{"$f":"'[1]FinStat_Bio Resources'!$J13","v":0},{"$f":"'[1]FinStat_Bio Resources'!$K13","v":0},{"$f":"'[1]FinStat_Bio Resources'!$L13","v":32.509473266244854},{"$f":"'[1]FinStat_Bio Resources'!$M13","v":33.645017208108598},{"$f":"'[1]FinStat_Bio Resources'!$N13","v":34.767487866607681},{"$f":"'[1]FinStat_Bio Resources'!$O13","v":35.38541558679016},{"$f":"'[1]FinStat_Bio Resources'!$P13","v":36.032981302119424},null,172.34037522987072,null,{"$f":"'[2]FinStat_Bio Resources'!$J13","v":0},{"$f":"'[2]FinStat_Bio Resources'!$K13","v":0},{"$f":"'[2]FinStat_Bio Resources'!$L13","v":34.982264875560404},{"$f":"'[2]FinStat_Bio Resources'!$M13","v":34.763284846586586},{"$f":"'[2]FinStat_Bio Resources'!$N13","v":34.04823598092608},{"$f":"'[2]FinStat_Bio Resources'!$O13","v":30.828117998006249},{"$f":"'[2]FinStat_Bio Resources'!$P13","v":30.632291405803855},null,165.25419510688317,null,0,0,-2.4729999999999999,-1.1180000000000001,0.71899999999999997,4.5570000000000004,5.4009999999999998,null,7.0860000000000003,null,0,0,-7.069296424336742E-2,-3.2160367034756117E-2,2.1117099881555856E-2,0.14781959768983355,0.17631720488845573,null,4.2879395560378446E-2]
[null,null,null,null,null,null,null,null,null,null,null,null,null,null,null,null,null,null,null,null,null,null,null,null,null,null,null,null,0,0,0,0,0,0,0,null,0,null,0,0,0,0,0,0,0,null,0]
[null,null,null,null,"Wholesale fixed assets depreciation - BR - nominal","PL","£m",null,{"$f":"'[1]FinStat_Bio Resources'!$J15","v":0},{"$f":"'[1]FinStat_Bio Resources'!$K15","v":0},{"$f":"'[1]FinStat_Bio Resources'!$L15","v":-23.468784202144711},{"$f":"'[1]FinStat_Bio Resources'!$M15","v":-24.389079289490137},{"$f":"'[1]FinStat_Bio Resources'!$N15","v":-25.322152835786131},{"$f":"'[1]FinStat_Bio Resources'!$O15","v":-26.065599440625565},{"$f":"'[1]FinStat_Bio Resources'!$P15","v":-26.833365877341123},null,-126.07898164538766,null,{"$f":"'[2]FinStat_Bio Resources'!$J15","v":0},{"$f":"'[2]FinStat_Bio Resources'!$K15","v":0},{"$f":"'[2]FinStat_Bio Resources'!$L15","v":-23.311642981702391},{"$f":"'[2]FinStat_Bio Resources'!$M15","v":-23.939376258445705},{"$f":"'[2]FinStat_Bio Resources'!$N15","v":-24.589145731516055},{"$f":"'[2]FinStat_Bio Resources'!$O15","v":-25.088686995813362},{"$f":"'[2]FinStat_Bio Resources'!$P15","v":-25.541156077049077},null,-122.47000804452659,null,0,0,-0.157,-0.45,-0.73299999999999998,-0.97699999999999998,-1.292,null,-3.609,null,0,0,6.7348320375029474E-3,1.8797482237710435E-2,2.9809901002803424E-2,3.8941854556319967E-2,5.0585024268379651E-2,null,2.946843931526379E-2]
[null,null,null,null,"Earnings before interest and tax (EBIT) - BR - nominal",null,"£m",null,{"$f":"'[1]FinStat_Bio Resources'!$J16","v":0},{"$f":"'[1]FinStat_Bio Resources'!$K16","v":0},{"$f":"'[1]FinStat_Bio Resources'!$L16","v":9.0406890641001425},{"$f":"'[1]FinStat_Bio Resources'!$M16","v":9.2559379186184607},{"$f":"'[1]FinStat_Bio Resources'!$N16","v":9.4453350308215498},{"$f":"'[1]FinStat_Bio Resources'!$O16","v":9.3198161461645945},{"$f":"'[1]FinStat_Bio Resources'!$P16","v":9.1996154247783011},null,46.261393584483045,null,{"$f":"'[2]FinStat_Bio Resources'!$J16","v":0},{"$f":"'[2]FinStat_Bio Resources'!$K16","v":0},{"$f":"'[2]FinStat_Bio Resources'!$L16","v":11.670621893858012},{"$f":"'[2]FinStat_Bio Resources'!$M16","v":10.823908588140881},{"$f":"'[2]FinStat_Bio Resources'!$N16","v":9.4590902494100249},{"$f":"'[2]FinStat_Bio Resources'!$O16","v":5.7394310021928874},{"$f":"'[2]FinStat_Bio Resources'!$P16","v":5.0911353287547776},null,42.78418706235658,null,0,0,-2.63,-1.5680000000000001,-1.4E-2,3.58,4.1079999999999997,null,3.4769999999999999,null,0,0,-0.22535217265363641,-0.14486449023765458,-1.4800577678041711E-3,0.62375521173304027,0.80689271345783697,null,8.1268343253370318E-2]
[null,null,null,null,null,null,null,null,null,null,null,null,null,null,null,null,null,null,null,null,null,null,null,null,null,null,null,null,0,0,0,0,0,0,0,null,0,null,0,0,0,0,0,0,0,null,0]
[null,null,null,null,"Total other income (incl. 3rd party income) - BR - nominal","PL & CF","£m",null,{"$f":"'[1]FinStat_Bio Resources'!$J18","v":0},{"$f":"'[1]FinStat_Bio Resources'!$K18","v":0},{"$f":"'[1]FinStat_Bio Resources'!$L18","v":0.44376199999999999},{"$f":"'[1]FinStat_Bio Resources'!$M18","v":0.45286999999999994},{"$f":"'[1]FinStat_Bio Resources'!$N18","v":0.46197800000000006},{"$f":"'[1]FinStat_Bio Resources'!$O18","v":0.47133900000000006},{"$f":"'[1]FinStat_Bio Resources'!$P18","v":0.48095300000000007},null,2.310902,null,{"$f":"'[2]FinStat_Bio Resources'!$J18","v":0},{"$f":"'[2]FinStat_Bio Resources'!$K18","v":0},{"$f":"'[2]FinStat_Bio Resources'!$L18","v":0.44203408835569891},{"$f":"'[2]FinStat_Bio Resources'!$M18","v":0.45112519131456458},{"$f":"'[2]FinStat_Bio Resources'!$N18","v":0.46053704583435001},{"$f":"'[2]FinStat_Bio Resources'!$O18","v":0.47032950370120674},{"$f":"'[2]FinStat_Bio Resources'!$P18","v":0.48039342545401659},null,2.304419254659837,null,0,0,2E-3,2E-3,1E-3,1E-3,1E-3,null,6.0000000000000001E-3,null,0,0,4.5245379319945721E-3,4.4333591617264001E-3,2.1713779793508486E-3,2.126168977558518E-3,2.0816271560230174E-3,null,2.6036928774428592E-3]
[null,null,null,null,"Interest income /(expense) excl. indexation of index-linked loans - BR - nominal","PL & CF","£m",null,{"$f":"'[1]FinStat_Bio Resources'!$J19","v":0},{"$f":"'[1]FinStat_Bio Resources'!$K19","v":0},{"$f":"'[1]FinStat_Bio Resources'!$L19","v":-5.4446345132648215},{"$f":"'[1]FinStat_Bio Resources'!$M19","v":-4.1934072893617103},{"$f":"'[1]FinStat_Bio Resources'!$N19","v":-4.3378717673408591},{"$f":"'[1]FinStat_Bio Resources'!$O19","v":-4.2762018823122538},{"$f":"'[1]FinStat_Bio Resources'!$P19","v":-4.0232028666577158},null,-22.275318318937362,null,{"$f":"'[2]FinStat_Bio Resources'!$J19","v":0},{"$f":"'[2]FinStat_Bio Resources'!$K19","v":0},{"$f":"'[2]FinStat_Bio Resources'!$L19","v":-4.9870005165683118},{"$f":"'[2]FinStat_Bio Resources'!$M19","v":-3.5548121838193283},{"$f":"'[2]FinStat_Bio Resources'!$N19","v":-3.4084746717265504},{"$f":"'[2]FinStat_Bio Resources'!$O19","v":-3.0685407182683071},{"$f":"'[2]FinStat_Bio Resources'!$P19","v":-2.5306549373708829},null,-17.549483027753379,null,0,0,-0.45800000000000002,-0.63900000000000001,-0.92900000000000005,-1.208,-1.4930000000000001,null,-4.726,null,0,0,9.1838771317224982E-2,0.17975633224972565,0.27255593468424349,0.39367246874329237,0.58996585348419306,null,0.26929568195975545]
[null,null,null,null,"Indexation of index-linked loans - BR - nominal","PL","£m",null,{"$f":"'[1]FinStat_Bio Resources'!$J20","v":0},{"$f":"'[1]FinStat_Bio Resources'!$K20","v":0},{"$f":"'[1]FinStat_Bio Resources'!$L20","v":-1.9905870022320655},{"$f":"'[1]FinStat_Bio Resources'!$M20","v":-2.0503046122990272},{"$f":"'[1]FinStat_Bio Resources'!$N20","v":-2.1118137506679981},{"$f":"'[1]FinStat_Bio Resources'!$O20","v":-2.175168163188038},{"$f":"'[1]FinStat_Bio Resources'!$P20","v":-2.240423208083679},null,-10.56829673647081,null,{"$f":"'[2]FinStat_Bio Resources'!$J20","v":0},{"$f":"'[2]FinStat_Bio Resources'!$K20","v":0},{"$f":"'[2]FinStat_Bio Resources'!$L20","v":-1.9763370036239094},{"$f":"'[2]FinStat_Bio Resources'!$M20","v":-2.0356271137326267},{"$f":"'[2]FinStat_Bio Resources'!$N20","v":-2.0966959271446055},{"$f":"'[2]FinStat_Bio Resources'!$O20","v":-2.159596804958944},{"$f":"'[2]FinStat_Bio Resources'!$P20","v":-2.2243847091077118},null,-10.492641558567797,null,0,0,-1.4E-2,-1.4999999999999999E-2,-1.4999999999999999E-2,-1.6E-2,-1.6E-2,null,-7.5999999999999998E-2,null,0,0,7.0838121101456418E-3,7.3687365916910276E-3,7.1541131958165315E-3,7.408790364599644E-3,7.1930003539802381E-3,null,7.2431712811100437E-3]
[null,null,null,null,"Earnings before tax (EBT) - BR - nominal",null,"£m",null,{"$f":"'[1]FinStat_Bio Resources'!$J21","v":0},{"$f":"'[1]FinStat_Bio Resources'!$K21","v":0},{"$f":"'[1]FinStat_Bio Resources'!$L21","v":2.0492295486032548},{"$f":"'[1]FinStat_Bio Resources'!$M21","v":3.4650960169577232},{"$f":"'[1]FinStat_Bio Resources'!$N21","v":3.4576275128126923},{"$f":"'[1]FinStat_Bio Resources'!$O21","v":3.3397851006643027},{"$f":"'[1]FinStat_Bio Resources'!$P21","v":3.4169423500369067},null,15.728680529074879,null,{"$f":"'[2]FinStat_Bio Resources'!$J21","v":0},{"$f":"'[2]FinStat_Bio Resources'!$K21","v":0},{"$f":"'[2]FinStat_Bio Resources'!$L21","v":5.1493184620214905},{"$f":"'[2]FinStat_Bio Resources'!$M21","v":5.6845944819034901},{"$f":"'[2]FinStat_Bio Resources'!$N21","v":4.414456696373219},{"$f":"'[2]FinStat_Bio Resources'!$O21","v":0.98162298266684367},{"$f":"'[2]FinStat_Bio Resources'!$P21","v":0.81648910773019967},null,17.046481730695241,null,0,0,-3.1,-2.2189999999999999,-0.95699999999999996,2.3580000000000001,2.6,null,-1.3180000000000001,null,0,0,-0.60202141756503824,-0.39035326214807958,-0.21678771949133435,2.4021442464538239,3.1843658113552484,null,-7.7318007364927693E-2]
[null,null,null,null,null,null,null,null,null,null,null,null,null,null,null,null,null,null,null,null,null,null,null,null,null,null,null,null,0,0,0,0,0,0,0,null,0,null,0,0,0,0,0,0,0,null,0]
[null,null,null,null,"Bio resources tax - nominal","PL","£m",null,{"$f":"'[1]FinStat_Bio Resources'!$J23","v":0},{"$f":"'[1]FinStat_Bio Resources'!$K23","v":0},{"$f":"'[1]FinStat_Bio Resources'!$L23","v":0},{"$f":"'[1]FinStat_Bio Resources'!$M23","v":0},{"$f":"'[1]FinStat_Bio Resources'!$N23","v":0},{"$f":"'[1]FinStat_Bio Resources'!$O23","v":0},{"$f":"'[1]FinStat_Bio Resources'!$P23","v":0},null,0,null,{"$f":"'[2]FinStat_Bio Resources'!$J23","v":0},{"$f":"'[2]FinStat_Bio Resources'!$K23","v":0},{"$f":"'[2]FinStat_Bio Resources'!$L23","v":0},{"$f":"'[2]FinStat_Bio Resources'!$M23","v":0},{"$f":"'[2]FinStat_Bio Resources'!$N23","v":0},{"$f":"'[2]FinStat_Bio Resources'!$O23","v":0},{"$f":"'[2]FinStat_Bio Resources'!$P23","v":0},null,0,null,0,0,0,0,0,0,0,null,0,null,0,0,0,0,0,0,0,null,0]
[null,null,null,null,"Movement in deferred tax provision - BR - nominal","PL","£m",null,{"$f":"'[1]FinStat_Bio Resources'!$J24","v":0},{"$f":"'[1]FinStat_Bio Resources'!$K24","v":0},{"$f":"'[1]FinStat_Bio Resources'!$L24","v":1.972769814805742},{"$f":"'[1]FinStat_Bio Resources'!$M24","v":2.1565198825644645},{"$f":"'[1]FinStat_Bio Resources'!$N24","v":2.3411793424194531},{"$f":"'[1]FinStat_Bio Resources'!$O24","v":2.6565074266065212},{"$f":"'[1]FinStat_Bio Resources'!$P24","v":2.8051280424630596},null,11.93210450885924,null,{"$f":"'[2]FinStat_Bio Resources'!$J24","v":0},{"$f":"'[2]FinStat_Bio Resources'!$K24","v":0},{"$f":"'[2]FinStat_Bio Resources'!$L24","v":2.1079530923407654},{"$f":"'[2]FinStat_Bio Resources'!$M24","v":2.3393862981278555},{"$f":"'[2]FinStat_Bio Resources'!$N24","v":2.5887121294701196},{"$f":"'[2]FinStat_Bio Resources'!$O24","v":2.8946365089716632},{"$f":"'[2]FinStat_Bio Resources'!$P24","v":3.1382185719020383},null,13.068906600812442,null,0,0,-0.13500000000000001,-0.183,-0.248,-0.23799999999999999,-0.33300000000000002,null,-1.137,null,0,0,-6.4043170832653568E-2,-7.8225644112923848E-2,-9.580053230977166E-2,-8.2221031643296347E-2,-0.10611115585813786,null,-8.7000392207969207E-2]
[null,null,null,null,"Earnings after tax (EAT) - BR - nominal",null,"£m",null,{"$f":"'[1]FinStat_Bio Resources'!$J25","v":0},{"$f":"'[1]FinStat_Bio Resources'!$K25","v":0},{"$f":"'[1]FinStat_Bio Resources'!$L25","v":4.0219993634089963},{"$f":"'[1]FinStat_Bio Resources'!$M25","v":5.6216158995221877},{"$f":"'[1]FinStat_Bio Resources'!$N25","v":5.7988068552321455},{"$f":"'[1]FinStat_Bio Resources'!$O25","v":5.9962925272708238},{"$f":"'[1]FinStat_Bio Resources'!$P25","v":6.2220703924999663},null,27.660785037934119,null,{"$f":"'[2]FinStat_Bio Resources'!$J25","v":0},{"$f":"'[2]FinStat_Bio Resources'!$K25","v":0},{"$f":"'[2]FinStat_Bio Resources'!$L25","v":7.2572715543622559},{"$f":"'[2]FinStat_Bio Resources'!$M25","v":8.0239807800313461},{"$f":"'[2]FinStat_Bio Resources'!$N25","v":7.0031688258433391},{"$f":"'[2]FinStat_Bio Resources'!$O25","v":3.8762594916385069},{"$f":"'[2]FinStat_Bio Resources'!$P25","v":3.954707679632238},null,30.115388331507688,null,0,0,-3.2349999999999999,-2.4020000000000001,-1.204,2.12,2.2669999999999999,null,-2.4550000000000001,null,0,0,-0.44575981148941318,-0.29935266120996573,-0.17192217265375026,0.54691900905320179,0.57324085208007491,null,-8.1519785598497499E-2]
[null,null,null,null,null,null,null,null,null,null,null,null,null,null,null,null,null,null,null,null,null,null,null,null,null,null,null,null,0,0,0,0,0,0,0,null,0,null,0,0,0,0,0,0,0,null,0]
[null,null,null,null,"Ordinary dividend declared - BR - nominal","PL","£m",null,{"$f":"'[1]FinStat_Bio Resources'!$J27","v":0},{"$f":"'[1]FinStat_Bio Resources'!$K27","v":0},{"$f":"'[1]FinStat_Bio Resources'!$L27","v":-3.6635054132742999},{"$f":"'[1]FinStat_Bio Resources'!$M27","v":-3.7872219910805738},{"$f":"'[1]FinStat_Bio Resources'!$N27","v":-3.9151164777193657},{"$f":"'[1]FinStat_Bio Resources'!$O27","v":-4.0473299611719487},{"$f":"'[1]FinStat_Bio Resources'!$P27","v":-4.1840082939607255},null,-19.597182137206914,null,{"$f":"'[2]FinStat_Bio Resources'!$J27","v":0},{"$f":"'[2]FinStat_Bio Resources'!$K27","v":0},{"$f":"'[2]FinStat_Bio Resources'!$L27","v":-2.5300660483616348},{"$f":"'[2]FinStat_Bio Resources'!$M27","v":-2.6112267177198745},{"$f":"'[2]FinStat_Bio Resources'!$N27","v":-2.6968648130081676},{"$f":"'[2]FinStat_Bio Resources'!$O27","v":-2.7859902619755004},{"$f":"'[2]FinStat_Bio Resources'!$P27","v":-2.8780611109552177},null,-13.502208952020395,null,0,0,-1.133,-1.1759999999999999,-1.218,-1.2609999999999999,-1.306,null,-6.0949999999999998,null,0,0,0.44781439628174274,0.45036303895775248,0.45163554143502083,0.4526218261458837,0.45377771689029339,null,0.45140761942422603]
[null,null,null,null,"Retained earnings - BR - nominal",null,"£m",null,{"$f":"'[1]FinStat_Bio Resources'!$J28","v":0},{"$f":"'[1]FinStat_Bio Resources'!$K28","v":0},{"$f":"'[1]FinStat_Bio Resources'!$L28","v":0.35849395013469643},{"$f":"'[1]FinStat_Bio Resources'!$M28","v":1.8343939084416139},{"$f":"'[1]FinStat_Bio Resources'!$N28","v":1.8836903775127798},{"$f":"'[1]FinStat_Bio Resources'!$O28","v":1.9489625660988752},{"$f":"'[1]FinStat_Bio Resources'!$P28","v":2.0380620985392408},null,8.0636029007272061,null,{"$f":"'[2]FinStat_Bio Resources'!$J28","v":0},{"$f":"'[2]FinStat_Bio Resources'!$K28","v":0},{"$f":"'[2]FinStat_Bio Resources'!$L28","v":4.7272055060006206},{"$f":"'[2]FinStat_Bio Resources'!$M28","v":5.4127540623114712},{"$f":"'[2]FinStat_Bio Resources'!$N28","v":4.3063040128351719},{"$f":"'[2]FinStat_Bio Resources'!$O28","v":1.0902692296630065},{"$f":"'[2]FinStat_Bio Resources'!$P28","v":1.0766465686770204},null,16.613179379487292,null,0,0,-4.3689999999999998,-3.5779999999999998,-2.423,0.85899999999999999,0.96099999999999997,null,-8.5500000000000007,null,0,0,-0.92422468082973719,-0.66103132690127153,-0.56266347958205398,0.7878787886781965,0.89258632122969894,null,-0.51465163920139811]
[null,null,null,null,null,null,null,null,null,null,null,null,null,null,null,null,null,null,null,null,null,null,null,null,null,null,null,null,0,0,0,0,0,0,0,null,0,null,0,0,0,0,0,0,0,null,0]
[null,"Retained earnings balance - BR",null,null,null,null,null,null,null,null,null,null,null,null,null,null,null,null,null,null,null,null,null,null,null,null,null,null,0,0,0,0,0,0,0,null,0,null,0,0,0,0,0,0,0,null,0]
[null,null,null,null,"Accumulated profit reserve b/f - BR - nominal",0,"£m",null,{"$f":"'[1]FinStat_Bio Resources'!$J31","v":0},{"$f":"'[1]FinStat_Bio Resources'!$K31","v":21.672917914872365},{"$f":"'[1]FinStat_Bio Resources'!$L31","v":0},{"$f":"'[1]FinStat_Bio Resources'!$M31","v":0},{"$f":"'[1]FinStat_Bio Resources'!$N31","v":0},{"$f":"'[1]FinStat_Bio Resources'!$O31","v":0},{"$f":"'[1]FinStat_Bio Resources'!$P31","v":0},null,21.672917914872365,null,{"$f":"'[2]FinStat_Bio Resources'!$J31","v":0},{"$f":"'[2]FinStat_Bio Resources'!$K31","v":-2.9258383349021315},{"$f":"'[2]FinStat_Bio Resources'!$L31","v":0},{"$f":"'[2]FinStat_Bio Resources'!$M31","v":0},{"$f":"'[2]FinStat_Bio Resources'!$N31","v":0},{"$f":"'[2]FinStat_Bio Resources'!$O31","v":0},{"$f":"'[2]FinStat_Bio Resources'!$P31","v":0},null,-2.9258383349021315,null,0,24.599,0,0,0,0,0,null,24.599,null,0,-8.4075048530741299,0,0,0,0,0,null,-8.4075048530741299]
[null,null,null,null,"Last pre-forecast period flag",0,"flag",null,{"$f":"'[1]FinStat_Bio Resources'!$J32","v":0},{"$f":"'[1]FinStat_Bio Resources'!$K32","v":1},{"$f":"'[1]FinStat_Bio Resources'!$L32","v":0},{"$f":"'[1]FinStat_Bio Resources'!$M32","v":0},{"$f":"'[1]FinStat_Bio Resources'!$N32","v":0},{"$f":"'[1]FinStat_Bio Resources'!$O32","v":0},{"$f":"'[1]FinStat_Bio Resources'!$P32","v":0},null,1,null,{"$f":"'[2]FinStat_Bio Resources'!$J32","v":0},{"$f":"'[2]FinStat_Bio Resources'!$K32","v":1},{"$f":"'[2]FinStat_Bio Resources'!$L32","v":0},{"$f":"'[2]FinStat_Bio Resources'!$M32","v":0},{"$f":"'[2]FinStat_Bio Resources'!$N32","v":0},{"$f":"'[2]FinStat_Bio Resources'!$O32","v":0},{"$f":"'[2]FinStat_Bio Resources'!$P32","v":0},null,1,null,0,0,0,0,0,0,0,null,0,null,0,0,0,0,0,0,0,null,0]
[null,null,null,null,null,null,null,null,{"$f":"'[1]FinStat_Bio Resources'!$J33","v":0},{"$f":"'[1]FinStat_Bio Resources'!$K33","v":0},{"$f":"'[1]FinStat_Bio Resources'!$L33","v":0},{"$f":"'[1]FinStat_Bio Resources'!$M33","v":0},{"$f":"'[1]FinStat_Bio Resources'!$N33","v":0},{"$f":"'[1]FinStat_Bio Resources'!$O33","v":0},{"$f":"'[1]FinStat_Bio Resources'!$P33","v":0},null,null,null,{"$f":"'[2]FinStat_Bio Resources'!$J33","v":0},{"$f":"'[2]FinStat_Bio Resources'!$K33","v":0},{"$f":"'[2]FinStat_Bio Resources'!$L33","v":0},{"$f":"'[2]FinStat_Bio Resources'!$M33","v":0},{"$f":"'[2]FinStat_Bio Resources'!$N33","v":0},{"$f":"'[2]FinStat_Bio Resources'!$O33","v":0},{"$f":"'[2]FinStat_Bio Resources'!$P33","v":0},null,null,null,0,0,0,0,0,0,0,null,0,null,0,0,0,0,0,0,0,null,0]
[null,null,null,null,"Retained earnings balance - BR BEG - nominal",null,"£m",null,{"$f":"'[1]FinStat_Bio Resources'!$J34","v":0},{"$f":"'[1]FinStat_Bio Resources'!$K34","v":0},{"$f":"'[1]FinStat_Bio Resources'!$L34","v":21.672917914872365},{"$f":"'[1]FinStat_Bio Resources'!$M34","v":22.031411865007062},{"$f":"'[1]FinStat_Bio Resources'!$N34","v":23.865805773448677},{"$f":"'[1]FinStat_Bio Resources'!$O34","v":25.749496150961455},{"$f":"'[1]FinStat_Bio Resources'!$P34","v":27.69845871706033},null,121.01809042134988,null,{"$f":"'[2]FinStat_Bio Resources'!$J34","v":0},{"$f":"'[2]FinStat_Bio Resources'!$K34","v":0},{"$f":"'[2]FinStat_Bio Resources'!$L34","v":-2.9258383349021315},{"$f":"'[2]FinStat_Bio Resources'!$M34","v":1.8013671710984891},{"$f":"'[2]FinStat_Bio Resources'!$N34","v":7.2141212334099603},{"$f":"'[2]FinStat_Bio Resources'!$O34","v":11.520425246245132},{"$f":"'[2]FinStat_Bio Resources'!$P34","v":12.610694475908138},null,30.220769791759587,null,0,0,24.599,20.23,16.652000000000001,14.228999999999999,15.087999999999999,null,90.796999999999997,null,0,0,-8.4075048530741299,11.230358987648017,2.3082506463686023,1.2351106574505726,1.1964448134735626,null,3.0044568892734813]
[null,null,null,"plus","Retained earnings - BR - nominal",0,"£m",null,{"$f":"'[1]FinStat_Bio Resources'!$J35","v":0},{"$f":"'[1]FinStat_Bio Resources'!$K35","v":0},{"$f":"'[1]FinStat_Bio Resources'!$L35","v":0.35849395013469643},{"$f":"'[1]FinStat_Bio Resources'!$M35","v":1.8343939084416139},{"$f":"'[1]FinStat_Bio Resources'!$N35","v":1.8836903775127798},{"$f":"'[1]FinStat_Bio Resources'!$O35","v":1.9489625660988752},{"$f":"'[1]FinStat_Bio Resources'!$P35","v":2.0380620985392408},null,8.0636029007272061,null,{"$f":"'[2]FinStat_Bio Resources'!$J35","v":0},{"$f":"'[2]FinStat_Bio Resources'!$K35","v":0},{"$f":"'[2]FinStat_Bio Resources'!$L35","v":4.7272055060006206},{"$f":"'[2]FinStat_Bio Resources'!$M35","v":5.4127540623114712},{"$f":"'[2]FinStat_Bio Resources'!$N35","v":4.3063040128351719},{"$f":"'[2]FinStat_Bio Resources'!$O35","v":1.0902692296630065},{"$f":"'[2]FinStat_Bio Resources'!$P35","v":1.0766465686770204},null,16.613179379487292,null,0,0,-4.3689999999999998,-3.5779999999999998,-2.423,0.85899999999999999,0.96099999999999997,null,-8.5500000000000007,null,0,0,-0.92422468082973719,-0.66103132690127153,-0.56266347958205398,0.7878787886781965,0.89258632122969894,null,-0.51465163920139811]
[null,null,null,null,"Retained earnings balance - BR - nominal",null,"£m",null,{"$f":"'[1]FinStat_Bio Resources'!$J36","v":0},{"$f":"'[1]FinStat_Bio Resources'!$K36","v":21.672917914872365},{"$f":"'[1]FinStat_Bio Resources'!$L36","v":22.031411865007062},{"$f":"'[1]FinStat_Bio Resources'!$M36","v":23.865805773448677},{"$f":"'[1]FinStat_Bio Resources'!$N36","v":25.749496150961455},{"$f":"'[1]FinStat_Bio Resources'!$O36","v":27.69845871706033},{"$f":"'[1]FinStat_Bio Resources'!$P36","v":29.736520815599569},null,150.75461123694944,null,{"$f":"'[2]FinStat_Bio Resources'!$J36","v":0},{"$f":"'[2]FinStat_Bio Resources'!$K36","v":-2.9258383349021315},{"$f":"'[2]FinStat_Bio Resources'!$L36","v":1.8013671710984891},{"$f":"'[2]FinStat_Bio Resources'!$M36","v":7.2141212334099603},{"$f":"'[2]FinStat_Bio Resources'!$N36","v":11.520425246245132},{"$f":"'[2]FinStat_Bio Resources'!$O36","v":12.610694475908138},{"$f":"'[2]FinStat_Bio Resources'!$P36","v":13.687341044585159},null,43.908110836344747,null,0,24.599,20.23,16.652000000000001,14.228999999999999,15.087999999999999,16.048999999999999,null,106.84699999999999,null,0,-8.4075048530741299,11.230358987648017,2.3082506463686023,1.2351106574505726,1.1964448134735626,1.1725432973228307,null,2.4334228452288102]
[]
["CASH FLOW "]
[]
[null,"Cash flow from operating activities"]
[null,null,null,null,"Earnings before interest and tax (EBIT) - BR - nominal",0,"£m",null,{"$f":"'[1]FinStat_Bio Resources'!$J43","v":0},{"$f":"'[1]FinStat_Bio Resources'!$K43","v":0},{"$f":"'[1]FinStat_Bio Resources'!$L43","v":9.0406890641001425},{"$f":"'[1]FinStat_Bio Resources'!$M43","v":9.2559379186184607},{"$f":"'[1]FinStat_Bio Resources'!$N43","v":9.4453350308215498},{"$f":"'[1]FinStat_Bio Resources'!$O43","v":9.3198161461645945},{"$f":"'[1]FinStat_Bio Resources'!$P43","v":9.1996154247783011},null,{"$f":"SUM(I49:O49)","v":46.261393584483045},null,{"$f":"'[2]FinStat_Bio Resources'!$J43","v":0},{"$f":"'[2]FinStat_Bio Resources'!$K43","v":0},{"$f":"'[2]FinStat_Bio Resources'!$L43","v":11.670621893858012},{"$f":"'[2]FinStat_Bio Resources'!$M43","v":10.823908588140881},{"$f":"'[2]FinStat_Bio Resources'!$N43","v":9.4590902494100249},{"$f":"'[2]FinStat_Bio Resources'!$O43","v":5.7394310021928874},{"$f":"'[2]FinStat_Bio Resources'!$P43","v":5.0911353287547776},null,{"$f":"SUM(S49:Y49)","v":42.78418706235658},null,{"$f":"ROUND(I49 - S49, 3)","v":0},{"$f":"ROUND(J49 - T49, 3)","v":0},{"$f":"ROUND(K49 - U49, 3)","v":-2.63},{"$f":"ROUND(L49 - V49, 3)","v":-1.5680000000000001},{"$f":"ROUND(M49 - W49, 3)","v":-1.4E-2},{"$f":"ROUND(N49 - X49, 3)","v":3.58},{"$f":"ROUND(O49 - Y49, 3)","v":4.1079999999999997},null,{"$f":"ROUND(Q49 - AA49, 3)","v":3.4769999999999999},null,{"$f":"IF(S49 = 0, 0, AC49 / S49)","v":0},{"$f":"IF(T49 = 0, 0, AD49 / T49)","v":0},{"$f":"IF(U49 = 0, 0, AE49 / U49)","v":-0.22535217265363641},{"$f":"IF(V49 = 0, 0, AF49 / V49)","v":-0.14486449023765458},{"$f":"IF(W49 = 0, 0, AG49 / W49)","v":-1.4800577678041711E-3},{"$f":"IF(X49 = 0, 0, AH49 / X49)","v":0.62375521173304027},{"$f":"IF(Y49 = 0, 0, AI49 / Y49)","v":0.80689271345783697},null,{"$f":"IF(AA49 = 0, 0, AK49 / AA49)","v":8.1268343253370318E-2}]
[null,null,null,null,"Wholesale fixed assets depreciation - BR - nominal POS","CF","£m",null,{"$f":"'[1]FinStat_Bio Resources'!$J44","v":0},{"$f":"'[1]FinStat_Bio Resources'!$K44","v":0},{"$f":"'[1]FinStat_Bio Resources'!$L44","v":23.468784202144711},{"$f":"'[1]FinStat_Bio Resources'!$M44","v":24.389079289490137},{"$f":"'[1]FinStat_Bio Resources'!$N44","v":25.322152835786131},{"$f":"'[1]FinStat_Bio Resources'!$O44","v":26.065599440625565},{"$f":"'[1]FinStat_Bio Resources'!$P44","v":26.833365877341123},null,{"$f":"SUM(I50:O50)","v":126.07898164538766},null,{"$f":"'[2]FinStat_Bio Resources'!$J44","v":0},{"$f":"'[2]FinStat_Bio Resources'!$K44","v":0},{"$f":"'[2]FinStat_Bio Resources'!$L44","v":23.311642981702391},{"$f":"'[2]FinStat_Bio Resources'!$M44","v":23.939376258445705},{"$f":"'[2]FinStat_Bio Resources'!$N44","v":24.589145731516055},{"$f":"'[2]FinStat_Bio Resources'!$O44","v":25.088686995813362},{"$f":"'[2]FinStat_Bio Resources'!$P44","v":25.541156077049077},null,{"$f":"SUM(S50:Y50)","v":122.47000804452659},null,0,0,0.157,0.45,0.73299999999999998,0.97699999999999998,1.292,null,3.609,null,0,0,6.7348320375029474E-3,1.8797482237710435E-2,2.9809901002803424E-2,3.8941854556319967E-2,5.0585024268379651E-2,null,2.946843931526379E-2]
[null,null,null,null,"Movement in inventories - BR - nominal","CF","£m",null,{"$f":"'[1]FinStat_Bio Resources'!$J45","v":0},{"$f":"'[1]FinStat_Bio Resources'!$K45","v":0},{"$f":"'[1]FinStat_Bio Resources'!$L45","v":-4.0403561606413563E-3},{"$f":"'[1]FinStat_Bio Resources'!$M45","v":1.0823161516571589E-3},{"$f":"'[1]FinStat_Bio Resources'!$N45","v":6.9409833301135593E-3},{"$f":"'[1]FinStat_Bio Resources'!$O45","v":1.8295343710790779E-2},{"$f":"'[1]FinStat_Bio Resources'!$P45","v":-1.3888384986067148E-3},null,2.0889448533313426E-2,null,{"$f":"'[2]FinStat_Bio Resources'!$J45","v":0},{"$f":"'[2]FinStat_Bio Resources'!$K45","v":0},{"$f":"'[2]FinStat_Bio Resources'!$L45","v":1.482753903211842E-3},{"$f":"'[2]FinStat_Bio Resources'!$M45","v":7.6077317915377862E-3},{"$f":"'[2]FinStat_Bio Resources'!$N45","v":1.1506427996396895E-2},{"$f":"'[2]FinStat_Bio Resources'!$O45","v":1.4093083727004685E-2},{"$f":"'[2]FinStat_Bio Resources'!$P45","v":3.8426661485863045E-3},null,3.8532663566737513E-2,null,0,0,-6.0000000000000001E-3,-7.0000000000000001E-3,-5.0000000000000001E-3,4.0000000000000001E-3,-5.0000000000000001E-3,null,-1.7999999999999999E-2,null,0,0,-4.0465245021464469,-0.92011655928593894,-0.43453972002133873,0.28382716497563532,-1.3011799117233935,null,-0.46713614720208724]
[null,null,null,null,"Movement in trade debtors and other receivables - BR - nominal","CF","£m",null,{"$f":"'[1]FinStat_Bio Resources'!$J46","v":0},{"$f":"'[1]FinStat_Bio Resources'!$K46","v":0},{"$f":"'[1]FinStat_Bio Resources'!$L46","v":1.8393457487539511E-2},{"$f":"'[1]FinStat_Bio Resources'!$M46","v":2.8907448748265008E-2},{"$f":"'[1]FinStat_Bio Resources'!$N46","v":9.7862264301664226E-2},{"$f":"'[1]FinStat_Bio Resources'!$O46","v":0.19380476596025664},{"$f":"'[1]FinStat_Bio Resources'!$P46","v":2.4670481847953507E-2},null,0.36363841834567889,null,{"$f":"'[2]FinStat_Bio Resources'!$J46","v":0},{"$f":"'[2]FinStat_Bio Resources'!$K46","v":0},{"$f":"'[2]FinStat_Bio Resources'!$L46","v":6.8108939356721798E-2},{"$f":"'[2]FinStat_Bio Resources'!$M46","v":8.6938326407099975E-2},{"$f":"'[2]FinStat_Bio Resources'!$N46","v":0.13733177557764709},{"$f":"'[2]FinStat_Bio Resources'!$O46","v":0.15583817536737898},{"$f":"'[2]FinStat_Bio Resources'!$P46","v":6.9058942004421642E-2},null,0.51727615871326948,null,0,0,-0.05,-5.8000000000000003E-2,-3.9E-2,3.7999999999999999E-2,-4.3999999999999997E-2,null,-0.154,null,0,0,-0.73411802433340068,-0.66713959650439425,-0.28398380371882315,0.24384269072977349,-0.6371368967277663,null,-0.29771331503674325]
[null,null,null,null,"Movement in working capital - trade payables - BR - nominal","CF","£m",null,{"$f":"'[1]FinStat_Bio Resources'!$J47","v":0},{"$f":"'[1]FinStat_Bio Resources'!$K47","v":0},{"$f":"'[1]FinStat_Bio Resources'!$L47","v":4.2832678265650106},{"$f":"'[1]FinStat_Bio Resources'!$M47","v":-1.0418087969826813},{"$f":"'[1]FinStat_Bio Resources'!$N47","v":-1.3314973497494584},{"$f":"'[1]FinStat_Bio Resources'!$O47","v":-2.0354465999289486},{"$f":"'[1]FinStat_Bio Resources'!$P47","v":3.0335402859834097},null,2.908055365887332,null,{"$f":"'[2]FinStat_Bio Resources'!$J47","v":0},{"$f":"'[2]FinStat_Bio Resources'!$K47","v":0},{"$f":"'[2]FinStat_Bio Resources'!$L47","v":0.47602277922565372},{"$f":"'[2]FinStat_Bio Resources'!$M47","v":-0.11564855274282237},{"$f":"'[2]FinStat_Bio Resources'!$N47","v":-1.2091183629565272},{"$f":"'[2]FinStat_Bio Resources'!$O47","v":-1.1865944003374795},{"$f":"'[2]FinStat_Bio Resources'!$P47","v":1.1646799530159875},null,-0.8706585837951879,null,0,0,3.8069999999999999,-0.92600000000000005,-0.122,-0.84899999999999998,1.869,null,3.7789999999999999,null,0,0,7.9975164343875456,8.0070176239838116,0.10089996458385307,0.71549301071919413,1.6047326951581387,null,-4.3403925147414215]
[null,null,null,null,"Movement in other creditors - BR - nominal","CF","£m",null,{"$f":"'[1]FinStat_Bio Resources'!$J48","v":0},{"$f":"'[1]FinStat_Bio Resources'!$K48","v":0},{"$f":"'[1]FinStat_Bio Resources'!$L48","v":57.996125959523866},{"$f":"'[1]FinStat_Bio Resources'!$M48","v":0.64465874172664428},{"$f":"'[1]FinStat_Bio Resources'!$N48","v":-4.202058160592685},{"$f":"'[1]FinStat_Bio Resources'!$O48","v":7.8591777617447178E-3},{"$f":"'[1]FinStat_Bio Resources'!$P48","v":0.58967125624512562},null,55.036256974664695,null,{"$f":"'[2]FinStat_Bio Resources'!$J48","v":0},{"$f":"'[2]FinStat_Bio Resources'!$K48","v":0},{"$f":"'[2]FinStat_Bio Resources'!$L48","v":57.142541364163222},{"$f":"'[2]FinStat_Bio Resources'!$M48","v":-2.4056363335119642},{"$f":"'[2]FinStat_Bio Resources'!$N48","v":-3.1511225826072291},{"$f":"'[2]FinStat_Bio Resources'!$O48","v":-0.4729425752193066},{"$f":"'[2]FinStat_Bio Resources'!$P48","v":7.0985816285840997E-2},null,51.183825689110563,null,0,0,0.85399999999999998,3.05,-1.0509999999999999,0.48099999999999998,0.51900000000000002,null,3.8519999999999999,null,0,0,1.4945082588426556E-2,-1.2678558090895375,0.33353193106515261,-1.0170367930545419,7.3113197418217339,null,7.5258149388772996E-2]
[null,null,null,null,"Movement in Pensions (+ve = increase in provision) - BR - nominal",0,"£m",null,{"$f":"'[1]FinStat_Bio Resources'!$J49","v":0},{"$f":"'[1]FinStat_Bio Resources'!$K49","v":0},{"$f":"'[1]FinStat_Bio Resources'!$L49","v":-2.0602626779026645},{"$f":"'[1]FinStat_Bio Resources'!$M49","v":-2.1221853474815999},{"$f":"'[1]FinStat_Bio Resources'!$N49","v":-2.1857095013990397},{"$f":"'[1]FinStat_Bio Resources'!$O49","v":-2.2497940601811761},{"$f":"'[1]FinStat_Bio Resources'!$P49","v":-2.3188437948936413},null,-10.936795381858122,null,{"$f":"'[2]FinStat_Bio Resources'!$J49","v":0},{"$f":"'[2]FinStat_Bio Resources'!$K49","v":0},{"$f":"'[2]FinStat_Bio Resources'!$L49","v":-4.2534517699873993},{"$f":"'[2]FinStat_Bio Resources'!$M49","v":-4.3393390091371122},{"$f":"'[2]FinStat_Bio Resources'!$N49","v":-4.4291409178373362},{"$f":"'[2]FinStat_Bio Resources'!$O49","v":0},{"$f":"'[2]FinStat_Bio Resources'!$P49","v":0},null,-13.021931696961847,null,0,0,2.1930000000000001,2.2170000000000001,2.2429999999999999,-2.25,-2.319,null,2.085,null,0,0,-0.51558125461159199,-0.51090730531350115,-0.506418748377781,0,0,null,-0.1601144936496981]
[null,null,null,null,"Movement in provisions - BR - nominal","CF","£m",null,{"$f":"'[1]FinStat_Bio Resources'!$J50","v":0},{"$f":"'[1]FinStat_Bio Resources'!$K50","v":0},{"$f":"'[1]FinStat_Bio Resources'!$L50","v":1.393942206960304E-2},{"$f":"'[1]FinStat_Bio Resources'!$M50","v":1.3832367444821032E-2},{"$f":"'[1]FinStat_Bio Resources'!$N50","v":1.3694574591993219E-2},{"$f":"'[1]FinStat_Bio Resources'!$O50","v":1.3108601329309218E-2},{"$f":"'[1]FinStat_Bio Resources'!$P50","v":1.3073110831411697E-2},null,6.7648076267138202E-2,null,{"$f":"'[2]FinStat_Bio Resources'!$J50","v":0},{"$f":"'[2]FinStat_Bio Resources'!$K50","v":0},{"$f":"'[2]FinStat_Bio Resources'!$L50","v":1.3817199403861363E-2},{"$f":"'[2]FinStat_Bio Resources'!$M50","v":1.3504032112593586E-2},{"$f":"'[2]FinStat_Bio Resources'!$N50","v":1.3218734586406471E-2},{"$f":"'[2]FinStat_Bio Resources'!$O50","v":1.2766781825495061E-2},{"$f":"'[2]FinStat_Bio Resources'!$P50","v":1.2567655975690097E-2},null,6.5874403904046586E-2,null,0,0,0,0,0,0,1E-3,null,2E-3,null,0,0,0,0,0,0,7.9569332732716644E-2,null,3.0360806041041723E-2]
[null,null,null,null,"Movement in other liabilities - BR - nominal","CF","£m",null,{"$f":"'[1]FinStat_Bio Resources'!$J51","v":"na"},{"$f":"'[1]FinStat_Bio Resources'!$K51","v":"na"},{"$f":"'[1]FinStat_Bio Resources'!$L51","v":"na"},{"$f":"'[1]FinStat_Bio Resources'!$M51","v":"na"},{"$f":"'[1]FinStat_Bio Resources'!$N51","v":"na"},{"$f":"'[1]FinStat_Bio Resources'!$O51","v":"na"},{"$f":"'[1]FinStat_Bio Resources'!$P51","v":"na"},null,0,null,{"$f":"'[2]FinStat_Bio Resources'!$J51","v":"na"},{"$f":"'[2]FinStat_Bio Resources'!$K51","v":"na"},{"$f":"'[2]FinStat_Bio Resources'!$L51","v":"na"},{"$f":"'[2]FinStat_Bio Resources'!$M51","v":"na"},{"$f":"'[2]FinStat_Bio Resources'!$N51","v":"na"},{"$f":"'[2]FinStat_Bio Resources'!$O51","v":"na"},{"$f":"'[2]FinStat_Bio Resources'!$P51","v":"na"},null,0,null,{"$error":"#VALUE!"},{"$error":"#VALUE!"},{"$error":"#VALUE!"},{"$error":"#VALUE!"},{"$error":"#VALUE!"},{"$error":"#VALUE!"},{"$error":"#VALUE!"},null,0,null,{"$error":"#VALUE!"},{"$error":"#VALUE!"},{"$error":"#VALUE!"},{"$error":"#VALUE!"},{"$error":"#VALUE!"},{"$error":"#VALUE!"},{"$error":"#VALUE!"},null,0]
[null,null,null,null,"Net cash generated / (used) in operations - BR - nominal",null,"£m",null,{"$f":"'[1]FinStat_Bio Resources'!$J52","v":0},{"$f":"'[1]FinStat_Bio Resources'!$K52","v":0},{"$f":"'[1]FinStat_Bio Resources'!$L52","v":92.756896897827545},{"$f":"'[1]FinStat_Bio Resources'!$M52","v":31.169503937715707},{"$f":"'[1]FinStat_Bio Resources'!$N52","v":27.166720677090275},{"$f":"'[1]FinStat_Bio Resources'!$O52","v":31.333242815442141},{"$f":"'[1]FinStat_Bio Resources'!$P52","v":37.373703803635081},null,219.80006813171076,null,{"$f":"'[2]FinStat_Bio Resources'!$J52","v":0},{"$f":"'[2]FinStat_Bio Resources'!$K52","v":0},{"$f":"'[2]FinStat_Bio Resources'!$L52","v":88.430786141625674},{"$f":"'[2]FinStat_Bio Resources'!$M52","v":28.010711041505921},{"$f":"'[2]FinStat_Bio Resources'!$N52","v":25.420911055685433},{"$f":"'[2]FinStat_Bio Resources'!$O52","v":29.35127906336934},{"$f":"'[2]FinStat_Bio Resources'!$P52","v":31.953426439234381},null,203.16711374142074,null,0,0,4.3259999999999996,3.1589999999999998,1.746,1.982,5.42,null,16.632999999999999,null,0,0,4.8919614862088033E-2,0.11277828668179944,6.8683612329051597E-2,6.7526869807645065E-2,0.1696218717046567,null,8.1868564718449027E-2]
[null,null,null,null,null,null,null,null,null,null,null,null,null,null,null,null,null,null,null,null,null,null,null,null,null,null,null,null,0,0,0,0,0,0,0,null,0,null,0,0,0,0,0,0,0,null,0]
[null,null,null,null,"Total other income (incl. 3rd party income) - BR - nominal","PL & CF","£m",null,{"$f":"'[1]FinStat_Bio Resources'!$J54","v":0},{"$f":"'[1]FinStat_Bio Resources'!$K54","v":0},{"$f":"'[1]FinStat_Bio Resources'!$L54","v":0.44376199999999999},{"$f":"'[1]FinStat_Bio Resources'!$M54","v":0.45286999999999994},{"$f":"'[1]FinStat_Bio Resources'!$N54","v":0.46197800000000006},{"$f":"'[1]FinStat_Bio Resources'!$O54","v":0.47133900000000006},{"$f":"'[1]FinStat_Bio Resources'!$P54","v":0.48095300000000007},null,2.310902,null,{"$f":"'[2]FinStat_Bio Resources'!$J54","v":0},{"$f":"'[2]FinStat_Bio Resources'!$K54","v":0},{"$f":"'[2]FinStat_Bio Resources'!$L54","v":0.44203408835569891},{"$f":"'[2]FinStat_Bio Resources'!$M54","v":0.45112519131456458},{"$f":"'[2]FinStat_Bio Resources'!$N54","v":0.46053704583435001},{"$f":"'[2]FinStat_Bio Resources'!$O54","v":0.47032950370120674},{"$f":"'[2]FinStat_Bio Resources'!$P54","v":0.48039342545401659},null,2.304419254659837,null,0,0,2E-3,2E-3,1E-3,1E-3,1E-3,null,6.0000000000000001E-3,null,0,0,4.5245379319945721E-3,4.4333591617264001E-3,2.1713779793508486E-3,2.126168977558518E-3,2.0816271560230174E-3,null,2.6036928774428592E-3]
[null,null,null,null,"Interest income /(expense) excl. indexation of index-linked loans - BR - nominal","PL & CF","£m",null,{"$f":"'[1]FinStat_Bio Resources'!$J55","v":0},{"$f":"'[1]FinStat_Bio Resources'!$K55","v":0},{"$f":"'[1]FinStat_Bio Resources'!$L55","v":-5.4446345132648215},{"$f":"'[1]FinStat_Bio Resources'!$M55","v":-4.1934072893617103},{"$f":"'[1]FinStat_Bio Resources'!$N55","v":-4.3378717673408591},{"$f":"'[1]FinStat_Bio Resources'!$O55","v":-4.2762018823122538},{"$f":"'[1]FinStat_Bio Resources'!$P55","v":-4.0232028666577158},null,-22.275318318937362,null,{"$f":"'[2]FinStat_Bio Resources'!$J55","v":0},{"$f":"'[2]FinStat_Bio Resources'!$K55","v":0},{"$f":"'[2]FinStat_Bio Resources'!$L55","v":-4.9870005165683118},{"$f":"'[2]FinStat_Bio Resources'!$M55","v":-3.5548121838193283},{"$f":"'[2]FinStat_Bio Resources'!$N55","v":-3.4084746717265504},{"$f":"'[2]FinStat_Bio Resources'!$O55","v":-3.0685407182683071},{"$f":"'[2]FinStat_Bio Resources'!$P55","v":-2.5306549373708829},null,-17.549483027753379,null,0,0,-0.45800000000000002,-0.63900000000000001,-0.92900000000000005,-1.208,-1.4930000000000001,null,-4.726,null,0,0,9.1838771317224982E-2,0.17975633224972565,0.27255593468424349,0.39367246874329237,0.58996585348419306,null,0.26929568195975545]
[null,null,null,null,"Tax paid - BR - nominal","CF","£m",null,{"$f":"'[1]FinStat_Bio Resources'!$J56","v":0},{"$f":"'[1]FinStat_Bio Resources'!$K56","v":0},{"$f":"'[1]FinStat_Bio Resources'!$L56","v":0},{"$f":"'[1]FinStat_Bio Resources'!$M56","v":0},{"$f":"'[1]FinStat_Bio Resources'!$N56","v":0},{"$f":"'[1]FinStat_Bio Resources'!$O56","v":0},{"$f":"'[1]FinStat_Bio Resources'!$P56","v":0},null,0,null,{"$f":"'[2]FinStat_Bio Resources'!$J56","v":0},{"$f":"'[2]FinStat_Bio Resources'!$K56","v":0},{"$f":"'[2]FinStat_Bio Resources'!$L56","v":0},{"$f":"'[2]FinStat_Bio Resources'!$M56","v":0},{"$f":"'[2]FinStat_Bio Resources'!$N56","v":0},{"$f":"'[2]FinStat_Bio Resources'!$O56","v":0},{"$f":"'[2]FinStat_Bio Resources'!$P56","v":0},null,0,null,0,0,0,0,0,0,0,null,0,null,0,0,0,0,0,0,0,null,0]
[null,null,null,null,"Net cash generated / (used) in operating activities - BR - nominal",null,"£m",null,{"$f":"'[1]FinStat_Bio Resources'!$J57","v":0},{"$f":"'[1]FinStat_Bio Resources'!$K57","v":0},{"$f":"'[1]FinStat_Bio Resources'!$L57","v":87.756024384562721},{"$f":"'[1]FinStat_Bio Resources'!$M57","v":27.428966648353995},{"$f":"'[1]FinStat_Bio Resources'!$N57","v":23.290826909749416},{"$f":"'[1]FinStat_Bio Resources'!$O57","v":27.528379933129887},{"$f":"'[1]FinStat_Bio Resources'!$P57","v":33.831453936977368},null,199.83565181277339,null,{"$f":"'[2]FinStat_Bio Resources'!$J57","v":0},{"$f":"'[2]FinStat_Bio Resources'!$K57","v":0},{"$f":"'[2]FinStat_Bio Resources'!$L57","v":83.885819713413056},{"$f":"'[2]FinStat_Bio Resources'!$M57","v":24.907024049001159},{"$f":"'[2]FinStat_Bio Resources'!$N57","v":22.472973429793232},{"$f":"'[2]FinStat_Bio Resources'!$O57","v":26.753067848802239},{"$f":"'[2]FinStat_Bio Resources'!$P57","v":29.903164927317516},null,187.92204996832717,null,0,0,3.87,2.5219999999999998,0.81799999999999995,0.77500000000000002,3.9279999999999999,null,11.914,null,0,0,4.6134138203828036E-2,0.10125657706188866,3.6399277672599741E-2,2.896864032117713E-2,0.13135733323035798,null,6.339862726065415E-2]
[null,null,null,null,null,null,null,null,null,null,null,null,null,null,null,null,null,null,null,null,null,null,null,null,null,null,null,null,0,0,0,0,0,0,0,null,0,null,0,0,0,0,0,0,0,null,0]
[null,"Cash flow from investing activities",null,null,null,null,null,null,null,null,null,null,null,null,null,null,null,null,null,null,null,null,null,null,null,null,null,null,0,0,0,0,0,0,0,null,0,null,0,0,0,0,0,0,0,null,0]
[null,null,null,null,"Wholesale fixed assets ongoing capex - BR - nominal","CF","£m",null,{"$f":"'[1]FinStat_Bio Resources'!$J60","v":0},{"$f":"'[1]FinStat_Bio Resources'!$K60","v":0},{"$f":"'[1]FinStat_Bio Resources'!$L60","v":-21.980175391524362},{"$f":"'[1]FinStat_Bio Resources'!$M60","v":-25.875169150438136},{"$f":"'[1]FinStat_Bio Resources'!$N60","v":-22.644655256953129},{"$f":"'[1]FinStat_Bio Resources'!$O60","v":-16.014568194697713},{"$f":"'[1]FinStat_Bio Resources'!$P60","v":-23.909286514511226},null,-110.42385450812456,null,{"$f":"'[2]FinStat_Bio Resources'!$J60","v":0},{"$f":"'[2]FinStat_Bio Resources'!$K60","v":0},{"$f":"'[2]FinStat_Bio Resources'!$L60","v":-13.808831928524258},{"$f":"'[2]FinStat_Bio Resources'!$M60","v":-18.833298462128141},{"$f":"'[2]FinStat_Bio Resources'!$N60","v":-14.954714137530031},{"$f":"'[2]FinStat_Bio Resources'!$O60","v":-11.021431605930152},{"$f":"'[2]FinStat_Bio Resources'!$P60","v":-12.50696061832701},null,-71.125236752439591,null,0,0,-8.1709999999999994,-7.0419999999999998,-7.69,-4.9930000000000003,-11.401999999999999,null,-39.298999999999999,null,0,0,0.59172274978027262,0.37391219674879311,0.51421912376789203,0.45302644688313309,0.911652346877317,null,0.55253243144603026]
[null,null,null,null,"Movement in intangible asset and investments - BR - nominal","CF","£m",null,{"$f":"'[1]FinStat_Bio Resources'!$J61","v":0},{"$f":"'[1]FinStat_Bio Resources'!$K61","v":0},{"$f":"'[1]FinStat_Bio Resources'!$L61","v":0},{"$f":"'[1]FinStat_Bio Resources'!$M61","v":0},{"$f":"'[1]FinStat_Bio Resources'!$N61","v":0},{"$f":"'[1]FinStat_Bio Resources'!$O61","v":0},{"$f":"'[1]FinStat_Bio Resources'!$P61","v":0},null,0,null,{"$f":"'[2]FinStat_Bio Resources'!$J61","v":0},{"$f":"'[2]FinStat_Bio Resources'!$K61","v":0},{"$f":"'[2]FinStat_Bio Resources'!$L61","v":0},{"$f":"'[2]FinStat_Bio Resources'!$M61","v":0},{"$f":"'[2]FinStat_Bio Resources'!$N61","v":0},{"$f":"'[2]FinStat_Bio Resources'!$O61","v":0},{"$f":"'[2]FinStat_Bio Resources'!$P61","v":0},null,0,null,0,0,0,0,0,0,0,null,0,null,0,0,0,0,0,0,0,null,0]
[null,null,null,null,"Net cash generated / (used) in investing activities - BR - nominal",null,"£m",null,{"$f":"'[1]FinStat_Bio Resources'!$J62","v":0},{"$f":"'[1]FinStat_Bio Resources'!$K62","v":0},{"$f":"'[1]FinStat_Bio Resources'!$L62","v":-21.980175391524362},{"$f":"'[1]FinStat_Bio Resources'!$M62","v":-25.875169150438136},{"$f":"'[1]FinStat_Bio Resources'!$N62","v":-22.644655256953129},{"$f":"'[1]FinStat_Bio Resources'!$O62","v":-16.014568194697713},{"$f":"'[1]FinStat_Bio Resources'!$P62","v":-23.909286514511226},null,-110.42385450812456,null,{"$f":"'[2]FinStat_Bio Resources'!$J62","v":0},{"$f":"'[2]FinStat_Bio Resources'!$K62","v":0},{"$f":"'[2]FinStat_Bio Resources'!$L62","v":-13.808831928524258},{"$f":"'[2]FinStat_Bio Resources'!$M62","v":-18.833298462128141},{"$f":"'[2]FinStat_Bio Resources'!$N62","v":-14.954714137530031},{"$f":"'[2]FinStat_Bio Resources'!$O62","v":-11.021431605930152},{"$f":"'[2]FinStat_Bio Resources'!$P62","v":-12.50696061832701},null,-71.125236752439591,null,0,0,-8.1709999999999994,-7.0419999999999998,-7.69,-4.9930000000000003,-11.401999999999999,null,-39.298999999999999,null,0,0,0.59172274978027262,0.37391219674879311,0.51421912376789203,0.45302644688313309,0.911652346877317,null,0.55253243144603026]
[null,null,null,null,null,null,null,null,null,null,null,null,null,null,null,null,null,null,null,null,null,null,null,null,null,null,null,null,0,0,0,0,0,0,0,null,0,null,0,0,0,0,0,0,0,null,0]
[null,"Cash flows from financing activities",null,null,null,null,null,null,null,null,null,null,null,null,null,null,null,null,null,null,null,null,null,null,null,null,null,null,0,0,0,0,0,0,0,null,0,null,0,0,0,0,0,0,0,null,0]
[null,null,null,null,"Equity dividends paid - BR - nominal","CF","£m",null,{"$f":"'[1]FinStat_Bio Resources'!$J65","v":0},{"$f":"'[1]FinStat_Bio Resources'!$K65","v":0},{"$f":"'[1]FinStat_Bio Resources'!$L65","v":-3.6635054132742999},{"$f":"'[1]FinStat_Bio Resources'!$M65","v":-3.7872219910805738},{"$f":"'[1]FinStat_Bio Resources'!$N65","v":-3.9151164777193657},{"$f":"'[1]FinStat_Bio Resources'!$O65","v":-4.0473299611719487},{"$f":"'[1]FinStat_Bio Resources'!$P65","v":-4.1840082939607255},null,-19.597182137206914,null,{"$f":"'[2]FinStat_Bio Resources'!$J65","v":0},{"$f":"'[2]FinStat_Bio Resources'!$K65","v":0},{"$f":"'[2]FinStat_Bio Resources'!$L65","v":-2.5300660483616348},{"$f":"'[2]FinStat_Bio Resources'!$M65","v":-2.6112267177198745},{"$f":"'[2]FinStat_Bio Resources'!$N65","v":-2.6968648130081676},{"$f":"'[2]FinStat_Bio Resources'!$O65","v":-2.7859902619755004},{"$f":"'[2]FinStat_Bio Resources'!$P65","v":-2.8780611109552177},null,-13.502208952020395,null,0,0,-1.133,-1.1759999999999999,-1.218,-1.2609999999999999,-1.306,null,-6.0949999999999998,null,0,0,0.44781439628174274,0.45036303895775248,0.45163554143502083,0.4526218261458837,0.45377771689029339,null,0.45140761942422603]
[null,null,null,null,"Proceeds from share issues - BR - nominal","CF","£m",null,{"$f":"'[1]FinStat_Bio Resources'!$J66","v":0},{"$f":"'[1]FinStat_Bio Resources'!$K66","v":0},{"$f":"'[1]FinStat_Bio Resources'!$L66","v":0},{"$f":"'[1]FinStat_Bio Resources'!$M66","v":0},{"$f":"'[1]FinStat_Bio Resources'!$N66","v":0},{"$f":"'[1]FinStat_Bio Resources'!$O66","v":0},{"$f":"'[1]FinStat_Bio Resources'!$P66","v":0},null,0,null,{"$f":"'[2]FinStat_Bio Resources'!$J66","v":0},{"$f":"'[2]FinStat_Bio Resources'!$K66","v":0},{"$f":"'[2]FinStat_Bio Resources'!$L66","v":0},{"$f":"'[2]FinStat_Bio Resources'!$M66","v":0},{"$f":"'[2]FinStat_Bio Resources'!$N66","v":0},{"$f":"'[2]FinStat_Bio Resources'!$O66","v":0},{"$f":"'[2]FinStat_Bio Resources'!$P66","v":0},null,0,null,0,0,0,0,0,0,0,null,0,null,0,0,0,0,0,0,0,null,0]
[null,null,null,null,"Net loans received - BR - nominal","CF","£m",null,{"$f":"'[1]FinStat_Bio Resources'!$J67","v":0},{"$f":"'[1]FinStat_Bio Resources'!$K67","v":0},{"$f":"'[1]FinStat_Bio Resources'!$L67","v":0},{"$f":"'[1]FinStat_Bio Resources'!$M67","v":0},{"$f":"'[1]FinStat_Bio Resources'!$N67","v":0},{"$f":"'[1]FinStat_Bio Resources'!$O67","v":0},{"$f":"'[1]FinStat_Bio Resources'!$P67","v":0},null,0,null,{"$f":"'[2]FinStat_Bio Resources'!$J67","v":0},{"$f":"'[2]FinStat_Bio Resources'!$K67","v":0},{"$f":"'[2]FinStat_Bio Resources'!$L67","v":0},{"$f":"'[2]FinStat_Bio Resources'!$M67","v":0},{"$f":"'[2]FinStat_Bio Resources'!$N67","v":0},{"$f":"'[2]FinStat_Bio Resources'!$O67","v":0},{"$f":"'[2]FinStat_Bio Resources'!$P67","v":0},null,0,null,0,0,0,0,0,0,0,null,0,null,0,0,0,0,0,0,0,null,0]
[null,null,null,null,"Net cash generated / (used) in financing activities - BR - nominal",null,"£m",null,{"$f":"'[1]FinStat_Bio Resources'!$J68","v":0},{"$f":"'[1]FinStat_Bio Resources'!$K68","v":0},{"$f":"'[1]FinStat_Bio Resources'!$L68","v":-3.6635054132742999},{"$f":"'[1]FinStat_Bio Resources'!$M68","v":-3.7872219910805738},{"$f":"'[1]FinStat_Bio Resources'!$N68","v":-3.9151164777193657},{"$f":"'[1]FinStat_Bio Resources'!$O68","v":-4.0473299611719487},{"$f":"'[1]FinStat_Bio Resources'!$P68","v":-4.1840082939607255},null,-19.597182137206914,null,{"$f":"'[2]FinStat_Bio Resources'!$J68","v":0},{"$f":"'[2]FinStat_Bio Resources'!$K68","v":0},{"$f":"'[2]FinStat_Bio Resources'!$L68","v":-2.5300660483616348},{"$f":"'[2]FinStat_Bio Resources'!$M68","v":-2.6112267177198745},{"$f":"'[2]FinStat_Bio Resources'!$N68","v":-2.6968648130081676},{"$f":"'[2]FinStat_Bio Resources'!$O68","v":-2.7859902619755004},{"$f":"'[2]FinStat_Bio Resources'!$P68","v":-2.8780611109552177},null,-13.502208952020395,null,0,0,-1.133,-1.1759999999999999,-1.218,-1.2609999999999999,-1.306,null,-6.0949999999999998,null,0,0,0.44781439628174274,0.45036303895775248,0.45163554143502083,0.4526218261458837,0.45377771689029339,null,0.45140761942422603]
[null,null,null,null,null,null,null,null,null,null,null,null,null,null,null,null,null,null,null,null,null,null,null,null,null,null,null,null,0,0,0,0,0,0,0,null,0,null,0,0,0,0,0,0,0,null,0]
[null,null,null,null,"Net increase / (decrease) in cash - BR - nominal",null,"£m",null,{"$f":"'[1]FinStat_Bio Resources'!$J70","v":0},{"$f":"'[1]FinStat_Bio Resources'!$K70","v":0},{"$f":"'[1]FinStat_Bio Resources'!$L70","v":62.112343579764051},{"$f":"'[1]FinStat_Bio Resources'!$M70","v":-2.2334244931647147},{"$f":"'[1]FinStat_Bio Resources'!$N70","v":-3.2689448249230786},{"$f":"'[1]FinStat_Bio Resources'!$O70","v":7.4664817772602259},{"$f":"'[1]FinStat_Bio Resources'!$P70","v":5.7381591285054165},null,69.8146151674419,null,{"$f":"'[2]FinStat_Bio Resources'!$J70","v":0},{"$f":"'[2]FinStat_Bio Resources'!$K70","v":0},{"$f":"'[2]FinStat_Bio Resources'!$L70","v":67.546921736527167},{"$f":"'[2]FinStat_Bio Resources'!$M70","v":3.4624988691531429},{"$f":"'[2]FinStat_Bio Resources'!$N70","v":4.8213944792550336},{"$f":"'[2]FinStat_Bio Resources'!$O70","v":12.945645980896586},{"$f":"'[2]FinStat_Bio Resources'!$P70","v":14.518143198035288},null,103.29460426386721,null,0,0,-5.4349999999999996,-5.6959999999999997,-8.09,-5.4790000000000001,-8.7799999999999994,null,-33.479999999999997,null,0,0,-8.0462586010946663E-2,-1.645054688896729,-1.6779377905725745,-0.42323110087246008,-0.60476053171787003,null,-0.32412147990300599]
[null,null,null,null,null,null,null,null,null,null,null,null,null,null,null,null,null,null,null,null,null,null,null,null,null,null,null,null,0,0,0,0,0,0,0,null,0,null,0,0,0,0,0,0,0,null,0]
[null,"Retained cash balance - BR",null,null,null,null,null,null,null,null,null,null,null,null,null,null,null,null,null,null,null,null,null,null,null,null,null,null,0,0,0,0,0,0,0,null,0,null,0,0,0,0,0,0,0,null,0]
[null,null,null,null,"Cash and cash equivalents - BR b/f - nominal",0,"£m",null,{"$f":"'[1]FinStat_Bio Resources'!$J73","v":0},{"$f":"'[1]FinStat_Bio Resources'!$K73","v":21.543714674414776},{"$f":"'[1]FinStat_Bio Resources'!$L73","v":0},{"$f":"'[1]FinStat_Bio Resources'!$M73","v":0},{"$f":"'[1]FinStat_Bio Resources'!$N73","v":0},{"$f":"'[1]FinStat_Bio Resources'!$O73","v":0},{"$f":"'[1]FinStat_Bio Resources'!$P73","v":0},null,21.543714674414776,null,{"$f":"'[2]FinStat_Bio Resources'!$J73","v":0},{"$f":"'[2]FinStat_Bio Resources'!$K73","v":21.627465936962412},{"$f":"'[2]FinStat_Bio Resources'!$L73","v":0},{"$f":"'[2]FinStat_Bio Resources'!$M73","v":0},{"$f":"'[2]FinStat_Bio Resources'!$N73","v":0},{"$f":"'[2]FinStat_Bio Resources'!$O73","v":0},{"$f":"'[2]FinStat_Bio Resources'!$P73","v":0},null,21.627465936962412,null,0,-8.4000000000000005E-2,0,0,0,0,0,null,-8.4000000000000005E-2,null,0,-3.8839501698828172E-3,0,0,0,0,0,null,-3.8839501698828172E-3]
[null,null,null,null,"Last pre-forecast period flag",0,"flag",null,{"$f":"'[1]FinStat_Bio Resources'!$J74","v":0},{"$f":"'[1]FinStat_Bio Resources'!$K74","v":1},{"$f":"'[1]FinStat_Bio Resources'!$L74","v":0},{"$f":"'[1]FinStat_Bio Resources'!$M74","v":0},{"$f":"'[1]FinStat_Bio Resources'!$N74","v":0},{"$f":"'[1]FinStat_Bio Resources'!$O74","v":0},{"$f":"'[1]FinStat_Bio Resources'!$P74","v":0},null,1,null,{"$f":"'[2]FinStat_Bio Resources'!$J74","v":0},{"$f":"'[2]FinStat_Bio Resources'!$K74","v":1},{"$f":"'[2]FinStat_Bio Resources'!$L74","v":0},{"$f":"'[2]FinStat_Bio Resources'!$M74","v":0},{"$f":"'[2]FinStat_Bio Resources'!$N74","v":0},{"$f":"'[2]FinStat_Bio Resources'!$O74","v":0},{"$f":"'[2]FinStat_Bio Resources'!$P74","v":0},null,1,null,0,0,0,0,0,0,0,null,0,null,0,0,0,0,0,0,0,null,0]
[null,null,null,null,null,null,null,null,{"$f":"'[1]FinStat_Bio Resources'!$J75","v":0},{"$f":"'[1]FinStat_Bio Resources'!$K75","v":0},{"$f":"'[1]FinStat_Bio Resources'!$L75","v":0},{"$f":"'[1]FinStat_Bio Resources'!$M75","v":0},{"$f":"'[1]FinStat_Bio Resources'!$N75","v":0},{"$f":"'[1]FinStat_Bio Resources'!$O75","v":0},{"$f":"'[1]FinStat_Bio Resources'!$P75","v":0},null,null,null,{"$f":"'[2]FinStat_Bio Resources'!$J75","v":0},{"$f":"'[2]FinStat_Bio Resources'!$K75","v":0},{"$f":"'[2]FinStat_Bio Resources'!$L75","v":0},{"$f":"'[2]FinStat_Bio Resources'!$M75","v":0},{"$f":"'[2]FinStat_Bio Resources'!$N75","v":0},{"$f":"'[2]FinStat_Bio Resources'!$O75","v":0},{"$f":"'[2]FinStat_Bio Resources'!$P75","v":0},null,null,null,0,0,0,0,0,0,0,null,0,null,0,0,0,0,0,0,0,null,0]
[null,null,null,null,"Retained cash balance - BR BEG - nominal",null,"£m",null,{"$f":"'[1]FinStat_Bio Resources'!$J76","v":0},{"$f":"'[1]FinStat_Bio Resources'!$K76","v":0},{"$f":"'[1]FinStat_Bio Resources'!$L76","v":21.543714674414776},{"$f":"'[1]FinStat_Bio Resources'!$M76","v":83.656058254178831},{"$f":"'[1]FinStat_Bio Resources'!$N76","v":81.422633761014112},{"$f":"'[1]FinStat_Bio Resources'!$O76","v":78.153688936091029},{"$f":"'[1]FinStat_Bio Resources'!$P76","v":85.620170713351257},null,350.39626633905004,null,{"$f":"'[2]FinStat_Bio Resources'!$J76","v":0},{"$f":"'[2]FinStat_Bio Resources'!$K76","v":0},{"$f":"'[2]FinStat_Bio Resources'!$L76","v":21.627465936962412},{"$f":"'[2]FinStat_Bio Resources'!$M76","v":89.174387673489576},{"$f":"'[2]FinStat_Bio Resources'!$N76","v":92.636886542642713},{"$f":"'[2]FinStat_Bio Resources'!$O76","v":97.458281021897747},{"$f":"'[2]FinStat_Bio Resources'!$P76","v":110.40392700279433},null,411.30094817778678,null,0,0,-8.4000000000000005E-2,-5.5179999999999998,-11.214,-19.305,-24.783999999999999,null,-60.905000000000001,null,0,0,-3.8839501698828172E-3,-6.187875402300555E-2,-0.12105329117292775,-0.19808475788386201,-0.2244847685478861,null,-0.14807891951095994]
[null,null,null,"plus","Net increase / (decrease) in cash - BR - nominal",0,"£m",null,{"$f":"'[1]FinStat_Bio Resources'!$J77","v":0},{"$f":"'[1]FinStat_Bio Resources'!$K77","v":0},{"$f":"'[1]FinStat_Bio Resources'!$L77","v":62.112343579764051},{"$f":"'[1]FinStat_Bio Resources'!$M77","v":-2.2334244931647147},{"$f":"'[1]FinStat_Bio Resources'!$N77","v":-3.2689448249230786},{"$f":"'[1]FinStat_Bio Resources'!$O77","v":7.4664817772602259},{"$f":"'[1]FinStat_Bio Resources'!$P77","v":5.7381591285054165},null,69.8146151674419,null,{"$f":"'[2]FinStat_Bio Resources'!$J77","v":0},{"$f":"'[2]FinStat_Bio Resources'!$K77","v":0},{"$f":"'[2]FinStat_Bio Resources'!$L77","v":67.546921736527167},{"$f":"'[2]FinStat_Bio Resources'!$M77","v":3.4624988691531429},{"$f":"'[2]FinStat_Bio Resources'!$N77","v":4.8213944792550336},{"$f":"'[2]FinStat_Bio Resources'!$O77","v":12.945645980896586},{"$f":"'[2]FinStat_Bio Resources'!$P77","v":14.518143198035288},null,103.29460426386721,null,0,0,-5.4349999999999996,-5.6959999999999997,-8.09,-5.4790000000000001,-8.7799999999999994,null,-33.479999999999997,null,0,0,-8.0462586010946663E-2,-1.645054688896729,-1.6779377905725745,-0.42323110087246008,-0.60476053171787003,null,-0.32412147990300599]
[null,null,null,null,"Retained cash balance - BR - nominal",null,"£m",null,{"$f":"'[1]FinStat_Bio Resources'!$J78","v":0},{"$f":"'[1]FinStat_Bio Resources'!$K78","v":21.543714674414776},{"$f":"'[1]FinStat_Bio Resources'!$L78","v":83.656058254178831},{"$f":"'[1]FinStat_Bio Resources'!$M78","v":81.422633761014112},{"$f":"'[1]FinStat_Bio Resources'!$N78","v":78.153688936091029},{"$f":"'[1]FinStat_Bio Resources'!$O78","v":85.620170713351257},{"$f":"'[1]FinStat_Bio Resources'!$P78","v":91.358329841856673},null,441.75459618090673,null,{"$f":"'[2]FinStat_Bio Resources'!$J78","v":0},{"$f":"'[2]FinStat_Bio Resources'!$K78","v":21.627465936962412},{"$f":"'[2]FinStat_Bio Resources'!$L78","v":89.174387673489576},{"$f":"'[2]FinStat_Bio Resources'!$M78","v":92.636886542642713},{"$f":"'[2]FinStat_Bio Resources'!$N78","v":97.458281021897747},{"$f":"'[2]FinStat_Bio Resources'!$O78","v":110.40392700279433},{"$f":"'[2]FinStat_Bio Resources'!$P78","v":124.92207020082962},null,536.22301837861642,null,0,-8.4000000000000005E-2,-5.5179999999999998,-11.214,-19.305,-24.783999999999999,-33.564,null,-94.468000000000004,null,0,-3.8839501698828172E-3,-6.187875402300555E-2,-0.12105329117292775,-0.19808475788386201,-0.2244847685478861,-0.26867950511900096,null,-0.17617296677349653]
[]
["BALANCE SHEET"]
[]
[null,"Non-current assets"]
[null,null,null,null,"Wholesale fixed assets balance - BR - nominal","BS","£m",null,{"$f":"'[1]FinStat_Bio Resources'!$J85","v":0},{"$f":"'[1]FinStat_Bio Resources'!$K85","v":316.21625236000034},{"$f":"'[1]FinStat_Bio Resources'!$L85","v":314.72764354937999},{"$f":"'[1]FinStat_Bio Resources'!$M85","v":316.21373341032796},{"$f":"'[1]FinStat_Bio Resources'!$N85","v":313.53623583149493},{"$f":"'[1]FinStat_Bio Resources'!$O85","v":303.48520458556703},{"$f":"'[1]FinStat_Bio Resources'!$P85","v":300.56112522273713},null,{"$f":"SUM(I89:O89)","v":1864.7401949595073},null,{"$f":"'[2]FinStat_Bio Resources'!$J85","v":0},{"$f":"'[2]FinStat_Bio Resources'!$K85","v":316.21625236},{"$f":"'[2]FinStat_Bio Resources'!$L85","v":306.71344130682189},{"$f":"'[2]FinStat_Bio Resources'!$M85","v":301.60736351050434},{"$f":"'[2]FinStat_Bio Resources'!$N85","v":291.97293191651829},{"$f":"'[2]FinStat_Bio Resources'!$O85","v":277.90567652663509},{"$f":"'[2]FinStat_Bio Resources'!$P85","v":264.87148106791301},null,{"$f":"SUM(S89:Y89)","v":1759.2871466883926},null,{"$f":"ROUND(I89 - S89, 3)","v":0},{"$f":"ROUND(J89 - T89, 3)","v":0},{"$f":"ROUND(K89 - U89, 3)","v":8.0139999999999993},{"$f":"ROUND(L89 - V89, 3)","v":14.606},{"$f":"ROUND(M89 - W89, 3)","v":21.562999999999999},{"$f":"ROUND(N89 - X89, 3)","v":25.58},{"$f":"ROUND(O89 - Y89, 3)","v":35.69},null,{"$f":"ROUND(Q89 - AA89, 3)","v":105.453},null,{"$f":"IF(S89 = 0, 0, AC89 / S89)","v":0},{"$f":"IF(T89 = 0, 0, AD89 / T89)","v":0},{"$f":"IF(U89 = 0, 0, AE89 / U89)","v":2.6128623401226053E-2},{"$f":"IF(V89 = 0, 0, AF89 / V89)","v":4.8427199621375636E-2},{"$f":"IF(W89 = 0, 0, AG89 / W89)","v":7.3852736479576644E-2},{"$f":"IF(X89 = 0, 0, AH89 / X89)","v":9.2045618929803882E-2},{"$f":"IF(Y89 = 0, 0, AI89 / Y89)","v":0.13474459332542899},null,{"$f":"IF(AA89 = 0, 0, AK89 / AA89)","v":5.9940755094187011E-2}]
[null,null,null,null,"Intangible asset and investments balance - BR - nominal","BS","£m",null,{"$f":"'[1]FinStat_Bio Resources'!$J86","v":0},{"$f":"'[1]FinStat_Bio Resources'!$K86","v":5.4680439673362492E-4},{"$f":"'[1]FinStat_Bio Resources'!$L86","v":5.4680439673362492E-4},{"$f":"'[1]FinStat_Bio Resources'!$M86","v":5.4680439673362492E-4},{"$f":"'[1]FinStat_Bio Resources'!$N86","v":5.4680439673362492E-4},{"$f":"'[1]FinStat_Bio Resources'!$O86","v":5.4680439673362492E-4},{"$f":"'[1]FinStat_Bio Resources'!$P86","v":5.4680439673362492E-4},null,{"$f":"SUM(I90:O90)","v":3.2808263804017493E-3},null,{"$f":"'[2]FinStat_Bio Resources'!$J86","v":0},{"$f":"'[2]FinStat_Bio Resources'!$K86","v":5.4893010064704635E-4},{"$f":"'[2]FinStat_Bio Resources'!$L86","v":5.4893010064704635E-4},{"$f":"'[2]FinStat_Bio Resources'!$M86","v":5.4893010064704635E-4},{"$f":"'[2]FinStat_Bio Resources'!$N86","v":5.4893010064704635E-4},{"$f":"'[2]FinStat_Bio Resources'!$O86","v":5.4893010064704635E-4},{"$f":"'[2]FinStat_Bio Resources'!$P86","v":5.4893010064704635E-4},null,{"$f":"SUM(S90:Y90)","v":3.2935806038822779E-3},null,0,0,0,0,0,0,0,null,0,null,0,0,0,0,0,0,0,null,0]
[null,null,null,null,"Retirement benefit asset balance - BR - nominal",null,null,null,{"$f":"'[1]FinStat_Bio Resources'!$J87","v":0},{"$f":"'[1]FinStat_Bio Resources'!$K87","v":1.4496625794941835},{"$f":"'[1]FinStat_Bio Resources'!$L87","v":3.5099252573968478},{"$f":"'[1]FinStat_Bio Resources'!$M87","v":5.6321106048784477},{"$f":"'[1]FinStat_Bio Resources'!$N87","v":7.8178201062774875},{"$f":"'[1]FinStat_Bio Resources'!$O87","v":10.067614166458664},{"$f":"'[1]FinStat_Bio Resources'!$P87","v":12.386457961352306},null,{"$f":"SUM(I91:O91)","v":40.863590675857935},null,{"$f":"'[2]FinStat_Bio Resources'!$J87","v":0},{"$f":"'[2]FinStat_Bio Resources'!$K87","v":1.4552981476000351},{"$f":"'[2]FinStat_Bio Resources'!$L87","v":5.7087499175874346},{"$f":"'[2]FinStat_Bio Resources'!$M87","v":10.048088926724546},{"$f":"'[2]FinStat_Bio Resources'!$N87","v":14.477229844561883},{"$f":"'[2]FinStat_Bio Resources'!$O87","v":14.477229844561883},{"$f":"'[2]FinStat_Bio Resources'!$P87","v":14.477229844561883},null,{"$f":"SUM(S91:Y91)","v":60.643826525597667},null,0,-6.0000000000000001E-3,-2.1989999999999998,-4.4160000000000004,-6.6589999999999998,-4.41,-2.0910000000000002,null,-19.78,null,{"$f":"IF(S91 = 0, 0, AC91 / S91)","v":0},{"$f":"IF(T91 = 0, 0, AD91 / T91)","v":-4.1228665135695629E-3},{"$f":"IF(U91 = 0, 0, AE91 / U91)","v":-0.38519816627898734},{"$f":"IF(V91 = 0, 0, AF91 / V91)","v":-0.43948655631967204},{"$f":"IF(W91 = 0, 0, AG91 / W91)","v":-0.45996368583602587},{"$f":"IF(X91 = 0, 0, AH91 / X91)","v":-0.30461628691047821},{"$f":"IF(Y91 = 0, 0, AI91 / Y91)","v":-0.1444337088276213},null,{"$f":"IF(AA91 = 0, 0, AK91 / AA91)","v":-0.32616675320860389}]
[null,null,null,null,"Total non-current assets - BR - nominal",null,"£m",null,{"$f":"'[1]FinStat_Bio Resources'!$J88","v":0},{"$f":"'[1]FinStat_Bio Resources'!$K88","v":317.66646174389126},{"$f":"'[1]FinStat_Bio Resources'!$L88","v":318.23811561117355},{"$f":"'[1]FinStat_Bio Resources'!$M88","v":321.84639081960313},{"$f":"'[1]FinStat_Bio Resources'!$N88","v":321.35460274216916},{"$f":"'[1]FinStat_Bio Resources'!$O88","v":313.55336555642242},{"$f":"'[1]FinStat_Bio Resources'!$P88","v":312.94812998848613},null,1905.6070664617459,null,{"$f":"'[2]FinStat_Bio Resources'!$J88","v":0},{"$f":"'[2]FinStat_Bio Resources'!$K88","v":317.67209943770069},{"$f":"'[2]FinStat_Bio Resources'!$L88","v":312.42274015451},{"$f":"'[2]FinStat_Bio Resources'!$M88","v":311.65600136732951},{"$f":"'[2]FinStat_Bio Resources'!$N88","v":306.4507106911808},{"$f":"'[2]FinStat_Bio Resources'!$O88","v":292.3834553012976},{"$f":"'[2]FinStat_Bio Resources'!$P88","v":279.34925984257552},null,1819.9342667945941,null,0,-6.0000000000000001E-3,5.8150000000000004,10.19,14.904,21.17,33.598999999999997,null,85.673000000000002,null,0,-1.8887399965626103E-5,1.8612601621521428E-2,3.2696306040292424E-2,4.863424844532075E-2,7.2404917638669311E-2,0.12027595855787976,null,4.707477712966731E-2]
[null,null,null,null,null,null,null,null,null,null,null,null,null,null,null,null,null,null,null,null,null,null,null,null,null,null,null,null,0,0,0,0,0,0,0,null,0,null,0,0,0,0,0,0,0,null,0]
[null,"Current assets",null,null,null,null,null,null,null,null,null,null,null,null,null,null,null,null,null,null,null,null,null,null,null,null,null,null,0,0,0,0,0,0,0,null,0,null,0,0,0,0,0,0,0,null,0]
[null,null,null,null,"Inventories balance - BR - nominal","BS","£m",null,{"$f":"'[1]FinStat_Bio Resources'!$J91","v":0},{"$f":"'[1]FinStat_Bio Resources'!$K91","v":0.43361588660976452},{"$f":"'[1]FinStat_Bio Resources'!$L91","v":0.43765624277040588},{"$f":"'[1]FinStat_Bio Resources'!$M91","v":0.43657392661874872},{"$f":"'[1]FinStat_Bio Resources'!$N91","v":0.42963294328863516},{"$f":"'[1]FinStat_Bio Resources'!$O91","v":0.41133759957784438},{"$f":"'[1]FinStat_Bio Resources'!$P91","v":0.4127264380764511},null,2.5615430369418499,null,{"$f":"'[2]FinStat_Bio Resources'!$J91","v":0},{"$f":"'[2]FinStat_Bio Resources'!$K91","v":0.43530156981310775},{"$f":"'[2]FinStat_Bio Resources'!$L91","v":0.43381881590989591},{"$f":"'[2]FinStat_Bio Resources'!$M91","v":0.42621108411835812},{"$f":"'[2]FinStat_Bio Resources'!$N91","v":0.41470465612196122},{"$f":"'[2]FinStat_Bio Resources'!$O91","v":0.40061157239495654},{"$f":"'[2]FinStat_Bio Resources'!$P91","v":0.39676890624637023},null,2.5074166046046495,null,0,-2E-3,4.0000000000000001E-3,0.01,1.4999999999999999E-2,1.0999999999999999E-2,1.6E-2,null,5.3999999999999999E-2,null,0,-4.5945159372126308E-3,9.2204391633183558E-3,2.3462552647323963E-2,3.6170319716855609E-2,2.7458018584533738E-2,4.0325740621582222E-2,null,2.1536110074741373E-2]
[null,null,null,null,"Trade debtors and other receivables balance - BR - nominal","BS","£m",null,{"$f":"'[1]FinStat_Bio Resources'!$J92","v":0},{"$f":"'[1]FinStat_Bio Resources'!$K92","v":3.9410716585192658},{"$f":"'[1]FinStat_Bio Resources'!$L92","v":3.9226782010317263},{"$f":"'[1]FinStat_Bio Resources'!$M92","v":3.8937707522834613},{"$f":"'[1]FinStat_Bio Resources'!$N92","v":3.795908487981797},{"$f":"'[1]FinStat_Bio Resources'!$O92","v":3.6021037220215404},{"$f":"'[1]FinStat_Bio Resources'!$P92","v":3.5774332401735869},null,22.732966062011378,null,{"$f":"'[2]FinStat_Bio Resources'!$J92","v":0},{"$f":"'[2]FinStat_Bio Resources'!$K92","v":3.9563925877174082},{"$f":"'[2]FinStat_Bio Resources'!$L92","v":3.8882836483606864},{"$f":"'[2]FinStat_Bio Resources'!$M92","v":3.8013453219535864},{"$f":"'[2]FinStat_Bio Resources'!$N92","v":3.6640135463759393},{"$f":"'[2]FinStat_Bio Resources'!$O92","v":3.5081753710085604},{"$f":"'[2]FinStat_Bio Resources'!$P92","v":3.4391164290041387},null,22.257326904420317,null,0,-1.4999999999999999E-2,3.4000000000000002E-2,9.1999999999999998E-2,0.13200000000000001,9.4E-2,0.13800000000000001,null,0.47599999999999998,null,0,-3.7913325504064965E-3,8.7442180341793015E-3,2.4201958045926588E-2,3.6026067679406006E-2,2.6794555590582143E-2,4.0126585664900134E-2,null,2.1386215965829486E-2]
[null,null,null,null,"Retained cash balance - BR - nominal","BS","£m",null,{"$f":"'[1]FinStat_Bio Resources'!$J93","v":0},{"$f":"'[1]FinStat_Bio Resources'!$K93","v":21.543714674414776},{"$f":"'[1]FinStat_Bio Resources'!$L93","v":83.656058254178845},{"$f":"'[1]FinStat_Bio Resources'!$M93","v":81.422633761014126},{"$f":"'[1]FinStat_Bio Resources'!$N93","v":78.153688936091044},{"$f":"'[1]FinStat_Bio Resources'!$O93","v":85.620170713351257},{"$f":"'[1]FinStat_Bio Resources'!$P93","v":91.358329841856673},null,441.75459618090673,null,{"$f":"'[2]FinStat_Bio Resources'!$J93","v":0},{"$f":"'[2]FinStat_Bio Resources'!$K93","v":21.627465936962412},{"$f":"'[2]FinStat_Bio Resources'!$L93","v":89.174387673489576},{"$f":"'[2]FinStat_Bio Resources'!$M93","v":92.636886542642728},{"$f":"'[2]FinStat_Bio Resources'!$N93","v":97.458281021897761},{"$f":"'[2]FinStat_Bio Resources'!$O93","v":110.40392700279435},{"$f":"'[2]FinStat_Bio Resources'!$P93","v":124.92207020082962},null,536.22301837861642,null,0,-8.4000000000000005E-2,-5.5179999999999998,-11.214,-19.305,-24.783999999999999,-33.564,null,-94.468000000000004,null,0,-3.8839501698828172E-3,-6.187875402300555E-2,-0.12105329117292773,-0.19808475788386198,-0.22448476854788607,-0.26867950511900096,null,-0.17617296677349653]
[null,null,null,null,"Total current assets - BR - nominal",null,"£m",null,{"$f":"'[1]FinStat_Bio Resources'!$J94","v":0},{"$f":"'[1]FinStat_Bio Resources'!$K94","v":25.918402219543808},{"$f":"'[1]FinStat_Bio Resources'!$L94","v":88.016392697980976},{"$f":"'[1]FinStat_Bio Resources'!$M94","v":85.752978439916333},{"$f":"'[1]FinStat_Bio Resources'!$N94","v":82.379230367361473},{"$f":"'[1]FinStat_Bio Resources'!$O94","v":89.633612034950644},{"$f":"'[1]FinStat_Bio Resources'!$P94","v":95.34848952010671},null,467.04910527985999,null,{"$f":"'[2]FinStat_Bio Resources'!$J94","v":0},{"$f":"'[2]FinStat_Bio Resources'!$K94","v":26.019160094492928},{"$f":"'[2]FinStat_Bio Resources'!$L94","v":93.496490137760162},{"$f":"'[2]FinStat_Bio Resources'!$M94","v":96.864442948714668},{"$f":"'[2]FinStat_Bio Resources'!$N94","v":101.53699922439566},{"$f":"'[2]FinStat_Bio Resources'!$O94","v":114.31271394619786},{"$f":"'[2]FinStat_Bio Resources'!$P94","v":128.75795553608012},null,560.98776188764134,null,0,-0.10100000000000001,-5.48,-11.111000000000001,-19.158000000000001,-24.678999999999998,-33.408999999999999,null,-93.938999999999993,null,0,-3.881754815805031E-3,-5.8611825876304292E-2,-0.11470669382657547,-0.18867999001685121,-0.21589024657060768,-0.25947134575803543,null,-0.16745285081426567]
[null,null,null,null,null,null,null,null,null,null,null,null,null,null,null,null,null,null,null,null,null,null,null,null,null,null,null,null,0,0,0,0,0,0,0,null,0,null,0,0,0,0,0,0,0,null,0]
[null,"Liabilities",null,null,null,null,null,null,null,null,null,null,null,null,null,null,null,null,null,null,null,null,null,null,null,null,null,null,0,0,0,0,0,0,0,null,0,null,0,0,0,0,0,0,0,null,0]
[null,null,null,null,"Trade creditors and other payables balance - BR - nominal","BS","£m",null,{"$f":"'[1]FinStat_Bio Resources'!$J97","v":0},{"$f":"'[1]FinStat_Bio Resources'!$K97","v":26.659742795884586},{"$f":"'[1]FinStat_Bio Resources'!$L97","v":88.614005310460342},{"$f":"'[1]FinStat_Bio Resources'!$M97","v":89.469241521296624},{"$f":"'[1]FinStat_Bio Resources'!$N97","v":85.234192916277564},{"$f":"'[1]FinStat_Bio Resources'!$O97","v":85.277717795489764},{"$f":"'[1]FinStat_Bio Resources'!$P97","v":85.853333743626536},null,461.10823408303543,null,{"$f":"'[2]FinStat_Bio Resources'!$J97","v":0},{"$f":"'[2]FinStat_Bio Resources'!$K97","v":26.763382634793253},{"$f":"'[2]FinStat_Bio Resources'!$L97","v":86.965766259487935},{"$f":"'[2]FinStat_Bio Resources'!$M97","v":84.584320046940306},{"$f":"'[2]FinStat_Bio Resources'!$N97","v":81.519660395835601},{"$f":"'[2]FinStat_Bio Resources'!$O97","v":81.141007548711642},{"$f":"'[2]FinStat_Bio Resources'!$P97","v":81.298482813935337},null,442.27261969970408,null,0,-0.104,1.6479999999999999,4.8849999999999998,3.7149999999999999,4.1369999999999996,4.5549999999999997,null,18.835999999999999,null,0,-3.8859064049996681E-3,1.8949985389454367E-2,5.7753020858819407E-2,4.5571828709308253E-2,5.0985317103887588E-2,5.602810584331383E-2,null,4.2589116217027718E-2]
[null,null,null,null,"Capex creditors balance - BR - nominal","BS","£m",null,{"$f":"'[1]FinStat_Bio Resources'!$J98","v":0},{"$f":"'[1]FinStat_Bio Resources'!$K98","v":7.4220705100021931},{"$f":"'[1]FinStat_Bio Resources'!$L98","v":7.7472017815153151},{"$f":"'[1]FinStat_Bio Resources'!$M98","v":6.4948155154230029},{"$f":"'[1]FinStat_Bio Resources'!$N98","v":5.1963086100999156},{"$f":"'[1]FinStat_Bio Resources'!$O98","v":3.1251963087205077},{"$f":"'[1]FinStat_Bio Resources'!$P98","v":6.1727919028122713},null,36.158384628573202,null,{"$f":"'[2]FinStat_Bio Resources'!$J98","v":0},{"$f":"'[2]FinStat_Bio Resources'!$K98","v":7.4509238338288624},{"$f":"'[2]FinStat_Bio Resources'!$L98","v":4.8671043525230537},{"$f":"'[2]FinStat_Bio Resources'!$M98","v":4.7272656788158933},{"$f":"'[2]FinStat_Bio Resources'!$N98","v":3.4316843843568456},{"$f":"'[2]FinStat_Bio Resources'!$O98","v":2.1508002559240165},{"$f":"'[2]FinStat_Bio Resources'!$P98","v":3.2289907600021568},null,25.856769265450829,null,0,-2.9000000000000001E-2,2.88,1.768,1.7649999999999999,0.97399999999999998,2.944,null,10.302,null,0,-3.8921348072749728E-3,0.59172760462944241,0.3740005576422048,0.51432468791292707,0.45285469783504129,0.91173998899830655,null,0.39842564607502129]
[null,null,null,null,"Dividend creditors balance - BR - nominal","BS","£m",null,{"$f":"'[1]FinStat_Bio Resources'!$J99","v":0},{"$f":"'[1]FinStat_Bio Resources'!$K99","v":0},{"$f":"'[1]FinStat_Bio Resources'!$L99","v":0},{"$f":"'[1]FinStat_Bio Resources'!$M99","v":0},{"$f":"'[1]FinStat_Bio Resources'!$N99","v":0},{"$f":"'[1]FinStat_Bio Resources'!$O99","v":0},{"$f":"'[1]FinStat_Bio Resources'!$P99","v":0},null,0,null,{"$f":"'[2]FinStat_Bio Resources'!$J99","v":0},{"$f":"'[2]FinStat_Bio Resources'!$K99","v":0},{"$f":"'[2]FinStat_Bio Resources'!$L99","v":0},{"$f":"'[2]FinStat_Bio Resources'!$M99","v":0},{"$f":"'[2]FinStat_Bio Resources'!$N99","v":0},{"$f":"'[2]FinStat_Bio Resources'!$O99","v":0},{"$f":"'[2]FinStat_Bio Resources'!$P99","v":0},null,0,null,0,0,0,0,0,0,0,null,0,null,0,0,0,0,0,0,0,null,0]
[null,null,null,null,"Total borrowing balance - BR - nominal","BS","£m",null,{"$f":"'[1]FinStat_Bio Resources'!$J100","v":0},{"$f":"'[1]FinStat_Bio Resources'!$K100","v":222.61310883926987},{"$f":"'[1]FinStat_Bio Resources'!$L100","v":224.60369584150192},{"$f":"'[1]FinStat_Bio Resources'!$M100","v":226.65400045380096},{"$f":"'[1]FinStat_Bio Resources'!$N100","v":228.76581420446894},{"$f":"'[1]FinStat_Bio Resources'!$O100","v":230.940982367657},{"$f":"'[1]FinStat_Bio Resources'!$P100","v":233.18140557574065},null,1366.7590072824394,null,{"$f":"'[2]FinStat_Bio Resources'!$J100","v":0},{"$f":"'[2]FinStat_Bio Resources'!$K100","v":221.25746630301387},{"$f":"'[2]FinStat_Bio Resources'!$L100","v":223.23380330663775},{"$f":"'[2]FinStat_Bio Resources'!$M100","v":225.26943042037038},{"$f":"'[2]FinStat_Bio Resources'!$N100","v":227.36612634751501},{"$f":"'[2]FinStat_Bio Resources'!$O100","v":229.52572315247394},{"$f":"'[2]FinStat_Bio Resources'!$P100","v":231.75010786158165},null,1358.4026573915926,null,0,1.3560000000000001,1.37,1.385,1.4,1.415,1.431,null,8.3559999999999999,null,0,6.1286067433446393E-3,6.1370633824580087E-3,6.1481932875467465E-3,6.1574695513798164E-3,6.1648863602970349E-3,6.1747544076859694E-3,null,6.1513425010852139E-3]
[null,null,null,null,"Preference share capital balance - BR - nominal","BS","£m",null,{"$f":"'[1]FinStat_Bio Resources'!$J101","v":0},{"$f":"'[1]FinStat_Bio Resources'!$K101","v":0},{"$f":"'[1]FinStat_Bio Resources'!$L101","v":0},{"$f":"'[1]FinStat_Bio Resources'!$M101","v":0},{"$f":"'[1]FinStat_Bio Resources'!$N101","v":0},{"$f":"'[1]FinStat_Bio Resources'!$O101","v":0},{"$f":"'[1]FinStat_Bio Resources'!$P101","v":0},null,0,null,{"$f":"'[2]FinStat_Bio Resources'!$J101","v":0},{"$f":"'[2]FinStat_Bio Resources'!$K101","v":0},{"$f":"'[2]FinStat_Bio Resources'!$L101","v":0},{"$f":"'[2]FinStat_Bio Resources'!$M101","v":0},{"$f":"'[2]FinStat_Bio Resources'!$N101","v":0},{"$f":"'[2]FinStat_Bio Resources'!$O101","v":0},{"$f":"'[2]FinStat_Bio Resources'!$P101","v":0},null,0,null,0,0,0,0,0,0,0,null,0,null,0,0,0,0,0,0,0,null,0]
[null,null,null,null,"Current tax liabilities - BR - nominal","BS","£m",null,{"$f":"'[1]FinStat_Bio Resources'!$J102","v":0},{"$f":"'[1]FinStat_Bio Resources'!$K102","v":0},{"$f":"'[1]FinStat_Bio Resources'!$L102","v":0},{"$f":"'[1]FinStat_Bio Resources'!$M102","v":0},{"$f":"'[1]FinStat_Bio Resources'!$N102","v":0},{"$f":"'[1]FinStat_Bio Resources'!$O102","v":0},{"$f":"'[1]FinStat_Bio Resources'!$P102","v":0},null,0,null,{"$f":"'[2]FinStat_Bio Resources'!$J102","v":0},{"$f":"'[2]FinStat_Bio Resources'!$K102","v":0},{"$f":"'[2]FinStat_Bio Resources'!$L102","v":0},{"$f":"'[2]FinStat_Bio Resources'!$M102","v":0},{"$f":"'[2]FinStat_Bio Resources'!$N102","v":0},{"$f":"'[2]FinStat_Bio Resources'!$O102","v":0},{"$f":"'[2]FinStat_Bio Resources'!$P102","v":0},null,0,null,0,0,0,0,0,0,0,null,0,null,0,0,0,0,0,0,0,null,0]
[null,null,null,null,"Retirement benefit liability balance - BR - nominal","BS","£m",null,{"$f":"'[1]FinStat_Bio Resources'!$J103","v":0},{"$f":"'[1]FinStat_Bio Resources'!$K103","v":0},{"$f":"'[1]FinStat_Bio Resources'!$L103","v":0},{"$f":"'[1]FinStat_Bio Resources'!$M103","v":0},{"$f":"'[1]FinStat_Bio Resources'!$N103","v":0},{"$f":"'[1]FinStat_Bio Resources'!$O103","v":0},{"$f":"'[1]FinStat_Bio Resources'!$P103","v":0},null,0,null,{"$f":"'[2]FinStat_Bio Resources'!$J103","v":0},{"$f":"'[2]FinStat_Bio Resources'!$K103","v":0},{"$f":"'[2]FinStat_Bio Resources'!$L103","v":0},{"$f":"'[2]FinStat_Bio Resources'!$M103","v":0},{"$f":"'[2]FinStat_Bio Resources'!$N103","v":0},{"$f":"'[2]FinStat_Bio Resources'!$O103","v":0},{"$f":"'[2]FinStat_Bio Resources'!$P103","v":0},null,0,null,0,0,0,0,0,0,0,null,0,null,0,0,0,0,0,0,0,null,0]
[null,null,null,null,"Provisions balance - BR - nominal","BS","£m",null,{"$f":"'[1]FinStat_Bio Resources'!$J104","v":0},{"$f":"'[1]FinStat_Bio Resources'!$K104","v":0},{"$f":"'[1]FinStat_Bio Resources'!$L104","v":1.393942206960304E-2},{"$f":"'[1]FinStat_Bio Resources'!$M104","v":2.7771789514424071E-2},{"$f":"'[1]FinStat_Bio Resources'!$N104","v":4.146636410641729E-2},{"$f":"'[1]FinStat_Bio Resources'!$O104","v":5.4574965435726507E-2},{"$f":"'[1]FinStat_Bio Resources'!$P104","v":6.7648076267138202E-2},null,0.20540061739330912,null,{"$f":"'[2]FinStat_Bio Resources'!$J104","v":0},{"$f":"'[2]FinStat_Bio Resources'!$K104","v":0.70647303953274876},{"$f":"'[2]FinStat_Bio Resources'!$L104","v":0.72029023893661015},{"$f":"'[2]FinStat_Bio Resources'!$M104","v":0.73379427104920369},{"$f":"'[2]FinStat_Bio Resources'!$N104","v":0.74701300563561013},{"$f":"'[2]FinStat_Bio Resources'!$O104","v":0.75977978746110519},{"$f":"'[2]FinStat_Bio Resources'!$P104","v":0.77234744343679529},null,4.439697786052073,null,0,-0.70599999999999996,-0.70599999999999996,-0.70599999999999996,-0.70599999999999996,-0.70499999999999996,-0.70499999999999996,null,-4.234,null,0,-0.99933042096969238,-0.98016044343776287,-0.9621225292349822,-0.94509733388013306,-0.92790044119999771,-0.91280162314370805,null,-0.95366851619984105]
[null,null,null,null,"Other liabilities balance - BR - nominal","BS","£m",null,{"$f":"'[1]FinStat_Bio Resources'!$J105","v":0},{"$f":"'[1]FinStat_Bio Resources'!$K105","v":0},{"$f":"'[1]FinStat_Bio Resources'!$L105","v":0},{"$f":"'[1]FinStat_Bio Resources'!$M105","v":0},{"$f":"'[1]FinStat_Bio Resources'!$N105","v":0},{"$f":"'[1]FinStat_Bio Resources'!$O105","v":0},{"$f":"'[1]FinStat_Bio Resources'!$P105","v":0},null,0,null,{"$f":"'[2]FinStat_Bio Resources'!$J105","v":0},{"$f":"'[2]FinStat_Bio Resources'!$K105","v":24.968296754892691},{"$f":"'[2]FinStat_Bio Resources'!$L105","v":24.968296754892691},{"$f":"'[2]FinStat_Bio Resources'!$M105","v":24.968296754892691},{"$f":"'[2]FinStat_Bio Resources'!$N105","v":24.968296754892691},{"$f":"'[2]FinStat_Bio Resources'!$O105","v":24.968296754892691},{"$f":"'[2]FinStat_Bio Resources'!$P105","v":24.968296754892691},null,149.80978052935615,null,0,-24.968,-24.968,-24.968,-24.968,-24.968,-24.968,null,-149.81,null,0,-0.99998811473223004,-0.99998811473223004,-0.99998811473223004,-0.99998811473223004,-0.99998811473223004,-0.99998811473223004,null,-1.0000014649954301]
[null,null,null,null,"Total liabilities - BR - nominal",null,"£m",null,{"$f":"'[1]FinStat_Bio Resources'!$J106","v":0},{"$f":"'[1]FinStat_Bio Resources'!$K106","v":256.69492214515662},{"$f":"'[1]FinStat_Bio Resources'!$L106","v":320.97884235554716},{"$f":"'[1]FinStat_Bio Resources'!$M106","v":322.645829280035},{"$f":"'[1]FinStat_Bio Resources'!$N106","v":319.23778209495288},{"$f":"'[1]FinStat_Bio Resources'!$O106","v":319.39847143730299},{"$f":"'[1]FinStat_Bio Resources'!$P106","v":325.27517929844657},null,1864.2310266114414,null,{"$f":"'[2]FinStat_Bio Resources'!$J106","v":0},{"$f":"'[2]FinStat_Bio Resources'!$K106","v":281.14654256606138},{"$f":"'[2]FinStat_Bio Resources'!$L106","v":340.75526091247809},{"$f":"'[2]FinStat_Bio Resources'!$M106","v":340.28310717206841},{"$f":"'[2]FinStat_Bio Resources'!$N106","v":338.03278088823572},{"$f":"'[2]FinStat_Bio Resources'!$O106","v":338.54560749946347},{"$f":"'[2]FinStat_Bio Resources'!$P106","v":342.0182256338486},null,1980.7815246721557,null,0,-24.452000000000002,-19.776,-17.637,-18.795000000000002,-19.146999999999998,-16.742999999999999,null,-116.55,null,0,-8.6972437138381251E-2,-5.8035787758767436E-2,-5.1830371911708299E-2,-5.5601116408335025E-2,-5.655663395375863E-2,-4.8953531552217343E-2,null,-5.8840411498330435E-2]
[null,null,null,null,null,null,null,null,null,null,null,null,null,null,null,null,null,null,null,null,null,null,null,null,null,null,null,null,0,0,0,0,0,0,0,null,0,null,0,0,0,0,0,0,0,null,0]
[null,null,null,null,"Net assets before deferred tax - BR - nominal",null,"£m",null,{"$f":"'[1]FinStat_Bio Resources'!$J108","v":0},{"$f":"'[1]FinStat_Bio Resources'!$K108","v":86.88994181827843},{"$f":"'[1]FinStat_Bio Resources'!$L108","v":85.275665953607358},{"$f":"'[1]FinStat_Bio Resources'!$M108","v":84.953539979484447},{"$f":"'[1]FinStat_Bio Resources'!$N108","v":84.496051014577745},{"$f":"'[1]FinStat_Bio Resources'!$O108","v":83.788506154070092},{"$f":"'[1]FinStat_Bio Resources'!$P108","v":83.021440210146238},null,508.42514513016431,null,{"$f":"'[2]FinStat_Bio Resources'!$J108","v":0},{"$f":"'[2]FinStat_Bio Resources'!$K108","v":62.544716966132228},{"$f":"'[2]FinStat_Bio Resources'!$L108","v":65.163969379792093},{"$f":"'[2]FinStat_Bio Resources'!$M108","v":68.237337143975765},{"$f":"'[2]FinStat_Bio Resources'!$N108","v":69.954929027340768},{"$f":"'[2]FinStat_Bio Resources'!$O108","v":68.150561748031976},{"$f":"'[2]FinStat_Bio Resources'!$P108","v":66.088989744807009},null,400.14050401007984,null,0,24.344999999999999,20.111999999999998,16.716000000000001,14.541,15.638,16.931999999999999,null,108.285,null,0,0.38924150881013247,0.30863681558104872,0.2449685274900231,0.20786240801297765,0.22946252531002193,0.25620001251918734,null,0.27061744291018391]
[null,null,null,null,null,null,null,null,null,null,null,null,null,null,null,null,null,null,null,null,null,null,null,null,null,null,null,null,0,0,0,0,0,0,0,null,0,null,0,0,0,0,0,0,0,null,0]
[null,"Net assets",null,null,null,null,null,null,null,null,null,null,null,null,null,null,null,null,null,null,null,null,null,null,null,null,null,null,0,0,0,0,0,0,0,null,0,null,0,0,0,0,0,0,0,null,0]
[null,null,null,null,"Deferred tax balance - BR - nominal ","BS","£m",null,{"$f":"'[1]FinStat_Bio Resources'!$J111","v":0},{"$f":"'[1]FinStat_Bio Resources'!$K111","v":-32.304404583365795},{"$f":"'[1]FinStat_Bio Resources'!$L111","v":-30.331634768560054},{"$f":"'[1]FinStat_Bio Resources'!$M111","v":-28.17511488599559},{"$f":"'[1]FinStat_Bio Resources'!$N111","v":-25.833935543576139},{"$f":"'[1]FinStat_Bio Resources'!$O111","v":-23.177428116969619},{"$f":"'[1]FinStat_Bio Resources'!$P111","v":-20.372300074506558},null,-160.19481797297377,null,{"$f":"'[2]FinStat_Bio Resources'!$J111","v":0},{"$f":"'[2]FinStat_Bio Resources'!$K111","v":-32.429988063772704},{"$f":"'[2]FinStat_Bio Resources'!$L111","v":-30.32203497143194},{"$f":"'[2]FinStat_Bio Resources'!$M111","v":-27.982648673304084},{"$f":"'[2]FinStat_Bio Resources'!$N111","v":-25.393936543833963},{"$f":"'[2]FinStat_Bio Resources'!$O111","v":-22.499300034862301},{"$f":"'[2]FinStat_Bio Resources'!$P111","v":-19.361081462960264},null,-157.98898975016527,null,0,0.126,-0.01,-0.192,-0.44,-0.67800000000000005,-1.0109999999999999,null,-2.206,null,0,-3.8852928268806133E-3,3.2979316887608471E-4,6.8613947965251486E-3,1.7326970918450955E-2,3.013427079728925E-2,5.2218157437855246E-2,null,1.3962998329747166E-2]
[null,null,null,null,"Net assets - BR - nominal",null,"£m",null,{"$f":"'[1]FinStat_Bio Resources'!$J112","v":0},{"$f":"'[1]FinStat_Bio Resources'!$K112","v":54.585537234912636},{"$f":"'[1]FinStat_Bio Resources'!$L112","v":54.944031185047308},{"$f":"'[1]FinStat_Bio Resources'!$M112","v":56.778425093488856},{"$f":"'[1]FinStat_Bio Resources'!$N112","v":58.662115471001606},{"$f":"'[1]FinStat_Bio Resources'!$O112","v":60.611078037100469},{"$f":"'[1]FinStat_Bio Resources'!$P112","v":62.649140135639684},null,348.23032715719057,null,{"$f":"'[2]FinStat_Bio Resources'!$J112","v":0},{"$f":"'[2]FinStat_Bio Resources'!$K112","v":30.114728902359523},{"$f":"'[2]FinStat_Bio Resources'!$L112","v":34.841934408360153},{"$f":"'[2]FinStat_Bio Resources'!$M112","v":40.254688470671681},{"$f":"'[2]FinStat_Bio Resources'!$N112","v":44.560992483506809},{"$f":"'[2]FinStat_Bio Resources'!$O112","v":45.651261713169674},{"$f":"'[2]FinStat_Bio Resources'!$P112","v":46.727908281846744},null,242.15151425991456,null,0,24.471,20.102,16.524000000000001,14.101000000000001,14.96,15.920999999999999,null,106.07899999999999,null,0,0.81259240550834477,0.5769484485102705,0.41048634650442956,0.3164426825820621,0.32770178607537315,0.34071715566573146,null,0.43806870390304292]
[null,null,null,null,null,null,null,null,null,null,null,null,null,null,null,null,null,null,null,null,null,null,null,null,null,null,null,null,0,0,0,0,0,0,0,null,0,null,0,0,0,0,0,0,0,null,0]
[null,"Equity",null,null,null,null,null,null,null,null,null,null,null,null,null,null,null,null,null,null,null,null,null,null,null,null,null,null,0,0,0,0,0,0,0,null,0,null,0,0,0,0,0,0,0,null,0]
[null,null,null,null,"Called up share capital balance - BR - nominal","BS","£m",null,{"$f":"'[1]FinStat_Bio Resources'!$J115","v":0},{"$f":"'[1]FinStat_Bio Resources'!$K115","v":0.420618766718173},{"$f":"'[1]FinStat_Bio Resources'!$L115","v":0.420618766718173},{"$f":"'[1]FinStat_Bio Resources'!$M115","v":0.420618766718173},{"$f":"'[1]FinStat_Bio Resources'!$N115","v":0.420618766718173},{"$f":"'[1]FinStat_Bio Resources'!$O115","v":0.420618766718173},{"$f":"'[1]FinStat_Bio Resources'!$P115","v":0.420618766718173},null,2.5237126003090382,null,{"$f":"'[2]FinStat_Bio Resources'!$J115","v":0},{"$f":"'[2]FinStat_Bio Resources'!$K115","v":0.42225392357465108},{"$f":"'[2]FinStat_Bio Resources'!$L115","v":0.42225392357465108},{"$f":"'[2]FinStat_Bio Resources'!$M115","v":0.42225392357465108},{"$f":"'[2]FinStat_Bio Resources'!$N115","v":0.42225392357465108},{"$f":"'[2]FinStat_Bio Resources'!$O115","v":0.42225392357465108},{"$f":"'[2]FinStat_Bio Resources'!$P115","v":0.42225392357465108},null,2.5335235414479063,null,0,-2E-3,-2E-3,-2E-3,-2E-3,-2E-3,-2E-3,null,-0.01,null,0,-4.7364864796725003E-3,-4.7364864796725003E-3,-4.7364864796725003E-3,-4.7364864796725003E-3,-4.7364864796725003E-3,-4.7364864796725003E-3,null,-3.9470720663937501E-3]
[null,null,null,null,"Non-distributable reserves balance - BR - nominal","BS","£m",null,{"$f":"'[1]FinStat_Bio Resources'!$J116","v":0},{"$f":"'[1]FinStat_Bio Resources'!$K116","v":32.4920005533221},{"$f":"'[1]FinStat_Bio Resources'!$L116","v":32.4920005533221},{"$f":"'[1]FinStat_Bio Resources'!$M116","v":32.4920005533221},{"$f":"'[1]FinStat_Bio Resources'!$N116","v":32.4920005533221},{"$f":"'[1]FinStat_Bio Resources'!$O116","v":32.4920005533221},{"$f":"'[1]FinStat_Bio Resources'!$P116","v":32.4920005533221},null,194.9520033199326,null,{"$f":"'[2]FinStat_Bio Resources'!$J116","v":0},{"$f":"'[2]FinStat_Bio Resources'!$K116","v":32.618313313687004},{"$f":"'[2]FinStat_Bio Resources'!$L116","v":32.618313313687004},{"$f":"'[2]FinStat_Bio Resources'!$M116","v":32.618313313687004},{"$f":"'[2]FinStat_Bio Resources'!$N116","v":32.618313313687004},{"$f":"'[2]FinStat_Bio Resources'!$O116","v":32.618313313687004},{"$f":"'[2]FinStat_Bio Resources'!$P116","v":32.618313313687004},null,195.70987988212201,null,0,-0.126,-0.126,-0.126,-0.126,-0.126,-0.126,null,-0.75800000000000001,null,0,-3.8628606816137551E-3,-3.8628606816137551E-3,-3.8628606816137551E-3,-3.8628606816137551E-3,-3.8628606816137551E-3,-3.8628606816137551E-3,null,-3.8730798897661728E-3]
[null,null,null,null,"Retained earnings balance - BR - nominal","BS","£m",null,{"$f":"'[1]FinStat_Bio Resources'!$J117","v":0},{"$f":"'[1]FinStat_Bio Resources'!$K117","v":21.672917914872365},{"$f":"'[1]FinStat_Bio Resources'!$L117","v":22.031411865007058},{"$f":"'[1]FinStat_Bio Resources'!$M117","v":23.86580577344867},{"$f":"'[1]FinStat_Bio Resources'!$N117","v":25.749496150961448},{"$f":"'[1]FinStat_Bio Resources'!$O117","v":27.698458717060326},{"$f":"'[1]FinStat_Bio Resources'!$P117","v":29.736520815599565},null,150.75461123694944,null,{"$f":"'[2]FinStat_Bio Resources'!$J117","v":0},{"$f":"'[2]FinStat_Bio Resources'!$K117","v":-2.9258383349021315},{"$f":"'[2]FinStat_Bio Resources'!$L117","v":1.8013671710984895},{"$f":"'[2]FinStat_Bio Resources'!$M117","v":7.2141212334099603},{"$f":"'[2]FinStat_Bio Resources'!$N117","v":11.520425246245132},{"$f":"'[2]FinStat_Bio Resources'!$O117","v":12.610694475908138},{"$f":"'[2]FinStat_Bio Resources'!$P117","v":13.687341044585159},null,43.908110836344747,null,0,24.599,20.23,16.652000000000001,14.228999999999999,15.087999999999999,16.048999999999999,null,106.84699999999999,null,0,-8.4075048530741299,11.230358987648014,2.3082506463686023,1.2351106574505726,1.1964448134735626,1.1725432973228307,null,2.4334228452288102]
[null,null,null,null,"Total equity - BR - nominal",null,"£m",null,{"$f":"'[1]FinStat_Bio Resources'!$J118","v":0},{"$f":"'[1]FinStat_Bio Resources'!$K118","v":54.585537234912636},{"$f":"'[1]FinStat_Bio Resources'!$L118","v":54.944031185047329},{"$f":"'[1]FinStat_Bio Resources'!$M118","v":56.778425093488941},{"$f":"'[1]FinStat_Bio Resources'!$N118","v":58.662115471001719},{"$f":"'[1]FinStat_Bio Resources'!$O118","v":60.611078037100597},{"$f":"'[1]FinStat_Bio Resources'!$P118","v":62.64914013563984},null,348.23032715719103,null,{"$f":"'[2]FinStat_Bio Resources'!$J118","v":0},{"$f":"'[2]FinStat_Bio Resources'!$K118","v":30.114728902359523},{"$f":"'[2]FinStat_Bio Resources'!$L118","v":34.841934408360146},{"$f":"'[2]FinStat_Bio Resources'!$M118","v":40.254688470671617},{"$f":"'[2]FinStat_Bio Resources'!$N118","v":44.560992483506787},{"$f":"'[2]FinStat_Bio Resources'!$O118","v":45.651261713169795},{"$f":"'[2]FinStat_Bio Resources'!$P118","v":46.727908281846815},null,242.15151425991471,null,0,24.471,20.102,16.524000000000001,14.101000000000001,14.96,15.920999999999999,null,106.07899999999999,null,0,0.81259240550834477,0.57694844851027061,0.41048634650443022,0.31644268258206226,0.32770178607537226,0.34071715566573096,null,0.4380687039030427]
[]
["Calculations"]
[]
[null,null,null,null,"Net debt",null,"£m",null,{"$f":"SUM(I97,I104:I105)","v":0},{"$f":"SUM(J97,J104:J105)","v":244.15682351368466},{"$f":"SUM(K97,K104:K105)","v":308.25975409568076},308.0766342148151,306.91950314055998,316.56115308100823,324.53973541759734,null,{"$f":"SUM(I126:O126)","v":1808.5136034633458},null,{"$f":"SUM(S97,S104:S105)","v":0},{"$f":"SUM(T97,T104:T105)","v":242.88493223997628},{"$f":"SUM(U97,U104:U105)","v":312.4081909801273},317.90631696301313,324.82440736941277,339.92965015526829,356.67217806241126,null,{"$f":"SUM(S126:Y126)","v":1894.625675770209},null,{"$f":"ROUND(I126 - S126, 3)","v":0},1.272,-4.1479999999999997,-9.83,-17.905000000000001,-23.367999999999999,-32.131999999999998,null,{"$f":"ROUND(Q126 - AA126, 3)","v":-86.111999999999995},null,{"$f":"IF(S126 = 0, 0, AC126 / S126)","v":0},{"$f":"IF(T126 = 0, 0, AD126 / T126)","v":5.2370477998331848E-3},{"$f":"IF(U126 = 0, 0, AE126 / U126)","v":-1.3277500781866054E-2},{"$f":"IF(V126 = 0, 0, AF126 / V126)","v":-3.0921059052575143E-2},{"$f":"IF(W126 = 0, 0, AG126 / W126)","v":-5.5122089331289682E-2},{"$f":"IF(X126 = 0, 0, AH126 / X126)","v":-6.8743635600266972E-2},{"$f":"IF(Y126 = 0, 0, AI126 / Y126)","v":-9.008832753525696E-2},null,{"$f":"IF(AA126 = 0, 0, AK126 / AA126)","v":-4.5450666641574718E-2}]
[null,null,null,null,"Average net debt",null,"£m",null,null,{"$f":"SUM(I97:J97,I104:J105)","v":244.15682351368466},{"$f":"SUM(J97:K97,J104:K105)","v":552.41657760936539},616.33638831049586,614.99613735537514,623.48065622156832,641.10088849860563,null,{"$f":"SUM(I127:O127)","v":3292.4874715090955},null,null,{"$f":"SUM(S97:T97,S104:T105)","v":242.88493223997628},{"$f":"SUM(T97:U97,T104:U105)","v":555.29312322010355},{"$f":"SUM(U97:V97,U104:V105)","v":630.31450794314037},{"$f":"SUM(V97:W97,V104:W105)","v":642.73072433242589},{"$f":"SUM(W97:X97,W104:X105)","v":664.754057524681},{"$f":"SUM(X97:Y97,X104:Y105)","v":696.60182821767955},null,{"$f":"SUM(S127:Y127)","v":3432.5791734780064},null,0,1.272,-2.8769999999999998,-13.978,-27.734999999999999,-41.273000000000003,-55.500999999999998,null,{"$f":"ROUND(Q127 - AA127, 3)","v":-140.09200000000001},null,0,5.2370477998331848E-3,-5.181047413871237E-3,-2.217623079248706E-2,-4.3151819183386689E-2,-6.2087624036003146E-2,-7.9673922392659316E-2,null,-4.0812459937538459E-2]
[]
[null,null,null,null,"Total interest as a percentage of average net debt",null,"%",null,null,{"$f":" IF( J127 = 0, 0, SUM( J27:J28 ) / J127 )","v":0},{"$f":" IF( K127 = 0, 0, SUM( K27:K28 ) / K127 )","v":-1.3459446759678188E-2},-1.0130363905295335E-2,-1.0487359393416662E-2,-1.0347345953917852E-2,{"$f":" IF( O127 = 0, 0, SUM( O27:O28 ) / O127 )","v":-9.7701098019224129E-3},null,null,null,null,{"$f":" IF( T127 = 0, 0, SUM( T27:T28 ) / T127 )","v":0},{"$f":" IF( U127 = 0, 0, SUM( U27:U28 ) / U127 )","v":-1.2539931126487474E-2},-8.8692854552798253E-3,-8.5652830811676489E-3,-7.8647696302826114E-3,{"$f":" IF( Y127 = 0, 0, SUM( Y27:Y28 ) / Y127 )","v":-6.8260510579548801E-3},null,null,null,null,{"$f":"ROUND(J129 - T129, 3)","v":0},-1E-3,-1E-3,-2E-3,-2E-3,-3.0000000000000001E-3,null,null,null,null,0,7.9745254572232027E-2,0.11274865433547489,0.23350074726629505,0.25429861191345948,0.43949275716358549]

{"sheet":"FinStat_Dummy control","index":10,"n_rows":129,"n_cols":47,"rows_kept":129,"cut":false,"hidden":false,"merged":[[0,8,0,16],[0,18,0,26],[0,28,0,36],[0,38,0,46]]}
[null,null,null,null,{"$f":" RIGHT(CELL(\"FILENAME\", $A$1), LEN(CELL(\"FILENAME\", $A$1)) - SEARCH(\"]\", CELL(\"FILENAME\", $A$1)))","v":"FinStat_Dummy control"},null,null,null,{"$f":"'Front sheet'!$F5 & \": \" & 'Front sheet'!$G5 & \" - \" & 'Front sheet'!$H5","v":"Model 1: ANH - Company 1 April NTN Post"},null,null,null,null,null,null,null,null,null,{"$f":"'Front sheet'!$F6 & \": \" & 'Front sheet'!$G6 & \" - \" & 'Front sheet'!$H6","v":"Model 2: ANH - Ofwat FD NTN Post "},null,null,null,null,null,null,null,null,null,{"$f":"\"Delta (\" & 'Front sheet'!$F5 & \" - \" & 'Front sheet'!$F6 & \")\"","v":"Delta (Model 1 - Model 2)"},null,null,null,null,null,null,null,null,null,{"$f":"\"Delta  (\" & 'Front sheet'!$F5 & \" - \" & 'Front sheet'!$F6 & \") - %\"","v":"Delta  (Model 1 - Model 2) - %"}]
[]
[null,null,null,"Model period ending",null,null,null,null,"2019-03-31","2020-03-31","2021-03-31","2022-03-31","2023-03-31","2024-03-31","2025-03-31",null,null,null,"2019-03-31","2020-03-31","2021-03-31","2022-03-31","2023-03-31","2024-03-31","2025-03-31",null,null,null,"2019-03-31","2020-03-31","2021-03-31","2022-03-31","2023-03-31","2024-03-31","2025-03-31",null,null,null,"2019-03-31","2020-03-31","2021-03-31","2022-03-31","2023-03-31","2024-03-31","2025-03-31"]
[null,null,null,"Timeline label",null,null,null,null,"Pre-Fcst","Pre-Fcst","Forecast","Forecast","Forecast","Forecast","Forecast",null,"Total",null,"Pre-Fcst","Pre-Fcst","Forecast","Forecast","Forecast","Forecast","Forecast",null,"Total",null,"Pre-Fcst","Pre-Fcst","Forecast","Forecast","Forecast","Forecast","Forecast",null,"Total",null,"Pre-Fcst","Pre-Fcst","Forecast","Forecast","Forecast","Forecast","Forecast",null,"Total"]
[null,null,null,"Financial year ending",null,null,null,null,2019,2020,2021,2022,2023,2024,2025,null,null,null,2019,2020,2021,2022,2023,2024,2025,null,null,null,2019,2020,2021,2022,2023,2024,2025,null,null,null,2019,2020,2021,2022,2023,2024,2025]
[null,null,null,"Model column counter",null,null,null,null,1,2,3,4,5,6,7,null,null,null,1,2,3,4,5,6,7,null,null,null,1,2,3,4,5,6,7,null,null,null,1,2,3,4,5,6,7]
[]
[null,null,null,null,{"$f":"'Front sheet'!$F5 & \": \" & 'Front sheet'!$G5 & \" - \" & 'Front sheet'!$I5","v":"Model 1: ANH - "}]
[null,null,null,null,{"$f":"'Front sheet'!$F6 & \": \" & 'Front sheet'!$G6 & \" - \" & 'Front sheet'!$I6","v":"Model 2: ANH - "}]
[null,null,null,null,"3rd model not in use"]
[]
[null,null,null,"Check Delta (numbers)",null,null,null,null,null,null,null,null,null,null,null,null,null,null,null,null,null,null,null,null,null,null,null,null,{"$f":"COUNTIF(AC19:AC311,\"<>0\") - COUNTBLANK(AC19:AC311) - AC13","v":0},0,0,0,0,0,0,null,{"$f":"COUNTIF(AK19:AK311,\"<>0\") - COUNTBLANK(AK19:AK311) - AK13","v":0},null,{"$f":"COUNTIF(AM19:AM311,\"<>0\") - COUNTBLANK(AM19:AM311) - AM13","v":0},0,0,0,0,0,0,null,{"$f":"COUNTIF(AU19:AU311,\"<>0\") - COUNTBLANK(AU19:AU311) - AU13","v":0}]
[null,null,null,"Check Delta (errors)",null,null,null,null,null,null,null,null,null,null,null,null,null,null,null,null,null,null,null,null,null,null,null,null,{"$f":"COUNT( IF( ISERROR(AC19:AC309), 1) )","v":1},{"$f":"COUNT( IF( ISERROR(AD19:AD309), 1) )","v":1},{"$f":"COUNT( IF( ISERROR(AE19:AE309), 1) )","v":1},{"$f":"COUNT( IF( ISERROR(AF19:AF309), 1) )","v":1},{"$f":"COUNT( IF( ISERROR(AG19:AG309), 1) )","v":1},{"$f":"COUNT( IF( ISERROR(AH19:AH309), 1) )","v":1},{"$f":"COUNT( IF( ISERROR(AI19:AI309), 1) )","v":1},null,{"$f":"COUNT( IF( ISERROR(AK19:AK309), 1) )","v":0},null,{"$f":"COUNT( IF( ISERROR(AM19:AM309), 1) )","v":1},{"$f":"COUNT( IF( ISERROR(AN19:AN309), 1) )","v":1},{"$f":"COUNT( IF( ISERROR(AO19:AO309), 1) )","v":1},{"$f":"COUNT( IF( ISERROR(AP19:AP309), 1) )","v":1},{"$f":"COUNT( IF( ISERROR(AQ19:AQ309), 1) )","v":1},{"$f":"COUNT( IF( ISERROR(AR19:AR309), 1) )","v":1},{"$f":"COUNT( IF( ISERROR(AS19:AS309), 1) )","v":1},null,{"$f":"COUNT( IF( ISERROR(AU19:AU309), 1) )","v":0}]
[]
["PROFIT & LOSS"]
[]
[null,null,null,null,"Revenue requirement incl. tax charge - DMMY - nominal","PL","£m",null,{"$f":"'[1]FinStat_Dummy control'!$J9","v":0},{"$f":"'[1]FinStat_Dummy control'!$K9","v":0},{"$f":"'[1]FinStat_Dummy control'!$L9","v":0},{"$f":"'[1]FinStat_Dummy control'!$M9","v":0},{"$f":"'[1]FinStat_Dummy control'!$N9","v":0},{"$f":"'[1]FinStat_Dummy control'!$O9","v":0},{"$f":"'[1]FinStat_Dummy control'!$P9","v":0},null,{"$f":"SUM(I17:O17)","v":0},null,{"$f":"'[2]FinStat_Dummy control'!$J9","v":0},{"$f":"'[2]FinStat_Dummy control'!$K9","v":0},{"$f":"'[2]FinStat_Dummy control'!$L9","v":0},{"$f":"'[2]FinStat_Dummy control'!$M9","v":0},{"$f":"'[2]FinStat_Dummy control'!$N9","v":0},{"$f":"'[2]FinStat_Dummy control'!$O9","v":0},{"$f":"'[2]FinStat_Dummy control'!$P9","v":0},null,{"$f":"SUM(S17:Y17)","v":0},null,{"$f":"ROUND(I17 - S17, 3)","v":0},{"$f":"ROUND(J17 - T17, 3)","v":0},{"$f":"ROUND(K17 - U17, 3)","v":0},{"$f":"ROUND(L17 - V17, 3)","v":0},{"$f":"ROUND(M17 - W17, 3)","v":0},{"$f":"ROUND(N17 - X17, 3)","v":0},{"$f":"ROUND(O17 - Y17, 3)","v":0},null,{"$f":"ROUND(Q17 - AA17, 3)","v":0},null,{"$f":"IF(S17 = 0, 0, AC17 / S17)","v":0},{"$f":"IF(T17 = 0, 0, AD17 / T17)","v":0},{"$f":"IF(U17 = 0, 0, AE17 / U17)","v":0},{"$f":"IF(V17 = 0, 0, AF17 / V17)","v":0},{"$f":"IF(W17 = 0, 0, AG17 / W17)","v":0},{"$f":"IF(X17 = 0, 0, AH17 / X17)","v":0},{"$f":"IF(Y17 = 0, 0, AI17 / Y17)","v":0},null,{"$f":"IF(AA17 = 0, 0, AK17 / AA17)","v":0}]
[null,null,null,null,"Total direct procurement from customers - infrastructure cost (as revenue) - DMMY - nominal","PL","£m",null,{"$f":"'[1]FinStat_Dummy control'!$J10","v":0},{"$f":"'[1]FinStat_Dummy control'!$K10","v":0},{"$f":"'[1]FinStat_Dummy control'!$L10","v":0},{"$f":"'[1]FinStat_Dummy control'!$M10","v":0},{"$f":"'[1]FinStat_Dummy control'!$N10","v":0},{"$f":"'[1]FinStat_Dummy control'!$O10","v":0},{"$f":"'[1]FinStat_Dummy control'!$P10","v":0},null,{"$f":"SUM(I18:O18)","v":0},null,{"$f":"'[2]FinStat_Dummy control'!$J10","v":0},{"$f":"'[2]FinStat_Dummy control'!$K10","v":0},{"$f":"'[2]FinStat_Dummy control'!$L10","v":0},{"$f":"'[2]FinStat_Dummy control'!$M10","v":0},{"$f":"'[2]FinStat_Dummy control'!$N10","v":0},{"$f":"'[2]FinStat_Dummy control'!$O10","v":0},{"$f":"'[2]FinStat_Dummy control'!$P10","v":0},null,{"$f":"SUM(S18:Y18)","v":0},null,0,0,0,0,0,0,0,null,0,null,0,0,0,0,0,0,0,null,0]
[null,null,null,null,"Operating expenditure - DMMY - nominal","PL","£m",null,{"$f":"'[1]FinStat_Dummy control'!$J11","v":0},{"$f":"'[1]FinStat_Dummy control'!$K11","v":0},{"$f":"'[1]FinStat_Dummy control'!$L11","v":0},{"$f":"'[1]FinStat_Dummy control'!$M11","v":0},{"$f":"'[1]FinStat_Dummy control'!$N11","v":0},{"$f":"'[1]FinStat_Dummy control'!$O11","v":0},{"$f":"'[1]FinStat_Dummy control'!$P11","v":0},null,0,null,{"$f":"'[2]FinStat_Dummy control'!$J11","v":0},{"$f":"'[2]FinStat_Dummy control'!$K11","v":0},{"$f":"'[2]FinStat_Dummy control'!$L11","v":0},{"$f":"'[2]FinStat_Dummy control'!$M11","v":0},{"$f":"'[2]FinStat_Dummy control'!$N11","v":0},{"$f":"'[2]FinStat_Dummy control'!$O11","v":0},{"$f":"'[2]FinStat_Dummy control'!$P11","v":0},null,0,null,0,0,0,0,0,0,0,null,0,null,0,0,0,0,0,0,0,null,0]
[null,null,null,null,"Operating income - DMMY - nominal","PL","£m",null,{"$f":"'[1]FinStat_Dummy control'!$J12","v":0},{"$f":"'[1]FinStat_Dummy control'!$K12","v":0},{"$f":"'[1]FinStat_Dummy control'!$L12","v":0},{"$f":"'[1]FinStat_Dummy control'!$M12","v":0},{"$f":"'[1]FinStat_Dummy control'!$N12","v":0},{"$f":"'[1]FinStat_Dummy control'!$O12","v":0},{"$f":"'[1]FinStat_Dummy control'!$P12","v":0},null,0,null,{"$f":"'[2]FinStat_Dummy control'!$J12","v":0},{"$f":"'[2]FinStat_Dummy control'!$K12","v":0},{"$f":"'[2]FinStat_Dummy control'!$L12","v":0},{"$f":"'[2]FinStat_Dummy control'!$M12","v":0},{"$f":"'[2]FinStat_Dummy control'!$N12","v":0},{"$f":"'[2]FinStat_Dummy control'!$O12","v":0},{"$f":"'[2]FinStat_Dummy control'!$P12","v":0},null,0,null,0,0,0,0,0,0,0,null,0,null,0,0,0,0,0,0,0,null,0]
[null,null,null,null,"EBITDA - DMMY - nominal",null,"£m",null,{"$f":"'[1]FinStat_Dummy control'!$J13","v":0},{"$f":"'[1]FinStat_Dummy control'!$K13","v":0},{"$f":"'[1]FinStat_Dummy control'!$L13","v":0},{"$f":"'[1]FinStat_Dummy control'!$M13","v":0},{"$f":"'[1]FinStat_Dummy control'!$N13","v":0},{"$f":"'[1]FinStat_Dummy control'!$O13","v":0},{"$f":"'[1]FinStat_Dummy control'!$P13","v":0},null,0,null,{"$f":"'[2]FinStat_Dummy control'!$J13","v":0},{"$f":"'[2]FinStat_Dummy control'!$K13","v":0},{"$f":"'[2]FinStat_Dummy control'!$L13","v":0},{"$f":"'[2]FinStat_Dummy control'!$M13","v":0},{"$f":"'[2]FinStat_Dummy control'!$N13","v":0},{"$f":"'[2]FinStat_Dummy control'!$O13","v":0},{"$f":"'[2]FinStat_Dummy control'!$P13","v":0},null,0,null,0,0,0,0,0,0,0,null,0,null,0,0,0,0,0,0,0,null,0]
[null,null,null,null,null,null,null,null,null,null,null,null,null,null,null,null,null,null,null,null,null,null,null,null,null,null,null,null,0,0,0,0,0,0,0,null,0,null,0,0,0,0,0,0,0,null,0]
[null,null,null,null,"Wholesale fixed assets depreciation - DMMY - nominal","PL","£m",null,{"$f":"'[1]FinStat_Dummy control'!$J15","v":0},{"$f":"'[1]FinStat_Dummy control'!$K15","v":0},{"$f":"'[1]FinStat_Dummy control'!$L15","v":0},{"$f":"'[1]FinStat_Dummy control'!$M15","v":0},{"$f":"'[1]FinStat_Dummy control'!$N15","v":0},{"$f":"'[1]FinStat_Dummy control'!$O15","v":0},{"$f":"'[1]FinStat_Dummy control'!$P15","v":0},null,0,null,{"$f":"'[2]FinStat_Dummy control'!$J15","v":0},{"$f":"'[2]FinStat_Dummy control'!$K15","v":0},{"$f":"'[2]FinStat_Dummy control'!$L15","v":0},{"$f":"'[2]FinStat_Dummy control'!$M15","v":0},{"$f":"'[2]FinStat_Dummy control'!$N15","v":0},{"$f":"'[2]FinStat_Dummy control'!$O15","v":0},{"$f":"'[2]FinStat_Dummy control'!$P15","v":0},null,0,null,0,0,0,0,0,0,0,null,0,null,0,0,0,0,0,0,0,null,0]
[null,null,null,null,"Earnings before interest and tax (EBIT) - DMMY - nominal",null,"£m",null,{"$f":"'[1]FinStat_Dummy control'!$J16","v":0},{"$f":"'[1]FinStat_Dummy control'!$K16","v":0},{"$f":"'[1]FinStat_Dummy control'!$L16","v":0},{"$f":"'[1]FinStat_Dummy control'!$M16","v":0},{"$f":"'[1]FinStat_Dummy control'!$N16","v":0},{"$f":"'[1]FinStat_Dummy control'!$O16","v":0},{"$f":"'[1]FinStat_Dummy control'!$P16","v":0},null,0,null,{"$f":"'[2]FinStat_Dummy control'!$J16","v":0},{"$f":"'[2]FinStat_Dummy control'!$K16","v":0},{"$f":"'[2]FinStat_Dummy control'!$L16","v":0},{"$f":"'[2]FinStat_Dummy control'!$M16","v":0},{"$f":"'[2]FinStat_Dummy control'!$N16","v":0},{"$f":"'[2]FinStat_Dummy control'!$O16","v":0},{"$f":"'[2]FinStat_Dummy control'!$P16","v":0},null,0,null,0,0,0,0,0,0,0,null,0,null,0,0,0,0,0,0,0,null,0]
[null,null,null,null,null,null,null,null,null,null,null,null,null,null,null,null,null,null,null,null,null,null,null,null,null,null,null,null,0,0,0,0,0,0,0,null,0,null,0,0,0,0,0,0,0,null,0]
[null,null,null,null,"Total other income (incl. 3rd party income) - DMMY - nominal","PL & CF","£m",null,{"$f":"'[1]FinStat_Dummy control'!$J18","v":0},{"$f":"'[1]FinStat_Dummy control'!$K18","v":0},{"$f":"'[1]FinStat_Dummy control'!$L18","v":0},{"$f":"'[1]FinStat_Dummy control'!$M18","v":0},{"$f":"'[1]FinStat_Dummy control'!$N18","v":0},{"$f":"'[1]FinStat_Dummy control'!$O18","v":0},{"$f":"'[1]FinStat_Dummy control'!$P18","v":0},null,0,null,{"$f":"'[2]FinStat_Dummy control'!$J18","v":0},{"$f":"'[2]FinStat_Dummy control'!$K18","v":0},{"$f":"'[2]FinStat_Dummy control'!$L18","v":0},{"$f":"'[2]FinStat_Dummy control'!$M18","v":0},{"$f":"'[2]FinStat_Dummy control'!$N18","v":0},{"$f":"'[2]FinStat_Dummy control'!$O18","v":0},{"$f":"'[2]FinStat_Dummy control'!$P18","v":0},null,0,null,0,0,0,0,0,0,0,null,0,null,0,0,0,0,0,0,0,null,0]
[null,null,null,null,"Interest income /(expense) excl. indexation of index-linked loans - DMMY - nominal","PL & CF","£m",null,{"$f":"'[1]FinStat_Dummy control'!$J19","v":0},{"$f":"'[1]FinStat_Dummy control'!$K19","v":0},{"$f":"'[1]FinStat_Dummy control'!$L19","v":0},{"$f":"'[1]FinStat_Dummy control'!$M19","v":0},{"$f":"'[1]FinStat_Dummy control'!$N19","v":0},{"$f":"'[1]FinStat_Dummy control'!$O19","v":0},{"$f":"'[1]FinStat_Dummy control'!$P19","v":0},null,0,null,{"$f":"'[2]FinStat_Dummy control'!$J19","v":0},{"$f":"'[2]FinStat_Dummy control'!$K19","v":0},{"$f":"'[2]FinStat_Dummy control'!$L19","v":0},{"$f":"'[2]FinStat_Dummy control'!$M19","v":0},{"$f":"'[2]FinStat_Dummy control'!$N19","v":0},{"$f":"'[2]FinStat_Dummy control'!$O19","v":0},{"$f":"'[2]FinStat_Dummy control'!$P19","v":0},null,0,null,0,0,0,0,0,0,0,null,0,null,0,0,0,0,0,0,0,null,0]
[null,null,null,null,"Indexation of index-linked loans - DMMY - nominal","PL","£m",null,{"$f":"'[1]FinStat_Dummy control'!$J20","v":0},{"$f":"'[1]FinStat_Dummy control'!$K20","v":0},{"$f":"'[1]FinStat_Dummy control'!$L20","v":0},{"$f":"'[1]FinStat_Dummy control'!$M20","v":0},{"$f":"'[1]FinStat_Dummy control'!$N20","v":0},{"$f":"'[1]FinStat_Dummy control'!$O20","v":0},{"$f":"'[1]FinStat_Dummy control'!$P20","v":0},null,0,null,{"$f":"'[2]FinStat_Dummy control'!$J20","v":0},{"$f":"'[2]FinStat_Dummy control'!$K20","v":0},{"$f":"'[2]FinStat_Dummy control'!$L20","v":0},{"$f":"'[2]FinStat_Dummy control'!$M20","v":0},{"$f":"'[2]FinStat_Dummy control'!$N20","v":0},{"$f":"'[2]FinStat_Dummy control'!$O20","v":0},{"$f":"'[2]FinStat_Dummy control'!$P20","v":0},null,0,null,0,0,0,0,0,0,0,null,0,null,0,0,0,0,0,0,0,null,0]
[null,null,null,null,"Earnings before tax (EBT) - DMMY - nominal",null,"£m",null,{"$f":"'[1]FinStat_Dummy control'!$J21","v":0},{"$f":"'[1]FinStat_Dummy control'!$K21","v":0},{"$f":"'[1]FinStat_Dummy control'!$L21","v":0},{"$f":"'[1]FinStat_Dummy control'!$M21","v":0},{"$f":"'[1]FinStat_Dummy control'!$N21","v":0},{"$f":"'[1]FinStat_Dummy control'!$O21","v":0},{"$f":"'[1]FinStat_Dummy control'!$P21","v":0},null,0,null,{"$f":"'[2]FinStat_Dummy control'!$J21","v":0},{"$f":"'[2]FinStat_Dummy control'!$K21","v":0},{"$f":"'[2]FinStat_Dummy control'!$L21","v":0},{"$f":"'[2]FinStat_Dummy control'!$M21","v":0},{"$f":"'[2]FinStat_Dummy control'!$N21","v":0},{"$f":"'[2]FinStat_Dummy control'!$O21","v":0},{"$f":"'[2]FinStat_Dummy control'!$P21","v":0},null,0,null,0,0,0,0,0,0,0,null,0,null,0,0,0,0,0,0,0,null,0]
[null,null,null,null,null,null,null,null,null,null,null,null,null,null,null,null,null,null,null,null,null,null,null,null,null,null,null,null,0,0,0,0,0,0,0,null,0,null,0,0,0,0,0,0,0,null,0]
[null,null,null,null,"Dummy control tax - nominal","PL","£m",null,{"$f":"'[1]FinStat_Dummy control'!$J23","v":0},{"$f":"'[1]FinStat_Dummy control'!$K23","v":0},{"$f":"'[1]FinStat_Dummy control'!$L23","v":0},{"$f":"'[1]FinStat_Dummy control'!$M23","v":0},{"$f":"'[1]FinStat_Dummy control'!$N23","v":0},{"$f":"'[1]FinStat_Dummy control'!$O23","v":0},{"$f":"'[1]FinStat_Dummy control'!$P23","v":0},null,0,null,{"$f":"'[2]FinStat_Dummy control'!$J23","v":0},{"$f":"'[2]FinStat_Dummy control'!$K23","v":0},{"$f":"'[2]FinStat_Dummy control'!$L23","v":0},{"$f":"'[2]FinStat_Dummy control'!$M23","v":0},{"$f":"'[2]FinStat_Dummy control'!$N23","v":0},{"$f":"'[2]FinStat_Dummy control'!$O23","v":0},{"$f":"'[2]FinStat_Dummy control'!$P23","v":0},null,0,null,0,0,0,0,0,0,0,null,0,null,0,0,0,0,0,0,0,null,0]
[null,null,null,null,"Movement in deferred tax provision - DMMY - nominal","PL","£m",null,{"$f":"'[1]FinStat_Dummy control'!$J24","v":0},{"$f":"'[1]FinStat_Dummy control'!$K24","v":0},{"$f":"'[1]FinStat_Dummy control'!$L24","v":0},{"$f":"'[1]FinStat_Dummy control'!$M24","v":0},{"$f":"'[1]FinStat_Dummy control'!$N24","v":0},{"$f":"'[1]FinStat_Dummy control'!$O24","v":0},{"$f":"'[1]FinStat_Dummy control'!$P24","v":0},null,0,null,{"$f":"'[2]FinStat_Dummy control'!$J24","v":0},{"$f":"'[2]FinStat_Dummy control'!$K24","v":0},{"$f":"'[2]FinStat_Dummy control'!$L24","v":0},{"$f":"'[2]FinStat_Dummy control'!$M24","v":0},{"$f":"'[2]FinStat_Dummy control'!$N24","v":0},{"$f":"'[2]FinStat_Dummy control'!$O24","v":0},{"$f":"'[2]FinStat_Dummy control'!$P24","v":0},null,0,null,0,0,0,0,0,0,0,null,0,null,0,0,0,0,0,0,0,null,0]
[null,null,null,null,"Earnings after tax (EAT) - DMMY - nominal",null,"£m",null,{"$f":"'[1]FinStat_Dummy control'!$J25","v":0},{"$f":"'[1]FinStat_Dummy control'!$K25","v":0},{"$f":"'[1]FinStat_Dummy control'!$L25","v":0},{"$f":"'[1]FinStat_Dummy control'!$M25","v":0},{"$f":"'[1]FinStat_Dummy control'!$N25","v":0},{"$f":"'[1]FinStat_Dummy control'!$O25","v":0},{"$f":"'[1]FinStat_Dummy control'!$P25","v":0},null,0,null,{"$f":"'[2]FinStat_Dummy control'!$J25","v":0},{"$f":"'[2]FinStat_Dummy control'!$K25","v":0},{"$f":"'[2]FinStat_Dummy control'!$L25","v":0},{"$f":"'[2]FinStat_Dummy control'!$M25","v":0},{"$f":"'[2]FinStat_Dummy control'!$N25","v":0},{"$f":"'[2]FinStat_Dummy control'!$O25","v":0},{"$f":"'[2]FinStat_Dummy control'!$P25","v":0},null,0,null,0,0,0,0,0,0,0,null,0,null,0,0,0,0,0,0,0,null,0]
[null,null,null,null,null,null,null,null,null,null,null,null,null,null,null,null,null,null,null,null,null,null,null,null,null,null,null,null,0,0,0,0,0,0,0,null,0,null,0,0,0,0,0,0,0,null,0]
[null,null,null,null,"Ordinary dividend declared - DMMY - nominal","PL","£m",null,{"$f":"'[1]FinStat_Dummy control'!$J27","v":0},{"$f":"'[1]FinStat_Dummy control'!$K27","v":0},{"$f":"'[1]FinStat_Dummy control'!$L27","v":0},{"$f":"'[1]FinStat_Dummy control'!$M27","v":0},{"$f":"'[1]FinStat_Dummy control'!$N27","v":0},{"$f":"'[1]FinStat_Dummy control'!$O27","v":0},{"$f":"'[1]FinStat_Dummy control'!$P27","v":0},null,0,null,{"$f":"'[2]FinStat_Dummy control'!$J27","v":0},{"$f":"'[2]FinStat_Dummy control'!$K27","v":0},{"$f":"'[2]FinStat_Dummy control'!$L27","v":0},{"$f":"'[2]FinStat_Dummy control'!$M27","v":0},{"$f":"'[2]FinStat_Dummy control'!$N27","v":0},{"$f":"'[2]FinStat_Dummy control'!$O27","v":0},{"$f":"'[2]FinStat_Dummy control'!$P27","v":0},null,0,null,0,0,0,0,0,0,0,null,0,null,0,0,0,0,0,0,0,null,0]
[null,null,null,null,"Retained earnings - DMMY - nominal",null,"£m",null,{"$f":"'[1]FinStat_Dummy control'!$J28","v":0},{"$f":"'[1]FinStat_Dummy control'!$K28","v":0},{"$f":"'[1]FinStat_Dummy control'!$L28","v":0},{"$f":"'[1]FinStat_Dummy control'!$M28","v":0},{"$f":"'[1]FinStat_Dummy control'!$N28","v":0},{"$f":"'[1]FinStat_Dummy control'!$O28","v":0},{"$f":"'[1]FinStat_Dummy control'!$P28","v":0},null,0,null,{"$f":"'[2]FinStat_Dummy control'!$J28","v":0},{"$f":"'[2]FinStat_Dummy control'!$K28","v":0},{"$f":"'[2]FinStat_Dummy control'!$L28","v":0},{"$f":"'[2]FinStat_Dummy control'!$M28","v":0},{"$f":"'[2]FinStat_Dummy control'!$N28","v":0},{"$f":"'[2]FinStat_Dummy control'!$O28","v":0},{"$f":"'[2]FinStat_Dummy control'!$P28","v":0},null,0,null,0,0,0,0,0,0,0,null,0,null,0,0,0,0,0,0,0,null,0]
[null,null,null,null,null,null,null,null,null,null,null,null,null,null,null,null,null,null,null,null,null,null,null,null,null,null,null,null,0,0,0,0,0,0,0,null,0,null,0,0,0,0,0,0,0,null,0]
[null,"Retained earnings balance - DMMY",null,null,null,null,null,null,null,null,null,null,null,null,null,null,null,null,null,null,null,null,null,null,null,null,null,null,0,0,0,0,0,0,0,null,0,null,0,0,0,0,0,0,0,null,0]
[null,null,null,null,"Accumulated profit reserve b/f - DMMY - nominal",0,"£m",null,{"$f":"'[1]FinStat_Dummy control'!$J31","v":0},{"$f":"'[1]FinStat_Dummy control'!$K31","v":0},{"$f":"'[1]FinStat_Dummy control'!$L31","v":0},{"$f":"'[1]FinStat_Dummy control'!$M31","v":0},{"$f":"'[1]FinStat_Dummy control'!$N31","v":0},{"$f":"'[1]FinStat_Dummy control'!$O31","v":0},{"$f":"'[1]FinStat_Dummy control'!$P31","v":0},null,0,null,{"$f":"'[2]FinStat_Dummy control'!$J31","v":0},{"$f":"'[2]FinStat_Dummy control'!$K31","v":0},{"$f":"'[2]FinStat_Dummy control'!$L31","v":0},{"$f":"'[2]FinStat_Dummy control'!$M31","v":0},{"$f":"'[2]FinStat_Dummy control'!$N31","v":0},{"$f":"'[2]FinStat_Dummy control'!$O31","v":0},{"$f":"'[2]FinStat_Dummy control'!$P31","v":0},null,0,null,0,0,0,0,0,0,0,null,0,null,0,0,0,0,0,0,0,null,0]
[null,null,null,null,"Last pre-forecast period flag",0,"flag",null,{"$f":"'[1]FinStat_Dummy control'!$J32","v":0},{"$f":"'[1]FinStat_Dummy control'!$K32","v":1},{"$f":"'[1]FinStat_Dummy control'!$L32","v":0},{"$f":"'[1]FinStat_Dummy control'!$M32","v":0},{"$f":"'[1]FinStat_Dummy control'!$N32","v":0},{"$f":"'[1]FinStat_Dummy control'!$O32","v":0},{"$f":"'[1]FinStat_Dummy control'!$P32","v":0},null,1,null,{"$f":"'[2]FinStat_Dummy control'!$J32","v":0},{"$f":"'[2]FinStat_Dummy control'!$K32","v":1},{"$f":"'[2]FinStat_Dummy control'!$L32","v":0},{"$f":"'[2]FinStat_Dummy control'!$M32","v":0},{"$f":"'[2]FinStat_Dummy control'!$N32","v":0},{"$f":"'[2]FinStat_Dummy control'!$O32","v":0},{"$f":"'[2]FinStat_Dummy control'!$P32","v":0},null,1,null,0,0,0,0,0,0,0,null,0,null,0,0,0,0,0,0,0,null,0]
[null,null,null,null,null,null,null,null,{"$f":"'[1]FinStat_Dummy control'!$J33","v":0},{"$f":"'[1]FinStat_Dummy control'!$K33","v":0},{"$f":"'[1]FinStat_Dummy control'!$L33","v":0},{"$f":"'[1]FinStat_Dummy control'!$M33","v":0},{"$f":"'[1]FinStat_Dummy control'!$N33","v":0},{"$f":"'[1]FinStat_Dummy control'!$O33","v":0},{"$f":"'[1]FinStat_Dummy control'!$P33","v":0},null,null,null,{"$f":"'[2]FinStat_Dummy control'!$J33","v":0},{"$f":"'[2]FinStat_Dummy control'!$K33","v":0},{"$f":"'[2]FinStat_Dummy control'!$L33","v":0},{"$f":"'[2]FinStat_Dummy control'!$M33","v":0},{"$f":"'[2]FinStat_Dummy control'!$N33","v":0},{"$f":"'[2]FinStat_Dummy control'!$O33","v":0},{"$f":"'[2]FinStat_Dummy control'!$P33","v":0},null,null,null,0,0,0,0,0,0,0,null,0,null,0,0,0,0,0,0,0,null,0]
[null,null,null,null,"Retained earnings balance - DMMY BEG - nominal",null,"£m",null,{"$f":"'[1]FinStat_Dummy control'!$J34","v":0},{"$f":"'[1]FinStat_Dummy control'!$K34","v":0},{"$f":"'[1]FinStat_Dummy control'!$L34","v":0},{"$f":"'[1]FinStat_Dummy control'!$M34","v":0},{"$f":"'[1]FinStat_Dummy control'!$N34","v":0},{"$f":"'[1]FinStat_Dummy control'!$O34","v":0},{"$f":"'[1]FinStat_Dummy control'!$P34","v":0},null,0,null,{"$f":"'[2]FinStat_Dummy control'!$J34","v":0},{"$f":"'[2]FinStat_Dummy control'!$K34","v":0},{"$f":"'[2]FinStat_Dummy control'!$L34","v":0},{"$f":"'[2]FinStat_Dummy control'!$M34","v":0},{"$f":"'[2]FinStat_Dummy control'!$N34","v":0},{"$f":"'[2]FinStat_Dummy control'!$O34","v":0},{"$f":"'[2]FinStat_Dummy control'!$P34","v":0},null,0,null,0,0,0,0,0,0,0,null,0,null,0,0,0,0,0,0,0,null,0]
[null,null,null,"plus","Retained earnings - DMMY - nominal",0,"£m",null,{"$f":"'[1]FinStat_Dummy control'!$J35","v":0},{"$f":"'[1]FinStat_Dummy control'!$K35","v":0},{"$f":"'[1]FinStat_Dummy control'!$L35","v":0},{"$f":"'[1]FinStat_Dummy control'!$M35","v":0},{"$f":"'[1]FinStat_Dummy control'!$N35","v":0},{"$f":"'[1]FinStat_Dummy control'!$O35","v":0},{"$f":"'[1]FinStat_Dummy control'!$P35","v":0},null,0,null,{"$f":"'[2]FinStat_Dummy control'!$J35","v":0},{"$f":"'[2]FinStat_Dummy control'!$K35","v":0},{"$f":"'[2]FinStat_Dummy control'!$L35","v":0},{"$f":"'[2]FinStat_Dummy control'!$M35","v":0},{"$f":"'[2]FinStat_Dummy control'!$N35","v":0},{"$f":"'[2]FinStat_Dummy control'!$O35","v":0},{"$f":"'[2]FinStat_Dummy control'!$P35","v":0},null,0,null,0,0,0,0,0,0,0,null,0,null,0,0,0,0,0,0,0,null,0]
[null,null,null,null,"Retained earnings balance - DMMY - nominal",null,"£m",null,{"$f":"'[1]FinStat_Dummy control'!$J36","v":0},{"$f":"'[1]FinStat_Dummy control'!$K36","v":0},{"$f":"'[1]FinStat_Dummy control'!$L36","v":0},{"$f":"'[1]FinStat_Dummy control'!$M36","v":0},{"$f":"'[1]FinStat_Dummy control'!$N36","v":0},{"$f":"'[1]FinStat_Dummy control'!$O36","v":0},{"$f":"'[1]FinStat_Dummy control'!$P36","v":0},null,0,null,{"$f":"'[2]FinStat_Dummy control'!$J36","v":0},{"$f":"'[2]FinStat_Dummy control'!$K36","v":0},{"$f":"'[2]FinStat_Dummy control'!$L36","v":0},{"$f":"'[2]FinStat_Dummy control'!$M36","v":0},{"$f":"'[2]FinStat_Dummy control'!$N36","v":0},{"$f":"'[2]FinStat_Dummy control'!$O36","v":0},{"$f":"'[2]FinStat_Dummy control'!$P36","v":0},null,0,null,0,0,0,0,0,0,0,null,0,null,0,0,0,0,0,0,0,null,0]
[]
["CASH FLOW "]
[]
[null,"Cash flow from operating activities"]
[null,null,null,null,"Earnings before interest and tax (EBIT) - DMMY - nominal",0,"£m",null,{"$f":"'[1]FinStat_Dummy control'!$J43","v":0},{"$f":"'[1]FinStat_Dummy control'!$K43","v":0},{"$f":"'[1]FinStat_Dummy control'!$L43","v":0},{"$f":"'[1]FinStat_Dummy control'!$M43","v":0},{"$f":"'[1]FinStat_Dummy control'!$N43","v":0},{"$f":"'[1]FinStat_Dummy control'!$O43","v":0},{"$f":"'[1]FinStat_Dummy control'!$P43","v":0},null,{"$f":"SUM(I49:O49)","v":0},null,{"$f":"'[2]FinStat_Dummy control'!$J43","v":0},{"$f":"'[2]FinStat_Dummy control'!$K43","v":0},{"$f":"'[2]FinStat_Dummy control'!$L43","v":0},{"$f":"'[2]FinStat_Dummy control'!$M43","v":0},{"$f":"'[2]FinStat_Dummy control'!$N43","v":0},{"$f":"'[2]FinStat_Dummy control'!$O43","v":0},{"$f":"'[2]FinStat_Dummy control'!$P43","v":0},null,{"$f":"SUM(S49:Y49)","v":0},null,{"$f":"ROUND(I49 - S49, 3)","v":0},{"$f":"ROUND(J49 - T49, 3)","v":0},{"$f":"ROUND(K49 - U49, 3)","v":0},{"$f":"ROUND(L49 - V49, 3)","v":0},{"$f":"ROUND(M49 - W49, 3)","v":0},{"$f":"ROUND(N49 - X49, 3)","v":0},{"$f":"ROUND(O49 - Y49, 3)","v":0},null,{"$f":"ROUND(Q49 - AA49, 3)","v":0},null,{"$f":"IF(S49 = 0, 0, AC49 / S49)","v":0},{"$f":"IF(T49 = 0, 0, AD49 / T49)","v":0},{"$f":"IF(U49 = 0, 0, AE49 / U49)","v":0},{"$f":"IF(V49 = 0, 0, AF49 / V49)","v":0},{"$f":"IF(W49 = 0, 0, AG49 / W49)","v":0},{"$f":"IF(X49 = 0, 0, AH49 / X49)","v":0},{"$f":"IF(Y49 = 0, 0, AI49 / Y49)","v":0},null,{"$f":"IF(AA49 = 0, 0, AK49 / AA49)","v":0}]
[null,null,null,null,"Wholesale fixed assets depreciation - DMMY - nominal POS","CF","£m",null,{"$f":"'[1]FinStat_Dummy control'!$J44","v":0},{"$f":"'[1]FinStat_Dummy control'!$K44","v":0},{"$f":"'[1]FinStat_Dummy control'!$L44","v":0},{"$f":"'[1]FinStat_Dummy control'!$M44","v":0},{"$f":"'[1]FinStat_Dummy control'!$N44","v":0},{"$f":"'[1]FinStat_Dummy control'!$O44","v":0},{"$f":"'[1]FinStat_Dummy control'!$P44","v":0},null,{"$f":"SUM(I50:O50)","v":0},null,{"$f":"'[2]FinStat_Dummy control'!$J44","v":0},{"$f":"'[2]FinStat_Dummy control'!$K44","v":0},{"$f":"'[2]FinStat_Dummy control'!$L44","v":0},{"$f":"'[2]FinStat_Dummy control'!$M44","v":0},{"$f":"'[2]FinStat_Dummy control'!$N44","v":0},{"$f":"'[2]FinStat_Dummy control'!$O44","v":0},{"$f":"'[2]FinStat_Dummy control'!$P44","v":0},null,{"$f":"SUM(S50:Y50)","v":0},null,0,0,0,0,0,0,0,null,0,null,0,0,0,0,0,0,0,null,0]
[null,null,null,null,"Movement in inventories - DMMY - nominal","CF","£m",null,{"$f":"'[1]FinStat_Dummy control'!$J45","v":0},{"$f":"'[1]FinStat_Dummy control'!$K45","v":0},{"$f":"'[1]FinStat_Dummy control'!$L45","v":0},{"$f":"'[1]FinStat_Dummy control'!$M45","v":0},{"$f":"'[1]FinStat_Dummy control'!$N45","v":0},{"$f":"'[1]FinStat_Dummy control'!$O45","v":0},{"$f":"'[1]FinStat_Dummy control'!$P45","v":0},null,0,null,{"$f":"'[2]FinStat_Dummy control'!$J45","v":0},{"$f":"'[2]FinStat_Dummy control'!$K45","v":0},{"$f":"'[2]FinStat_Dummy control'!$L45","v":0},{"$f":"'[2]FinStat_Dummy control'!$M45","v":0},{"$f":"'[2]FinStat_Dummy control'!$N45","v":0},{"$f":"'[2]FinStat_Dummy control'!$O45","v":0},{"$f":"'[2]FinStat_Dummy control'!$P45","v":0},null,0,null,0,0,0,0,0,0,0,null,0,null,0,0,0,0,0,0,0,null,0]
[null,null,null,null,"Movement in trade debtors and other receivables - DMMY - nominal","CF","£m",null,{"$f":"'[1]FinStat_Dummy control'!$J46","v":0},{"$f":"'[1]FinStat_Dummy control'!$K46","v":0},{"$f":"'[1]FinStat_Dummy control'!$L46","v":0},{"$f":"'[1]FinStat_Dummy control'!$M46","v":0},{"$f":"'[1]FinStat_Dummy control'!$N46","v":0},{"$f":"'[1]FinStat_Dummy control'!$O46","v":0},{"$f":"'[1]FinStat_Dummy control'!$P46","v":0},null,0,null,{"$f":"'[2]FinStat_Dummy control'!$J46","v":0},{"$f":"'[2]FinStat_Dummy control'!$K46","v":0},{"$f":"'[2]FinStat_Dummy control'!$L46","v":0},{"$f":"'[2]FinStat_Dummy control'!$M46","v":0},{"$f":"'[2]FinStat_Dummy control'!$N46","v":0},{"$f":"'[2]FinStat_Dummy control'!$O46","v":0},{"$f":"'[2]FinStat_Dummy control'!$P46","v":0},null,0,null,0,0,0,0,0,0,0,null,0,null,0,0,0,0,0,0,0,null,0]
[null,null,null,null,"Movement in working capital - trade payables - DMMY - nominal","CF","£m",null,{"$f":"'[1]FinStat_Dummy control'!$J47","v":0},{"$f":"'[1]FinStat_Dummy control'!$K47","v":0},{"$f":"'[1]FinStat_Dummy control'!$L47","v":0},{"$f":"'[1]FinStat_Dummy control'!$M47","v":0},{"$f":"'[1]FinStat_Dummy control'!$N47","v":0},{"$f":"'[1]FinStat_Dummy control'!$O47","v":0},{"$f":"'[1]FinStat_Dummy control'!$P47","v":0},null,0,null,{"$f":"'[2]FinStat_Dummy control'!$J47","v":0},{"$f":"'[2]FinStat_Dummy control'!$K47","v":0},{"$f":"'[2]FinStat_Dummy control'!$L47","v":0},{"$f":"'[2]FinStat_Dummy control'!$M47","v":0},{"$f":"'[2]FinStat_Dummy control'!$N47","v":0},{"$f":"'[2]FinStat_Dummy control'!$O47","v":0},{"$f":"'[2]FinStat_Dummy control'!$P47","v":0},null,0,null,0,0,0,0,0,0,0,null,0,null,0,0,0,0,0,0,0,null,0]
[null,null,null,null,"Movement in other creditors - DMMY - nominal","CF","£m",null,{"$f":"'[1]FinStat_Dummy control'!$J48","v":0},{"$f":"'[1]FinStat_Dummy control'!$K48","v":0},{"$f":"'[1]FinStat_Dummy control'!$L48","v":0},{"$f":"'[1]FinStat_Dummy control'!$M48","v":0},{"$f":"'[1]FinStat_Dummy control'!$N48","v":0},{"$f":"'[1]FinStat_Dummy control'!$O48","v":0},{"$f":"'[1]FinStat_Dummy control'!$P48","v":0},null,0,null,{"$f":"'[2]FinStat_Dummy control'!$J48","v":0},{"$f":"'[2]FinStat_Dummy control'!$K48","v":0},{"$f":"'[2]FinStat_Dummy control'!$L48","v":0},{"$f":"'[2]FinStat_Dummy control'!$M48","v":0},{"$f":"'[2]FinStat_Dummy control'!$N48","v":0},{"$f":"'[2]FinStat_Dummy control'!$O48","v":0},{"$f":"'[2]FinStat_Dummy control'!$P48","v":0},null,0,null,0,0,0,0,0,0,0,null,0,null,0,0,0,0,0,0,0,null,0]
[null,null,null,null,"Movement in Pensions (+ve = increase in provision) - DMMY - nominal","CF","£m",null,{"$f":"'[1]FinStat_Dummy control'!$J49","v":0},{"$f":"'[1]FinStat_Dummy control'!$K49","v":0},{"$f":"'[1]FinStat_Dummy control'!$L49","v":0},{"$f":"'[1]FinStat_Dummy control'!$M49","v":0},{"$f":"'[1]FinStat_Dummy control'!$N49","v":0},{"$f":"'[1]FinStat_Dummy control'!$O49","v":0},{"$f":"'[1]FinStat_Dummy control'!$P49","v":0},null,0,null,{"$f":"'[2]FinStat_Dummy control'!$J49","v":0},{"$f":"'[2]FinStat_Dummy control'!$K49","v":0},{"$f":"'[2]FinStat_Dummy control'!$L49","v":0},{"$f":"'[2]FinStat_Dummy control'!$M49","v":0},{"$f":"'[2]FinStat_Dummy control'!$N49","v":0},{"$f":"'[2]FinStat_Dummy control'!$O49","v":0},{"$f":"'[2]FinStat_Dummy control'!$P49","v":0},null,0,null,0,0,0,0,0,0,0,null,0,null,0,0,0,0,0,0,0,null,0]
[null,null,null,null,"Movement in provisions - DMMY - nominal","CF","£m",null,{"$f":"'[1]FinStat_Dummy control'!$J50","v":0},{"$f":"'[1]FinStat_Dummy control'!$K50","v":0},{"$f":"'[1]FinStat_Dummy control'!$L50","v":0},{"$f":"'[1]FinStat_Dummy control'!$M50","v":0},{"$f":"'[1]FinStat_Dummy control'!$N50","v":0},{"$f":"'[1]FinStat_Dummy control'!$O50","v":0},{"$f":"'[1]FinStat_Dummy control'!$P50","v":0},null,0,null,{"$f":"'[2]FinStat_Dummy control'!$J50","v":0},{"$f":"'[2]FinStat_Dummy control'!$K50","v":0},{"$f":"'[2]FinStat_Dummy control'!$L50","v":0},{"$f":"'[2]FinStat_Dummy control'!$M50","v":0},{"$f":"'[2]FinStat_Dummy control'!$N50","v":0},{"$f":"'[2]FinStat_Dummy control'!$O50","v":0},{"$f":"'[2]FinStat_Dummy control'!$P50","v":0},null,0,null,0,0,0,0,0,0,0,null,0,null,0,0,0,0,0,0,0,null,0]
[null,null,null,null,"Movement in other liabilities - DMMY - nominal","CF","£m",null,{"$f":"'[1]FinStat_Dummy control'!$J51","v":"na"},{"$f":"'[1]FinStat_Dummy control'!$K51","v":"na"},{"$f":"'[1]FinStat_Dummy control'!$L51","v":"na"},{"$f":"'[1]FinStat_Dummy control'!$M51","v":"na"},{"$f":"'[1]FinStat_Dummy control'!$N51","v":"na"},{"$f":"'[1]FinStat_Dummy control'!$O51","v":"na"},{"$f":"'[1]FinStat_Dummy control'!$P51","v":"na"},null,0,null,{"$f":"'[2]FinStat_Dummy control'!$J51","v":"na"},{"$f":"'[2]FinStat_Dummy control'!$K51","v":"na"},{"$f":"'[2]FinStat_Dummy control'!$L51","v":"na"},{"$f":"'[2]FinStat_Dummy control'!$M51","v":"na"},{"$f":"'[2]FinStat_Dummy control'!$N51","v":"na"},{"$f":"'[2]FinStat_Dummy control'!$O51","v":"na"},{"$f":"'[2]FinStat_Dummy control'!$P51","v":"na"},null,0,null,{"$error":"#VALUE!"},{"$error":"#VALUE!"},{"$error":"#VALUE!"},{"$error":"#VALUE!"},{"$error":"#VALUE!"},{"$error":"#VALUE!"},{"$error":"#VALUE!"},null,0,null,{"$error":"#VALUE!"},{"$error":"#VALUE!"},{"$error":"#VALUE!"},{"$error":"#VALUE!"},{"$error":"#VALUE!"},{"$error":"#VALUE!"},{"$error":"#VALUE!"},null,0]
[null,null,null,null,"Net cash generated / (used) in operations - DMMY - nominal",null,"£m",null,{"$f":"'[1]FinStat_Dummy control'!$J52","v":0},{"$f":"'[1]FinStat_Dummy control'!$K52","v":0},{"$f":"'[1]FinStat_Dummy control'!$L52","v":0},{"$f":"'[1]FinStat_Dummy control'!$M52","v":0},{"$f":"'[1]FinStat_Dummy control'!$N52","v":0},{"$f":"'[1]FinStat_Dummy control'!$O52","v":0},{"$f":"'[1]FinStat_Dummy control'!$P52","v":0},null,0,null,{"$f":"'[2]FinStat_Dummy control'!$J52","v":0},{"$f":"'[2]FinStat_Dummy control'!$K52","v":0},{"$f":"'[2]FinStat_Dummy control'!$L52","v":0},{"$f":"'[2]FinStat_Dummy control'!$M52","v":0},{"$f":"'[2]FinStat_Dummy control'!$N52","v":0},{"$f":"'[2]FinStat_Dummy control'!$O52","v":0},{"$f":"'[2]FinStat_Dummy control'!$P52","v":0},null,0,null,0,0,0,0,0,0,0,null,0,null,0,0,0,0,0,0,0,null,0]
[null,null,null,null,null,null,null,null,null,null,null,null,null,null,null,null,null,null,null,null,null,null,null,null,null,null,null,null,0,0,0,0,0,0,0,null,0,null,0,0,0,0,0,0,0,null,0]
[null,null,null,null,"Total other income (incl. 3rd party income) - DMMY - nominal","PL & CF","£m",null,{"$f":"'[1]FinStat_Dummy control'!$J54","v":0},{"$f":"'[1]FinStat_Dummy control'!$K54","v":0},{"$f":"'[1]FinStat_Dummy control'!$L54","v":0},{"$f":"'[1]FinStat_Dummy control'!$M54","v":0},{"$f":"'[1]FinStat_Dummy control'!$N54","v":0},{"$f":"'[1]FinStat_Dummy control'!$O54","v":0},{"$f":"'[1]FinStat_Dummy control'!$P54","v":0},null,0,null,{"$f":"'[2]FinStat_Dummy control'!$J54","v":0},{"$f":"'[2]FinStat_Dummy control'!$K54","v":0},{"$f":"'[2]FinStat_Dummy control'!$L54","v":0},{"$f":"'[2]FinStat_Dummy control'!$M54","v":0},{"$f":"'[2]FinStat_Dummy control'!$N54","v":0},{"$f":"'[2]FinStat_Dummy control'!$O54","v":0},{"$f":"'[2]FinStat_Dummy control'!$P54","v":0},null,0,null,0,0,0,0,0,0,0,null,0,null,0,0,0,0,0,0,0,null,0]
[null,null,null,null,"Interest income /(expense) excl. indexation of index-linked loans - DMMY - nominal","PL & CF","£m",null,{"$f":"'[1]FinStat_Dummy control'!$J55","v":0},{"$f":"'[1]FinStat_Dummy control'!$K55","v":0},{"$f":"'[1]FinStat_Dummy control'!$L55","v":0},{"$f":"'[1]FinStat_Dummy control'!$M55","v":0},{"$f":"'[1]FinStat_Dummy control'!$N55","v":0},{"$f":"'[1]FinStat_Dummy control'!$O55","v":0},{"$f":"'[1]FinStat_Dummy control'!$P55","v":0},null,0,null,{"$f":"'[2]FinStat_Dummy control'!$J55","v":0},{"$f":"'[2]FinStat_Dummy control'!$K55","v":0},{"$f":"'[2]FinStat_Dummy control'!$L55","v":0},{"$f":"'[2]FinStat_Dummy control'!$M55","v":0},{"$f":"'[2]FinStat_Dummy control'!$N55","v":0},{"$f":"'[2]FinStat_Dummy control'!$O55","v":0},{"$f":"'[2]FinStat_Dummy control'!$P55","v":0},null,0,null,0,0,0,0,0,0,0,null,0,null,0,0,0,0,0,0,0,null,0]
[null,null,null,null,"Tax paid - DMMY - nominal","CF","£m",null,{"$f":"'[1]FinStat_Dummy control'!$J56","v":0},{"$f":"'[1]FinStat_Dummy control'!$K56","v":0},{"$f":"'[1]FinStat_Dummy control'!$L56","v":0},{"$f":"'[1]FinStat_Dummy control'!$M56","v":0},{"$f":"'[1]FinStat_Dummy control'!$N56","v":0},{"$f":"'[1]FinStat_Dummy control'!$O56","v":0},{"$f":"'[1]FinStat_Dummy control'!$P56","v":0},null,0,null,{"$f":"'[2]FinStat_Dummy control'!$J56","v":0},{"$f":"'[2]FinStat_Dummy control'!$K56","v":0},{"$f":"'[2]FinStat_Dummy control'!$L56","v":0},{"$f":"'[2]FinStat_Dummy control'!$M56","v":0},{"$f":"'[2]FinStat_Dummy control'!$N56","v":0},{"$f":"'[2]FinStat_Dummy control'!$O56","v":0},{"$f":"'[2]FinStat_Dummy control'!$P56","v":0},null,0,null,0,0,0,0,0,0,0,null,0,null,0,0,0,0,0,0,0,null,0]
[null,null,null,null,"Net cash generated / (used) in operating activities - DMMY - nominal",null,"£m",null,{"$f":"'[1]FinStat_Dummy control'!$J57","v":0},{"$f":"'[1]FinStat_Dummy control'!$K57","v":0},{"$f":"'[1]FinStat_Dummy control'!$L57","v":0},{"$f":"'[1]FinStat_Dummy control'!$M57","v":0},{"$f":"'[1]FinStat_Dummy control'!$N57","v":0},{"$f":"'[1]FinStat_Dummy control'!$O57","v":0},{"$f":"'[1]FinStat_Dummy control'!$P57","v":0},null,0,null,{"$f":"'[2]FinStat_Dummy control'!$J57","v":0},{"$f":"'[2]FinStat_Dummy control'!$K57","v":0},{"$f":"'[2]FinStat_Dummy control'!$L57","v":0},{"$f":"'[2]FinStat_Dummy control'!$M57","v":0},{"$f":"'[2]FinStat_Dummy control'!$N57","v":0},{"$f":"'[2]FinStat_Dummy control'!$O57","v":0},{"$f":"'[2]FinStat_Dummy control'!$P57","v":0},null,0,null,0,0,0,0,0,0,0,null,0,null,0,0,0,0,0,0,0,null,0]
[null,null,null,null,null,null,null,null,null,null,null,null,null,null,null,null,null,null,null,null,null,null,null,null,null,null,null,null,0,0,0,0,0,0,0,null,0,null,0,0,0,0,0,0,0,null,0]
[null,"Cash flow from investing activities",null,null,null,null,null,null,{"$f":"'[1]FinStat_Dummy control'!$J59","v":0},{"$f":"'[1]FinStat_Dummy control'!$K59","v":0},{"$f":"'[1]FinStat_Dummy control'!$L59","v":0},{"$f":"'[1]FinStat_Dummy control'!$M59","v":0},{"$f":"'[1]FinStat_Dummy control'!$N59","v":0},{"$f":"'[1]FinStat_Dummy control'!$O59","v":0},{"$f":"'[1]FinStat_Dummy control'!$P59","v":0},null,null,null,{"$f":"'[2]FinStat_Dummy control'!$J59","v":0},{"$f":"'[2]FinStat_Dummy control'!$K59","v":0},{"$f":"'[2]FinStat_Dummy control'!$L59","v":0},{"$f":"'[2]FinStat_Dummy control'!$M59","v":0},{"$f":"'[2]FinStat_Dummy control'!$N59","v":0},{"$f":"'[2]FinStat_Dummy control'!$O59","v":0},{"$f":"'[2]FinStat_Dummy control'!$P59","v":0},null,null,null,0,0,0,0,0,0,0,null,0,null,0,0,0,0,0,0,0,null,0]
[null,null,null,null,"Wholesale fixed assets ongoing capex - DMMY - nominal","CF","£m",null,{"$f":"'[1]FinStat_Dummy control'!$J60","v":0},{"$f":"'[1]FinStat_Dummy control'!$K60","v":0},{"$f":"'[1]FinStat_Dummy control'!$L60","v":0},{"$f":"'[1]FinStat_Dummy control'!$M60","v":0},{"$f":"'[1]FinStat_Dummy control'!$N60","v":0},{"$f":"'[1]FinStat_Dummy control'!$O60","v":0},{"$f":"'[1]FinStat_Dummy control'!$P60","v":0},null,0,null,{"$f":"'[2]FinStat_Dummy control'!$J60","v":0},{"$f":"'[2]FinStat_Dummy control'!$K60","v":0},{"$f":"'[2]FinStat_Dummy control'!$L60","v":0},{"$f":"'[2]FinStat_Dummy control'!$M60","v":0},{"$f":"'[2]FinStat_Dummy control'!$N60","v":0},{"$f":"'[2]FinStat_Dummy control'!$O60","v":0},{"$f":"'[2]FinStat_Dummy control'!$P60","v":0},null,0,null,0,0,0,0,0,0,0,null,0,null,0,0,0,0,0,0,0,null,0]
[null,null,null,null,"Movement in intangible asset and investments - DMMY - nominal","CF","£m",null,{"$f":"'[1]FinStat_Dummy control'!$J61","v":0},{"$f":"'[1]FinStat_Dummy control'!$K61","v":0},{"$f":"'[1]FinStat_Dummy control'!$L61","v":0},{"$f":"'[1]FinStat_Dummy control'!$M61","v":0},{"$f":"'[1]FinStat_Dummy control'!$N61","v":0},{"$f":"'[1]FinStat_Dummy control'!$O61","v":0},{"$f":"'[1]FinStat_Dummy control'!$P61","v":0},null,0,null,{"$f":"'[2]FinStat_Dummy control'!$J61","v":0},{"$f":"'[2]FinStat_Dummy control'!$K61","v":0},{"$f":"'[2]FinStat_Dummy control'!$L61","v":0},{"$f":"'[2]FinStat_Dummy control'!$M61","v":0},{"$f":"'[2]FinStat_Dummy control'!$N61","v":0},{"$f":"'[2]FinStat_Dummy control'!$O61","v":0},{"$f":"'[2]FinStat_Dummy control'!$P61","v":0},null,0,null,0,0,0,0,0,0,0,null,0,null,0,0,0,0,0,0,0,null,0]
[null,null,null,null,"Net cash generated / (used) in investing activities - DMMY - nominal",null,"£m",null,{"$f":"'[1]FinStat_Dummy control'!$J62","v":0},{"$f":"'[1]FinStat_Dummy control'!$K62","v":0},{"$f":"'[1]FinStat_Dummy control'!$L62","v":0},{"$f":"'[1]FinStat_Dummy control'!$M62","v":0},{"$f":"'[1]FinStat_Dummy control'!$N62","v":0},{"$f":"'[1]FinStat_Dummy control'!$O62","v":0},{"$f":"'[1]FinStat_Dummy control'!$P62","v":0},null,0,null,{"$f":"'[2]FinStat_Dummy control'!$J62","v":0},{"$f":"'[2]FinStat_Dummy control'!$K62","v":0},{"$f":"'[2]FinStat_Dummy control'!$L62","v":0},{"$f":"'[2]FinStat_Dummy control'!$M62","v":0},{"$f":"'[2]FinStat_Dummy control'!$N62","v":0},{"$f":"'[2]FinStat_Dummy control'!$O62","v":0},{"$f":"'[2]FinStat_Dummy control'!$P62","v":0},null,0,null,0,0,0,0,0,0,0,null,0,null,0,0,0,0,0,0,0,null,0]
[null,null,null,null,null,null,null,null,null,null,null,null,null,null,null,null,null,null,null,null,null,null,null,null,null,null,null,null,0,0,0,0,0,0,0,null,0,null,0,0,0,0,0,0,0,null,0]
[null,"Cash flows from financing activities",null,null,null,null,null,null,null,null,null,null,null,null,null,null,null,null,null,null,null,null,null,null,null,null,null,null,0,0,0,0,0,0,0,null,0,null,0,0,0,0,0,0,0,null,0]
[null,null,null,null,"Equity dividends paid - DMMY - nominal","CF","£m",null,{"$f":"'[1]FinStat_Dummy control'!$J65","v":0},{"$f":"'[1]FinStat_Dummy control'!$K65","v":0},{"$f":"'[1]FinStat_Dummy control'!$L65","v":0},{"$f":"'[1]FinStat_Dummy control'!$M65","v":0},{"$f":"'[1]FinStat_Dummy control'!$N65","v":0},{"$f":"'[1]FinStat_Dummy control'!$O65","v":0},{"$f":"'[1]FinStat_Dummy control'!$P65","v":0},null,0,null,{"$f":"'[2]FinStat_Dummy control'!$J65","v":0},{"$f":"'[2]FinStat_Dummy control'!$K65","v":0},{"$f":"'[2]FinStat_Dummy control'!$L65","v":0},{"$f":"'[2]FinStat_Dummy control'!$M65","v":0},{"$f":"'[2]FinStat_Dummy control'!$N65","v":0},{"$f":"'[2]FinStat_Dummy control'!$O65","v":0},{"$f":"'[2]FinStat_Dummy control'!$P65","v":0},null,0,null,0,0,0,0,0,0,0,null,0,null,0,0,0,0,0,0,0,null,0]
[null,null,null,null,"Proceeds from share issues - DMMY - nominal","CF","£m",null,{"$f":"'[1]FinStat_Dummy control'!$J66","v":0},{"$f":"'[1]FinStat_Dummy control'!$K66","v":0},{"$f":"'[1]FinStat_Dummy control'!$L66","v":0},{"$f":"'[1]FinStat_Dummy control'!$M66","v":0},{"$f":"'[1]FinStat_Dummy control'!$N66","v":0},{"$f":"'[1]FinStat_Dummy control'!$O66","v":0},{"$f":"'[1]FinStat_Dummy control'!$P66","v":0},null,0,null,{"$f":"'[2]FinStat_Dummy control'!$J66","v":0},{"$f":"'[2]FinStat_Dummy control'!$K66","v":0},{"$f":"'[2]FinStat_Dummy control'!$L66","v":0},{"$f":"'[2]FinStat_Dummy control'!$M66","v":0},{"$f":"'[2]FinStat_Dummy control'!$N66","v":0},{"$f":"'[2]FinStat_Dummy control'!$O66","v":0},{"$f":"'[2]FinStat_Dummy control'!$P66","v":0},null,0,null,0,0,0,0,0,0,0,null,0,null,0,0,0,0,0,0,0,null,0]
[null,null,null,null,"Net loans received - DMMY - nominal","CF","£m",null,{"$f":"'[1]FinStat_Dummy control'!$J67","v":0},{"$f":"'[1]FinStat_Dummy control'!$K67","v":0},{"$f":"'[1]FinStat_Dummy control'!$L67","v":0},{"$f":"'[1]FinStat_Dummy control'!$M67","v":0},{"$f":"'[1]FinStat_Dummy control'!$N67","v":0},{"$f":"'[1]FinStat_Dummy control'!$O67","v":0},{"$f":"'[1]FinStat_Dummy control'!$P67","v":0},null,0,null,{"$f":"'[2]FinStat_Dummy control'!$J67","v":0},{"$f":"'[2]FinStat_Dummy control'!$K67","v":0},{"$f":"'[2]FinStat_Dummy control'!$L67","v":0},{"$f":"'[2]FinStat_Dummy control'!$M67","v":0},{"$f":"'[2]FinStat_Dummy control'!$N67","v":0},{"$f":"'[2]FinStat_Dummy control'!$O67","v":0},{"$f":"'[2]FinStat_Dummy control'!$P67","v":0},null,0,null,0,0,0,0,0,0,0,null,0,null,0,0,0,0,0,0,0,null,0]
[null,null,null,null,"Net cash generated / (used) in financing activities - DMMY - nominal",null,"£m",null,{"$f":"'[1]FinStat_Dummy control'!$J68","v":0},{"$f":"'[1]FinStat_Dummy control'!$K68","v":0},{"$f":"'[1]FinStat_Dummy control'!$L68","v":0},{"$f":"'[1]FinStat_Dummy control'!$M68","v":0},{"$f":"'[1]FinStat_Dummy control'!$N68","v":0},{"$f":"'[1]FinStat_Dummy control'!$O68","v":0},{"$f":"'[1]FinStat_Dummy control'!$P68","v":0},null,0,null,{"$f":"'[2]FinStat_Dummy control'!$J68","v":0},{"$f":"'[2]FinStat_Dummy control'!$K68","v":0},{"$f":"'[2]FinStat_Dummy control'!$L68","v":0},{"$f":"'[2]FinStat_Dummy control'!$M68","v":0},{"$f":"'[2]FinStat_Dummy control'!$N68","v":0},{"$f":"'[2]FinStat_Dummy control'!$O68","v":0},{"$f":"'[2]FinStat_Dummy control'!$P68","v":0},null,0,null,0,0,0,0,0,0,0,null,0,null,0,0,0,0,0,0,0,null,0]
[null,null,null,null,null,null,null,null,null,null,null,null,null,null,null,null,null,null,null,null,null,null,null,null,null,null,null,null,0,0,0,0,0,0,0,null,0,null,0,0,0,0,0,0,0,null,0]
[null,null,null,null,"Net increase / (decrease) in cash - DMMY - nominal",null,"£m",null,{"$f":"'[1]FinStat_Dummy control'!$J70","v":0},{"$f":"'[1]FinStat_Dummy control'!$K70","v":0},{"$f":"'[1]FinStat_Dummy control'!$L70","v":0},{"$f":"'[1]FinStat_Dummy control'!$M70","v":0},{"$f":"'[1]FinStat_Dummy control'!$N70","v":0},{"$f":"'[1]FinStat_Dummy control'!$O70","v":0},{"$f":"'[1]FinStat_Dummy control'!$P70","v":0},null,0,null,{"$f":"'[2]FinStat_Dummy control'!$J70","v":0},{"$f":"'[2]FinStat_Dummy control'!$K70","v":0},{"$f":"'[2]FinStat_Dummy control'!$L70","v":0},{"$f":"'[2]FinStat_Dummy control'!$M70","v":0},{"$f":"'[2]FinStat_Dummy control'!$N70","v":0},{"$f":"'[2]FinStat_Dummy control'!$O70","v":0},{"$f":"'[2]FinStat_Dummy control'!$P70","v":0},null,0,null,0,0,0,0,0,0,0,null,0,null,0,0,0,0,0,0,0,null,0]
[null,null,null,null,null,null,null,null,null,null,null,null,null,null,null,null,null,null,null,null,null,null,null,null,null,null,null,null,0,0,0,0,0,0,0,null,0,null,0,0,0,0,0,0,0,null,0]
[null,"Retained cash balance - DMMY",null,null,null,null,null,null,null,null,null,null,null,null,null,null,null,null,null,null,null,null,null,null,null,null,null,null,0,0,0,0,0,0,0,null,0,null,0,0,0,0,0,0,0,null,0]
[null,null,null,null,"Cash and cash equivalents - DMMY b/f - nominal",0,"£m",null,{"$f":"'[1]FinStat_Dummy control'!$J73","v":0},{"$f":"'[1]FinStat_Dummy control'!$K73","v":0},{"$f":"'[1]FinStat_Dummy control'!$L73","v":0},{"$f":"'[1]FinStat_Dummy control'!$M73","v":0},{"$f":"'[1]FinStat_Dummy control'!$N73","v":0},{"$f":"'[1]FinStat_Dummy control'!$O73","v":0},{"$f":"'[1]FinStat_Dummy control'!$P73","v":0},null,0,null,{"$f":"'[2]FinStat_Dummy control'!$J73","v":0},{"$f":"'[2]FinStat_Dummy control'!$K73","v":0},{"$f":"'[2]FinStat_Dummy control'!$L73","v":0},{"$f":"'[2]FinStat_Dummy control'!$M73","v":0},{"$f":"'[2]FinStat_Dummy control'!$N73","v":0},{"$f":"'[2]FinStat_Dummy control'!$O73","v":0},{"$f":"'[2]FinStat_Dummy control'!$P73","v":0},null,0,null,0,0,0,0,0,0,0,null,0,null,0,0,0,0,0,0,0,null,0]
[null,null,null,null,"Last pre-forecast period flag",0,"flag",null,{"$f":"'[1]FinStat_Dummy control'!$J74","v":0},{"$f":"'[1]FinStat_Dummy control'!$K74","v":1},{"$f":"'[1]FinStat_Dummy control'!$L74","v":0},{"$f":"'[1]FinStat_Dummy control'!$M74","v":0},{"$f":"'[1]FinStat_Dummy control'!$N74","v":0},{"$f":"'[1]FinStat_Dummy control'!$O74","v":0},{"$f":"'[1]FinStat_Dummy control'!$P74","v":0},null,1,null,{"$f":"'[2]FinStat_Dummy control'!$J74","v":0},{"$f":"'[2]FinStat_Dummy control'!$K74","v":1},{"$f":"'[2]FinStat_Dummy control'!$L74","v":0},{"$f":"'[2]FinStat_Dummy control'!$M74","v":0},{"$f":"'[2]FinStat_Dummy control'!$N74","v":0},{"$f":"'[2]FinStat_Dummy control'!$O74","v":0},{"$f":"'[2]FinStat_Dummy control'!$P74","v":0},null,1,null,0,0,0,0,0,0,0,null,0,null,0,0,0,0,0,0,0,null,0]
[null,null,null,null,null,null,null,null,{"$f":"'[1]FinStat_Dummy control'!$J75","v":0},{"$f":"'[1]FinStat_Dummy control'!$K75","v":0},{"$f":"'[1]FinStat_Dummy control'!$L75","v":0},{"$f":"'[1]FinStat_Dummy control'!$M75","v":0},{"$f":"'[1]FinStat_Dummy control'!$N75","v":0},{"$f":"'[1]FinStat_Dummy control'!$O75","v":0},{"$f":"'[1]FinStat_Dummy control'!$P75","v":0},null,null,null,{"$f":"'[2]FinStat_Dummy control'!$J75","v":0},{"$f":"'[2]FinStat_Dummy control'!$K75","v":0},{"$f":"'[2]FinStat_Dummy control'!$L75","v":0},{"$f":"'[2]FinStat_Dummy control'!$M75","v":0},{"$f":"'[2]FinStat_Dummy control'!$N75","v":0},{"$f":"'[2]FinStat_Dummy control'!$O75","v":0},{"$f":"'[2]FinStat_Dummy control'!$P75","v":0},null,null,null,0,0,0,0,0,0,0,null,0,null,0,0,0,0,0,0,0,null,0]
[null,null,null,null,"Retained cash balance - DMMY BEG - nominal",null,"£m",null,{"$f":"'[1]FinStat_Dummy control'!$J76","v":0},{"$f":"'[1]FinStat_Dummy control'!$K76","v":0},{"$f":"'[1]FinStat_Dummy control'!$L76","v":0},{"$f":"'[1]FinStat_Dummy control'!$M76","v":0},{"$f":"'[1]FinStat_Dummy control'!$N76","v":0},{"$f":"'[1]FinStat_Dummy control'!$O76","v":0},{"$f":"'[1]FinStat_Dummy control'!$P76","v":0},null,0,null,{"$f":"'[2]FinStat_Dummy control'!$J76","v":0},{"$f":"'[2]FinStat_Dummy control'!$K76","v":0},{"$f":"'[2]FinStat_Dummy control'!$L76","v":0},{"$f":"'[2]FinStat_Dummy control'!$M76","v":0},{"$f":"'[2]FinStat_Dummy control'!$N76","v":0},{"$f":"'[2]FinStat_Dummy control'!$O76","v":0},{"$f":"'[2]FinStat_Dummy control'!$P76","v":0},null,0,null,0,0,0,0,0,0,0,null,0,null,0,0,0,0,0,0,0,null,0]
[null,null,null,"plus","Net increase / (decrease) in cash - DMMY - nominal",0,"£m",null,{"$f":"'[1]FinStat_Dummy control'!$J77","v":0},{"$f":"'[1]FinStat_Dummy control'!$K77","v":0},{"$f":"'[1]FinStat_Dummy control'!$L77","v":0},{"$f":"'[1]FinStat_Dummy control'!$M77","v":0},{"$f":"'[1]FinStat_Dummy control'!$N77","v":0},{"$f":"'[1]FinStat_Dummy control'!$O77","v":0},{"$f":"'[1]FinStat_Dummy control'!$P77","v":0},null,0,null,{"$f":"'[2]FinStat_Dummy control'!$J77","v":0},{"$f":"'[2]FinStat_Dummy control'!$K77","v":0},{"$f":"'[2]FinStat_Dummy control'!$L77","v":0},{"$f":"'[2]FinStat_Dummy control'!$M77","v":0},{"$f":"'[2]FinStat_Dummy control'!$N77","v":0},{"$f":"'[2]FinStat_Dummy control'!$O77","v":0},{"$f":"'[2]FinStat_Dummy control'!$P77","v":0},null,0,null,0,0,0,0,0,0,0,null,0,null,0,0,0,0,0,0,0,null,0]
[null,null,null,null,"Retained cash balance - DMMY - nominal",null,"£m",null,{"$f":"'[1]FinStat_Dummy control'!$J78","v":0},{"$f":"'[1]FinStat_Dummy control'!$K78","v":0},{"$f":"'[1]FinStat_Dummy control'!$L78","v":0},{"$f":"'[1]FinStat_Dummy control'!$M78","v":0},{"$f":"'[1]FinStat_Dummy control'!$N78","v":0},{"$f":"'[1]FinStat_Dummy control'!$O78","v":0},{"$f":"'[1]FinStat_Dummy control'!$P78","v":0},null,0,null,{"$f":"'[2]FinStat_Dummy control'!$J78","v":0},{"$f":"'[2]FinStat_Dummy control'!$K78","v":0},{"$f":"'[2]FinStat_Dummy control'!$L78","v":0},{"$f":"'[2]FinStat_Dummy control'!$M78","v":0},{"$f":"'[2]FinStat_Dummy control'!$N78","v":0},{"$f":"'[2]FinStat_Dummy control'!$O78","v":0},{"$f":"'[2]FinStat_Dummy control'!$P78","v":0},null,0,null,0,0,0,0,0,0,0,null,0,null,0,0,0,0,0,0,0,null,0]
[]
["BALANCE SHEET"]
[]
[null,"Non-current assets"]
[null,null,null,null,"Wholesale fixed assets balance - DMMY - nominal","BS","£m",null,{"$f":"'[1]FinStat_Dummy control'!$J85","v":0},{"$f":"'[1]FinStat_Dummy control'!$K85","v":0},{"$f":"'[1]FinStat_Dummy control'!$L85","v":0},{"$f":"'[1]FinStat_Dummy control'!$M85","v":0},{"$f":"'[1]FinStat_Dummy control'!$N85","v":0},{"$f":"'[1]FinStat_Dummy control'!$O85","v":0},{"$f":"'[1]FinStat_Dummy control'!$P85","v":0},null,{"$f":"SUM(I89:O89)","v":0},null,{"$f":"'[2]FinStat_Dummy control'!$J85","v":0},{"$f":"'[2]FinStat_Dummy control'!$K85","v":0},{"$f":"'[2]FinStat_Dummy control'!$L85","v":0},{"$f":"'[2]FinStat_Dummy control'!$M85","v":0},{"$f":"'[2]FinStat_Dummy control'!$N85","v":0},{"$f":"'[2]FinStat_Dummy control'!$O85","v":0},{"$f":"'[2]FinStat_Dummy control'!$P85","v":0},null,{"$f":"SUM(S89:Y89)","v":0},null,{"$f":"ROUND(I89 - S89, 3)","v":0},{"$f":"ROUND(J89 - T89, 3)","v":0},{"$f":"ROUND(K89 - U89, 3)","v":0},{"$f":"ROUND(L89 - V89, 3)","v":0},{"$f":"ROUND(M89 - W89, 3)","v":0},{"$f":"ROUND(N89 - X89, 3)","v":0},{"$f":"ROUND(O89 - Y89, 3)","v":0},null,{"$f":"ROUND(Q89 - AA89, 3)","v":0},null,{"$f":"IF(S89 = 0, 0, AC89 / S89)","v":0},{"$f":"IF(T89 = 0, 0, AD89 / T89)","v":0},{"$f":"IF(U89 = 0, 0, AE89 / U89)","v":0},{"$f":"IF(V89 = 0, 0, AF89 / V89)","v":0},{"$f":"IF(W89 = 0, 0, AG89 / W89)","v":0},{"$f":"IF(X89 = 0, 0, AH89 / X89)","v":0},{"$f":"IF(Y89 = 0, 0, AI89 / Y89)","v":0},null,{"$f":"IF(AA89 = 0, 0, AK89 / AA89)","v":0}]
[null,null,null,null,"Intangible asset and investments balance - DMMY - nominal","BS","£m",null,{"$f":"'[1]FinStat_Dummy control'!$J86","v":0},{"$f":"'[1]FinStat_Dummy control'!$K86","v":0},{"$f":"'[1]FinStat_Dummy control'!$L86","v":0},{"$f":"'[1]FinStat_Dummy control'!$M86","v":0},{"$f":"'[1]FinStat_Dummy control'!$N86","v":0},{"$f":"'[1]FinStat_Dummy control'!$O86","v":0},{"$f":"'[1]FinStat_Dummy control'!$P86","v":0},null,{"$f":"SUM(I90:O90)","v":0},null,{"$f":"'[2]FinStat_Dummy control'!$J86","v":0},{"$f":"'[2]FinStat_Dummy control'!$K86","v":0},{"$f":"'[2]FinStat_Dummy control'!$L86","v":0},{"$f":"'[2]FinStat_Dummy control'!$M86","v":0},{"$f":"'[2]FinStat_Dummy control'!$N86","v":0},{"$f":"'[2]FinStat_Dummy control'!$O86","v":0},{"$f":"'[2]FinStat_Dummy control'!$P86","v":0},null,{"$f":"SUM(S90:Y90)","v":0},null,0,0,0,0,0,0,0,null,0,null,0,0,0,0,0,0,0,null,0]
[null,null,null,null,"Retirement benefit asset balance - DMMY - nominal",null,null,null,{"$f":"'[1]FinStat_Dummy control'!$J87","v":0},{"$f":"'[1]FinStat_Dummy control'!$K87","v":0},{"$f":"'[1]FinStat_Dummy control'!$L87","v":0},{"$f":"'[1]FinStat_Dummy control'!$M87","v":0},{"$f":"'[1]FinStat_Dummy control'!$N87","v":0},{"$f":"'[1]FinStat_Dummy control'!$O87","v":0},{"$f":"'[1]FinStat_Dummy control'!$P87","v":0},null,{"$f":"SUM(I91:O91)","v":0},null,{"$f":"'[2]FinStat_Dummy control'!$J87","v":0},{"$f":"'[2]FinStat_Dummy control'!$K87","v":0},{"$f":"'[2]FinStat_Dummy control'!$L87","v":0},{"$f":"'[2]FinStat_Dummy control'!$M87","v":0},{"$f":"'[2]FinStat_Dummy control'!$N87","v":0},{"$f":"'[2]FinStat_Dummy control'!$O87","v":0},{"$f":"'[2]FinStat_Dummy control'!$P87","v":0},null,{"$f":"SUM(S91:Y91)","v":0},null,0,0,0,0,0,0,0,null,0,null,{"$f":"IF(S91 = 0, 0, AC91 / S91)","v":0},{"$f":"IF(T91 = 0, 0, AD91 / T91)","v":0},{"$f":"IF(U91 = 0, 0, AE91 / U91)","v":0},{"$f":"IF(V91 = 0, 0, AF91 / V91)","v":0},{"$f":"IF(W91 = 0, 0, AG91 / W91)","v":0},{"$f":"IF(X91 = 0, 0, AH91 / X91)","v":0},{"$f":"IF(Y91 = 0, 0, AI91 / Y91)","v":0},null,{"$f":"IF(AA91 = 0, 0, AK91 / AA91)","v":0}]
[null,null,null,null,"Total non-current assets - DMMY - nominal",null,"£m",null,{"$f":"'[1]FinStat_Dummy control'!$J88","v":0},{"$f":"'[1]FinStat_Dummy control'!$K88","v":0},{"$f":"'[1]FinStat_Dummy control'!$L88","v":0},{"$f":"'[1]FinStat_Dummy control'!$M88","v":0},{"$f":"'[1]FinStat_Dummy control'!$N88","v":0},{"$f":"'[1]FinStat_Dummy control'!$O88","v":0},{"$f":"'[1]FinStat_Dummy control'!$P88","v":0},null,0,null,{"$f":"'[2]FinStat_Dummy control'!$J88","v":0},{"$f":"'[2]FinStat_Dummy control'!$K88","v":0},{"$f":"'[2]FinStat_Dummy control'!$L88","v":0},{"$f":"'[2]FinStat_Dummy control'!$M88","v":0},{"$f":"'[2]FinStat_Dummy control'!$N88","v":0},{"$f":"'[2]FinStat_Dummy control'!$O88","v":0},{"$f":"'[2]FinStat_Dummy control'!$P88","v":0},null,0,null,0,0,0,0,0,0,0,null,0,null,0,0,0,0,0,0,0,null,0]
[null,null,null,null,null,null,null,null,null,null,null,null,null,null,null,null,null,null,null,null,null,null,null,null,null,null,null,null,0,0,0,0,0,0,0,null,0,null,0,0,0,0,0,0,0,null,0]
[null,"Current assets",null,null,null,null,null,null,null,null,null,null,null,null,null,null,null,null,null,null,null,null,null,null,null,null,null,null,0,0,0,0,0,0,0,null,0,null,0,0,0,0,0,0,0,null,0]
[null,null,null,null,"Inventories balance - DMMY - nominal","BS","£m",null,{"$f":"'[1]FinStat_Dummy control'!$J91","v":0},{"$f":"'[1]FinStat_Dummy control'!$K91","v":0},{"$f":"'[1]FinStat_Dummy control'!$L91","v":0},{"$f":"'[1]FinStat_Dummy control'!$M91","v":0},{"$f":"'[1]FinStat_Dummy control'!$N91","v":0},{"$f":"'[1]FinStat_Dummy control'!$O91","v":0},{"$f":"'[1]FinStat_Dummy control'!$P91","v":0},null,0,null,{"$f":"'[2]FinStat_Dummy control'!$J91","v":0},{"$f":"'[2]FinStat_Dummy control'!$K91","v":0},{"$f":"'[2]FinStat_Dummy control'!$L91","v":0},{"$f":"'[2]FinStat_Dummy control'!$M91","v":0},{"$f":"'[2]FinStat_Dummy control'!$N91","v":0},{"$f":"'[2]FinStat_Dummy control'!$O91","v":0},{"$f":"'[2]FinStat_Dummy control'!$P91","v":0},null,0,null,0,0,0,0,0,0,0,null,0,null,0,0,0,0,0,0,0,null,0]
[null,null,null,null,"Trade debtors and other receivables balance - DMMY - nominal","BS","£m",null,{"$f":"'[1]FinStat_Dummy control'!$J92","v":0},{"$f":"'[1]FinStat_Dummy control'!$K92","v":0},{"$f":"'[1]FinStat_Dummy control'!$L92","v":0},{"$f":"'[1]FinStat_Dummy control'!$M92","v":0},{"$f":"'[1]FinStat_Dummy control'!$N92","v":0},{"$f":"'[1]FinStat_Dummy control'!$O92","v":0},{"$f":"'[1]FinStat_Dummy control'!$P92","v":0},null,0,null,{"$f":"'[2]FinStat_Dummy control'!$J92","v":0},{"$f":"'[2]FinStat_Dummy control'!$K92","v":0},{"$f":"'[2]FinStat_Dummy control'!$L92","v":0},{"$f":"'[2]FinStat_Dummy control'!$M92","v":0},{"$f":"'[2]FinStat_Dummy control'!$N92","v":0},{"$f":"'[2]FinStat_Dummy control'!$O92","v":0},{"$f":"'[2]FinStat_Dummy control'!$P92","v":0},null,0,null,0,0,0,0,0,0,0,null,0,null,0,0,0,0,0,0,0,null,0]
[null,null,null,null,"Retained cash balance - DMMY - nominal","BS","£m",null,{"$f":"'[1]FinStat_Dummy control'!$J93","v":0},{"$f":"'[1]FinStat_Dummy control'!$K93","v":0},{"$f":"'[1]FinStat_Dummy control'!$L93","v":0},{"$f":"'[1]FinStat_Dummy control'!$M93","v":0},{"$f":"'[1]FinStat_Dummy control'!$N93","v":0},{"$f":"'[1]FinStat_Dummy control'!$O93","v":0},{"$f":"'[1]FinStat_Dummy control'!$P93","v":0},null,0,null,{"$f":"'[2]FinStat_Dummy control'!$J93","v":0},{"$f":"'[2]FinStat_Dummy control'!$K93","v":0},{"$f":"'[2]FinStat_Dummy control'!$L93","v":0},{"$f":"'[2]FinStat_Dummy control'!$M93","v":0},{"$f":"'[2]FinStat_Dummy control'!$N93","v":0},{"$f":"'[2]FinStat_Dummy control'!$O93","v":0},{"$f":"'[2]FinStat_Dummy control'!$P93","v":0},null,0,null,0,0,0,0,0,0,0,null,0,null,0,0,0,0,0,0,0,null,0]
[null,null,null,null,"Total current assets - DMMY - nominal",null,"£m",null,{"$f":"'[1]FinStat_Dummy control'!$J94","v":0},{"$f":"'[1]FinStat_Dummy control'!$K94","v":0},{"$f":"'[1]FinStat_Dummy control'!$L94","v":0},{"$f":"'[1]FinStat_Dummy control'!$M94","v":0},{"$f":"'[1]FinStat_Dummy control'!$N94","v":0},{"$f":"'[1]FinStat_Dummy control'!$O94","v":0},{"$f":"'[1]FinStat_Dummy control'!$P94","v":0},null,0,null,{"$f":"'[2]FinStat_Dummy control'!$J94","v":0},{"$f":"'[2]FinStat_Dummy control'!$K94","v":0},{"$f":"'[2]FinStat_Dummy control'!$L94","v":0},{"$f":"'[2]FinStat_Dummy control'!$M94","v":0},{"$f":"'[2]FinStat_Dummy control'!$N94","v":0},{"$f":"'[2]FinStat_Dummy control'!$O94","v":0},{"$f":"'[2]FinStat_Dummy control'!$P94","v":0},null,0,null,0,0,0,0,0,0,0,null,0,null,0,0,0,0,0,0,0,null,0]
[null,null,null,null,null,null,null,null,null,null,null,null,null,null,null,null,null,null,null,null,null,null,null,null,null,null,null,null,0,0,0,0,0,0,0,null,0,null,0,0,0,0,0,0,0,null,0]
[null,"Liabilities",null,null,null,null,null,null,null,null,null,null,null,null,null,null,null,null,null,null,null,null,null,null,null,null,null,null,0,0,0,0,0,0,0,null,0,null,0,0,0,0,0,0,0,null,0]
[null,null,null,null,"Trade creditors and other payables balance - DMMY - nominal","BS","£m",null,{"$f":"'[1]FinStat_Dummy control'!$J97","v":0},{"$f":"'[1]FinStat_Dummy control'!$K97","v":0},{"$f":"'[1]FinStat_Dummy control'!$L97","v":0},{"$f":"'[1]FinStat_Dummy control'!$M97","v":0},{"$f":"'[1]FinStat_Dummy control'!$N97","v":0},{"$f":"'[1]FinStat_Dummy control'!$O97","v":0},{"$f":"'[1]FinStat_Dummy control'!$P97","v":0},null,0,null,{"$f":"'[2]FinStat_Dummy control'!$J97","v":0},{"$f":"'[2]FinStat_Dummy control'!$K97","v":0},{"$f":"'[2]FinStat_Dummy control'!$L97","v":0},{"$f":"'[2]FinStat_Dummy control'!$M97","v":0},{"$f":"'[2]FinStat_Dummy control'!$N97","v":0},{"$f":"'[2]FinStat_Dummy control'!$O97","v":0},{"$f":"'[2]FinStat_Dummy control'!$P97","v":0},null,0,null,0,0,0,0,0,0,0,null,0,null,0,0,0,0,0,0,0,null,0]
[null,null,null,null,"Capex creditors balance - DMMY - nominal","BS","£m",null,{"$f":"'[1]FinStat_Dummy control'!$J98","v":0},{"$f":"'[1]FinStat_Dummy control'!$K98","v":0},{"$f":"'[1]FinStat_Dummy control'!$L98","v":0},{"$f":"'[1]FinStat_Dummy control'!$M98","v":0},{"$f":"'[1]FinStat_Dummy control'!$N98","v":0},{"$f":"'[1]FinStat_Dummy control'!$O98","v":0},{"$f":"'[1]FinStat_Dummy control'!$P98","v":0},null,0,null,{"$f":"'[2]FinStat_Dummy control'!$J98","v":0},{"$f":"'[2]FinStat_Dummy control'!$K98","v":0},{"$f":"'[2]FinStat_Dummy control'!$L98","v":0},{"$f":"'[2]FinStat_Dummy control'!$M98","v":0},{"$f":"'[2]FinStat_Dummy control'!$N98","v":0},{"$f":"'[2]FinStat_Dummy control'!$O98","v":0},{"$f":"'[2]FinStat_Dummy control'!$P98","v":0},null,0,null,0,0,0,0,0,0,0,null,0,null,0,0,0,0,0,0,0,null,0]
[null,null,null,null,"Dividend creditors balance - DMMY - nominal","BS","£m",null,{"$f":"'[1]FinStat_Dummy control'!$J99","v":0},{"$f":"'[1]FinStat_Dummy control'!$K99","v":0},{"$f":"'[1]FinStat_Dummy control'!$L99","v":0},{"$f":"'[1]FinStat_Dummy control'!$M99","v":0},{"$f":"'[1]FinStat_Dummy control'!$N99","v":0},{"$f":"'[1]FinStat_Dummy control'!$O99","v":0},{"$f":"'[1]FinStat_Dummy control'!$P99","v":0},null,0,null,{"$f":"'[2]FinStat_Dummy control'!$J99","v":0},{"$f":"'[2]FinStat_Dummy control'!$K99","v":0},{"$f":"'[2]FinStat_Dummy control'!$L99","v":0},{"$f":"'[2]FinStat_Dummy control'!$M99","v":0},{"$f":"'[2]FinStat_Dummy control'!$N99","v":0},{"$f":"'[2]FinStat_Dummy control'!$O99","v":0},{"$f":"'[2]FinStat_Dummy control'!$P99","v":0},null,0,null,0,0,0,0,0,0,0,null,0,null,0,0,0,0,0,0,0,null,0]
[null,null,null,null,"Total borrowing balance - DMMY - nominal","BS","£m",null,{"$f":"'[1]FinStat_Dummy control'!$J100","v":0},{"$f":"'[1]FinStat_Dummy control'!$K100","v":0},{"$f":"'[1]FinStat_Dummy control'!$L100","v":0},{"$f":"'[1]FinStat_Dummy control'!$M100","v":0},{"$f":"'[1]FinStat_Dummy control'!$N100","v":0},{"$f":"'[1]FinStat_Dummy control'!$O100","v":0},{"$f":"'[1]FinStat_Dummy control'!$P100","v":0},null,0,null,{"$f":"'[2]FinStat_Dummy control'!$J100","v":0},{"$f":"'[2]FinStat_Dummy control'!$K100","v":0},{"$f":"'[2]FinStat_Dummy control'!$L100","v":0},{"$f":"'[2]FinStat_Dummy control'!$M100","v":0},{"$f":"'[2]FinStat_Dummy control'!$N100","v":0},{"$f":"'[2]FinStat_Dummy control'!$O100","v":0},{"$f":"'[2]FinStat_Dummy control'!$P100","v":0},null,0,null,0,0,0,0,0,0,0,null,0,null,0,0,0,0,0,0,0,null,0]
[null,null,null,null,"Preference share capital balance - DMMY - nominal","BS","£m",null,{"$f":"'[1]FinStat_Dummy control'!$J101","v":0},{"$f":"'[1]FinStat_Dummy control'!$K101","v":0},{"$f":"'[1]FinStat_Dummy control'!$L101","v":0},{"$f":"'[1]FinStat_Dummy control'!$M101","v":0},{"$f":"'[1]FinStat_Dummy control'!$N101","v":0},{"$f":"'[1]FinStat_Dummy control'!$O101","v":0},{"$f":"'[1]FinStat_Dummy control'!$P101","v":0},null,0,null,{"$f":"'[2]FinStat_Dummy control'!$J101","v":0},{"$f":"'[2]FinStat_Dummy control'!$K101","v":0},{"$f":"'[2]FinStat_Dummy control'!$L101","v":0},{"$f":"'[2]FinStat_Dummy control'!$M101","v":0},{"$f":"'[2]FinStat_Dummy control'!$N101","v":0},{"$f":"'[2]FinStat_Dummy control'!$O101","v":0},{"$f":"'[2]FinStat_Dummy control'!$P101","v":0},null,0,null,0,0,0,0,0,0,0,null,0,null,0,0,0,0,0,0,0,null,0]
[null,null,null,null,"Current tax liabilities - DMMY - nominal","BS","£m",null,{"$f":"'[1]FinStat_Dummy control'!$J102","v":0},{"$f":"'[1]FinStat_Dummy control'!$K102","v":0},{"$f":"'[1]FinStat_Dummy control'!$L102","v":0},{"$f":"'[1]FinStat_Dummy control'!$M102","v":0},{"$f":"'[1]FinStat_Dummy control'!$N102","v":0},{"$f":"'[1]FinStat_Dummy control'!$O102","v":0},{"$f":"'[1]FinStat_Dummy control'!$P102","v":0},null,0,null,{"$f":"'[2]FinStat_Dummy control'!$J102","v":0},{"$f":"'[2]FinStat_Dummy control'!$K102","v":0},{"$f":"'[2]FinStat_Dummy control'!$L102","v":0},{"$f":"'[2]FinStat_Dummy control'!$M102","v":0},{"$f":"'[2]FinStat_Dummy control'!$N102","v":0},{"$f":"'[2]FinStat_Dummy control'!$O102","v":0},{"$f":"'[2]FinStat_Dummy control'!$P102","v":0},null,0,null,0,0,0,0,0,0,0,null,0,null,0,0,0,0,0,0,0,null,0]
[null,null,null,null,"Retirement benefit asset balance - DMMY - nominal","BS","£m",null,{"$f":"'[1]FinStat_Dummy control'!$J103","v":0},{"$f":"'[1]FinStat_Dummy control'!$K103","v":0},{"$f":"'[1]FinStat_Dummy control'!$L103","v":0},{"$f":"'[1]FinStat_Dummy control'!$M103","v":0},{"$f":"'[1]FinStat_Dummy control'!$N103","v":0},{"$f":"'[1]FinStat_Dummy control'!$O103","v":0},{"$f":"'[1]FinStat_Dummy control'!$P103","v":0},null,0,null,{"$f":"'[2]FinStat_Dummy control'!$J103","v":0},{"$f":"'[2]FinStat_Dummy control'!$K103","v":0},{"$f":"'[2]FinStat_Dummy control'!$L103","v":0},{"$f":"'[2]FinStat_Dummy control'!$M103","v":0},{"$f":"'[2]FinStat_Dummy control'!$N103","v":0},{"$f":"'[2]FinStat_Dummy control'!$O103","v":0},{"$f":"'[2]FinStat_Dummy control'!$P103","v":0},null,0,null,0,0,0,0,0,0,0,null,0,null,0,0,0,0,0,0,0,null,0]
[null,null,null,null,"Provisions balance - DMMY - nominal","BS","£m",null,{"$f":"'[1]FinStat_Dummy control'!$J104","v":0},{"$f":"'[1]FinStat_Dummy control'!$K104","v":0},{"$f":"'[1]FinStat_Dummy control'!$L104","v":0},{"$f":"'[1]FinStat_Dummy control'!$M104","v":0},{"$f":"'[1]FinStat_Dummy control'!$N104","v":0},{"$f":"'[1]FinStat_Dummy control'!$O104","v":0},{"$f":"'[1]FinStat_Dummy control'!$P104","v":0},null,0,null,{"$f":"'[2]FinStat_Dummy control'!$J104","v":0},{"$f":"'[2]FinStat_Dummy control'!$K104","v":0},{"$f":"'[2]FinStat_Dummy control'!$L104","v":0},{"$f":"'[2]FinStat_Dummy control'!$M104","v":0},{"$f":"'[2]FinStat_Dummy control'!$N104","v":0},{"$f":"'[2]FinStat_Dummy control'!$O104","v":0},{"$f":"'[2]FinStat_Dummy control'!$P104","v":0},null,0,null,0,0,0,0,0,0,0,null,0,null,0,0,0,0,0,0,0,null,0]
[null,null,null,null,"Other liabilities balance - DMMY - nominal","BS","£m",null,{"$f":"'[1]FinStat_Dummy control'!$J105","v":0},{"$f":"'[1]FinStat_Dummy control'!$K105","v":0},{"$f":"'[1]FinStat_Dummy control'!$L105","v":0},{"$f":"'[1]FinStat_Dummy control'!$M105","v":0},{"$f":"'[1]FinStat_Dummy control'!$N105","v":0},{"$f":"'[1]FinStat_Dummy control'!$O105","v":0},{"$f":"'[1]FinStat_Dummy control'!$P105","v":0},null,0,null,{"$f":"'[2]FinStat_Dummy control'!$J105","v":0},{"$f":"'[2]FinStat_Dummy control'!$K105","v":0},{"$f":"'[2]FinStat_Dummy control'!$L105","v":0},{"$f":"'[2]FinStat_Dummy control'!$M105","v":0},{"$f":"'[2]FinStat_Dummy control'!$N105","v":0},{"$f":"'[2]FinStat_Dummy control'!$O105","v":0},{"$f":"'[2]FinStat_Dummy control'!$P105","v":0},null,0,null,0,0,0,0,0,0,0,null,0,null,0,0,0,0,0,0,0,null,0]
[null,null,null,null,"Total liabilities - DMMY - nominal",null,"£m",null,{"$f":"'[1]FinStat_Dummy control'!$J106","v":0},{"$f":"'[1]FinStat_Dummy control'!$K106","v":0},{"$f":"'[1]FinStat_Dummy control'!$L106","v":0},{"$f":"'[1]FinStat_Dummy control'!$M106","v":0},{"$f":"'[1]FinStat_Dummy control'!$N106","v":0},{"$f":"'[1]FinStat_Dummy control'!$O106","v":0},{"$f":"'[1]FinStat_Dummy control'!$P106","v":0},null,0,null,{"$f":"'[2]FinStat_Dummy control'!$J106","v":0},{"$f":"'[2]FinStat_Dummy control'!$K106","v":0},{"$f":"'[2]FinStat_Dummy control'!$L106","v":0},{"$f":"'[2]FinStat_Dummy control'!$M106","v":0},{"$f":"'[2]FinStat_Dummy control'!$N106","v":0},{"$f":"'[2]FinStat_Dummy control'!$O106","v":0},{"$f":"'[2]FinStat_Dummy control'!$P106","v":0},null,0,null,0,0,0,0,0,0,0,null,0,null,0,0,0,0,0,0,0,null,0]
[null,null,null,null,null,null,null,null,null,null,null,null,null,null,null,null,null,null,null,null,null,null,null,null,null,null,null,null,0,0,0,0,0,0,0,null,0,null,0,0,0,0,0,0,0,null,0]
[null,null,null,null,"Net assets before deferred tax - DMMY - nominal",null,"£m",null,{"$f":"'[1]FinStat_Dummy control'!$J108","v":0},{"$f":"'[1]FinStat_Dummy control'!$K108","v":0},{"$f":"'[1]FinStat_Dummy control'!$L108","v":0},{"$f":"'[1]FinStat_Dummy control'!$M108","v":0},{"$f":"'[1]FinStat_Dummy control'!$N108","v":0},{"$f":"'[1]FinStat_Dummy control'!$O108","v":0},{"$f":"'[1]FinStat_Dummy control'!$P108","v":0},null,0,null,{"$f":"'[2]FinStat_Dummy control'!$J108","v":0},{"$f":"'[2]FinStat_Dummy control'!$K108","v":0},{"$f":"'[2]FinStat_Dummy control'!$L108","v":0},{"$f":"'[2]FinStat_Dummy control'!$M108","v":0},{"$f":"'[2]FinStat_Dummy control'!$N108","v":0},{"$f":"'[2]FinStat_Dummy control'!$O108","v":0},{"$f":"'[2]FinStat_Dummy control'!$P108","v":0},null,0,null,0,0,0,0,0,0,0,null,0,null,0,0,0,0,0,0,0,null,0]
[null,null,null,null,null,null,null,null,null,null,null,null,null,null,null,null,null,null,null,null,null,null,null,null,null,null,null,null,0,0,0,0,0,0,0,null,0,null,0,0,0,0,0,0,0,null,0]
[null,"Net assets",null,null,null,null,null,null,null,null,null,null,null,null,null,null,null,null,null,null,null,null,null,null,null,null,null,null,0,0,0,0,0,0,0,null,0,null,0,0,0,0,0,0,0,null,0]
[null,null,null,null,"Deferred tax balance - DMMY - nominal ","BS","£m",null,{"$f":"'[1]FinStat_Dummy control'!$J111","v":0},{"$f":"'[1]FinStat_Dummy control'!$K111","v":0},{"$f":"'[1]FinStat_Dummy control'!$L111","v":0},{"$f":"'[1]FinStat_Dummy control'!$M111","v":0},{"$f":"'[1]FinStat_Dummy control'!$N111","v":0},{"$f":"'[1]FinStat_Dummy control'!$O111","v":0},{"$f":"'[1]FinStat_Dummy control'!$P111","v":0},null,0,null,{"$f":"'[2]FinStat_Dummy control'!$J111","v":0},{"$f":"'[2]FinStat_Dummy control'!$K111","v":0},{"$f":"'[2]FinStat_Dummy control'!$L111","v":0},{"$f":"'[2]FinStat_Dummy control'!$M111","v":0},{"$f":"'[2]FinStat_Dummy control'!$N111","v":0},{"$f":"'[2]FinStat_Dummy control'!$O111","v":0},{"$f":"'[2]FinStat_Dummy control'!$P111","v":0},null,0,null,0,0,0,0,0,0,0,null,0,null,0,0,0,0,0,0,0,null,0]
[null,null,null,null,"Net assets - DMMY - nominal",null,"£m",null,{"$f":"'[1]FinStat_Dummy control'!$J112","v":0},{"$f":"'[1]FinStat_Dummy control'!$K112","v":0},{"$f":"'[1]FinStat_Dummy control'!$L112","v":0},{"$f":"'[1]FinStat_Dummy control'!$M112","v":0},{"$f":"'[1]FinStat_Dummy control'!$N112","v":0},{"$f":"'[1]FinStat_Dummy control'!$O112","v":0},{"$f":"'[1]FinStat_Dummy control'!$P112","v":0},null,0,null,{"$f":"'[2]FinStat_Dummy control'!$J112","v":0},{"$f":"'[2]FinStat_Dummy control'!$K112","v":0},{"$f":"'[2]FinStat_Dummy control'!$L112","v":0},{"$f":"'[2]FinStat_Dummy control'!$M112","v":0},{"$f":"'[2]FinStat_Dummy control'!$N112","v":0},{"$f":"'[2]FinStat_Dummy control'!$O112","v":0},{"$f":"'[2]FinStat_Dummy control'!$P112","v":0},null,0,null,0,0,0,0,0,0,0,null,0,null,0,0,0,0,0,0,0,null,0]
[null,null,null,null,null,null,null,null,null,null,null,null,null,null,null,null,null,null,null,null,null,null,null,null,null,null,null,null,0,0,0,0,0,0,0,null,0,null,0,0,0,0,0,0,0,null,0]
[null,"Equity",null,null,null,null,null,null,null,null,null,null,null,null,null,null,null,null,null,null,null,null,null,null,null,null,null,null,0,0,0,0,0,0,0,null,0,null,0,0,0,0,0,0,0,null,0]
[null,null,null,null,"Called up share capital balance - DMMY - nominal","BS","£m",null,{"$f":"'[1]FinStat_Dummy control'!$J115","v":0},{"$f":"'[1]FinStat_Dummy control'!$K115","v":0},{"$f":"'[1]FinStat_Dummy control'!$L115","v":0},{"$f":"'[1]FinStat_Dummy control'!$M115","v":0},{"$f":"'[1]FinStat_Dummy control'!$N115","v":0},{"$f":"'[1]FinStat_Dummy control'!$O115","v":0},{"$f":"'[1]FinStat_Dummy control'!$P115","v":0},null,0,null,{"$f":"'[2]FinStat_Dummy control'!$J115","v":0},{"$f":"'[2]FinStat_Dummy control'!$K115","v":0},{"$f":"'[2]FinStat_Dummy control'!$L115","v":0},{"$f":"'[2]FinStat_Dummy control'!$M115","v":0},{"$f":"'[2]FinStat_Dummy control'!$N115","v":0},{"$f":"'[2]FinStat_Dummy control'!$O115","v":0},{"$f":"'[2]FinStat_Dummy control'!$P115","v":0},null,0,null,0,0,0,0,0,0,0,null,0,null,0,0,0,0,0,0,0,null,0]
[null,null,null,null,"Non-distributable reserves balance - DMMY - nominal","BS","£m",null,{"$f":"'[1]FinStat_Dummy control'!$J116","v":0},{"$f":"'[1]FinStat_Dummy control'!$K116","v":0},{"$f":"'[1]FinStat_Dummy control'!$L116","v":0},{"$f":"'[1]FinStat_Dummy control'!$M116","v":0},{"$f":"'[1]FinStat_Dummy control'!$N116","v":0},{"$f":"'[1]FinStat_Dummy control'!$O116","v":0},{"$f":"'[1]FinStat_Dummy control'!$P116","v":0},null,0,null,{"$f":"'[2]FinStat_Dummy control'!$J116","v":0},{"$f":"'[2]FinStat_Dummy control'!$K116","v":0},{"$f":"'[2]FinStat_Dummy control'!$L116","v":0},{"$f":"'[2]FinStat_Dummy control'!$M116","v":0},{"$f":"'[2]FinStat_Dummy control'!$N116","v":0},{"$f":"'[2]FinStat_Dummy control'!$O116","v":0},{"$f":"'[2]FinStat_Dummy control'!$P116","v":0},null,0,null,0,0,0,0,0,0,0,null,0,null,0,0,0,0,0,0,0,null,0]
[null,null,null,null,"Retained earnings balance - DMMY - nominal","BS","£m",null,{"$f":"'[1]FinStat_Dummy control'!$J117","v":0},{"$f":"'[1]FinStat_Dummy control'!$K117","v":0},{"$f":"'[1]FinStat_Dummy control'!$L117","v":0},{"$f":"'[1]FinStat_Dummy control'!$M117","v":0},{"$f":"'[1]FinStat_Dummy control'!$N117","v":0},{"$f":"'[1]FinStat_Dummy control'!$O117","v":0},{"$f":"'[1]FinStat_Dummy control'!$P117","v":0},null,0,null,{"$f":"'[2]FinStat_Dummy control'!$J117","v":0},{"$f":"'[2]FinStat_Dummy control'!$K117","v":0},{"$f":"'[2]FinStat_Dummy control'!$L117","v":0},{"$f":"'[2]FinStat_Dummy control'!$M117","v":0},{"$f":"'[2]FinStat_Dummy control'!$N117","v":0},{"$f":"'[2]FinStat_Dummy control'!$O117","v":0},{"$f":"'[2]FinStat_Dummy control'!$P117","v":0},null,0,null,0,0,0,0,0,0,0,null,0,null,0,0,0,0,0,0,0,null,0]
[null,null,null,null,"Total equity - DMMY - nominal",null,"£m",null,{"$f":"'[1]FinStat_Dummy control'!$J118","v":0},{"$f":"'[1]FinStat_Dummy control'!$K118","v":0},{"$f":"'[1]FinStat_Dummy control'!$L118","v":0},{"$f":"'[1]FinStat_Dummy control'!$M118","v":0},{"$f":"'[1]FinStat_Dummy control'!$N118","v":0},{"$f":"'[1]FinStat_Dummy control'!$O118","v":0},{"$f":"'[1]FinStat_Dummy control'!$P118","v":0},null,0,null,{"$f":"'[2]FinStat_Dummy control'!$J118","v":0},{"$f":"'[2]FinStat_Dummy control'!$K118","v":0},{"$f":"'[2]FinStat_Dummy control'!$L118","v":0},{"$f":"'[2]FinStat_Dummy control'!$M118","v":0},{"$f":"'[2]FinStat_Dummy control'!$N118","v":0},{"$f":"'[2]FinStat_Dummy control'!$O118","v":0},{"$f":"'[2]FinStat_Dummy control'!$P118","v":0},null,0,null,0,0,0,0,0,0,0,null,0,null,0,0,0,0,0,0,0,null,0]
[]
["Calculations"]
[]
[null,null,null,null,"Net debt",null,"£m",null,{"$f":"SUM(I97,I104:I105)","v":0},{"$f":"SUM(J97,J104:J105)","v":0},{"$f":"SUM(K97,K104:K105)","v":0},0,0,0,0,null,{"$f":"SUM(I126:O126)","v":0},null,{"$f":"SUM(S97,S104:S105)","v":0},{"$f":"SUM(T97,T104:T105)","v":0},{"$f":"SUM(U97,U104:U105)","v":0},0,0,0,0,null,{"$f":"SUM(S126:Y126)","v":0},null,{"$f":"ROUND(I126 - S126, 3)","v":0},0,0,0,0,0,0,null,{"$f":"ROUND(Q126 - AA126, 3)","v":0},null,{"$f":"IF(S126 = 0, 0, AC126 / S126)","v":0},{"$f":"IF(T126 = 0, 0, AD126 / T126)","v":0},{"$f":"IF(U126 = 0, 0, AE126 / U126)","v":0},{"$f":"IF(V126 = 0, 0, AF126 / V126)","v":0},{"$f":"IF(W126 = 0, 0, AG126 / W126)","v":0},{"$f":"IF(X126 = 0, 0, AH126 / X126)","v":0},{"$f":"IF(Y126 = 0, 0, AI126 / Y126)","v":0},null,{"$f":"IF(AA126 = 0, 0, AK126 / AA126)","v":0}]
[null,null,null,null,"Average net debt",null,"£m",null,null,{"$f":"SUM(I97:J97,I104:J105)","v":0},{"$f":"SUM(J97:K97,J104:K105)","v":0},0,0,0,0,null,{"$f":"SUM(I127:O127)","v":0},null,null,{"$f":"SUM(S97:T97,S104:T105)","v":0},{"$f":"SUM(T97:U97,T104:U105)","v":0},{"$f":"SUM(U97:V97,U104:V105)","v":0},{"$f":"SUM(V97:W97,V104:W105)","v":0},{"$f":"SUM(W97:X97,W104:X105)","v":0},{"$f":"SUM(X97:Y97,X104:Y105)","v":0},null,{"$f":"SUM(S127:Y127)","v":0},null,0,0,0,0,0,0,0,null,{"$f":"ROUND(Q127 - AA127, 3)","v":0},null,0,0,0,0,0,0,0,null,0]
[]
[null,null,null,null,"Total interest as a percentage of average net debt",null,"%",null,null,{"$f":" IF( J127 = 0, 0, SUM( J22:J23 ) / J127 )","v":0},{"$f":" IF( K127 = 0, 0, SUM( K22:K23 ) / K127 )","v":0},{"$f":" IF( L127 = 0, 0, SUM( L22:L23 ) / L127 )","v":0},0,0,{"$f":" IF( O127 = 0, 0, SUM( O22:O23 ) / O127 )","v":0},null,null,null,null,{"$f":" IF( T127 = 0, 0, SUM( T22:T23 ) / T127 )","v":0},{"$f":" IF( U127 = 0, 0, SUM( U22:U23 ) / U127 )","v":0},{"$f":" IF( V127 = 0, 0, SUM( V22:V23 ) / V127 )","v":0},0,0,{"$f":" IF( Y127 = 0, 0, SUM( Y22:Y23 ) / Y127 )","v":0},null,null,null,null,{"$f":"ROUND(J129 - T129, 3)","v":0},0,0,0,0,0,null,null,null,null,0,0,0,0,0,0]