{"text_format":"1","workbook":"xlsx","n_sheets":16,"sheets":["Cover","Documentation-->","Style Guide","ToC","Inputs-->","InpActive","Calc-->","Index","Time","Cost sharing calculations","Abstraction & Rates","Bioresources wage growth","Outputs-->","Outputs","Integrity checks-->","Check"],"not_rendered":{"charts":0,"images":1,"macros":1,"external_links":0,"defined_names":10,"comments":0,"pivot_tables":0},"unopened":[],"bounds":{"document_bytes":16777216,"sheet_cells":100000,"rows_first":2000,"rows_last":500,"rows_between":2000,"halvings":0,"cell_chars":16384,"cell_head_chars":4096},"cells_cut":0,"cells_raw":0,"read":"whole","date_system":"1900"}

{"sheet":"Cover","index":0,"n_rows":70,"n_cols":5,"rows_kept":70,"cut":false,"hidden":false,"merged":[[23,3,25,3],[23,2,25,2],[23,1,25,1],[26,1,28,1],[26,2,28,2],[26,3,28,3],[49,3,52,3],[49,2,52,2],[49,1,52,1],[29,3,34,3],[36,1,38,1],[36,2,38,2],[36,3,38,3],[29,2,34,2],[29,1,34,1],[46,3,48,3],[46,2,48,2],[46,1,48,1],[39,1,44,1],[39,2,44,2],[39,3,44,3]]}
["Cover"]
[]
["Workbook title:","Cost sharing & total costs reconciliation"]
["Version:","2v"]
["Filename:","Cost-sharing-&-total-costs-Reconcilation-Dec-2020-v2v.xlsm"]
["Date:","2020-12-02"]
["Author:","Ofwat"]
["Author contact information:","OfwatPandO@ofwat.gov.uk"]
[]
[]
["Summary of workbook:","The cost sharing reconciliation model calculates any adjustment for underperformance or outperformance against forecast totex at the PR19 final determinations. "]
[null,"Separate adjustments are made for wage growth, net totex and business rates and abstraction charges. "]
[null,"The price base of the model is 2017-18 FYA CPIH with time value of money adjustments to 2024-25 present values using "]
[null,"the FD wholesale WACC deflated for long-term CPIH."]
[]
["Known limitations:","This model is subject to consultation and consequently may be subject to further changes."]
[]
["Instructions:","na"]
[]
["Amendments:","Below are details of changes to the model from the version 2n published on 26/02/2020. The changes fix issues that have been identified and implement improvements for clarity and ease of use."]
[]
[null,"Category","Sheet(s) in current model","Description of change(s) made","Model link(s)"]
[null,"Logic Update","Cost sharing calculations","A water services forecast variance as been included to calculated udner/overperformance for water sevices as a whole. This variance is then used to derive the over/outperofrmance rates used for water resources and water network plus",{"$f":"'Cost sharing calculations'!A28","v":"WATER SERVICES COMBINED"}]
[null,"Logic Update","Cost sharing calculations","The adjustment for wage growth has been included in baseline totex for cost sharing rather than a separate mechanism",{"$f":"'Cost sharing calculations'!E117","v":"Variance to forecast totex for wage adjustment - WR"}]
[null,null,null,null,{"$f":"'Cost sharing calculations'!E257","v":"Variance to forecast totex for wage adjustment - WN"}]
[null,null,null,null,{"$f":"'Cost sharing calculations'!E398","v":"Variance to forecast totex for wage adjustment- WWN"}]
[null,"Logic Update","Cost sharing calculations","The WINEP adjsutment from the WINEP reconciliation model has been included in base totex for cost sharing",{"$f":"'Cost sharing calculations'!E118","v":"Total final WINEP reconciliation - WR - real"}]
[null,null,null,null,{"$f":"'Cost sharing calculations'!E258","v":"Total final WINEP reconciliation - WN - real"}]
[null,null,null,null,{"$f":"'Cost sharing calculations'!E399","v":"Total final WINEP reconciliation - WWN - real"}]
[null,"Logic Update","Abstraction & Rates","RCV/Revenue The adjustment for abstraction and business rates is now split between RCV and Revenue using weighted PAYG rates.",{"$f":"'Abstraction & Rates'!$E$56","v":"Revenue adjustment business rates and abstraction - WR - Real"}]
[null,null,null,null,{"$f":"'Abstraction & Rates'!$E$60","v":"RCV adjustment business rates and abstraction - WR - Real"}]
[null,null,null,null,{"$f":"'Abstraction & Rates'!$E$110","v":"Revenue adjustment business rates and abstraction - WN - Real"}]
[null,null,null,null,{"$f":"'Abstraction & Rates'!$E$114","v":"RCV adjustment business rates and abstraction - WN - Real"}]
[null,null,null,null,{"$f":"'Abstraction & Rates'!$E$164","v":"Revenue adjustment business rates and abstraction - WWN - Real"}]
[null,null,null,null,{"$f":"'Abstraction & Rates'!$E$168","v":"RCV adjustment business rates and abstraction - WWN - Real"}]
[null,"New Functionality","InpActive, Abstraction & Rates","A Bioresource abstraction charges and business rates uncertainty mechanism has been added",{"$f":"'Abstraction & Rates'!A170","v":"BIORESOURCES"}]
[null,"Formula Update","Cost sharing calculations, Abstraction & Rates","The calculation for underperformance sharing has been corrected, the calculation has been amended to  \"1 - sharing rate\".",{"$f":"'Abstraction & Rates'!F48","v":0}]
[null,null,null,null,{"$f":"'Abstraction & Rates'!F102","v":0}]
[null,null,null,null,{"$f":"'Abstraction & Rates'!F156","v":0}]
[null,"Logic Update","InpActive, Cost sharing calculations, Abstraction & Rates","The price base for actual totex inputs has been amended to nominal terms to better align to APRs, these are then coverted to real values in model.",{"$f":"'Cost sharing calculations'!$E$94","v":"Net totex for cost sharing reconciliation - WR - Nominal"}]
[null,null,null,null,{"$f":"'Cost sharing calculations'!$E$235","v":"Net totex for cost sharing reconciliation - WN  - Nominal"}]
[null,null,null,null,{"$f":"'Cost sharing calculations'!$E$376","v":"Net totex for cost sharing reconciliation - WWN - nominal"}]
[null,null,null,null,{"$f":"'Abstraction & Rates'!$E$24","v":"Business rates & abstraction - Outturn - WR - Nominal"}]
[null,null,null,null,{"$f":"'Abstraction & Rates'!$E$78","v":"Business rates & abstraction - Outturn - WN - Nominal"}]
[null,null,null,null,{"$f":"'Abstraction & Rates'!$E$132","v":"Business rates & abstraction - Outturn - WWN - Nominal"}]
[null,"Logic Update","InpActive, Cost Sharing Calculations","WINEP input removed from wage adjustment totex for water resources as it wil not be used",{"$f":"'Cost sharing calculations'!E54","v":"Totex available for wage indexation adjustment - WR - Real"}]
[null,"New Functionality","InpActive, Cost Sharing Calculations","An additional sharing arrangement for sharing bad debts incurred due to COVID-19 has been included in the model. Further details can be found in the decision document https://www.ofwat.gov.uk/wp-content/uploads/2020/04/Proposals-to-address-liquidity-challenges-and-increases-in-bad-debt-–-decision-document.pdf ",{"$f":"'Cost sharing calculations'!C155","v":"Wholesaler bad debt sharing adjustment"}]
[null,null,null,null,{"$f":"'Cost sharing calculations'!C295","v":"Wholesaler bad debt sharing adjustment"}]
[null,null,null,null,{"$f":"'Cost sharing calculations'!C442","v":"Wholesaler bad debt sharing adjustment"}]
[null,"Logic Update","InpActive, Cost Sharing Calculations","The allowances for totex related to wage adjustments and net totex for cost sharing are sbuject to different profiling, additional inputs have been added into the model to enable separate profiling.",{"$f":"InpActive!E32","v":"Opex split profile - Base costs - WR "}]
[null,null,null,null,{"$f":"InpActive!E33","v":"Capex Split Profile - Base costs - WR"}]
[null,null,null,null,{"$f":"InpActive!E35","v":"Opex split profile - Cost sharing - WR"}]
[null,null,null,null,{"$f":"InpActive!E36","v":"Capex split profile - Cost sharing - WR"}]
[null,"New Functionality","InpActive, Bioresources wage growth","Bioresources is not subject to cost sharing however is still subject to changes to wage growth. Due to the similar nature of the calculations in the other controls this has been adjusted for in the cost sharing and total costs model. An additional worksheet has been added to calculate an adjustment. THis is not subject to any cost sharing.",{"$f":"'Bioresources wage growth'!A1","v":"Bioresources wage growth"}]
[]
[]
[]
["References:","Totex allowances made in the final determinations"]
[null,"PAYG rates from the final determinations"]
[null,"OBR Forecast wage growth from the final determinations"]
[null,"WACC from the final determinations"]
[null,"Cost sharing rates and ex ante allowances from frinal determinations"]
[null,"ASHE Gross Hourly Wage index"]
[null,"Actual CPIH index published by the ONS"]
[]
["Error Checks:","Total error check status"]
[null,{"$f":"Check!$F$8","v":0}]
[]
[]
["END OF SHEET"]

{"sheet":"Documentation-->","index":1,"n_rows":0,"n_cols":0,"rows_kept":0,"cut":false,"hidden":false,"merged":[]}

{"sheet":"Style Guide","index":2,"n_rows":52,"n_cols":10,"rows_kept":52,"cut":false,"hidden":false,"merged":[]}
[{"$f":" RIGHT(CELL(\"filename\", $A$1), LEN(CELL(\"filename\", $A$1)) - SEARCH(\"]\", CELL(\"filename\", $A$1)))","v":"Style Guide"}]
[]
["SHEET TABS"]
[]
[null,null,null,null,null,null,null,"Light Yellow",null,"Input sheets"]
[]
[null,null,null,null,null,null,null,"No colour (default Excel tab colour)",null,"Calculation and documentation sheets"]
[]
[null,null,null,null,null,null,null,"Pale Blue",null,"Key output sheets"]
[]
[null,null,null,null,null,null,null,"Turquoise",null,"Quality control sheets"]
[]
[null,null,null,null,null,null,null,"Yellow",null,"To be completed, temporary, restructured, or deleted"]
[]
[]
["COLOUR"]
[]
[null,"Font colour only"]
[null,null,null,null,null,null,null,"Blue font",null,"Imported from another sheet"]
[]
[null,null,null,null,null,null,null,"Red font ",null,"Exported to another sheet (except from Input sheets)"]
[]
[null,null,null,null,null,null,null,"Black font",null,"Within sheet link or calculation"]
[]
[null,"Font + shade combinations"]
[null,null,null,null,null,null,null,"Black font + Light Yellow shade",null,"Inputs"]
[]
[null,null,null,null,null,null,null,"Black font + Light Yellow shade with grey stripe",null,"Inputs that are not expected to be changed"]
[]
[null,null,null,null,null,null,null,"Black font + Light Grey shade on entire row",null,"Within-worksheet counter-flow "]
[]
[null,null,null,null,null,null,null,"Blue font + Light Grey shade on entire row",null,"Between-worksheet counter-flow "]
[]
[null,null,null,null,null,null,null,"Empty Cell with Light Grey shade",null,"Empty cells being deliberately referenced"]
[]
[null,"Other"]
[null,null,null,null,null,null,null,"Black font + Pale Blue shade on entire row",null,"Section separator"]
[]
[null,null,null,null,null,null,null,"Light Turquoise shade",null,"Stored/dead/hard coded outputs"]
[]
[null,null,null,null,null,null,null,"Tan shade",null,"Pre-model time line actuals"]
[]
[null,null,null,null,null,null,null,"Yellow shade",null,"Work in progress / temporary"]
[]
[null,null,null,null,null,null,null,"Lime shade",null,"Values or logic to be reviewed"]
[]
[null,"Error checks"]
[null,null,null,null,null,null,null,"Green shade",null,"OK"]
[]
[null,null,null,null,null,null,null,"Red shade",null,"Error"]
[]
["End of sheet"]

{"sheet":"ToC","index":3,"n_rows":18,"n_cols":10,"rows_kept":18,"cut":false,"hidden":false,"merged":[]}
[{"$f":" RIGHT(CELL(\"filename\", $A$1), LEN(CELL(\"filename\", $A$1)) - SEARCH(\"]\", CELL(\"filename\", $A$1)))","v":"ToC"}]
[]
[null,"ASSUMPTIONS",null,"INPUTS",null,"CALCULATIONS",null,"OUTPUTS",null,"Quality Control"]
[]
[null,{"$f":"Cover!A1","v":"Cover"},null,{"$f":"InpActive!A1","v":"InpActive"},null,{"$f":"Index!A1","v":"Index"},null,{"$f":"Outputs!A1","v":"Outputs"},null,{"$f":"Check!A1","v":"Check"}]
[null,"Model documentation sheet",null,"Inputs sheet",null,"All the indexation related calculations are done in this sheet.",null,"Main ouput sheet showing total cost sharing adjustments",null,"Contains all the model integrity checks and alerts"]
[]
[null,{"$f":"'Style Guide'!A1","v":"Style Guide"},null,null,null,{"$f":"Time!A1","v":"Time"}]
[null,"Explanation of different formatting types",null,null,null,"The model timeline and flag calculations are done in this sheet."]
[]
[null,{"$f":"A1","v":"ToC"},null,null,null,{"$f":"'Cost sharing calculations'!A1","v":"Cost sharing calculations"}]
[null,"Table of contents",null,null,null,"Calculates the cost sharing adjustments to be made at PR24"]
[]
[]
[]
[]
[]
["End of sheet"]

{"sheet":"Inputs-->","index":4,"n_rows":0,"n_cols":0,"rows_kept":0,"cut":false,"hidden":false,"merged":[]}

{"sheet":"InpActive","index":5,"n_rows":231,"n_cols":16,"rows_kept":231,"cut":false,"hidden":false,"merged":[]}
[{"$f":" RIGHT(CELL(\"filename\", $A$1), LEN(CELL(\"filename\", $A$1)) - SEARCH(\"]\", CELL(\"filename\", $A$1)))","v":"InpActive"}]
[null,null,null,null,{"$f":"Time!E$22","v":"Model Period BEG"},null,null,null,null,{"$f":"Time!J$22","v":"2019-04-01"},{"$f":"Time!K$22","v":"2020-04-01"},{"$f":"Time!L$22","v":"2021-04-01"},{"$f":"Time!M$22","v":"2022-04-01"},{"$f":"Time!N$22","v":"2023-04-01"},{"$f":"Time!O$22","v":"2024-04-01"},{"$f":"Time!P$22","v":"2025-04-01"}]
[null,null,null,null,{"$f":"Time!E$23","v":"Model Period END"},{"$f":"Check!F$8","v":0},"Error chks",null,null,{"$f":"Time!J$23","v":"2020-03-31"},{"$f":"Time!K$23","v":"2021-03-31"},{"$f":"Time!L$23","v":"2022-03-31"},{"$f":"Time!M$23","v":"2023-03-31"},{"$f":"Time!N$23","v":"2024-03-31"},{"$f":"Time!O$23","v":"2025-03-31"},{"$f":"Time!P$23","v":"2026-03-31"}]
[null,null,null,null,{"$f":"Time!E$59","v":"Pre Forecast vs Forecast"},null,null,null,null,{"$f":"Time!J$59","v":"Pre Fcst"},{"$f":"Time!K$59","v":"Forecast"},{"$f":"Time!L$59","v":"Forecast"},{"$f":"Time!M$59","v":"Forecast"},{"$f":"Time!N$59","v":"Forecast"},{"$f":"Time!O$59","v":"Forecast"},{"$f":"Time!P$59","v":"Post-Fcst"}]
[null,null,null,null,{"$f":"Time!E$101","v":"Financial Year Ending"},null,null,null,null,{"$f":"Time!J$101","v":2020},{"$f":"Time!K$101","v":2021},{"$f":"Time!L$101","v":2022},{"$f":"Time!M$101","v":2023},{"$f":"Time!N$101","v":2024},{"$f":"Time!O$101","v":2025},{"$f":"Time!P$101","v":2026}]
[null,null,null,null,{"$f":"Time!E$11","v":"Model column counter"},"Constant","Unit","Total",null,{"$f":"Time!J$11","v":1},{"$f":"Time!K$11","v":2},{"$f":"Time!L$11","v":3},{"$f":"Time!M$11","v":4},{"$f":"Time!N$11","v":5},{"$f":"Time!O$11","v":6},{"$f":"Time!P$11","v":7}]
[]
["TIME"]
[]
[null,null,null,null,"First date of time ruler","2019-04-01","date"]
[]
[null,null,null,null,"Last Pre Forecast Date","2020-03-31","date"]
[]
[null,null,null,null,"Acquisition date (midnight)","2020-03-31","date"]
[null,null,null,null,"Length of forecast period",5,"years"]
[null,null,null,null,"Last forecast date",{"$f":"DATE(YEAR(F14)+F15,MONTH(F14),DAY(F14))","v":"2025-03-31"},"date"]
[]
[]
[null,null,null,null,"Operation Start Date (midnight)","2021-03-31","date"]
[null,null,null,null,"Operation Finish Date (midnight)","2025-03-31","date"]
[null,null,null,null,"First Modelling Column Financial Year Number",2020,"year"]
[null,null,null,null,"Financial Year End Month Number",3,"month #"]
[]
[]
["TOTEX INPUTS"]
[]
[null,"Water Resources"]
[null,null,"Wage adjustment"]
[null,null,null,"2017/18 CPIH","Base Costs - WR - Real",null,"£m"]
[null,null,null,"2017/18 CPIH","Metering (excluding new connections) for meters requested by optants, customers and businesses - WR - Real",null,"£m"]
[]
[null,null,null,null,"Opex split profile - Base costs - WR ",null,"%"]
[null,null,null,null,"Capex Split Profile - Base costs - WR",null,"%"]
[]
[null,null,null,null,"Opex split profile - Cost sharing - WR",null,"%"]
[null,null,null,null,"Capex split profile - Cost sharing - WR",null,"%"]
[]
[null,null,null,null,"Business Rates & Abstraction Charges forecast profile - WR",null,"%",null,null,null,0.2,0.2,0.2,0.2,0.2]
[]
[null,null,"Net totex for cost sharing reconcilation"]
[null,null,null,"nominal","Net totex for cost sharing reconciliation - WR - Nominal",null,"£m"]
[null,null,null,"2017/18 CPIH","Net totex available for cost sharing - WR - Real",null,"£m"]
[]
[null,null,null,"2017/18 CPIH","Total final WINEP reconciliation - WR - real",null,"£m"]
[]
[null,null,"Business Rates and Abstraction"]
[null,null,null,"2017/18 CPIH","Business rates - Forecast - WR - Real",null,"£m"]
[null,null,null,"2017/18 CPIH","Abstraction charges - Forecast - WR - Real",null,"£m"]
[]
[null,null,null,"nominal","Business rates - Actual - WR - Nominal",null,"£m"]
[null,null,null,"nominal","Abstraction charges - Actual - WR - Nominal",null,"£m"]
[]
[null,null,null,null,"Weighted average PAYG rate - WR",null,"%"]
[]
[null,null,null,"2017/18 CPIH","Ex ante allowance above Ofwat forecast  - Water Resources - Real",null,"£m"]
[]
[null,null,"Bad Debt"]
[null,null,null,"2017/18 CPIH","Business retail bad debt liability due to covid liquidity measures - WR - real",null,"£m"]
[null,null,null,"2017/18 CPIH","Total Wholesaler Liability - WR - real",null,"£m"]
[]
[]
[null,"Water Network"]
[null,null,"Wage adjustment"]
[null,null,null,"2017/18 CPIH","Base Costs - WN - Real",null,"£m"]
[null,null,null,"2017/18 CPIH","Metering (excluding new connections) for meters requested by optants, customers and businesses - WN - Real",null,"£m"]
[]
[null,null,null,null,"Opex Split Profile - Base costs - WN",null,"%"]
[null,null,null,null,"Capex Split Profile - Base costs - WN",null,"%"]
[]
[null,null,null,null,"Opex split profile - Cost sharing - WN",null,"%"]
[null,null,null,null,"Capex split profile - Cost sharing - WN",null,"%"]
[]
[null,null,null,null,"Business Rates & Abstraction Charges forecast profile - WN",null,"%",null,null,null,0.2,0.2,0.2,0.2,0.2]
[]
[null,null,"Net totex for cost sharing reconcilation"]
[null,null,null,"nominal","Net totex for cost sharing reconciliation - WN  - Nominal",null,"£m"]
[null,null,null,"2017/18 CPIH","Net totex available for cost sharing - WN  - Real",null,"£m"]
[]
[null,null,null,"2017/18 CPIH","Total final WINEP reconciliation - WN - real",null,"£m"]
[]
[null,null,"Business Rates and Abstraction"]
[null,null,null,"2017/18 CPIH","Business rates - Forecast - WN  - Real",null,"£m"]
[null,null,null,"2017/18 CPIH","Abstraction charges - Forecast - WN - Real",null,"£m"]
[]
[null,null,null,"nominal","Business rates - Actual - WN - Nominal",null,"£m"]
[null,null,null,"nominal","Abstraction charges - Actual - WN - Nominal",null,"£m"]
[]
[null,null,null,null,"Weighted average PAYG rate - WN",null,"%"]
[]
[null,null,null,"2017/18 CPIH","Ex ante allowance above Ofwat forecast  - Water Network - Real",null,"£m"]
[]
[null,null,"Bad Debt"]
[null,null,null,"2017/18 CPIH","Business retail bad debt liability due to covid liquidity measures - WN - real",null,"£m"]
[null,null,null,"2017/18 CPIH","Total Wholesaler Liability - WN - real",null,"£m"]
[]
[null,"Wastewater Network"]
[null,null,"Wage adjustment"]
[null,null,null,"2017/18 CPIH","Base Costs - WWN - Real",null,"£m"]
[null,null,null,"2017/18 CPIH","Metering (excluding new connections) for meters requested by optants, customers and businesses - WWN - Real",null,"£m"]
[null,null,null,"2017/18 CPIH","WINEP / NEP ~ In-the-Round - WWN - Real",null,"£m"]
[]
[null,null,null,null,"Opex Split Profile - Base costs - WWN",null,"%"]
[null,null,null,null,"Capex Split Profile - Base costs - WWN",null,"%"]
[]
[null,null,null,null,"Opex split profile - Cost sharing - WWN",null,"%"]
[null,null,null,null,"Capex split profile - Cost sharing - WWN",null,"%"]
[]
[null,null,null,null,"Business Rates & Abstraction Charges forecast profile - WWN",null,"%"]
[]
[null,null,"Net totex for cost sharing reconcilation"]
[null,null,null,"nominal","Net totex for cost sharing reconciliation - WWN - nominal",null,"£m"]
[null,null,null,"2017/18 CPIH","Net totex available for cost sharing - WWN - Real",null,"£m"]
[]
[null,null,null,"2017/18 CPIH","Total final WINEP reconciliation - WWN - real",null,"£m"]
[]
[null,null,"Business Rates and Abstraction"]
[null,null,null,"2017/18 CPIH","Business rates - Forecast - WWN - Real",null,"£m"]
[null,null,null,"2017/18 CPIH","Abstraction charges - Forecast - WWN - Real",null,"£m"]
[]
[null,null,null,"nominal","Business rates - Actual - WWN - Nominal",null,"£m"]
[null,null,null,"nominal","Abstraction charges - Actual - WWN - Nominal",null,"£m"]
[]
[null,null,null,null,"Weighted average PAYG rate - WWN",null,"%"]
[]
[null,null,null,"2017/18 CPIH","Ex ante allowance above Ofwat forecast  - Wastewater Network - Real",null,"£m"]
[]
[null,null,"Bad Debt"]
[null,null,null,"2017/18 CPIH","Business retail bad debt liability due to covid liquidity measures - WWN - real",null,"£m"]
[null,null,null,"2017/18 CPIH","Total Wholesaler Liability - WWN - real",null,"£m"]
[]
[null,"Bioresources"]
[null,null,null,"Business Rates and Abstraction"]
[null,null,null,"2017/18 CPIH","Base Costs - BIO - Real",null,"£m"]
[null,null,null,"2017/18 CPIH","WINEP / NEP ~ In-the-Round - BIO - Real",null,"£m"]
[]
[null,null,null,null,"Opex Split Profile - Base costs - BIO",null,"%"]
[null,null,null,null,"Capex Split Profile - Base costs - BIO",null,"%"]
[]
[null,null,null,"2017/18 CPIH","Business rates - Forecast - BIO - Real",null,"£m"]
[null,null,null,"2017/18 CPIH","Abstraction charges - Forecast - BIO - Real",null,"£m"]
[]
[null,null,null,"nominal","Business rates - Actual - BIO - Nominal",null,"£m"]
[null,null,null,"nominal","Abstraction charges - Actual - BIO - Nominal",null,"£m"]
[]
[null,null,null,null,"Business Rates & Abstraction Charges forecast profile - BIO",null,"%",null,null,null,0.2,0.2,0.2,0.2,0.2]
[]
[null,null,null,null,"Weighted average PAYG rate - BIO",null,"%"]
[]
[]
["INFLATION"]
[]
[null,null,null,"Base Year"]
[null,null,null,null,"Consumer Price Index (with housing) for April",103.2,"Index"]
[null,null,null,null,"Consumer Price Index (with housing) for May",103.5,"Index"]
[null,null,null,null,"Consumer Price Index (with housing) for June",103.5,"Index"]
[null,null,null,null,"Consumer Price Index (with housing) for July",103.5,"Index"]
[null,null,null,null,"Consumer Price Index (with housing) for August",104,"Index"]
[null,null,null,null,"Consumer Price Index (with housing) for September",104.3,"Index"]
[null,null,null,null,"Consumer Price Index (with housing) for October",104.4,"Index"]
[null,null,null,null,"Consumer Price Index (with housing) for November",104.7,"Index"]
[null,null,null,null,"Consumer Price Index (with housing) for December",105,"Index"]
[null,null,null,null,"Consumer Price Index (with housing) for January",104.5,"Index"]
[null,null,null,null,"Consumer Price Index (with housing) for February",104.9,"Index"]
[null,null,null,null,"Consumer Price Index (with housing) for March",105.1,"Index"]
[]
[null,null,null,"Period"]
[null,null,null,null,"Consumer Price Index (with housing) for April",null,"Index",null,null,107.6,109.703354739972,111.897421834771,114.172657229451,116.57028303126999,119.01825897492699,121.39862415442499]
[null,null,null,null,"Consumer Price Index (with housing) for May",null,"Index",null,null,107.9,109.884538749418,112.082229524407,114.370561696745,116.772343492377,119.22456270571701,121.609053959831]
[null,null,null,null,"Consumer Price Index (with housing) for June",null,"Index",null,null,107.9,110.066021998987,112.26734243896701,114.568809207453,116.97475420081,119.431224039027,121.819848519807]
[null,null,null,null,"Consumer Price Index (with housing) for July",null,"Index",null,null,108,110.24780498289699,112.452761082555,114.7674003562,117.17751576368001,119.638243594717,122.03100846661199]
[null,null,null,null,"Consumer Price Index (with housing) for August",null,"Index",null,null,108.3,110.429888196185,112.638485960108,114.96633573864,117.380628789151,119.845621993724,122.242534433598]
[null,null,null,null,"Consumer Price Index (with housing) for September",null,"Index",null,null,108.469999617629,110.61227213470301,112.824517577397,115.16561595146101,117.58409388644201,120.05335985805699,122.45442705521801]
[null,null,null,null,"Consumer Price Index (with housing) for October",null,"Index",null,null,108.64026608539599,110.794957295123,113.01085644102599,115.365241592385,117.78791166582501,120.261457810807,122.66668696702401]
[null,null,null,null,"Consumer Price Index (with housing) for November",null,"Index",null,null,108.81079982217901,110.977944174939,113.197503058438,115.565213260169,117.992082738633,120.46991647614399,122.87931480566699]
[null,null,null,null,"Consumer Price Index (with housing) for December",null,"Index",null,null,108.981601247513,111.161233272464,113.384457937913,115.765531554609,118.196607717256,120.678736479319,123.092311208905]
[null,null,null,null,"Consumer Price Index (with housing) for January",null,"Index",null,null,109.161593222387,111.344825086835,113.580996157239,115.96619707654099,118.40148721514799,120.887918446667,123.30567681559999]
[null,null,null,null,"Consumer Price Index (with housing) for February",null,"Index",null,null,109.341882468641,111.52872011801399,113.77787505175399,116.167210427841,118.606721846825,121.097463005609,123.519412265721]
[null,null,null,null,"Consumer Price Index (with housing) for March",null,"Index",null,null,109.52246947724301,111.712918866788,113.97509521197701,116.368572211429,118.812312227869,121.307370784654,123.73351820034701]
[]
[]
["WAGE GROWTH"]
[]
[null,null,null,"Wage Growth "]
[null,null,null,null,"OBR Forecast wage growth for PR19 FD",null,"%",null,null,0.01,1.0999999999999999E-2,1.0999999999999999E-2,1.2E-2,1.2999999999999999E-2,1.2999999999999999E-2]
[null,null,null,null,"ASHE Gross Hourly Wage All - Nominal",null,"£ / hour"]
[]
[null,null,null,"Percentage totex linked to wage growth"]
[null,null,null,null,"Percentage totex linked to wage growth - WR",0.38600000000000001,"%"]
[]
[null,null,null,null,"Percentage totex linked to wage growth - WN",0.38600000000000001,"%"]
[]
[null,null,null,null,"Percentage totex linked to wage growth - WWN",0.38600000000000001,"%"]
[]
[null,null,null,null,"Percentage totex linked to wage growth - BIO",0.38600000000000001,"%"]
[]
[]
["COST SHARING INPUTS"]
[]
[null,null,null,"Totex cost sharing rates"]
[null,null,null,null,"Outperformance Rate - WR",null,"%"]
[null,null,null,null,"Underperformance Rate - WR",null,"%"]
[]
[null,null,null,null,"Outperformance Rate - WN",null,"%"]
[null,null,null,null,"Underperformance Rate - WN",null,"%"]
[]
[null,null,null,null,"Outperformance Rate - WWN",null,"%"]
[null,null,null,null,"Underperformance Rate - WWN",null,"%"]
[]
[null,null,null,"Abstraction and Business rate cost sharing rates"]
[null,null,null,null,"Cost sharing rates Abstraction and Business rates - Overperformance",null,"%"]
[null,null,null,null,"Cost sharing rates Abstraction and Business rates - Underperformance",null,"%"]
[]
[]
["FINANCING INPUTS"]
[]
[null,"Model Tolerance"]
[null,null,null,null,"Financing cost index",null,"Index",null,null,null,4,3,2,1,0]
[]
[null,null,null,null,"Real WACC CPIH Deflated - WR",null,"%"]
[null,null,null,null,"Real WACC CPIH Deflated - WN",null,"%"]
[null,null,null,null,"Real WACC CPIH Deflated - WWN",null,"%"]
[null,null,null,null,"Real WACC CPIH Deflated - BIO",null,"%"]
[]
["NON CHANGEABLE INPUTS"]
[]
[null,"Model Tolerance"]
[null,null,null,null,"Model Check Tolerance Level",1E-4,"tolerance"]
[]
[null,null,null,null,"Model Track Tolerance Level",1E-3,"tolerance"]
[]
["END OF SHEET"]

{"sheet":"Calc-->","index":6,"n_rows":0,"n_cols":0,"rows_kept":0,"cut":false,"hidden":false,"merged":[]}

{"sheet":"Index","index":7,"n_rows":45,"n_cols":16,"rows_kept":45,"cut":false,"hidden":false,"merged":[]}
[{"$f":" RIGHT(CELL(\"filename\", $A$1), LEN(CELL(\"filename\", $A$1)) - SEARCH(\"]\", CELL(\"filename\", $A$1)))","v":"Index"}]
[null,null,null,null,{"$f":"Time!E$22","v":"Model Period BEG"},null,null,null,null,{"$f":"Time!J$22","v":"2019-04-01"},{"$f":"Time!K$22","v":"2020-04-01"},{"$f":"Time!L$22","v":"2021-04-01"},{"$f":"Time!M$22","v":"2022-04-01"},{"$f":"Time!N$22","v":"2023-04-01"},{"$f":"Time!O$22","v":"2024-04-01"},{"$f":"Time!P$22","v":"2025-04-01"}]
[null,null,null,null,{"$f":"Time!E$23","v":"Model Period END"},{"$f":"Check!F$8","v":0},"Error chks",null,null,{"$f":"Time!J$23","v":"2020-03-31"},{"$f":"Time!K$23","v":"2021-03-31"},{"$f":"Time!L$23","v":"2022-03-31"},{"$f":"Time!M$23","v":"2023-03-31"},{"$f":"Time!N$23","v":"2024-03-31"},{"$f":"Time!O$23","v":"2025-03-31"},{"$f":"Time!P$23","v":"2026-03-31"}]
[null,null,null,null,{"$f":"Time!E$59","v":"Pre Forecast vs Forecast"},null,null,null,null,{"$f":"Time!J$59","v":"Pre Fcst"},{"$f":"Time!K$59","v":"Forecast"},{"$f":"Time!L$59","v":"Forecast"},{"$f":"Time!M$59","v":"Forecast"},{"$f":"Time!N$59","v":"Forecast"},{"$f":"Time!O$59","v":"Forecast"},{"$f":"Time!P$59","v":"Post-Fcst"}]
[null,null,null,null,{"$f":"Time!E$101","v":"Financial Year Ending"},null,null,null,null,{"$f":"Time!J$101","v":2020},{"$f":"Time!K$101","v":2021},{"$f":"Time!L$101","v":2022},{"$f":"Time!M$101","v":2023},{"$f":"Time!N$101","v":2024},{"$f":"Time!O$101","v":2025},{"$f":"Time!P$101","v":2026}]
[null,null,null,null,{"$f":"Time!E$11","v":"Model column counter"},"Constant","Unit","Total",null,{"$f":"Time!J$11","v":1},{"$f":"Time!K$11","v":2},{"$f":"Time!L$11","v":3},{"$f":"Time!M$11","v":4},{"$f":"Time!N$11","v":5},{"$f":"Time!O$11","v":6},{"$f":"Time!P$11","v":7}]
[]
["CPI(H) INDEXATION"]
[]
[null,null,"Average CPI(H) - base index"]
[null,null,null,null,{"$f":" InpActive!E153","v":"Consumer Price Index (with housing) for April"},{"$f":" InpActive!F153","v":103.2},{"$f":" InpActive!G153","v":"Index"}]
[null,null,null,null,{"$f":" InpActive!E154","v":"Consumer Price Index (with housing) for May"},{"$f":" InpActive!F154","v":103.5},{"$f":" InpActive!G154","v":"Index"}]
[null,null,null,null,{"$f":" InpActive!E155","v":"Consumer Price Index (with housing) for June"},{"$f":" InpActive!F155","v":103.5},{"$f":" InpActive!G155","v":"Index"}]
[null,null,null,null,{"$f":" InpActive!E156","v":"Consumer Price Index (with housing) for July"},{"$f":" InpActive!F156","v":103.5},{"$f":" InpActive!G156","v":"Index"}]
[null,null,null,null,{"$f":" InpActive!E157","v":"Consumer Price Index (with housing) for August"},{"$f":" InpActive!F157","v":104},{"$f":" InpActive!G157","v":"Index"}]
[null,null,null,null,{"$f":" InpActive!E158","v":"Consumer Price Index (with housing) for September"},{"$f":" InpActive!F158","v":104.3},{"$f":" InpActive!G158","v":"Index"}]
[null,null,null,null,{"$f":" InpActive!E159","v":"Consumer Price Index (with housing) for October"},{"$f":" InpActive!F159","v":104.4},{"$f":" InpActive!G159","v":"Index"}]
[null,null,null,null,{"$f":" InpActive!E160","v":"Consumer Price Index (with housing) for November"},{"$f":" InpActive!F160","v":104.7},{"$f":" InpActive!G160","v":"Index"}]
[null,null,null,null,{"$f":" InpActive!E161","v":"Consumer Price Index (with housing) for December"},{"$f":" InpActive!F161","v":105},{"$f":" InpActive!G161","v":"Index"}]
[null,null,null,null,{"$f":" InpActive!E162","v":"Consumer Price Index (with housing) for January"},{"$f":" InpActive!F162","v":104.5},{"$f":" InpActive!G162","v":"Index"}]
[null,null,null,null,{"$f":" InpActive!E163","v":"Consumer Price Index (with housing) for February"},{"$f":" InpActive!F163","v":104.9},{"$f":" InpActive!G163","v":"Index"}]
[null,null,null,null,{"$f":" InpActive!E164","v":"Consumer Price Index (with housing) for March"},{"$f":" InpActive!F164","v":105.1},{"$f":" InpActive!G164","v":"Index"}]
[null,null,null,null,"CPIH 2017/18 FYA - Base Year",{"$f":" AVERAGE(F11:F22)","v":104.21666666666665},"Index"]
[]
[null,null,"CPI(H): Financial year average - index"]
[null,null,null,null,{"$f":" InpActive!E167","v":"Consumer Price Index (with housing) for April"},{"$f":" InpActive!F167","v":0},{"$f":" InpActive!G167","v":"Index"},{"$f":" InpActive!H167","v":0},{"$f":" InpActive!I167","v":0},{"$f":" InpActive!J167","v":107.6},{"$f":" InpActive!K167","v":109.703354739972},{"$f":" InpActive!L167","v":111.897421834771},{"$f":" InpActive!M167","v":114.172657229451},{"$f":" InpActive!N167","v":116.57028303126999},{"$f":" InpActive!O167","v":119.01825897492699},{"$f":" InpActive!P167","v":121.39862415442499}]
[null,null,null,null,{"$f":" InpActive!E168","v":"Consumer Price Index (with housing) for May"},{"$f":" InpActive!F168","v":0},{"$f":" InpActive!G168","v":"Index"},{"$f":" InpActive!H168","v":0},{"$f":" InpActive!I168","v":0},{"$f":" InpActive!J168","v":107.9},{"$f":" InpActive!K168","v":109.884538749418},{"$f":" InpActive!L168","v":112.082229524407},{"$f":" InpActive!M168","v":114.370561696745},{"$f":" InpActive!N168","v":116.772343492377},{"$f":" InpActive!O168","v":119.22456270571701},{"$f":" InpActive!P168","v":121.609053959831}]
[null,null,null,null,{"$f":" InpActive!E169","v":"Consumer Price Index (with housing) for June"},{"$f":" InpActive!F169","v":0},{"$f":" InpActive!G169","v":"Index"},{"$f":" InpActive!H169","v":0},{"$f":" InpActive!I169","v":0},{"$f":" InpActive!J169","v":107.9},{"$f":" InpActive!K169","v":110.066021998987},{"$f":" InpActive!L169","v":112.26734243896701},{"$f":" InpActive!M169","v":114.568809207453},{"$f":" InpActive!N169","v":116.97475420081},{"$f":" InpActive!O169","v":119.431224039027},{"$f":" InpActive!P169","v":121.819848519807}]
[null,null,null,null,{"$f":" InpActive!E170","v":"Consumer Price Index (with housing) for July"},{"$f":" InpActive!F170","v":0},{"$f":" InpActive!G170","v":"Index"},{"$f":" InpActive!H170","v":0},{"$f":" InpActive!I170","v":0},{"$f":" InpActive!J170","v":108},{"$f":" InpActive!K170","v":110.24780498289699},{"$f":" InpActive!L170","v":112.452761082555},{"$f":" InpActive!M170","v":114.7674003562},{"$f":" InpActive!N170","v":117.17751576368001},{"$f":" InpActive!O170","v":119.638243594717},{"$f":" InpActive!P170","v":122.03100846661199}]
[null,null,null,null,{"$f":" InpActive!E171","v":"Consumer Price Index (with housing) for August"},{"$f":" InpActive!F171","v":0},{"$f":" InpActive!G171","v":"Index"},{"$f":" InpActive!H171","v":0},{"$f":" InpActive!I171","v":0},{"$f":" InpActive!J171","v":108.3},{"$f":" InpActive!K171","v":110.429888196185},{"$f":" InpActive!L171","v":112.638485960108},{"$f":" InpActive!M171","v":114.96633573864},{"$f":" InpActive!N171","v":117.380628789151},{"$f":" InpActive!O171","v":119.845621993724},{"$f":" InpActive!P171","v":122.242534433598}]
[null,null,null,null,{"$f":" InpActive!E172","v":"Consumer Price Index (with housing) for September"},{"$f":" InpActive!F172","v":0},{"$f":" InpActive!G172","v":"Index"},{"$f":" InpActive!H172","v":0},{"$f":" InpActive!I172","v":0},{"$f":" InpActive!J172","v":108.469999617629},{"$f":" InpActive!K172","v":110.61227213470301},{"$f":" InpActive!L172","v":112.824517577397},{"$f":" InpActive!M172","v":115.16561595146101},{"$f":" InpActive!N172","v":117.58409388644201},{"$f":" InpActive!O172","v":120.05335985805699},{"$f":" InpActive!P172","v":122.45442705521801}]
[null,null,null,null,{"$f":" InpActive!E173","v":"Consumer Price Index (with housing) for October"},{"$f":" InpActive!F173","v":0},{"$f":" InpActive!G173","v":"Index"},{"$f":" InpActive!H173","v":0},{"$f":" InpActive!I173","v":0},{"$f":" InpActive!J173","v":108.64026608539599},{"$f":" InpActive!K173","v":110.794957295123},{"$f":" InpActive!L173","v":113.01085644102599},{"$f":" InpActive!M173","v":115.365241592385},{"$f":" InpActive!N173","v":117.78791166582501},{"$f":" InpActive!O173","v":120.261457810807},{"$f":" InpActive!P173","v":122.66668696702401}]
[null,null,null,null,{"$f":" InpActive!E174","v":"Consumer Price Index (with housing) for November"},{"$f":" InpActive!F174","v":0},{"$f":" InpActive!G174","v":"Index"},{"$f":" InpActive!H174","v":0},{"$f":" InpActive!I174","v":0},{"$f":" InpActive!J174","v":108.81079982217901},{"$f":" InpActive!K174","v":110.977944174939},{"$f":" InpActive!L174","v":113.197503058438},{"$f":" InpActive!M174","v":115.565213260169},{"$f":" InpActive!N174","v":117.992082738633},{"$f":" InpActive!O174","v":120.46991647614399},{"$f":" InpActive!P174","v":122.87931480566699}]
[null,null,null,null,{"$f":" InpActive!E175","v":"Consumer Price Index (with housing) for December"},{"$f":" InpActive!F175","v":0},{"$f":" InpActive!G175","v":"Index"},{"$f":" InpActive!H175","v":0},{"$f":" InpActive!I175","v":0},{"$f":" InpActive!J175","v":108.981601247513},{"$f":" InpActive!K175","v":111.161233272464},{"$f":" InpActive!L175","v":113.384457937913},{"$f":" InpActive!M175","v":115.765531554609},{"$f":" InpActive!N175","v":118.196607717256},{"$f":" InpActive!O175","v":120.678736479319},{"$f":" InpActive!P175","v":123.092311208905}]
[null,null,null,null,{"$f":" InpActive!E176","v":"Consumer Price Index (with housing) for January"},{"$f":" InpActive!F176","v":0},{"$f":" InpActive!G176","v":"Index"},{"$f":" InpActive!H176","v":0},{"$f":" InpActive!I176","v":0},{"$f":" InpActive!J176","v":109.161593222387},{"$f":" InpActive!K176","v":111.344825086835},{"$f":" InpActive!L176","v":113.580996157239},{"$f":" InpActive!M176","v":115.96619707654099},{"$f":" InpActive!N176","v":118.40148721514799},{"$f":" InpActive!O176","v":120.887918446667},{"$f":" InpActive!P176","v":123.30567681559999}]
[null,null,null,null,{"$f":" InpActive!E177","v":"Consumer Price Index (with housing) for February"},{"$f":" InpActive!F177","v":0},{"$f":" InpActive!G177","v":"Index"},{"$f":" InpActive!H177","v":0},{"$f":" InpActive!I177","v":0},{"$f":" InpActive!J177","v":109.341882468641},{"$f":" InpActive!K177","v":111.52872011801399},{"$f":" InpActive!L177","v":113.77787505175399},{"$f":" InpActive!M177","v":116.167210427841},{"$f":" InpActive!N177","v":118.606721846825},{"$f":" InpActive!O177","v":121.097463005609},{"$f":" InpActive!P177","v":123.519412265721}]
[null,null,null,null,{"$f":" InpActive!E178","v":"Consumer Price Index (with housing) for March"},{"$f":" InpActive!F178","v":0},{"$f":" InpActive!G178","v":"Index"},{"$f":" InpActive!H178","v":0},{"$f":" InpActive!I178","v":0},{"$f":" InpActive!J178","v":109.52246947724301},{"$f":" InpActive!K178","v":111.712918866788},{"$f":" InpActive!L178","v":113.97509521197701},{"$f":" InpActive!M178","v":116.368572211429},{"$f":" InpActive!N178","v":118.812312227869},{"$f":" InpActive!O178","v":121.307370784654},{"$f":" InpActive!P178","v":123.73351820034701}]
[null,null,null,null,"CPIH 2017/18 FYA - Period",null,"Index",null,null,{"$f":" AVERAGE(J26:J37)","v":108.55238432841566},{"$f":" AVERAGE(K26:K37)","v":110.70537330136041},112.92412852304601,115.26744552524366,117.68806188127384,120.15951118078074,122.56270140439625]
[]
[null,null,null,"CPI(H): Fin year average - inflate from base year average"]
[null,null,null,null,{"$f":" E$23","v":"CPIH 2017/18 FYA - Base Year"},{"$f":" F$23","v":104.21666666666665},"Index"]
[null,null,null,null,{"$f":" E$38","v":"CPIH 2017/18 FYA - Period"},{"$f":" F$38","v":0},"Index",0,0,108.55238432841566,110.70537330136041,112.92412852304601,115.26744552524366,117.68806188127384,120.15951118078074,122.56270140439625]
[null,null,null,null,"CPI(H): Fin year average - inflate from base year 2017-18 average - CALC",null,"%",null,null,{"$f":" IF($F41 = 0, 0, J42 / $F41)","v":1.0416029201511179},{"$f":" IF($F41 = 0, 0, K42 / $F41)","v":1.0622616980779827},{"$f":" IF($F41 = 0, 0, L42 / $F41)","v":1.0835515290872799},1.1060365794841869,1.1292633476533553,1.1529778779540774,1.1760374355131578]
[]
["END OF SHEET"]

{"sheet":"Time","index":8,"n_rows":104,"n_cols":16,"rows_kept":104,"cut":false,"hidden":false,"merged":[]}
[{"$f":" RIGHT(CELL(\"filename\", $A$1), LEN(CELL(\"filename\", $A$1)) - SEARCH(\"]\", CELL(\"filename\", $A$1)))","v":"Time"}]
[null,null,null,null,{"$f":"Time!E$22","v":"Model Period BEG"},null,null,null,null,{"$f":"Time!J$22","v":"2019-04-01"},{"$f":"Time!K$22","v":"2020-04-01"},{"$f":"Time!L$22","v":"2021-04-01"},{"$f":"Time!M$22","v":"2022-04-01"},{"$f":"Time!N$22","v":"2023-04-01"},{"$f":"Time!O$22","v":"2024-04-01"},{"$f":"Time!P$22","v":"2025-04-01"}]
[null,null,null,null,{"$f":"Time!E$23","v":"Model Period END"},{"$f":"Check!F$8","v":0},"Error chks",null,null,{"$f":"Time!J$23","v":"2020-03-31"},{"$f":"Time!K$23","v":"2021-03-31"},{"$f":"Time!L$23","v":"2022-03-31"},{"$f":"Time!M$23","v":"2023-03-31"},{"$f":"Time!N$23","v":"2024-03-31"},{"$f":"Time!O$23","v":"2025-03-31"},{"$f":"Time!P$23","v":"2026-03-31"}]
[null,null,null,null,{"$f":"Time!E$59","v":"Pre Forecast vs Forecast"},null,null,null,null,{"$f":"Time!J$59","v":"Pre Fcst"},{"$f":"Time!K$59","v":"Forecast"},{"$f":"Time!L$59","v":"Forecast"},{"$f":"Time!M$59","v":"Forecast"},{"$f":"Time!N$59","v":"Forecast"},{"$f":"Time!O$59","v":"Forecast"},{"$f":"Time!P$59","v":"Post-Fcst"}]
[null,null,null,null,{"$f":"Time!E$101","v":"Financial Year Ending"},null,null,null,null,{"$f":"Time!J$101","v":2020},{"$f":"Time!K$101","v":2021},{"$f":"Time!L$101","v":2022},{"$f":"Time!M$101","v":2023},{"$f":"Time!N$101","v":2024},{"$f":"Time!O$101","v":2025},{"$f":"Time!P$101","v":2026}]
[null,null,null,null,{"$f":"Time!E$11","v":"Model column counter"},"Constant","Unit","Total",null,{"$f":"Time!J$11","v":1},{"$f":"Time!K$11","v":2},{"$f":"Time!L$11","v":3},{"$f":"Time!M$11","v":4},{"$f":"Time!N$11","v":5},{"$f":"Time!O$11","v":6},{"$f":"Time!P$11","v":7}]
[]
["MODEL PERIOD"]
[]
[null,"Model Column Counter "]
[null,null,null,null,"Model column counter",null,"counter",null,null,{"$f":" I11 + 1","v":1},{"$f":" J11 + 1","v":2},{"$f":" K11 + 1","v":3},4,5,6,{"$f":" O11 + 1","v":7}]
[null,null,null,null,"Model Column Total",{"$f":" MAX(J11:P11)","v":7},"column"]
[]
[null,null,null,null,{"$f":" E$11","v":"Model column counter"},0,"counter",0,0,1,2,3,4,5,6,7]
[null,null,null,null,"First model column flag",null,"flag",{"$f":" SUM(J15:P15)","v":1},null,{"$f":" IF( J14 = 1, 1, 0)","v":1},{"$f":" IF( K14 = 1, 1, 0)","v":0},0,0,0,0,0]
[]
[null,null,null,null,{"$f":" InpActive!E$10","v":"First date of time ruler"},{"$f":" InpActive!F$10","v":"2019-04-01"},{"$f":" InpActive!G$10","v":"date"}]
[null,null,null,null,"First model period BEG",{"$f":" DATE(YEAR(F17), MONTH(F17), 1)","v":"2019-04-01"},"month"]
[]
[null,null,null,null,{"$f":" E$18","v":"First model period BEG"},{"$f":" F$18","v":"2019-04-01"},{"$f":" G$18","v":"month"}]
[null,null,null,null,{"$f":" E$15","v":"First model column flag"},0,"flag",1,0,1,0,0,0,0,0,0]
[null,null,null,null,"Model Period BEG",null,"date",null,null,{"$f":" IF( J21 = 1, $F20, I23 + 1)","v":"2019-04-01"},{"$f":" IF( K21 = 1, $F20, J23 + 1)","v":"2020-04-01"},"2021-04-01","2022-04-01","2023-04-01","2024-04-01",{"$f":" IF( P21 = 1, $F20, O23 + 1)","v":"2025-04-01"}]
[null,null,null,null,"Model Period END",null,"date",null,null,{"$f":" DATE(YEAR(J22), MONTH(J22) + 12, DAY(1) - 1)","v":"2020-03-31"},"2021-03-31","2022-03-31","2023-03-31","2024-03-31","2025-03-31","2026-03-31"]
[]
[null,null,null,null,{"$f":" E$23","v":"Model Period END"},"00:00:00","date","00:00:00","00:00:00","2020-03-31","2021-03-31","2022-03-31","2023-03-31","2024-03-31","2025-03-31","2026-03-31"]
[null,null,null,"less",{"$f":" E$22","v":"Model Period BEG"},"00:00:00","date","00:00:00","00:00:00","2019-04-01","2020-04-01","2021-04-01","2022-04-01","2023-04-01","2024-04-01","2025-04-01"]
[null,null,null,null,"Days in Model Period",null,"days",{"$f":" SUM(J27:P27)","v":2557},null,{"$f":" J25 - J26 + 1","v":366},365,365,365,366,365,365]
[]
[]
["PRE FORECAST PERIOD"]
[]
[null,null,null,null,{"$f":" InpActive!E$12","v":"Last Pre Forecast Date"},{"$f":" InpActive!F$12","v":"2020-03-31"},{"$f":" InpActive!G$12","v":"date"}]
[null,null,null,null,{"$f":" E$23","v":"Model Period END"},"00:00:00","date","00:00:00","00:00:00","2020-03-31","2021-03-31","2022-03-31","2023-03-31","2024-03-31","2025-03-31","2026-03-31"]
[null,null,null,null,"Last Pre Forecast Flag",null,"flag",{"$f":" SUM(J34:P34)","v":1},null,{"$f":" IF(J33 = $F32, 1, 0)","v":1},0,0,0,0,0,0]
[null,null,null,null,"Pre Forecast Period Flag",null,"flag",{"$f":" SUM(J35:P35)","v":1},null,{"$f":" IF($F32 >= J33, 1, 0)","v":1},{"$f":" IF($F32 >= K33, 1, 0)","v":0},0,0,0,0,0]
[null,null,null,null,"Pre Forecast Period Total",{"$f":" SUM(J35:P35)","v":1},"columns"]
[]
[null,null,null,null,{"$f":" InpActive!E$14","v":"Acquisition date (midnight)"},{"$f":" InpActive!F$14","v":"2020-03-31"},{"$f":" InpActive!G$14","v":"date"}]
[null,null,null,null,{"$f":" E$23","v":"Model Period END"},"00:00:00","date","00:00:00","00:00:00","2020-03-31","2021-03-31","2022-03-31","2023-03-31","2024-03-31","2025-03-31","2026-03-31"]
[null,null,null,null,"Acquisition / initial balance date flag",null,"flag",{"$f":" SUM(J40:P40)","v":1},null,{"$f":" IF(J39 = $F38, 1, 0)","v":1},0,0,0,0,0,0]
[]
[]
["FORECAST PERIOD"]
[]
[null,null,null,null,{"$f":" E$34","v":"Last Pre Forecast Flag"},0,"flag",1,0,1,0,0,0,0,0,0]
[null,null,null,null,"1st Forecast Period Flag",null,"flag",{"$f":" SUM(J46:P46)","v":1},null,{"$f":" I45","v":0},{"$f":" J45","v":1},0,0,0,0,{"$f":" O45","v":0}]
[]
[null,null,null,null,{"$f":"InpActive!E$16","v":"Last forecast date"},{"$f":"InpActive!F$16","v":"2025-03-31"},{"$f":"InpActive!G$16","v":"date"}]
[null,null,null,null,{"$f":" E$23","v":"Model Period END"},"00:00:00","date","00:00:00","00:00:00","2020-03-31","2021-03-31","2022-03-31","2023-03-31","2024-03-31","2025-03-31","2026-03-31"]
[null,null,null,null,"Last Forecast Period Flag",null,"flag",{"$f":" SUM(J50:P50)","v":1},null,{"$f":" IF(AND($F48 > I49, $F48 <= J49), 1, 0)","v":0},{"$f":" IF(AND($F48 > J49, $F48 <= K49), 1, 0)","v":0},0,0,0,1,{"$f":" IF(AND($F48 > O49, $F48 <= P49), 1, 0)","v":0}]
[]
[null,null,null,null,{"$f":" E$46","v":"1st Forecast Period Flag"},0,"flag",1,0,0,1,0,0,0,0,0]
[null,null,null,null,{"$f":" E$50","v":"Last Forecast Period Flag"},0,"flag",1,0,0,0,0,0,0,1,0]
[null,null,null,null,"Forecast Period Flag",null,"flag",{"$f":" SUM(J54:P54)","v":5},null,{"$f":" J52 - I53 + I54","v":0},{"$f":" K52 - J53 + J54","v":1},1,1,1,1,{"$f":" P52 - O53 + O54","v":0}]
[null,null,null,null,"Forecast Period Total ",{"$f":" SUM(J54:P54)","v":5},"columns"]
[]
[null,null,null,null,{"$f":" E$35","v":"Pre Forecast Period Flag"},0,"flag",1,0,1,0,0,0,0,0,0]
[null,null,null,null,{"$f":" E$54","v":"Forecast Period Flag"},0,"flag",5,0,0,1,1,1,1,1,0]
[null,null,null,null,"Pre Forecast vs Forecast",null,"flag",null,null,{"$f":" IF(J57 = 1, \"Pre Fcst\", IF(J58 = 1, \"Forecast\", \"Post-Fcst\"))","v":"Pre Fcst"},"Forecast","Forecast","Forecast","Forecast","Forecast","Post-Fcst"]
[]
[]
["POST FORECAST PERIOD"]
[]
[null,null,null,null,{"$f":" E$50","v":"Last Forecast Period Flag"},0,"flag",1,0,0,0,0,0,0,1,0]
[null,null,null,null,"1st Post Last Forecast Period Flag",null,"flag",{"$f":" SUM(J65:P65)","v":1},null,{"$f":" I64","v":0},{"$f":" J64","v":0},0,0,0,0,{"$f":" O64","v":1}]
[]
[null,null,null,null,{"$f":" E$65","v":"1st Post Last Forecast Period Flag"},0,"flag",1,0,0,0,0,0,0,0,1]
[null,null,null,null,"Post Forecast Period Flag",null,"flag",{"$f":" SUM(J68:P68)","v":1},null,{"$f":" I68 + J67","v":0},{"$f":" J68 + K67","v":0},0,0,0,0,{"$f":" O68 + P67","v":1}]
[null,null,null,null,"Post Forecast Period Total",{"$f":" SUM(J68:P68)","v":1},"columns"]
[]
[]
["MODELLING PERIOD CHECK"]
[]
[null,null,null,null,{"$f":" E$12","v":"Model Column Total"},{"$f":" F$12","v":7},{"$f":" G$12","v":"column"}]
[null,null,null,"less",{"$f":" E$36","v":"Pre Forecast Period Total"},{"$f":" F$36","v":1},{"$f":" G$36","v":"columns"}]
[null,null,null,"less",{"$f":" E$55","v":"Forecast Period Total "},{"$f":" F$55","v":5},{"$f":" G$55","v":"columns"}]
[null,null,null,"less",{"$f":" E$69","v":"Post Forecast Period Total"},{"$f":" F$69","v":1},{"$f":" G$69","v":"columns"}]
[null,null,null,null,"Modelling Period Check",{"$f":" IF(F74 - SUM(F75:F77) <> 0, 1, 0)","v":0},"check"]
[]
[]
["PARTIAL PERIOD FLAG (PPF)"]
[null,null,"This is an example of a part period flag. It is not currently used."]
[null,"Operation Partial Period Flag (PPF)"]
[null,null,null,null,{"$f":" E$18","v":"First model period BEG"},{"$f":" F$18","v":"2019-04-01"},{"$f":" G$18","v":"month"}]
[null,null,null,null,{"$f":"InpActive!E$20","v":"Operation Finish Date (midnight)"},{"$f":"InpActive!F$20","v":"2025-03-31"},{"$f":"InpActive!G$20","v":"date"}]
[null,null,null,null,{"$f":" E$22","v":"Model Period BEG"},"00:00:00","date","00:00:00","00:00:00","2019-04-01","2020-04-01","2021-04-01","2022-04-01","2023-04-01","2024-04-01","2025-04-01"]
[null,null,null,null,{"$f":" E$23","v":"Model Period END"},"00:00:00","date","00:00:00","00:00:00","2020-03-31","2021-03-31","2022-03-31","2023-03-31","2024-03-31","2025-03-31","2026-03-31"]
[null,null,null,null,"Days in Operation Period",null,"days",{"$f":" SUM(J88:P88)","v":2192},null,{"$f":" MAX(0, (MIN($F85, J87) - MAX($F84, J86) + 1))","v":366},365,365,365,366,365,0]
[]
[null,null,null,null,{"$f":" E$88","v":"Days in Operation Period"},0,"days",2192,0,366,365,365,365,366,365,0]
[null,null,null,null,{"$f":" E$27","v":"Days in Model Period"},0,"days",2557,0,366,365,365,365,366,365,365]
[null,null,null,null,"Operation Period PPF",null,"factor",{"$f":" SUM(J92:P92)","v":6},null,{"$f":" J90 / J91","v":1},1,1,1,1,1,0]
[]
[]
["FINANCIAL YEAR"]
[]
[null,null,null,null,{"$f":"InpActive!E21","v":"First Modelling Column Financial Year Number"},{"$f":"InpActive!F21","v":2020},{"$f":"InpActive!G21","v":"year"}]
[null,null,null,null,{"$f":"InpActive!E22","v":"Financial Year End Month Number"},{"$f":"InpActive!F22","v":3},{"$f":"InpActive!G22","v":"month #"}]
[null,null,null,null,{"$f":" E$23","v":"Model Period END"},"00:00:00","date","00:00:00","00:00:00","2020-03-31","2021-03-31","2022-03-31","2023-03-31","2024-03-31","2025-03-31","2026-03-31"]
[null,null,null,null,{"$f":" E$15","v":"First model column flag"},0,"flag",1,0,1,0,0,0,0,0,0]
[null,null,null,null,"Financial Year Ending",null,"year #",null,null,{"$f":" IF(J100 = 1, $F97, IF(J99 > (DATE(I101, $F98 + 1, 1) - 1), I101 + 1, I101))","v":2020},{"$f":" IF(K100 = 1, $F97, IF(K99 > (DATE(J101, $F98 + 1, 1) - 1), J101 + 1, J101))","v":2021},2022,2023,2024,2025,{"$f":" IF(P100 = 1, $F97, IF(P99 > (DATE(O101, $F98 + 1, 1) - 1), O101 + 1, O101))","v":2026}]
[]
[]
["END OF SHEET"]

{"sheet":"Cost sharing calculations","index":9,"n_rows":518,"n_cols":16384,"rows_kept":33,"cut":true,"hidden":false,"merged":[],"bounds":{"rows_first":15,"rows_last":3,"rows_between":15,"halvings":7}}
[{"$f":" RIGHT(CELL(\"filename\", $A$1), LEN(CELL(\"filename\", $A$1)) - SEARCH(\"]\", CELL(\"filename\", $A$1)))","v":"Cost sharing calculations"}]
[null,null,null,null,{"$f":"Time!E$22","v":"Model Period BEG"},null,null,null,null,{"$f":"Time!J$22","v":"2019-04-01"},{"$f":"Time!K$22","v":"2020-04-01"},{"$f":"Time!L$22","v":"2021-04-01"},{"$f":"Time!M$22","v":"2022-04-01"},{"$f":"Time!N$22","v":"2023-04-01"},{"$f":"Time!O$22","v":"2024-04-01"},{"$f":"Time!P$22","v":"2025-04-01"}]
[null,null,null,null,{"$f":"Time!E$23","v":"Model Period END"},{"$f":"Check!F$8","v":0},"Error chks",null,null,{"$f":"Time!J$23","v":"2020-03-31"},{"$f":"Time!K$23","v":"2021-03-31"},{"$f":"Time!L$23","v":"2022-03-31"},{"$f":"Time!M$23","v":"2023-03-31"},{"$f":"Time!N$23","v":"2024-03-31"},{"$f":"Time!O$23","v":"2025-03-31"},{"$f":"Time!P$23","v":"2026-03-31"}]
[null,null,null,null,{"$f":"Time!E$59","v":"Pre Forecast vs Forecast"},null,null,null,null,{"$f":"Time!J$59","v":"Pre Fcst"},{"$f":"Time!K$59","v":"Forecast"},{"$f":"Time!L$59","v":"Forecast"},{"$f":"Time!M$59","v":"Forecast"},{"$f":"Time!N$59","v":"Forecast"},{"$f":"Time!O$59","v":"Forecast"},{"$f":"Time!P$59","v":"Post-Fcst"}]
[null,null,null,null,{"$f":"Time!E$101","v":"Financial Year Ending"},null,null,null,null,{"$f":"Time!J$101","v":2020},{"$f":"Time!K$101","v":2021},{"$f":"Time!L$101","v":2022},{"$f":"Time!M$101","v":2023},{"$f":"Time!N$101","v":2024},{"$f":"Time!O$101","v":2025},{"$f":"Time!P$101","v":2026}]
[null,null,null,null,{"$f":"Time!E$11","v":"Model column counter"},"Constant","Unit","Total",null,{"$f":"Time!J$11","v":1},{"$f":"Time!K$11","v":2},{"$f":"Time!L$11","v":3},{"$f":"Time!M$11","v":4},{"$f":"Time!N$11","v":5},{"$f":"Time!O$11","v":6},{"$f":"Time!P$11","v":7}]
[]
["WAGE GROWTH ADJUSTER"]
[]
[null,null,"Cumulative actual real wage growth"]
[null,null,null,null,{"$f":"InpActive!E185","v":"ASHE Gross Hourly Wage All - Nominal"},{"$f":"InpActive!F185","v":0},{"$f":"InpActive!G185","v":"£ / hour"},{"$f":"InpActive!H185","v":0},{"$f":"InpActive!I185","v":0},{"$f":"InpActive!J185","v":0},{"$f":"InpActive!K185","v":0},{"$f":"InpActive!L185","v":0},{"$f":"InpActive!M185","v":0},{"$f":"InpActive!N185","v":0},{"$f":"InpActive!O185","v":0},{"$f":"InpActive!P185","v":0}]
[null,null,null,null,{"$f":"Index!E$43","v":"CPI(H): Fin year average - inflate from base year 2017-18 average - CALC"},{"$f":"Index!F$43","v":0},{"$f":"Index!G$43","v":"%"},{"$f":"Index!H$43","v":0},{"$f":"Index!I$43","v":0},{"$f":"Index!J$43","v":1.0416029201511179},{"$f":"Index!K$43","v":1.0622616980779827},{"$f":"Index!L$43","v":1.0835515290872799},{"$f":"Index!M$43","v":1.1060365794841869},{"$f":"Index!N$43","v":1.1292633476533553},{"$f":"Index!O$43","v":1.1529778779540774},{"$f":"Index!P$43","v":1.1760374355131578}]
[null,null,null,null,"ASHE GROSS HOURLY WAGE ALL - Real",null,"£ / hour",null,null,{"$f":" IF( J11 = 0, 0, J11 / J12)","v":0},0,0,0,0,0,0]
[]
[null,null,null,null,{"$f":" E$13","v":"ASHE GROSS HOURLY WAGE ALL - Real"},0,"£ / hour",0,0,0,0,0,0,0,0,0]
[null,null,null,null,{"$f":"InpActive!E184","v":"OBR Forecast wage growth for PR19 FD"},{"$f":"InpActive!F184","v":0},{"$f":"InpActive!G184","v":"%"},{"$f":"InpActive!H184","v":0},{"$f":"InpActive!I184","v":0},{"$f":"InpActive!J184","v":0.01},{"$f":"InpActive!K184","v":1.0999999999999999E-2},{"$f":"InpActive!L184","v":1.0999999999999999E-2},{"$f":"InpActive!M184","v":1.2E-2},{"$f":"InpActive!N184","v":1.2999999999999999E-2},{"$f":"InpActive!O184","v":1.2999999999999999E-2},{"$f":"InpActive!P184","v":0}]
[null,null,null,null,{"$f":" E$60","v":"Totex profile - Base costs - 5 year percentage - WR"},{"$f":" F$60","v":0},{"$f":" G$60","v":"%"}]
[]
[null,null,null,null,{"$f":" E$143","v":"Ex ante allowance profiled - WR - Real"},0,"£m",0,0,0,0,0,0,0,0,0]
[null,null,null,null,{"$f":" E$148","v":"NPV adjusted ex ante allowance - WR - Real"},{"$f":" F$148","v":0},{"$f":" G$148","v":"£m"}]
[]
[]
[null,null,null,null,"Time adjusted variance to forecast net totex for cost sharing - WN",null,"£m",{"$f":" SUM(J273:P273)","v":0},null,{"$f":" J271 * J272","v":0},0,0,0,0,0,0]
[]
[null,null,null,null,{"$f":" E$293","v":"Total adjustment for cost sharing after ex ante allowance - WN - Real"},{"$f":" F$293","v":0},"£m"]
[null,null,null,"Variance to forecast wage linked totex "]
[null,null,null,null,{"$f":" E$388","v":"Totex profile - Cost Sharing - 5 year percentage - WWN"},{"$f":" F$388","v":0},"%"]
[null,null,null,null,{"$f":"E$422","v":"Active Sharing Rate - Outperformance Rate - WWN"},{"$f":"F$422","v":0},{"$f":"G$422","v":"%"}]
[]
[null,null,null,null,null,null,null,null,null,null,null,null,null,null,null,null,null,null,null,"Totex for wage adjustment",null,null,null,null,null,null,null,null,null,null,null,null,null,null,null,"Totex for wage adjustment",null,null,null,null,null,null,null,null,null,null,null,null,null,null,null,"Totex for wage adjustment",null,null,null,null,null,null,null,null,null,null,null,null,null,null,null,"Totex for wage adjustment",null,null,null,null,null,null,null,null,null,null,null,null,null,null,null,"Totex for wage adjustment",null,null,null,null,null,null,null,null,null,null,null,null,null,null,null,"Totex for wage adjustment",null,null,null,null,null,null,null,null,null,null,null,null,null,null,null,"Totex for wage adjustment",null,null,null,null,null,null,null,null,null,null,null,null,null,null,null,"Totex for wage adjustment",null,null,null,null,null,null,null,null,null,null,null,null,null,null,null,"Totex for wage adjustment",null,null,null,null,null,null,null,null,null,null,null,null,null,null,null,"Totex for wage adjustment",null,null,null,null,null,null,null,null,null,null,null,null,null,null,null,"Totex for wage adjustment",null,null,null,null,null,null,null,null,null,null,null,null,null,null,null,"Totex for wage adjustment",null,null,null,null,null,null,null,null,null,null,null,null,null,null,null,"Totex for wage adjustment",null,null,null,null,null,null,null,null,null,null,null,null,null,null,null,"Totex for wage adjustment",null,null,null,null,null,null,null,null,null,null,null,null,null,null,null,"Totex for wage adjustment",null,null,null,null,null,null,null,null,null,null,null,null,null,null,null,"Totex for wage adjustment",null,null,null,null,null,null,null,null,null,null,null,null,null,null,null,"Totex for wage adjustment",null,null,null,null,null,null,null,null,null,null,null,null,null,null,null,"Totex for wage adjustment",null,null,null,null,null,null,null,null,null,null,null,null,null,null,null,"Totex for wage adjustment",null,null,null,null,null,null,null,null,null,null,null,null,null,null,null,"Totex for wage adjustment",null,null,null,null,null,null,null,null,null,null,null,null,null,null,null,"Totex for wage adjustment",null,null,null,null,null,null,null,null,null,null,null,null,null,null,null,"Totex for wage adjustment",null,null,null,null,null,null,null,null,null,null,null,null,null,null,null,"Totex for wage adjustment",null,null,null,null,null,null,null,null,null,null,null,null,null,null,null,"Totex for wage adjustment",null,null,null,null,null,null,null,null,null,null,null,null,null,null,null,"Totex for wage adjustment",null,null,null,null,null,null,null,null,null,null,null,null,null,null,null,"Totex for wage adjustment",null,null,null,null,null,null,null,null,null,null,null,null,null,null,null,"Totex for wage adjustment",null,null,null,null,null,null,null,null,null,null,null,null,null,null,null,"Totex for wage adjustment",null,null,null,null,null,null,null,null,null,null,null,null,null,null,null,"Totex for wage adjustment",null,null,null,null,null,null,null,null,null,null,null,null,null,null,null,"Totex for wage adjustment",null,null,null,null,null,null,null,null,null,null,null,null,null,null,null,"Totex for wage adjustment",null,null,null,null,null,null,null,null,null,null,null,null,null,null,null,"Totex for wage adjustment",null,null,null,null,null,null,null,null,null,null,null,null,null,null,null,"Totex for wage adjustment",null,null,null,null,null,null,null,null,null,null,null,null,null,null,null,"Totex for wage adjustment",null,null,null,null,null,null,null,null,null,null,null,null,null,null,null,"Totex for wage adjustment",null,null,null,null,null,null,null,null,null,null,null,null,null,null,null,"Totex for wage adjustment",null,null,null,null,null,null,null,null,null,null,null,null,null,null,null,"Totex for wage adjustment",null,null,null,null,null,null,null,null,null,null,null,null,null,null,null,"Totex for wage adjustment",null,null,null,null,null,null,null,null,null,null,null,null,null,null,null,"Totex for wage adjustment",null,null,null,null,null,null,null,null,null,null,null,null,null,null,null,"Totex for wage adjustment",null,null,null,null,null,null,null,null,null,null,null,null,null,null,null,"Totex for wage adjustment",null,null,null,null,null,null,null,null,null,null,null,null,null,null,null,"Totex for wage adjustment",null,null,null,null,null,null,null,null,null,null,null,null,null,null,null,"Totex for wage adjustment",null,null,null,null,null,null,null,null,null,null,null,null,null,null,null,"Totex for wage adjustment",null,null,null,null,null,null,null,null,null,null,null,null,null,null,null,"Totex for wage adjustment",null,null,null,null,null,null,null,null,null,null,null,null,null,null,null,"Totex for wage adjustment",null,null,null,null,null,null,null,null,null,null,null,null,null,null,null,"Totex for wage adjustment",null,null,null,null,null,null,null,null,null,null,null,null,null,null,null,"Totex for wage adjustment",null,null,null,null,null,null,null,null,null,null,null,null,null,null,null,"Totex for wage adjustment",null,null,null,null,null,null,null,null,null,null,null,null,null,null,null,"Totex for wage adjustment",null,null,null,null,null,null,null,null,null,null,null,null,null,null,null,"Totex for wage adjustment",null,null,null,null,null,null,null,null,null,null,null,null,null,null,null,"Totex for wage adjustment",null,null,null,null,null,null,null,null,null,null,null,null,null,null,null,"Totex for wage adjustment",null,null,null,null,null,null,null,null,null,null,null,null,null,null,null,"Totex for wage adjustment",null,null,null,null,null,null,null,null,null,null,null,null,null,null,null,"Totex for wage adjustment",null,null,null,null,null,null,null,null,null,null,null,null,null,null,null,"Totex for wage adjustment",null,null,null,null,null,null,null,null,null,null,null,null,null,null,null,"Totex for wage adjustment",null,null,null,null,null,null,null,null,null,null,null,null,null,null,null,"Totex for wage adjustment",null,null,null,null,null,null,null,null,null,null,null,null,null,null,null,"Totex for wage adjustment",null,null,null,null,null,null,null,null,null,null,null,null,null,null,null,"Totex for wage adjustment",null,null,null,null,null,null,null,null,null,null,null,null,null,null,null,"Totex for wage adjustment",null,null,null,null,null,null,null,null,null,null,null,null,null,null,null,"Totex for wage adjustment",null,null,null,null,null,null,null,null,null,null,null,null,null,null,null,"Totex for wage adjustment",null,null,null,null,null,null,null,null,null,null,null,null,null,null,null,"Totex for wage adjustment",null,null,null,null,null,null,null,null,null,null,null,null,null,null,null,"Totex for wage adjustment",null,null,null,null,null,null,null,null,null,null,null,null,null,null,null,"Totex for wage adjustment",null,null,null,null,null,null,null,null,null,null,null,null,null,null,null,"Totex for wage adjustment",null,null,null,null,null,null,null,null,null,null,null,null,null,null,null,"Totex for wage adjustment",null,null,null,null,null,null,null,null,null,null,null,null,null,null,null,"Totex for wage adjustment",null,null,null,null,null,null,null,null,null,null,null,null,null,null,null,"Totex for wage adjustment",null,null,null,null,null,null,null,null,null,null,null,null,null,null,null,"Totex for wage adjustment",null,null,null,null,null,null,null,null,null,null,null,null,null,null,null,"Totex for wage adjustment",null,null,null,null,null,null,null,null,null,null,null,null,null,null,null,"Totex for wage adjustment",null,null,null,null,null,null,null,null,null,null,null,null,null,null,null,"Totex for wage adjustment",null,null,null,null,null,null,null,null,null,null,null,null,null,null,null,"Totex for wage adjustment",null,null,null,null,null,null,null,null,null,null,null,null,null,null,null,"Totex for wage adjustment",null,null,null,null,null,null,null,null,null,null,null,null,null,null,null,"Totex for wage adjustment",null,null,null,null,null,null,null,null,null,null,null,null,null,null,null,"Totex for wage adjustment",null,null,null,null,null,null,null,null,null,null,null,null,null,null,null,"Totex for wage adjustment",null,null,null,null,null,null,null,null,null,null,null,null,null,null,null,"Totex for wage adjustment",null,null,null,null,null,null,null,null,null,null,null,null,null,null,null,"Totex for wage adjustment",null,null,null,null,null,null,null,null,null,null,null,null,null,null,null,"Totex for wage adjustment",null,null,null,null,null,null,null,null,null,null,null,null,null,null,null,"Totex for wage adjustment",null,null,null,null,null,null,null,null,null,null,null,null,null,null,null,"Totex for wage adjustment",null,null,null,null,null,null,null,null,null,null,null,null,null,null,null,"Totex for wage adjustment",null,null,null,null,null,null,null,null,null,null,null,null,null,null,null,"Totex for wage adjustment",null,null,null,null,null,null,null,null,null,null,null,null,null,null,null,"Totex for wage adjustment",null,null,null,null,null,null,null,null,null,null,null,null,null,null,null,"Totex for wage adjustment",null,null,null,null,null,null,null,null,null,null,null,null,null,null,null,"Totex for wage adjustment",null,null,null,null,null,null,null,null,null,null,null,null,null,null,null,"Totex for wage adjustment",null,null,null,null,null,null,null,null,null,null,null,null,null,null,null,"Totex for wage adjustment",null,null,null,null,null,null,null,null,null,null,null,null,null,null,null,"Totex for wage adjustment",null,null,null,null,null,null,null,null,null,null,null,null,null,null,null,"Totex for wage adjustment",null,null,null,null,null,null,null,null,null,null,null,null,null,null,null,"Totex for wage adjustment",null,null,null,null,null,null,null,null,null,null,null,null,null,null,null,"Totex for wage adjustment",null,null,null,null,null,null,null,null,null,null,null,null,null,null,null,"Totex for wage adjustment",null,null,null,null,null,null,null,null,null,null,null,null,null,null,null,"Totex for wage adjustment",null,null,null,null,null,null,null,null,null,null,null,null,null,null,null,"Totex for wage adjustment",null,null,null,null,null,null,null,null,null,null,null,null,null,null,null,"Totex for wage adjustment",null,null,null,null,null,null,null,null,null,null,null,null,null,null,null,"Totex for wage adjustment",null,null,null,null,null,null,null,null,null,null,null,null,null,null,null,"Totex for wage adjustment",null,null,null,null,null,null,null,null,null,null,null,null,null,null,null,"Totex for wage adjustment",null,null,null,null,null,null,null,null,null,null,null,null,null,null,null,"Totex for wage adjustment",null,null,null,null,null,null,null,null,null,null,null,null,null,null,null,"Totex for wage adjustment",null,null,null,null,null,null,null,null,null,null,null,null,null,null,null,"Totex for wage adjustment",null,null,null,null,null,null,null,null,null,null,null,null,null,null,null,"Totex for wage adjustment",null,null,null,null,null,null,null,null,null,null,null,null,null,null,null,"Totex for wage adjustment",null,null,null,null,null,null,null,null,null,null,null,null,null,null,null,"Totex for wage adjustment",null,null,null,null,null,null,null,null,null,null,null,null,null,null,null,"Totex for wage adjustment",null,null,null,null,null,null,null,null,null,null,null,null,null,null,null,"Totex for wage adjustment",null,null,null,null,null,null,null,null,null,null,null,null,null,null,null,"Totex for wage adjustment",null,null,null,null,null,null,null,null,null,null,null,null,null,null,null,"Totex for wage adjustment",null,null,null,null,null,null,null,null,null,null,null,null,null,null,null,"Totex for wage adjustment",null,null,null,null,null,null,null,null,null,null,null,null,null,null,null,"Totex for wage adjustment",null,null,null,null,null,null,null,null,null,null,null,null,null,null,null,"Totex for wage adjustment",null,null,null,null,null,null,null,null,null,null,null,null,null,null,null,"Totex for wage adjustment",null,null,null,null,null,null,null,null,null,null,null,null,null,null,null,"Totex for wage adjustment",null,null,null,null,null,null,null,null,null,null,null,null,null,null,null,"Totex for wage adjustment",null,null,null,null,null,null,null,null,null,null,null,null,null,null,null,"Totex for wage adjustment",null,null,null,null,null,null,null,null,null,null,null,null,null,null,null,"Totex for wage adjustment",null,null,null,null,null,null,null,null,null,null,null,null,null,null,null,"Totex for wage adjustment",null,null,null,null,null,null,null,null,null,null,null,null,null,null,null,"Totex for wage adjustment",null,null,null,null,null,null,null,null,null,null,null,null,null,null,null,"Totex for wage adjustment",null,null,null,null,null,null,null,null,null,null,null,null,null,null,null,"Totex for wage adjustment",null,null,null,null,null,null,null,null,null,null,null,null,null,null,null,"Totex for wage adjustment",null,null,null,null,null,null,null,null,null,null,null,null,null,null,null,"Totex for wage adjustment",null,null,null,null,null,null,null,null,null,null,null,null,null,null,null,"Totex for wage adjustment",null,null,null,null,null,null,null,null,null,null,null,null,null,null,null,"Totex for wage adjustment",null,null,null,null,null,null,null,null,null,null,null,null,null,null,null,"Totex for wage adjustment",null,null,null,null,null,null,null,null,null,null,null,null,null,null,null,"Totex for wage adjustment",null,null,null,null,null,null,null,null,null,null,null,null,null,null,null,"Totex for wage adjustment",null,null,null,null,null,null,null,null,null,null,null,null,null,null,null,"Totex for wage adjustment",null,null,null,null,null,null,null,null,null,null,null,null,null,null,null,"Totex for wage adjustment",null,null,null,null,null,null,null,null,null,null,null,null,null,null,null,"Totex for wage adjustment",null,null,null,null,null,null,null,null,null,null,null,null,null,null,null,"Totex for wage adjustment",null,null,null,null,null,null,null,null,null,null,null,null,null,null,null,"Totex for wage adjustment",null,null,null,null,null,null,null,null,null,null,null,null,null,null,null,"Totex for wage adjustment",null,null,null,null,null,null,null,null,null,null,null,null,null,null,null,"Totex for wage adjustment",null,null,null,null,null,null,null,null,null,null,null,null,null,null,null,"Totex for wage adjustment",null,null,null,null,null,null,null,null,null,null,null,null,null,null,null,"Totex for wage adjustment",null,null,null,null,null,null,null,null,null,null,null,null,null,null,null,"Totex for wage adjustment",null,null,null,null,null,null,null,null,null,null,null,null,null,null,null,"Totex for wage adjustment",null,null,null,null,null,null,null,null,null,null,null,null,null,null,null,"Totex for wage adjustment",null,null,null,null,null,null,null,null,null,null,null,null,null,null,null,"Totex for wage adjustment",null,null,null,null,null,null,null,null,null,null,null,null,null,null,null,"Totex for wage adjustment",null,null,null,null,null,null,null,null,null,null,null,null,null,null,null,"Totex for wage adjustment",null,null,null,null,null,null,null,null,null,null,null,null,null,null,null,"Totex for wage adjustment",null,null,null,null,null,null,null,null,null,null,null,null,null,null,null,"Totex for wage adjustment",null,null,null,null,null,null,null,null,null,null,null,null,null,null,null,"Totex for wage adjustment",null,null,null,null,null,null,null,null,null,null,null,null,null,null,null,"Totex for wage adjustment",null,null,null,null,null,null,null,null,null,null,null,null,null,null,null,"Totex for wage adjustment",null,null,null,null,null,null,null,null,null,null,null,null,null,null,null,"Totex for wage adjustment",null,null,null,null,null,null,null,null,null,null,null,null,null,null,null,"Totex for wage adjustment",null,null,null,null,null,null,null,null,null,null,null,null,null,null,null,"Totex for wage adjustment",null,null,null,null,null,null,null,null,null,null,null,null,null,null,null,"Totex for wage adjustment",null,null,null,null,null,null,null,null,null,null,null,null,null,null,null,"Totex for wage adjustment",null,null,null,null,null,null,null,null,null,null,null,null,null,null,null,"Totex for wage adjustment",null,null,null,null,null,null,null,null,null,null,null,null,null,null,null,"Totex for wage adjustment",null,null,null,null,null,null,null,null,null,null,null,null,null,null,null,"Totex for wage adjustment",null,null,null,null,null,null,null,null,null,null,null,null,null,null,null,"Totex for wage adjustment",null,null,null,null,null,null,null,null,null,null,null,null,null,null,null,"Totex for wage adjustment",null,null,null,null,null,null,null,null,null,null,null,null,null,null,null,"Totex for wage adjustment",null,null,null,null,null,null,null,null,null,null,null,null,null,null,null,"Totex for wage adjustment",null,null,null,null,null,null,null,null,null,null,null,null,null,null,null,"Totex for wage adjustment",null,null,null,null,null,null,null,null,null,null,null,null,null,null,null,"Totex for wage adjustment",null,null,null,null,null,null,null,null,null,null,null,null,null,null,null,"Totex for wage adjustment",null,null,null,null,null,null,null,null,null,null,null,null,null,null,null,"Totex for wage adjustment",null,null,null,null,null,null,null,null,null,null,null,null,null,null,null,"Totex for wage adjustment",null,null,null,null,null,null,null,null,null,null,null,null,null,null,null,"Totex for wage adjustment",null,null,null,null,null,null,null,null,null,null,null,null,null,null,null,"Totex for wage adjustment",null,null,null,null,null,null,null,null,null,null,null,null,null,null,null,"Totex for wage adjustment",null,null,null,null,null,null,null,null,null,null,null,null,null,null,null,"Totex for wage adjustment",null,null,null,null,null,null,null,null,null,null,null,null,null,null,null,"Totex for wage adjustment",null,null,null,null,null,null,null,null,null,null,null,null,null,null,null,"Totex for wage adjustment",null,null,null,null,null,null,null,null,null,null,null,null,null,null,null,"Totex for wage adjustment",null,null,null,null,null,null,null,null,null,null,null,null,null,null,null,"Totex for wage adjustment",null,null,null,null,null,null,null,null,null,null,null,null,null,null,null,"Totex for wage adjustment",null,null,null,null,null,null,null,null,null,null,null,null,null,null,null,"Totex for wage adjustment",null,null,null,null,null,null,null,null,null,null,null,null,null,null,null,"Totex for wage adjustment",null,null,null,null,null,null,null,null,null,null,null,null,null,null,null,"Totex for wage adjustment",null,null,null,null,null,null,null,null,null,null,null,null,null,null,null,"Totex for wage adjustment",null,null,null,null,null,null,null,null,null,null,null,null,null,null,null,"Totex for wage adjustment",null,null,null,null,null,null,null,null,null,null,null,null,null,null,null,"Totex for wage adjustment",null,null,null,null,null,null,null,null,null,null,null,null,null,null,null,"Totex for wage adjustment",null,null,null,null,null,null,null,null,null,null,null,null,null,null,null,"Totex for wage adjustment",null,null,null,null,null,null,null,null,null,null,null,null,null,null,null,"Totex for wage adjustment",null,null,null,null,null,null,null,null,null,null,null,null,null,null,null,"Totex for wage adjustment",null,null,null,null,null,null,null,null,null,null,null,null,null,null,null,"Totex for wage adjustment",null,null,null,null,null,null,null,null,null,null,null,null,null,null,null,"Totex for wage adjustment",null,null,null,null,null,null,null,null,null,null,null,null,null,null,null,"Totex for wage adjustment",null,null,null,null,null,null,null,null,null,null,null,null,null,null,null,"Totex for wage adjustment",null,null,null,null,null,null,null,null,null,null,null,null,null,null,null,"Totex for wage adjustment",null,null,null,null,null,null,null,null,null,null,null,null,null,null,null,"Totex for wage adjustment",null,null,null,null,null,null,null,null,null,null,null,null,null,null,null,"Totex for wage adjustment",null,null,null,null,null,null,null,null,null,null,null,null,null,null,null,"Totex for wage adjustment",null,null,null,null,null,null,null,null,null,null,null,null,null,null,null,"Totex for wage adjustment",null,null,null,null,null,null,null,null,null,null,null,null,null,null,null,"Totex for wage adjustment",null,null,null,null,null,null,null,null,null,null,null,null,null,null,null,"Totex for wage adjustment",null,null,null,null,null,null,null,null,null,null,null,null,null,null,null,"Totex for wage adjustment",null,null,null,null,null,null,null,null,null,null,null,null,null,null,null,"Totex for wage adjustment",null,null,null,null,null,null,null,null,null,null,null,null,null,null,null,"Totex for wage adjustment",null,null,null,null,null,null,null,null,null,null,null,null,null,null,null,"Totex for wage adjustment",null,null,null,null,null,null,null,null,null,null,null,null,null,null,null,"Totex for wage adjustment",null,null,null,null,null,null,null,null,null,null,null,null,null,null,null,"Totex for wage adjustment",null,null,null,null,null,null,null,null,null,null,null,null,null,null,null,"Totex for wage adjustment",null,null,null,null,null,null,null,null,null,null,null,null,null,null,null,"Totex for wage adjustment",null,null,null,null,null,null,null,null,null,null,null,null,null,null,null,"Totex for wage adjustment",null,null,null,null,null,null,null,null,null,null,null,null,null,null,null,"Totex for wage adjustment",null,null,null,null,null,null,null,null,null,null,null,null,null,null,null,"Totex for wage adjustment",null,null,null,null,null,null,null,null,null,null,null,null,null,null,null,"Totex for wage adjustment",null,null,null,null,null,null,null,null,null,null,null,null,null,null,null,"Totex for wage adjustment",null,null,null,null,null,null,null,null,null,null,null,null,null,null,null,"Totex for wage adjustment",null,null,null,null,null,null,null,null,null,null,null,null,null,null,null,"Totex for wage adjustment",null,null,null,null,null,null,null,null,null,null,null,null,null,null,null,"Totex for wage adjustment",null,null,null,null,null,null,null,null,null,null,null,null,null,null,null,"Totex for wage adjustment",null,null,null,null,null,null,null,null,null,null,null,null,null,null,null,"Totex for wage adjustment",null,null,null,null,null,null,null,null,null,null,null,null,null,null,null,"Totex for wage adjustment",null,null,null,null,null,null,null,null,null,null,null,null,null,null,null,"Totex for wage adjustment",null,null,null,null,null,null,null,null,null,null,null,null,null,null,null,"Totex for wage adjustment",null,null,null,null,null,null,null,null,null,null,null,null,null,null,null,"Totex for wage adjustment",null,null,null,null,null,null,null,null,null,null,null,null,null,null,null,"Totex for wage adjustment",null,null,null,null,null,null,null,null,null,null,null,null,null,null,null,"Totex for wage adjustment",null,null,null,null,null,null,null,null,null,null,null,null,null,null,null,"Totex for wage adjustment",null,null,null,null,null,null,null,null,null,null,null,null,null,null,null,"Totex for wage adjustment",null,null,null,null,null,null,null,null,null,null,null,null,null,null,null,"Totex for wage adjustment",null,null,null,null,null,null,null,null,null,null,null,null,null,null,null,"Totex for wage adjustment",null,null,null,null,null,null,null,null,null,null,null,null,null,null,null,"Totex for wage adjustment",null,null,null,null,null,null,null,null,null,null,null,null,null,null,null,"Totex for wage adjustment",null,null,null,null,null,null,null,null,null,null,null,null,null,null,null,"Totex for wage adjustment",null,null,null,null,null,null,null,null,null,null,null,null,null,null,null,"Totex for wage adjustment",null,null,null,null,null,null,null,null,null,null,null,null,null,null,null,"Totex for wage adjustment",null,null,null,null,null,null,null,null,null,null,null,null,null,null,null,"Totex for wage adjustment",null,null,null,null,null,null,null,null,null,null,null,null,null,null,null,"Totex for wage adjustment",null,null,null,null,null,null,null,null,null,null,null,null,null,null,null,"Totex for wage adjustment",null,null,null,null,null,null,null,null,null,null,null,null,null,null,null,"Totex for wage adjustment",null,null,null,null,null,null,null,null,null,null,null,null,null,null,null,"Totex for wage adjustment",null,null,null,null,null,null,null,null,null,null,null,null,null,null,null,"Totex for wage adjustment",null,null,null,null,null,null,null,null,null,null,null,null,null,null,null,"Totex for wage adjustment",null,null,null,null,null,null,null,null,null,null,null,null,null,null,null,"Totex for wage adjustment",null,null,null,null,null,null,null,null,null,null,null,null,null,null,null,"Totex for wage adjustment",null,null,null,null,null,null,null,null,null,null,null,null,null,null,null,"Totex for wage adjustment",null,null,null,null,null,null,null,null,null,null,null,null,null,null,null,"Totex for wage adjustment",null,null,null,null,null,null,null,null,null,null,null,null,null,null,null,"Totex for wage adjustment",null,null,null,null,null,null,null,null,null,null,null,null,null,null,null,"Totex for wage adjustment",null,null,null,null,null,null,null,null,null,null,null,null,null,null,null,"Totex for wage adjustment",null,null,null,null,null,null,null,null,null,null,null,null,null,null,null,"Totex for wage adjustment",null,null,null,null,null,null,null,null,null,null,null,null,null,null,null,"Totex for wage adjustment",null,null,null,null,null,null,null,null,null,null,null,null,null,null,null,"Totex for wage adjustment",null,null,null,null,null,null,null,null,null,null,null,null,null,null,null,"Totex for wage adjustment",null,null,null,null,null,null,null,null,null,null,null,null,null,null,null,"Totex for wage adjustment",null,null,null,null,null,null,null,null,null,null,null,null,null,null,null,"Totex for wage adjustment",null,null,null,null,null,null,null,null,null,null,null,null,null,null,null,"Totex for wage adjustment",null,null,null,null,null,null,null,null,null,null,null,null,null,null,null,"Totex for wage adjustment",null,null,null,null,null,null,null,null,null,null,null,null,null,null,null,"Totex for wage adjustment",null,null,null,null,null,null,null,null,null,null,null,null,null,null,null,"Totex for wage adjustment",null,null,null,null,null,null,null,null,null,null,null,null,null,null,null,"Totex for wage adjustment",null,null,null,null,null,null,null,null,null,null,null,null,null,null,null,"Totex for wage adjustment",null,null,null,null,null,null,null,null,null,null,null,null,null,null,null,"Totex for wage adjustment",null,null,null,null,null,null,null,null,null,null,null,null,null,null,null,"Totex for wage adjustment",null,null,null,null,null,null,null,null,null,null,null,null,null,null,null,"Totex for wage adjustment",null,null,null,null,null,null,null,null,null,null,null,null,null,null,null,"Totex for wage adjustment",null,null,null,null,null,null,null,null,null,null,null,null,null,null,null,"Totex for wage adjustment",null,null,null,null,null,null,null,null,null,null,null,null,null,null,null,"Totex for wage adjustment",null,null,null,null,null,null,null,null,null,null,null,null,null,null,null,"Totex for wage adjustment",null,null,null,null,null,null,null,null,null,null,null,null,null,null,null,"Totex for wage adjustment",null,null,null,null,null,null,null,null,null,null,null,null,null,null,null,"Totex for wage adjustment",null,null,null,null,null,null,null,null,null,null,null,null,null,null,null,"Totex for wage adjustment",null,null,null,null,null,null,null,null,null,null,null,null,null,null,null,"Totex for wage adjustment",null,null,null,null,null,null,null,null,null,null,null,null,null,null,null,"Totex for wage adjustment",null,null,null,null,null,null,null,null,null,null,null,null,null,null,null,"Totex for wage adjustment",null,null,null,null,null,null,null,null,null,null,null,null,null,null,null,"Totex for wage adjustment",null,null,null,null,null,null,null,null,null,null,null,null,null,null,null,"Totex for wage adjustment",null,null,null,null,null,null,null,null,null,null,null,null,null,null,null,"Totex for wage adjustment",null,null,null,null,null,null,null,null,null,null,null,null,null,null,null,"Totex for wage adjustment",null,null,null,null,null,null,null,null,null,null,null,null,null,null,null,"Totex for wage adjustment",null,null,null,null,null,null,null,null,null,null,null,null,null,null,null,"Totex for wage adjustment",null,null,null,null,null,null,null,null,null,null,null,null,null,null,null,"Totex for wage adjustment",null,null,null,null,null,null,null,null,null,null,null,null,null,null,null,"Totex for wage adjustment",null,null,null,null,null,null,null,null,null,null,null,null,null,null,null,"Totex for wage adjustment",null,null,null,null,null,null,null,null,null,null,null,null,null,null,null,"Totex for wage adjustment",null,null,null,null,null,null,null,null,null,null,null,null,null,null,null,"Totex for wage adjustment",null,null,null,null,null,null,null,null,null,null,null,null,null,null,null,"Totex for wage adjustment",null,null,null,null,null,null,null,null,null,null,null,null,null,null,null,"Totex for wage adjustment",null,null,null,null,null,null,null,null,null,null,null,null,null,null,null,"Totex for wage adjustment",null,null,null,null,null,null,null,null,null,null,null,null,null,null,null,"Totex for wage adjustment",null,null,null,null,null,null,null,null,null,null,null,null,null,null,null,"Totex for wage adjustment",null,null,null,null,null,null,null,null,null,null,null,null,null,null,null,"Totex for wage adjustment",null,null,null,null,null,null,null,null,null,null,null,null,null,null,null,"Totex for wage adjustment",null,null,null,null,null,null,null,null,null,null,null,null,null,null,null,"Totex for wage adjustment",null,null,null,null,null,null,null,null,null,null,null,null,null,null,null,"Totex for wage adjustment",null,null,null,null,null,null,null,null,null,null,null,null,null,null,null,"Totex for wage adjustment",null,null,null,null,null,null,null,null,null,null,null,null,null,null,null,"Totex for wage adjustment",null,null,null,null,null,null,null,null,null,null,null,null,null,null,null,"Totex for wage adjustment",null,null,null,null,null,null,null,null,null,null,null,null,null,null,null,"Totex for wage adjustment",null,null,null,null,null,null,null,null,null,null,null,null,null,null,null,"Totex for wage adjustment",null,null,null,null,null,null,null,null,null,null,null,null,null,null,null,"Totex for wage adjustment",null,null,null,null,null,null,null,null,null,null,null,null,null,null,null,"Totex for wage adjustment",null,null,null,null,null,null,null,null,null,null,null,null,null,null,null,"Totex for wage adjustment",null,null,null,null,null,null,null,null,null,null,null,null,null,null,null,"Totex for wage adjustment",null,null,null,null,null,null,null,null,null,null,null,null,null,null,null,"Totex for wage adjustment",null,null,null,null,null,null,null,null,null,null,null,null,null,null,null,"Totex for wage adjustment",null,null,null,null,null,null,null,null,null,null,null,null,null,null,null,"Totex for wage adjustment",null,null,null,null,null,null,null,null,null,null,null,null,null,null,null,"Totex for wage adjustment",null,null,null,null,null,null,null,null,null,null,null,null,null,null,null,"Totex for wage adjustment",null,null,null,null,null,null,null,null,null,null,null,null,null,null,null,"Totex for wage adjustment",null,null,null,null,null,null,null,null,null,null,null,null,null,null,null,"Totex for wage adjustment",null,null,null,null,null,null,null,null,null,null,null,null,null,null,null,"Totex for wage adjustment",null,null,null,null,null,null,null,null,null,null,null,null,null,null,null,"Totex for wage adjustment",null,null,null,null,null,null,null,null,null,null,null,null,null,null,null,"Totex for wage adjustment",null,null,null,null,null,null,null,null,null,null,null,null,null,null,null,"Totex for wage adjustment",null,null,null,null,null,null,null,null,null,null,null,null,null,null,null,"Totex for wage adjustment",null,null,null,null,null,null,null,null,null,null,null,null,null,null,null,"Totex for wage adjustment",null,null,null,null,null,null,null,null,null,null,null,null,null,null,null,"Totex for wage adjustment",null,null,null,null,null,null,null,null,null,null,null,null,null,null,null,"Totex for wage adjustment",null,null,null,null,null,null,null,null,null,null,null,null,null,null,null,"Totex for wage adjustment",null,null,null,null,null,null,null,null,null,null,null,null,null,null,null,"Totex for wage adjustment",null,null,null,null,null,null,null,null,null,null,null,null,null,null,null,"Totex for wage adjustment",null,null,null,null,null,null,null,null,null,null,null,null,null,null,null,"Totex for wage adjustment",null,null,null,null,null,null,null,null,null,null,null,null,null,null,null,"Totex for wage adjustment",null,null,null,null,null,null,null,null,null,null,null,null,null,null,null,"Totex for wage adjustment",null,null,null,null,null,null,null,null,null,null,null,null,null,null,null,"Totex for wage adjustment",null,null,null,null,null,null,null,null,null,null,null,null,null,null,null,"Totex for wage adjustment",null,null,null,null,null,null,null,null,null,null,null,null,null,null,null,"Totex for wage adjustment",null,null,null,null,null,null,null,null,null,null,null,null,null,null,null,"Totex for wage adjustment",null,null,null,null,null,null,null,null,null,null,null,null,null,null,null,"Totex for wage adjustment",null,null,null,null,null,null,null,null,null,null,null,null,null,null,null,"Totex for wage adjustment",null,null,null,null,null,null,null,null,null,null,null,null,null,null,null,"Totex for wage adjustment",null,null,null,null,null,null,null,null,null,null,null,null,null,null,null,"Totex for wage adjustment",null,null,null,null,null,null,null,null,null,null,null,null,null,null,null,"Totex for wage adjustment",null,null,null,null,null,null,null,null,null,null,null,null,null,null,null,"Totex for wage adjustment",null,null,null,null,null,null,null,null,null,null,null,null,null,null,null,"Totex for wage adjustment",null,null,null,null,null,null,null,null,null,null,null,null,null,null,null,"Totex for wage adjustment",null,null,null,null,null,null,null,null,null,null,null,null,null,null,null,"Totex for wage adjustment",null,null,null,null,null,null,null,null,null,null,null,null,null,null,null,"Totex for wage adjustment",null,null,null,null,null,null,null,null,null,null,null,null,null,null,null,"Totex for wage adjustment",null,null,null,null,null,null,null,null,null,null,null,null,null,null,null,"Totex for wage adjustment",null,null,null,null,null,null,null,null,null,null,null,null,null,null,null,"Totex for wage adjustment",null,null,null,null,null,null,null,null,null,null,null,null,null,null,null,"Totex for wage adjustment",null,null,null,null,null,null,null,null,null,null,null,null,null,null,null,"Totex for wage adjustment",null,null,null,null,null,null,null,null,null,null,null,null,null,null,null,"Totex for wage adjustment",null,null,null,null,null,null,null,null,null,null,null,null,null,null,null,"Totex for wage adjustment",null,null,null,null,null,null,null,null,null,null,null,null,null,null,null,"Totex for wage adjustment",null,null,null,null,null,null,null,null,null,null,null,null,null,null,null,"Totex for wage adjustment",null,null,null,null,null,null,null,null,null,null,null,null,null,null,null,"Totex for wage adjustment",null,null,null,null,null,null,null,null,null,null,null,null,null,null,null,"Totex for wage adjustment",null,null,null,null,null,null,null,null,null,null,null,null,null,null,null,"Totex for wage adjustment",null,null,null,null,null,null,null,null,null,null,null,null,null,null,null,"Totex for wage adjustment",null,null,null,null,null,null,null,null,null,null,null,null,null,null,null,"Totex for wage adjustment",null,null,null,null,null,null,null,null,null,null,null,null,null,null,null,"Totex for wage adjustment",null,null,null,null,null,null,null,null,null,null,null,null,null,null,null,"Totex for wage adjustment",null,null,null,null,null,null,null,null,null,null,null,null,null,null,null,"Totex for wage adjustment",null,null,null,null,null,null,null,null,null,null,null,null,null,null,null,"Totex for wage adjustment",null,null,null,null,null,null,null,null,null,null,null,null,null,null,null,"Totex for wage adjustment",null,null,null,null,null,null,null,null,null,null,null,null,null,null,null,"Totex for wage adjustment",null,null,null,null,null,null,null,null,null,null,null,null,null,null,null,"Totex for wage adjustment",null,null,null,null,null,null,null,null,null,null,null,null,null,null,null,"Totex for wage adjustment",null,null,null,null,null,null,null,null,null,null,null,null,null,null,null,"Totex for wage adjustment",null,null,null,null,null,null,null,null,null,null,null,null,null,null,null,"Totex for wage adjustment",null,null,null,null,null,null,null,null,null,null,null,null,null,null,null,"Totex for wage adjustment",null,null,null,null,null,null,null,null,null,null,null,null,null,null,null,"Totex for wage adjustment",null,null,null,null,null,null,null,null,null,null,null,null,null,null,null,"Totex for wage adjustment",null,null,null,null,null,null,null,null,null,null,null,null,null,null,null,"Totex for wage adjustment",null,null,null,null,null,null,null,null,null,null,null,null,null,null,null,"Totex for wage adjustment",null,null,null,null,null,null,null,null,null,null,null,null,null,null,null,"Totex for wage adjustment",null,null,null,null,null,null,null,null,null,null,null,null,null,null,null,"Totex for wage adjustment",null,null,null,null,null,null,null,null,null,null,null,null,null,null,null,"Totex for wage adjustment",null,null,null,null,null,null,null,null,null,null,null,null,null,null,null,"Totex for wage adjustment",null,null,null,null,null,null,null,null,null,null,null,null,null,null,null,"Totex for wage adjustment",null,null,null,null,null,null,null,null,null,null,null,null,null,null,null,"Totex for wage adjustment",null,null,null,null,null,null,null,null,null,null,null,null,null,null,null,"Totex for wage adjustment",null,null,null,null,null,null,null,null,null,null,null,null,null,null,null,"Totex for wage adjustment",null,null,null,null,null,null,null,null,null,null,null,null,null,null,null,"Totex for wage adjustment",null,null,null,null,null,null,null,null,null,null,null,null,null,null,null,"Totex for wage adjustment",null,null,null,null,null,null,null,null,null,null,null,null,null,null,null,"Totex for wage adjustment",null,null,null,null,null,null,null,null,null,null,null,null,null,null,null,"Totex for wage adjustment",null,null,null,null,null,null,null,null,null,null,null,null,null,null,null,"Totex for wage adjustment",null,null,null,null,null,null,null,null,null,null,null,null,null,null,null,"Totex for wage adjustment",null,null,null,null,null,null,null,null,null,null,null,null,null,null,null,"Totex for wage adjustment",null,null,null,null,null,null,null,null,null,null,null,null,null,null,null,"Totex for wage adjustment",null,null,null,null,null,null,null,null,null,null,null,null,null,null,null,"Totex for wage adjustment",null,null,null,null,null,null,null,null,null,null,null,null,null,null,null,"Totex for wage adjustment",null,null,null,null,null,null,null,null,null,null,null,null,null,null,null,"Totex for wage adjustment",null,null,null,null,null,null,null,null,null,null,null,null,null,null,null,"Totex for wage adjustment",null,null,null,null,null,null,null,null,null,null,null,null,null,null,null,"Totex for wage adjustment",null,null,null,null,null,null,null,null,null,null,null,null,null,null,null,"Totex for wage adjustment",null,null,null,null,null,null,null,null,null,null,null,null,null,null,null,"Totex for wage adjustment",null,null,null,null,null,null,null,null,null,null,null,null,null,null,null,"Totex for wage adjustment",null,null,null,null,null,null,null,null,null,null,null,null,null,null,null,"Totex for wage adjustment",null,null,null,null,null,null,null,null,null,null,null,null,null,null,null,"Totex for wage adjustment",null,null,null,null,null,null,null,null,null,null,null,null,null,null,null,"Totex for wage adjustment",null,null,null,null,null,null,null,null,null,null,null,null,null,null,null,"Totex for wage adjustment",null,null,null,null,null,null,null,null,null,null,null,null,null,null,null,"Totex for wage adjustment",null,null,null,null,null,null,null,null,null,null,null,null,null,null,null,"Totex for wage adjustment",null,null,null,null,null,null,null,null,null,null,null,null,null,null,null,"Totex for wage adjustment",null,null,null,null,null,null,null,null,null,null,null,null,null,null,null,"Totex for wage adjustment",null,null,null,null,null,null,null,null,null,null,null,null,null,null,null,"Totex for wage adjustment",null,null,null,null,null,null,null,null,null,null,null,null,null,null,null,"Totex for wage adjustment",null,null,null,null,null,null,null,null,null,null,null,null,null,null,null,"Totex for wage adjustment",null,null,null,null,null,null,null,null,null,null,null,null,null,null,null,"Totex for wage adjustment",null,null,null,null,null,null,null,null,null,null,null,null,null,null,null,"Totex for wage adjustment",null,null,null,null,null,null,null,null,null,null,null,null,null,null,null,"Totex for wage adjustment",null,null,null,null,null,null,null,null,null,null,null,null,null,null,null,"Totex for wage adjustment",null,null,null,null,null,null,null,null,null,null,null,null,null,null,null,"Totex for wage adjustment",null,null,null,null,null,null,null,null,null,null,null,null,null,null,null,"Totex for wage adjustment",null,null,null,null,null,null,null,null,null,null,null,null,null,null,null,"Totex for wage adjustment",null,null,null,null,null,null,null,null,null,null,null,null,null,null,null,"Totex for wage adjustment",null,null,null,null,null,null,null,null,null,null,null,null,null,null,null,"Totex for wage adjustment",null,null,null,null,null,null,null,null,null,null,null,null,null,null,null,"Totex for wage adjustment",null,null,null,null,null,null,null,null,null,null,null,null,null,null,null,"Totex for wage adjustment",null,null,null,null,null,null,null,null,null,null,null,null,null,null,null,"Totex for wage adjustment",null,null,null,null,null,null,null,null,null,null,null,null,null,null,null,"Totex for wage adjustment",null,null,null,null,null,null,null,null,null,null,null,null,null,null,null,"Totex for wage adjustment",null,null,null,null,null,null,null,null,null,null,null,null,null,null,null,"Totex for wage adjustment",null,null,null,null,null,null,null,null,null,null,null,null,null,null,null,"Totex for wage adjustment",null,null,null,null,null,null,null,null,null,null,null,null,null,null,null,"Totex for wage adjustment",null,null,null,null,null,null,null,null,null,null,null,null,null,null,null,"Totex for wage adjustment",null,null,null,null,null,null,null,null,null,null,null,null,null,null,null,"Totex for wage adjustment",null,null,null,null,null,null,null,null,null,null,null,null,null,null,null,"Totex for wage adjustment",null,null,null,null,null,null,null,null,null,null,null,null,null,null,null,"Totex for wage adjustment",null,null,null,null,null,null,null,null,null,null,null,null,null,null,null,"Totex for wage adjustment",null,null,null,null,null,null,null,null,null,null,null,null,null,null,null,"Totex for wage adjustment",null,null,null,null,null,null,null,null,null,null,null,null,null,null,null,"Totex for wage adjustment",null,null,null,null,null,null,null,null,null,null,null,null,null,null,null,"Totex for wage adjustment",null,null,null,null,null,null,null,null,null,null,null,null,null,null,null,"Totex for wage adjustment",null,null,null,null,null,null,null,null,null,null,null,null,null,null,null,"Totex for wage adjustment",null,null,null,null,null,null,null,null,null,null,null,null,null,null,null,"Totex for wage adjustment",null,null,null,null,null,null,null,null,null,null,null,null,null,null,null,"Totex for wage adjustment",null,null,null,null,null,null,null,null,null,null,null,null,null,null,null,"Totex for wage adjustment",null,null,null,null,null,null,null,null,null,null,null,null,null,null,null,"Totex for wage adjustment",null,null,null,null,null,null,null,null,null,null,null,null,null,null,null,"Totex for wage adjustment",null,null,null,null,null,null,null,null,null,null,null,null,null,null,null,"Totex for wage adjustment",null,null,null,null,null,null,null,null,null,null,null,null,null,null,null,"Totex for wage adjustment",null,null,null,null,null,null,null,null,null,null,null,null,null,null,null,"Totex for wage adjustment",null,null,null,null,null,null,null,null,null,null,null,null,null,null,null,"Totex for wage adjustment",null,null,null,null,null,null,null,null,null,null,null,null,null,null,null,"Totex for wage adjustment",null,null,null,null,null,null,null,null,null,null,null,null,null,null,null,"Totex for wage adjustment",null,null,null,null,null,null,null,null,null,null,null,null,null,null,null,"Totex for wage adjustment",null,null,null,null,null,null,null,null,null,null,null,null,null,null,null,"Totex for wage adjustment",null,null,null,null,null,null,null,null,null,null,null,null,null,null,null,"Totex for wage adjustment",null,null,null,null,null,null,null,null,null,null,null,null,null,null,null,"Totex for wage adjustment",null,null,null,null,null,null,null,null,null,null,null,null,null,null,null,"Totex for wage adjustment",null,null,null,null,null,null,null,null,null,null,null,null,null,null,null,"Totex for wage adjustment",null,null,null,null,null,null,null,null,null,null,null,null,null,null,null,"Totex for wage adjustment",null,null,null,null,null,null,null,null,null,null,null,null,null,null,null,"Totex for wage adjustment",null,null,null,null,null,null,null,null,null,null,null,null,null,null,null,"Totex for wage adjustment",null,null,null,null,null,null,null,null,null,null,null,null,null,null,null,"Totex for wage adjustment",null,null,null,null,null,null,null,null,null,null,null,null,null,null,null,"Totex for wage adjustment",null,null,null,null,null,null,null,null,null,null,null,null,null,null,null,"Totex for wage adjustment",null,null,null,null,null,null,null,null,null,null,null,null,null,null,null,"Totex for wage adjustment",null,null,null,null,null,null,null,null,null,null,null,null,null,null,null,"Totex for wage adjustment",null,null,null,null,null,null,null,null,null,null,null,null,null,null,null,"Totex for wage adjustment",null,null,null,null,null,null,null,null,null,null,null,null,null,null,null,"Totex for wage adjustment",null,null,null,null,null,null,null,null,null,null,null,null,null,null,null,"Totex for wage adjustment",null,null,null,null,null,null,null,null,null,null,null,null,null,null,null,"Totex for wage adjustment",null,null,null,null,null,null,null,null,null,null,null,null,null,null,null,"Totex for wage adjustment",null,null,null,null,null,null,null,null,null,null,null,null,null,null,null,"Totex for wage adjustment",null,null,null,null,null,null,null,null,null,null,null,null,null,null,null,"Totex for wage adjustment",null,null,null,null,null,null,null,null,null,null,null,null,null,null,null,"Totex for wage adjustment",null,null,null,null,null,null,null,null,null,null,null,null,null,null,null,"Totex for wage adjustment",null,null,null,null,null,null,null,null,null,null,null,null,null,null,null,"Totex for wage adjustment",null,null,null,null,null,null,null,null,null,null,null,null,null,null,null,"Totex for wage adjustment",null,null,null,null,null,null,null,null,null,null,null,null,null,null,null,"Totex for wage adjustment",null,null,null,null,null,null,null,null,null,null,null,null,null,null,null,"Totex for wage adjustment",null,null,null,null,null,null,null,null,null,null,null,null,null,null,null,"Totex for wage adjustment",null,null,null,null,null,null,null,null,null,null,null,null,null,null,null,"Totex for wage adjustment",null,null,null,null,null,null,null,null,null,null,null,null,null,null,null,"Totex for wage adjustment",null,null,null,null,null,null,null,null,null,null,null,null,null,null,null,"Totex for wage adjustment",null,null,null,null,null,null,null,null,null,null,null,null,null,null,null,"Totex for wage adjustment",null,null,null,null,null,null,null,null,null,null,null,null,null,null,null,"Totex for wage adjustment",null,null,null,null,null,null,null,null,null,null,null,null,null,null,null,"Totex for wage adjustment",null,null,null,null,null,null,null,null,null,null,null,null,null,null,null,"Totex for wage adjustment",null,null,null,null,null,null,null,null,null,null,null,null,null,null,null,"Totex for wage adjustment",null,null,null,null,null,null,null,null,null,null,null,null,null,null,null,"Totex for wage adjustment",null,null,null,null,null,null,null,null,null,null,null,null,null,null,null,"Totex for wage adjustment",null,null,null,null,null,null,null,null,null,null,null,null,null,null,null,"Totex for wage adjustment",null,null,null,null,null,null,null,null,null,null,null,null,null,null,null,"Totex for wage adjustment",null,null,null,null,null,null,null,null,null,null,null,null,null,null,null,"Totex for wage adjustment",null,null,null,null,null,null,null,null,null,null,null,null,null,null,null,"Totex for wage adjustment",null,null,null,null,null,null,null,null,null,null,null,null,null,null,null,"Totex for wage adjustment",null,null,null,null,null,null,null,null,null,null,null,null,null,null,null,"Totex for wage adjustment",null,null,null,null,null,null,null,null,null,null,null,null,null,null,null,"Totex for wage adjustment",null,null,null,null,null,null,null,null,null,null,null,null,null,null,null,"Totex for wage adjustment",null,null,null,null,null,null,null,null,null,null,null,null,null,null,null,"Totex for wage adjustment",null,null,null,null,null,null,null,null,null,null,null,null,null,null,null,"Totex for wage adjustment",null,null,null,null,null,null,null,null,null,null,null,null,null,null,null,"Totex for wage adjustment",null,null,null,null,null,null,null,null,null,null,null,null,null,null,null,"Totex for wage adjustment",null,null,null,null,null,null,null,null,null,null,null,null,null,null,null,"Totex for wage adjustment",null,null,null,null,null,null,null,null,null,null,null,null,null,null,null,"Totex for wage adjustment",null,null,null,null,null,null,null,null,null,null,null,null,null,null,null,"Totex for wage adjustment",null,null,null,null,null,null,null,null,null,null,null,null,null,null,null,"Totex for wage adjustment",null,null,null,null,null,null,null,null,null,null,null,null,null,null,null,"Totex for wage adjustment",null,null,null,null,null,null,null,null,null,null,null,null,null,null,null,"Totex for wage adjustment",null,null,null,null,null,null,null,null,null,null,null,null,null,null,null,"Totex for wage adjustment",null,null,null,null,null,null,null,null,null,null,null,null,null,null,null,"Totex for wage adjustment",null,null,null,null,null,null,null,null,null,null,null,null,null,null,null,"Totex for wage adjustment",null,null,null,null,null,null,null,null,null,null,null,null,null,null,null,"Totex for wage adjustment",null,null,null,null,null,null,null,null,null,null,null,null,null,null,null,"Totex for wage adjustment",null,null,null,null,null,null,null,null,null,null,null,null,null,null,null,"Totex for wage adjustment",null,null,null,null,null,null,null,null,null,null,null,null,null,null,null,"Totex for wage adjustment",null,null,null,null,null,null,null,null,null,null,null,null,null,null,null,"Totex for wage adjustment",null,null,null,null,null,null,null,null,null,null,null,null,null,null,null,"Totex for wage adjustment",null,null,null,null,null,null,null,null,null,null,null,null,null,null,null,"Totex for wage adjustment",null,null,null,null,null,null,null,null,null,null,null,null,null,null,null,"Totex for wage adjustment",null,null,null,null,null,null,null,null,null,null,null,null,null,null,null,"Totex for wage adjustment",null,null,null,null,null,null,null,null,null,null,null,null,null,null,null,"Totex for wage adjustment",null,null,null,null,null,null,null,null,null,null,null,null,null,null,null,"Totex for wage adjustment",null,null,null,null,null,null,null,null,null,null,null,null,null,null,null,"Totex for wage adjustment",null,null,null,null,null,null,null,null,null,null,null,null,null,null,null,"Totex for wage adjustment",null,null,null,null,null,null,null,null,null,null,null,null,null,null,null,"Totex for wage adjustment",null,null,null,null,null,null,null,null,null,null,null,null,null,null,null,"Totex for wage adjustment",null,null,null,null,null,null,null,null,null,null,null,null,null,null,null,"Totex for wage adjustment",null,null,null,null,null,null,null,null,null,null,null,null,null,null,null,"Totex for wage adjustment",null,null,null,null,null,null,null,null,null,null,null,null,null,null,null,"Totex for wage adjustment",null,null,null,null,null,null,null,null,null,null,null,null,null,null,null,"Totex for wage adjustment",null,null,null,null,null,null,null,null,null,null,null,null,null,null,null,"Totex for wage adjustment",null,null,null,null,null,null,null,null,null,null,null,null,null,null,null,"Totex for wage adjustment",null,null,null,null,null,null,null,null,null,null,null,null,null,null,null,"Totex for wage adjustment",null,null,null,null,null,null,null,null,null,null,null,null,null,null,null,"Totex for wage adjustment",null,null,null,null,null,null,null,null,null,null,null,null,null,null,null,"Totex for wage adjustment",null,null,null,null,null,null,null,null,null,null,null,null,null,null,null,"Totex for wage adjustment",null,null,null,null,null,null,null,null,null,null,null,null,null,null,null,"Totex for wage adjustment",null,null,null,null,null,null,null,null,null,null,null,null,null,null,null,"Totex for wage adjustment",null,null,null,null,null,null,null,null,null,null,null,null,null,null,null,"Totex for wage adjustment",null,null,null,null,null,null,null,null,null,null,null,null,null,null,null,"Totex for wage adjustment",null,null,null,null,null,null,null,null,null,null,null,null,null,null,null,"Totex for wage adjustment",null,null,null,null,null,null,null,null,null,null,null,null,null,null,null,"Totex for wage adjustment",null,null,null,null,null,null,null,null,null,null,null,null,null,null,null,"Totex for wage adjustment",null,null,null,null,null,null,null,null,null,null,null,null,null,null,null,"Totex for wage adjustment",null,null,null,null,null,null,null,null,null,null,null,null,null,null,null,"Totex for wage adjustment",null,null,null,null,null,null,null,null,null,null,null,null,null,null,null,"Totex for wage adjustment",null,null,null,null,null,null,null,null,null,null,null,null,null,null,null,"Totex for wage adjustment",null,null,null,null,null,null,null,null,null,null,null,null,null,null,null,"Totex for wage adjustment",null,null,null,null,null,null,null,null,null,null,null,null,null,null,null,"Totex for wage adjustment",null,null,null,null,null,null,null,null,null,null,null,null,null,null,null,"Totex for wage adjustment",null,null,null,null,null,null,null,null,null,null,null,null,null,null,null,"Totex for wage adjustment",null,null,null,null,null,null,null,null,null,null,null,null,null,null,null,"Totex for wage adjustment",null,null,null,null,null,null,null,null,null,null,null,null,null,null,null,"Totex for wage adjustment",null,null,null,null,null,null,null,null,null,null,null,null,null,null,null,"Totex for wage adjustment",null,null,null,null,null,null,null,null,null,null,null,null,null,null,null,"Totex for wage adjustment",null,null,null,null,null,null,null,null,null,null,null,null,null,null,null,"Totex for wage adjustment",null,null,null,null,null,null,null,null,null,null,null,null,null,null,null,"Totex for wage adjustment",null,null,null,null,null,null,null,null,null,null,null,null,null,null,null,"Totex for wage adjustment",null,null,null,null,null,null,null,null,null,null,null,null,null,null,null,"Totex for wage adjustment",null,null,null,null,null,null,null,null,null,null,null,null,null,null,null,"Totex for wage adjustment",null,null,null,null,null,null,null,null,null,null,null,null,null,null,null,"Totex for wage adjustment",null,null,null,null,null,null,null,null,null,null,null,null,null,null,null,"Totex for wage adjustment",null,null,null,null,null,null,null,null,null,null,null,null,null,null,null,"Totex for wage adjustment",null,null,null,null,null,null,null,null,null,null,null,null,null,null,null,"Totex for wage adjustment",null,null,null,null,null,null,null,null,null,null,null,null,null,null,null,"Totex for wage adjustment",null,null,null,null,null,null,null,null,null,null,null,null,null,null,null,"Totex for wage adjustment",null,null,null,null,null,null,null,null,null,null,null,null,null,null,null,"Totex for wage adjustment",null,null,null,null,null,null,null,null,null,null,null,null,null,null,null,"Totex for wage adjustment",null,null,null,null,null,null,null,null,null,null,null,null,null,null,null,"Totex for wage adjustment",null,null,null,null,null,null,null,null,null,null,null,null,null,null,null,"Totex for wage adjustment",null,null,null,null,null,null,null,null,null,null,null,null,null,null,null,"Totex for wage adjustment",null,null,null,null,null,null,null,null,null,null,null,null,null,null,null,"Totex for wage adjustment",null,null,null,null,null,null,null,null,null,null,null,null,null,null,null,"Totex for wage adjustment",null,null,null,null,null,null,null,null,null,null,null,null,null,null,null,"Totex for wage adjustment",null,null,null,null,null,null,null,null,null,null,null,null,null,null,null,"Totex for wage adjustment",null,null,null,null,null,null,null,null,null,null,null,null,null,null,null,"Totex for wage adjustment",null,null,null,null,null,null,null,null,null,null,null,null,null,null,null,"Totex for wage adjustment",null,null,null,null,null,null,null,null,null,null,null,null,null,null,null,"Totex for wage adjustment",null,null,null,null,null,null,null,null,null,null,null,null,null,null,null,"Totex for wage adjustment",null,null,null,null,null,null,null,null,null,null,null,null,null,null,null,"Totex for wage adjustment",null,null,null,null,null,null,null,null,null,null,null,null,null,null,null,"Totex for wage adjustment",null,null,null,null,null,null,null,null,null,null,null,null,null,null,null,"Totex for wage adjustment",null,null,null,null,null,null,null,null,null,null,null,null,null,null,null,"Totex for wage adjustment",null,null,null,null,null,null,null,null,null,null,null,null,null,null,null,"Totex for wage adjustment",null,null,null,null,null,null,null,null,null,null,null,null,null,null,null,"Totex for wage adjustment",null,null,null,null,null,null,null,null,null,null,null,null,null,null,null,"Totex for wage adjustment",null,null,null,null,null,null,null,null,null,null,null,null,null,null,null,"Totex for wage adjustment",null,null,null,null,null,null,null,null,null,null,null,null,null,null,null,"Totex for wage adjustment",null,null,null,null,null,null,null,null,null,null,null,null,null,null,null,"Totex for wage adjustment",null,null,null,null,null,null,null,null,null,null,null,null,null,null,null,"Totex for wage adjustment",null,null,null,null,null,null,null,null,null,null,null,null,null,null,null,"Totex for wage adjustment",null,null,null,null,null,null,null,null,null,null,null,null,null,null,null,"Totex for wage adjustment",null,null,null,null,null,null,null,null,null,null,null,null,null,null,null,"Totex for wage adjustment",null,null,null,null,null,null,null,null,null,null,null,null,null,null,null,"Totex for wage adjustment",null,null,null,null,null,null,null,null,null,null,null,null,null,null,null,"Totex for wage adjustment",null,null,null,null,null,null,null,null,null,null,null,null,null,null,null,"Totex for wage adjustment",null,null,null,null,null,null,null,null,null,null,null,null,null,null,null,"Totex for wage adjustment",null,null,null,null,null,null,null,null,null,null,null,null,null,null,null,"Totex for wage adjustment",null,null,null,null,null,null,null,null,null,null,null,null,null,null,null,"Totex for wage adjustment",null,null,null,null,null,null,null,null,null,null,null,null,null,null,null,"Totex for wage adjustment",null,null,null,null,null,null,null,null,null,null,null,null,null,null,null,"Totex for wage adjustment",null,null,null,null,null,null,null,null,null,null,null,null,null,null,null,"Totex for wage adjustment",null,null,null,null,null,null,null,null,null,null,null,null,null,null,null,"Totex for wage adjustment",null,null,null,null,null,null,null,null,null,null,null,null,null,null,null,"Totex for wage adjustment",null,null,null,null,null,null,null,null,null,null,null,null,null,null,null,"Totex for wage adjustment",null,null,null,null,null,null,null,null,null,null,null,null,null,null,null,"Totex for wage adjustment",null,null,null,null,null,null,null,null,null,null,null,null,null,null,null,"Totex for wage adjustment",null,null,null,null,null,null,null,null,null,null,null,null,null,null,null,"Totex for wage adjustment",null,null,null,null,null,null,null,null,null,null,null,null,null,null,null,"Totex for wage adjustment",null,null,null,null,null,null,null,null,null,null,null,null,null,null,null,"Totex for wage adjustment",null,null,null,null,null,null,null,null,null,null,null,null,null,null,null,"Totex for wage adjustment",null,null,null,null,null,null,null,null,null,null,null,null,null,null,null,"Totex for wage adjustment",null,null,null,null,null,null,null,null,null,null,null,null,null,null,null,"Totex for wage adjustment",null,null,null,null,null,null,null,null,null,null,null,null,null,null,null,"Totex for wage adjustment",null,null,null,null,null,null,null,null,null,null,null,null,null,null,null,"Totex for wage adjustment",null,null,null,null,null,null,null,null,null,null,null,null,null,null,null,"Totex for wage adjustment",null,null,null,null,null,null,null,null,null,null,null,null,null,null,null,"Totex for wage adjustment",null,null,null,null,null,null,null,null,null,null,null,null,null,null,null,"Totex for wage adjustment",null,null,null,null,null,null,null,null,null,null,null,null,null,null,null,"Totex for wage adjustment",null,null,null,null,null,null,null,null,null,null,null,null,null,null,null,"Totex for wage adjustment",null,null,null,null,null,null,null,null,null,null,null,null,null,null,null,"Totex for wage adjustment",null,null,null,null,null,null,null,null,null,null,null,null,null,null,null,"Totex for wage adjustment",null,null,null,null,null,null,null,null,null,null,null,null,null,null,null,"Totex for wage adjustment",null,null,null,null,null,null,null,null,null,null,null,null,null,null,null,"Totex for wage adjustment",null,null,null,null,null,null,null,null,null,null,null,null,null,null,null,"Totex for wage adjustment",null,null,null,null,null,null,null,null,null,null,null,null,null,null,null,"Totex for wage adjustment",null,null,null,null,null,null,null,null,null,null,null,null,null,null,null,"Totex for wage adjustment",null,null,null,null,null,null,null,null,null,null,null,null,null,null,null,"Totex for wage adjustment",null,null,null,null,null,null,null,null,null,null,null,null,null,null,null,"Totex for wage adjustment",null,null,null,null,null,null,null,null,null,null,null,null,null,null,null,"Totex for wage adjustment",null,null,null,null,null,null,null,null,null,null,null,null,null,null,null,"Totex for wage adjustment",null,null,null,null,null,null,null,null,null,null,null,null,null,null,null,"Totex for wage adjustment",null,null,null,null,null,null,null,null,null,null,null,null,null,null,null,"Totex for wage adjustment",null,null,null,null,null,null,null,null,null,null,null,null,null,null,null,"Totex for wage adjustment",null,null,null,null,null,null,null,null,null,null,null,null,null,null,null,"Totex for wage adjustment",null,null,null,null,null,null,null,null,null,null,null,null,null,null,null,"Totex for wage adjustment",null,null,null,null,null,null,null,null,null,null,null,null,null,null,null,"Totex for wage adjustment",null,null,null,null,null,null,null,null,null,null,null,null,null,null,null,"Totex for wage adjustment",null,null,null,null,null,null,null,null,null,null,null,null,null,null,null,"Totex for wage adjustment",null,null,null,null,null,null,null,null,null,null,null,null,null,null,null,"Totex for wage adjustment",null,null,null,null,null,null,null,null,null,null,null,null,null,null,null,"Totex for wage adjustment",null,null,null,null,null,null,null,null,null,null,null,null,null,null,null,"Totex for wage adjustment",null,null,null,null,null,null,null,null,null,null,null,null,null,null,null,"Totex for wage adjustment",null,null,null,null,null,null,null,null,null,null,null,null,null,null,null,"Totex for wage adjustment",null,null,null,null,null,null,null,null,null,null,null,null,null,null,null,"Totex for wage adjustment",null,null,null,null,null,null,null,null,null,null,null,null,null,null,null,"Totex for wage adjustment",null,null,null,null,null,null,null,null,null,null,null,null,null,null,null,"Totex for wage adjustment",null,null,null,null,null,null,null,null,null,null,null,null,null,null,null,"Totex for wage adjustment",null,null,null,null,null,null,null,null,null,null,null,null,null,null,null,"Totex for wage adjustment",null,null,null,null,null,null,null,null,null,null,null,null,null,null,null,"Totex for wage adjustment",null,null,null,null,null,null,null,null,null,null,null,null,null,null,null,"Totex for wage adjustment",null,null,null,null,null,null,null,null,null,null,null,null,null,null,null,"Totex for wage adjustment",null,null,null,null,null,null,null,null,null,null,null,null,null,null,null,"Totex for wage adjustment",null,null,null,null,null,null,null,null,null,null,null,null,null,null,null,"Totex for wage adjustment",null,null,null,null,null,null,null,null,null,null,null,null,null,null,null,"Totex for wage adjustment",null,null,null,null,null,null,null,null,null,null,null,null,null,null,null,"Totex for wage adjustment",null,null,null,null,null,null,null,null,null,null,null,null,null,null,null,"Totex for wage adjustment",null,null,null,null,null,null,null,null,null,null,null,null,null,null,null,"Totex for wage adjustment",null,null,null,null,null,null,null,null,null,null,null,null,null,null,null,"Totex for wage adjustment",null,null,null,null,null,null,null,null,null,null,null,null,null,null,null,"Totex for wage adjustment",null,null,null,null,null,null,null,null,null,null,null,null,null,null,null,"Totex for wage adjustment",null,null,null,null,null,null,null,null,null,null,null,null,null,null,null,"Totex for wage adjustment",null,null,null,null,null,null,null,null,null,null,null,null,null,null,null,"Totex for wage adjustment",null,null,null,null,null,null,null,null,null,null,null,null,null,null,null,"Totex for wage adjustment",null,null,null,null,null,null,null,null,null,null,null,null,null,null,null,"Totex for wage adjustment",null,null,null,null,null,null,null,null,null,null,null,null,null,null,null,"Totex for wage adjustment",null,null,null,null,null,null,null,null,null,null,null,null,null,null,null,"Totex for wage adjustment",null,null,null,null,null,null,null,null,null,null,null,null,null,null,null,"Totex for wage adjustment",null,null,null,null,null,null,null,null,null,null,null,null,null,null,null,"Totex for wage adjustment",null,null,null,null,null,null,null,null,null,null,null,null,null,null,null,"Totex for wage adjustment",null,null,null,null,null,null,null,null,null,null,null,null,null,null,null,"Totex for wage adjustment",null,null,null,null,null,null,null,null,null,null,null,null,null,null,null,"Totex for wage adjustment",null,null,null,null,null,null,null,null,null,null,null,null,null,null,null,"Totex for wage adjustment",null,null,null,null,null,null,null,null,null,null,null,null,null,null,null,"Totex for wage adjustment",null,null,null,null,null,null,null,null,null,null,null,null,null,null,null,"Totex for wage adjustment",null,null,null,null,null,null,null,null,null,null,null,null,null,null,null,"Totex for wage adjustment",null,null,null,null,null,null,null,null,null,null,null,null,null,null,null,"Totex for wage adjustment",null,null,null,null,null,null,null,null,null,null,null,null,null,null,null,"Totex for wage adjustment",null,null,null,null,null,null,null,null,null,null,null,null,null,null,null,"Totex for wage adjustment",null,null,null,null,null,null,null,null,null,null,null,null,null,null,null,"Totex for wage adjustment",null,null,null,null,null,null,null,null,null,null,null,null,null,null,null,"Totex for wage adjustment",null,null,null,null,null,null,null,null,null,null,null,null,null,null,null,"Totex for wage adjustment",null,null,null,null,null,null,null,null,null,null,null,null,null,null,null,"Totex for wage adjustment",null,null,null,null,null,null,null,null,null,null,null,null,null,null,null,"Totex for wage adjustment",null,null,null,null,null,null,null,null,null,null,null,null,null,null,null,"Totex for wage adjustment",null,null,null,null,null,null,null,null,null,null,null,null,null,null,null,"Totex for wage adjustment",null,null,null,null,null,null,null,null,null,null,null,null,null,null,null,"Totex for wage adjustment",null,null,null,null,null,null,null,null,null,null,null,null,null,null,null,"Totex for wage adjustment",null,null,null,null,null,null,null,null,null,null,null,null,null,null,null,"Totex for wage adjustment",null,null,null,null,null,null,null,null,null,null,null,null,null,null,null,"Totex for wage adjustment",null,null,null,null,null,null,null,null,null,null,null,null,null,null,null,"Totex for wage adjustment",null,null,null,null,null,null,null,null,null,null,null,null,null,null,null,"Totex for wage adjustment",null,null,null,null,null,null,null,null,null,null,null,null,null,null,null,"Totex for wage adjustment",null,null,null,null,null,null,null,null,null,null,null,null,null,null,null,"Totex for wage adjustment",null,null,null,null,null,null,null,null,null,null,null,null,null,null,null,"Totex for wage adjustment",null,null,null,null,null,null,null,null,null,null,null,null,null,null,null,"Totex for wage adjustment",null,null,null,null,null,null,null,null,null,null,null,null,null,null,null,"Totex for wage adjustment",null,null,null,null,null,null,null,null,null,null,null,null,null,null,null,"Totex for wage adjustment",null,null,null,null,null,null,null,null,null,null,null,null,null,null,null,"Totex for wage adjustment",null,null,null,null,null,null,null,null,null,null,null,null,null,null,null,"Totex for wage adjustment",null,null,null,null,null,null,null,null,null,null,null,null,null,null,null,"Totex for wage adjustment",null,null,null,null,null,null,null,null,null,null,null,null,null,null,null,"Totex for wage adjustment",null,null,null,null,null,null,null,null,null,null,null,null,null,null,null,"Totex for wage adjustment",null,null,null,null,null,null,null,null,null,null,null,null,null,null,null,"Totex for wage adjustment",null,null,null,null,null,null,null,null,null,null,null,null,null,null,null,"Totex for wage adjustment",null,null,null,null,null,null,null,null,null,null,null,null,null,null,null,"Totex for wage adjustment",null,null,null,null,null,null,null,null,null,null,null,null,null,null,null,"Totex for wage adjustment",null,null,null,null,null,null,null,null,null,null,null,null,null,null,null,"Totex for wage adjustment",null,null,null,null,null,null,null,null,null,null,null,null,null,null,null,"Totex for wage adjustment",null,null,null,null,null,null,null,null,null,null,null,null,null,null,null,"Totex for wage adjustment",null,null,null,null,null,null,null,null,null,null,null,null,null,null,null,"Totex for wage adjustment",null,null,null,null,null,null,null,null,null,null,null,null,null,null,null,"Totex for wage adjustment",null,null,null,null,null,null,null,null,null,null,null,null,null,null,null,"Totex for wage adjustment",null,null,null,null,null,null,null,null,null,null,null,null,null,null,null,"Totex for wage adjustment",null,null,null,null,null,null,null,null,null,null,null,null,null,null,null,"Totex for wage adjustment",null,null,null,null,null,null,null,null,null,null,null,null,null,null,null,"Totex for wage adjustment",null,null,null,null,null,null,null,null,null,null,null,null,null,null,null,"Totex for wage adjustment",null,null,null,null,null,null,null,null,null,null,null,null,null,null,null,"Totex for wage adjustment",null,null,null,null,null,null,null,null,null,null,null,null,null,null,null,"Totex for wage adjustment",null,null,null,null,null,null,null,null,null,null,null,null,null,null,null,"Totex for wage adjustment",null,null,null,null,null,null,null,null,null,null,null,null,null,null,null,"Totex for wage adjustment",null,null,null,null,null,null,null,null,null,null,null,null,null,null,null,"Totex for wage adjustment",null,null,null,null,null,null,null,null,null,null,null,null,null,null,null,"Totex for wage adjustment",null,null,null,null,null,null,null,null,null,null,null,null,null,null,null,"Totex for wage adjustment",null,null,null,null,null,null,null,null,null,null,null,null,null,null,null,"Totex for wage adjustment",null,null,null,null,null,null,null,null,null,null,null,null,null,null,null,"Totex for wage adjustment",null,null,null,null,null,null,null,null,null,null,null,null,null,null,null,"Totex for wage adjustment",null,null,null,null,null,null,null,null,null,null,null,null,null,null,null,"Totex for wage adjustment",null,null,null,null,null,null,null,null,null,null,null,null,null,null,null,"Totex for wage adjustment",null,null,null,null,null,null,null,null,null,null,null,null,null,null,null,"Totex for wage adjustment",null,null,null,null,null,null,null,null,null,null,null,null,null,null,null,"Totex for wage adjustment",null,null,null,null,null,null,null,null,null,null,null,null,null,null,null,"Totex for wage adjustment",null,null,null,null,null,null,null,null,null,null,null,null,null,null,null,"Totex for wage adjustment",null,null,null,null,null,null,null,null,null,null,null,null,null,null,null,"Totex for wage adjustment",null,null,null,null,null,null,null,null,null,null,null,null,null,null,null,"Totex for wage adjustment",null,null,null,null,null,null,null,null,null,null,null,null,null,null,null,"Totex for wage adjustment",null,null,null,null,null,null,null,null,null,null,null,null,null,null,null,"Totex for wage adjustment",null,null,null,null,null,null,null,null,null,null,null,null,null,null,null,"Totex for wage adjustment",null,null,null,null,null,null,null,null,null,null,null,null,null,null,null,"Totex for wage adjustment",null,null,null,null,null,null,null,null,null,null,null,null,null,null,null,"Totex for wage adjustment",null,null,null,null,null,null,null,null,null,null,null,null,null,null,null,"Totex for wage adjustment",null,null,null,null,null,null,null,null,null,null,null,null,null,null,null,"Totex for wage adjustment",null,null,null,null,null,null,null,null,null,null,null,null,null,null,null,"Totex for wage adjustment",null,null,null,null,null,null,null,null,null,null,null,null,null,null,null,"Totex for wage adjustment",null,null,null,null,null,null,null,null,null,null,null,null,null,null,null,"Totex for wage adjustment",null,null,null,null,null,null,null,null,null,null,null,null,null,null,null,"Totex for wage adjustment",null,null,null,null,null,null,null,null,null,null,null,null,null,null,null,"Totex for wage adjustment",null,null,null,null,null,null,null,null,null,null,null,null,null,null,null,"Totex for wage adjustment",null,null,null,null,null,null,null,null,null,null,null,null,null,null,null,"Totex for wage adjustment",null,null,null,null,null,null,null,null,null,null,null,null,null,null,null,"Totex for wage adjustment",null,null,null,null,null,null,null,null,null,null,null,null,null,null,null,"Totex for wage adjustment",null,null,null,null,null,null,null,null,null,null,null,null,null,null,null,"Totex for wage adjustment",null,null,null,null,null,null,null,null,null,null,null,null,null,null,null,"Totex for wage adjustment",null,null,null,null,null,null,null,null,null,null,null,null,null,null,null,"Totex for wage adjustment",null,null,null,null,null,null,null,null,null,null,null,null,null,null,null,"Totex for wage adjustment",null,null,null,null,null,null,null,null,null,null,null,null,null,null,null,"Totex for wage adjustment",null,null,null,null,null,null,null,null,null,null,null,null,null,null,null,"Totex for wage adjustment",null,null,null,null,null,null,null,null,null,null,null,null,null,null,null,"Totex for wage adjustment",null,null,null,null,null,null,null,null,null,null,null,null,null,null,null,"Totex for wage adjustment",null,null,null,null,null,null,null,null,null,null,null,null,null,null,null,"Totex for wage adjustment",null,null,null,null,null,null,null,null,null,null,null,null,null,null,null,"Totex for wage adjustment",null,null,null,null,null,null,null,null,null,null,null,null,null,null,null,"Totex for wage adjustment",null,null,null,null,null,null,null,null,null,null,null,null,null,null,null,"Totex for wage adjustment",null,null,null,null,null,null,null,null,null,null,null,null,null,null,null,"Totex for wage adjustment",null,null,null,null,null,null,null,null,null,null,null,null,null,null,null,"Totex for wage adjustment",null,null,null,null,null,null,null,null,null,null,null,null,null,null,null,"Totex for wage adjustment",null,null,null,null,null,null,null,null,null,null,null,null,null,null,null,"Totex for wage adjustment",null,null,null,null,null,null,null,null,null,null,null,null,null,null,null,"Totex for wage adjustment",null,null,null,null,null,null,null,null,null,null,null,null,null,null,null,"Totex for wage adjustment",null,null,null,null,null,null,null,null,null,null,null,null,null,null,null,"Totex for wage adjustment",null,null,null,null,null,null,null,null,null,null,null,null,null,null,null,"Totex for wage adjustment",null,null,null,null,null,null,null,null,null,null,null,null,null,null,null,"Totex for wage adjustment",null,null,null,null,null,null,null,null,null,null,null,null,null,null,null,"Totex for wage adjustment",null,null,null,null,null,null,null,null,null,null,null,null,null,null,null,"Totex for wage adjustment",null,null,null,null,null,null,null,null,null,null,null,null,null,null,null,"Totex for wage adjustment",null,null,null,null,null,null,null,null,null,null,null,null,null,null,null,"Totex for wage adjustment",null,null,null,null,null,null,null,null,null,null,null,null,null,null,null,"Totex for wage adjustment",null,null,null,null,null,null,null,null,null,null,null,null,null,null,null,"Totex for wage adjustment",null,null,null,null,null,null,null,null,null,null,null,null,null,null,null,"Totex for wage adjustment",null,null,null,null,null,null,null,null,null,null,null,null,null,null,null,"Totex for wage adjustment",null,null,null,null,null,null,null,null,null,null,null,null,null,null,null,"Totex for wage adjustment",null,null,null,null,null,null,null,null,null,null,null,null,null,null,null,"Totex for wage adjustment",null,null,null,null,null,null,null,null,null,null,null,null,null,null,null,"Totex for wage adjustment",null,null,null,null,null,null,null,null,null,null,null,null,null,null,null,"Totex for wage adjustment",null,null,null,null,null,null,null,null,null,null,null,null,null,null,null,"Totex for wage adjustment",null,null,null,null,null,null,null,null,null,null,null,null,null,null,null,"Totex for wage adjustment",null,null,null,null,null,null,null,null,null,null,null,null,null,null,null,"Totex for wage adjustment",null,null,null,null,null,null,null,null,null,null,null,null,null,null,null,"Totex for wage adjustment",null,null,null,null,null,null,null,null,null,null,null,null,null,null,null,"Totex for wage adjustment",null,null,null,null,null,null,null,null,null,null,null,null,null,null,null,"Totex for wage adjustment",null,null,null,null,null,null,null,null,null,null,null,null,null,null,null,"Totex for wage adjustment",null,null,null,null,null,null,null,null,null,null,null,null,null,null,null,"Totex for wage adjustment",null,null,null,null,null,null,null,null,null,null,null,null,null,null,null,"Totex for wage adjustment",null,null,null,null,null,null,null,null,null,null,null,null,null,null,null,"Totex for wage adjustment",null,null,null,null,null,null,null,null,null,null,null,null,null,null,null,"Totex for wage adjustment",null,null,null,null,null,null,null,null,null,null,null,null,null,null,null,"Totex for wage adjustment",null,null,null,null,null,null,null,null,null,null,null,null,null,null,null,"Totex for wage adjustment",null,null,null,null,null,null,null,null,null,null,null,null,null,null,null,"Totex for wage adjustment",null,null,null,null,null,null,null,null,null,null,null,null,null,null,null,"Totex for wage adjustment",null,null,null,null,null,null,null,null,null,null,null,null,null,null,null,"Totex for wage adjustment",null,null,null,null,null,null,null,null,null,null,null,null,null,null,null,"Totex for wage adjustment",null,null,null,null,null,null,null,null,null,null,null,null,null,null,null,"Totex for wage adjustment",null,null,null,null,null,null,null,null,null,null,null,null,null,null,null,"Totex for wage adjustment",null,null,null,null,null,null,null,null,null,null,null,null,null,null,null,"Totex for wage adjustment",null,null,null,null,null,null,null,null,null,null,null,null,null,null,null,"Totex for wage adjustment",null,null,null,null,null,null,null,null,null,null,null,null,null,null,null,"Totex for wage adjustment",null,null,null,null,null,null,null,null,null,null,null,null,null,null,null,"Totex for wage adjustment",null,null,null,null,null,null,null,null,null,null,null,null,null,null,null,"Totex for wage adjustment",null,null,null,null,null,null,null,null,null,null,null,null,null,null,null,"Totex for wage adjustment",null,null,null,null,null,null,null,null,null,null,null,null,null,null,null,"Totex for wage adjustment",null,null,null,null,null,null,null,null,null,null,null,null,null,null,null,"Totex for wage adjustment",null,null,null,null,null,null,null,null,null,null,null,null,null,null,null,"Totex for wage adjustment",null,null,null,null,null,null,null,null,null,null,null,null,null,null,null,"Totex for wage adjustment",null,null,null,null,null,null,null,null,null,null,null,null,null,null,null,"Totex for wage adjustment",null,null,null,null,null,null,null,null,null,null,null,null,null,null,null,"Totex for wage adjustment",null,null,null,null,null,null,null,null,null,null,null,null,null,null,null,"Totex for wage adjustment",null,null,null,null,null,null,null,null,null,null,null,null,null,null,null,"Totex for wage adjustment",null,null,null,null,null,null,null,null,null,null,null,null,null,null,null,"Totex for wage adjustment",null,null,null,null,null,null,null,null,null,null,null,null,null,null,null,"Totex for wage adjustment",null,null,null,null,null,null,null,null,null,null,null,null,null,null,null,"Totex for wage adjustment",null,null,null,null,null,null,null,null,null,null,null,null,null,null,null,"Totex for wage adjustment",null,null,null,null,null,null,null,null,null,null,null,null,null,null,null,"Totex for wage adjustment",null,null,null,null,null,null,null,null,null,null,null,null,null,null,null,"Totex for wage adjustment",null,null,null,null,null,null,null,null,null,null,null,null,null,null,null,"Totex for wage adjustment",null,null,null,null,null,null,null,null,null,null,null,null,null,null,null,"Totex for wage adjustment",null,null,null,null,null,null,null,null,null,null,null,null,null,null,null,"Totex for wage adjustment",null,null,null,null,null,null,null,null,null,null,null,null,null,null,null,"Totex for wage adjustment",null,null,null,null,null,null,null,null,null,null,null,null,null,null,null,"Totex for wage adjustment",null,null,null,null,null,null,null,null,null,null,null,null,null,null,null,"Totex for wage adjustment",null,null,null,null,null,null,null,null,null,null,null,null,null,null,null,"Totex for wage adjustment",null,null,null,null,null,null,null,null,null,null,null,null,null,null,null,"Totex for wage adjustment",null,null,null,null,null,null,null,null,null,null,null,null,null,null,null,"Totex for wage adjustment",null,null,null,null,null,null,null,null,null,null,null,null,null,null,null,"Totex for wage adjustment",null,null,null,null,null,null,null,null,null,null,null,null,null,null,null,"Totex for wage adjustment",null,null,null,null,null,null,null,null,null,null,null,null,null,null,null,"Totex for wage adjustment",null,null,null,null,null,null,null,null,null,null,null,null,null,null,null,"Totex for wage adjustment",null,null,null,null,null,null,null,null,null,null,null,null,null,null,null,"Totex for wage adjustment",null,null,null,null,null,null,null,null,null,null,null,null,null,null,null,"Totex for wage adjustment",null,null,null,null,null,null,null,null,null,null,null,null,null,null,null,"Totex for wage adjustment",null,null,null,null,null,null,null,null,null,null,null,null,null,null,null,"Totex for wage adjustment",null,null,null,null,null,null,null,null,null,null,null,null,null,null,null,"Totex for wage adjustment",null,null,null,null,null,null,null,null,null,null,null,null,null,null,null,"Totex for wage adjustment",null,null,null,null,null,null,null,null,null,null,null,null,null,null,null,"Totex for wage adjustment",null,null,null,null,null,null,null,null,null,null,null,null,null,null,null,"Totex for wage adjustment",null,null,null,null,null,null,null,null,null,null,null,null,null,null,null,"Totex for wage adjustment",null,null,null,null,null,null,null,null,null,null,null,null,null,null,null,"Totex for wage adjustment",null,null,null,null,null,null,null,null,null,null,null,null,null,null,null,"Totex for wage adjustment",null,null,null,null,null,null,null,null,null,null,null,null,null,null,null,"Totex for wage adjustment",null,null,null,null,null,null,null,null,null,null,null,null,null,null,null,"Totex for wage adjustment",null,null,null,null,null,null,null,null,null,null,null,null,null,null,null,"Totex for wage adjustment",null,null,null,null,null,null,null,null,null,null,null,null,null,null,null,"Totex for wage adjustment",null,null,null,null,null,null,null,null,null,null,null,null,null,null,null,"Totex for wage adjustment",null,null,null,null,null,null,null,null,null,null,null,null,null,null,null,"Totex for wage adjustment",null,null,null,null,null,null,null,null,null,null,null,null,null,null,null,"Totex for wage adjustment",null,null,null,null,null,null,null,null,null,null,null,null,null,null,null,"Totex for wage adjustment",null,null,null,null,null,null,null,null,null,null,null,null,null,null,null,"Totex for wage adjustment",null,null,null,null,null,null,null,null,null,null,null,null,null,null,null,"Totex for wage adjustment",null,null,null,null,null,null,null,null,null,null,null,null,null,null,null,"Totex for wage adjustment",null,null,null,null,null,null,null,null,null,null,null,null,null,null,null,"Totex for wage adjustment",null,null,null,null,null,null,null,null,null,null,null,null,null,null,null,"Totex for wage adjustment",null,null,null,null,null,null,null,null,null,null,null,null,null,null,null,"Totex for wage adjustment",null,null,null,null,null,null,null,null,null,null,null,null,null,null,null,"Totex for wage adjustment",null,null,null,null,null,null,null,null,null,null,null,null,null,null,null,"Totex for wage adjustment",null,null,null,null,null,null,null,null,null,null,null,null,null,null,null,"Totex for wage adjustment",null,null,null,null,null,null,null,null,null,null,null,null,null,null,null,"Totex for wage adjustment",null,null,null,null,null,null,null,null,null,null,null,null,null,null,null,"Totex for wage adjustment",null,null,null,null,null,null,null,null,null,null,null,null,null,null,null,"Totex for wage adjustment",null,null,null,null,null,null,null,null,null,null,null,null,null,null,null,"Totex for wage adjustment",null,null,null,null,null,null,null,null,null,null,null,null,null,null,null,"Totex for wage adjustment",null,null,null,null,null,null,null,null,null,null,null,null,null,null,null,"Totex for wage adjustment",null,null,null,null,null,null,null,null,null,null,null,null,null,null,null,"Totex for wage adjustment",null,null,null,null,null,null,null,null,null,null,null,null,null,null,null,"Totex for wage adjustment",null,null,null,null,null,null,null,null,null,null,null,null,null,null,null,"Totex for wage adjustment",null,null,null,null,null,null,null,null,null,null,null,null,null,null,null,"Totex for wage adjustment",null,null,null,null,null,null,null,null,null,null,null,null,null,null,null,"Totex for wage adjustment",null,null,null,null,null,null,null,null,null,null,null,null,null,null,null,"Totex for wage adjustment",null,null,null,null,null,null,null,null,null,null,null,null,null,null,null,"Totex for wage adjustment",null,null,null,null,null,null,null,null,null,null,null,null,null,null,null,"Totex for wage adjustment",null,null,null,null,null,null,null,null,null,null,null,null,null,null,null,"Totex for wage adjustment",null,null,null,null,null,null,null,null,null,null,null,null,null,null,null,"Totex for wage adjustment",null,null,null,null,null,null,null,null,null,null,null,null,null,null,null,"Totex for wage adjustment",null,null,null,null,null,null,null,null,null,null,null,null,null,null,null,"Totex for wage adjustment",null,null,null,null,null,null,null,null,null,null,null,null,null,null,null,"Totex for wage adjustment",null,null,null,null,null,null,null,null,null,null,null,null,null,null,null,"Totex for wage adjustment",null,null,null,null,null,null,null,null,null,null,null,null,null,null,null,"Totex for wage adjustment",null,null,null,null,null,null,null,null,null,null,null,null,null,null,null,"Totex for wage adjustment",null,null,null,null,null,null,null,null,null,null,null,null,null,null,null,"Totex for wage adjustment",null,null,null,null,null,null,null,null,null,null,null,null,null,null,null,"Totex for wage adjustment",null,null,null,null,null,null,null,null,null,null,null,null,null,null,null,"Totex for wage adjustment",null,null,null,null,null,null,null,null,null,null,null,null,null,null,null,"Totex for wage adjustment",null,null,null,null,null,null,null,null,null,null,null,null,null,null,null,"Totex for wage adjustment",null,null,null,null,null,null,null,null,null,null,null,null,null,null,null,"Totex for wage adjustment",null,null,null,null,null,null,null,null,null,null,null,null,null,null,null,"Totex for wage adjustment",null,null,null,null,null,null,null,null,null,null,null,null,null,null,null,"Totex for wage adjustment",null,null,null,null,null,null,null,null,null,null,null,null,null,null,null,"Totex for wage adjustment",null,null,null,null,null,null,null,null,null,null,null,null,null,null,null,"Totex for wage adjustment",null,null,null,null,null,null,null,null,null,null,null,null,null,null,null,"Totex for wage adjustment",null,null,null,null,null,null,null,null,null,null,null,null,null,null,null,"Totex for wage adjustment",null,null,null,null,null,null,null,null,null,null,null,null,null,null,null,"Totex for wage adjustment",null,null,null,null,null,null,null,null,null,null,null,null,null,null,null,"Totex for wage adjustment",null,null,null,null,null,null,null,null,null,null,null,null,null,null,null,"Totex for wage adjustment",null,null,null,null,null,null,null,null,null,null,null,null,null,null,null,"Totex for wage adjustment",null,null,null,null,null,null,null,null,null,null,null,null,null,null,null,"Totex for wage adjustment",null,null,null,null,null,null,null,null,null,null,null,null,null,null,null,"Totex for wage adjustment",null,null,null,null,null,null,null,null,null,null,null,null,null,null,null,"Totex for wage adjustment",null,null,null,null,null,null,null,null,null,null,null,null,null,null,null,"Totex for wage adjustment",null,null,null,null,null,null,null,null,null,null,null,null,null,null,null,"Totex for wage adjustment",null,null,null,null,null,null,null,null,null,null,null,null,null,null,null,"Totex for wage adjustment",null,null,null,null,null,null,null,null,null,null,null,null,null,null,null,"Totex for wage adjustment",null,null,null,null,null,null,null,null,null,null,null,null,null,null,null,"Totex for wage adjustment",null,null,null,null,null,null,null,null,null,null,null,null,null,null,null,"Totex for wage adjustment",null,null,null,null,null,null,null,null,null,null,null,null,null,null,null,"Totex for wage adjustment",null,null,null,null,null,null,null,null,null,null,null,null,null,null,null,"Totex for wage adjustment",null,null,null,null,null,null,null,null,null,null,null,null,null,null,null,"Totex for wage adjustment",null,null,null,null,null,null,null,null,null,null,null,null,null,null,null,"Totex for wage adjustment",null,null,null,null,null,null,null,null,null,null,null,null,null,null,null,"Totex for wage adjustment",null,null,null,null,null,null,null,null,null,null,null,null,null,null,null,"Totex for wage adjustment",null,null,null,null,null,null,null,null,null,null,null,null,null,null,null,"Totex for wage adjustment",null,null,null,null,null,null,null,null,null,null,null,null,null,null,null,"Totex for wage adjustment",null,null,null,null,null,null,null,null,null,null,null,null,null,null,null,"Totex for wage adjustment",null,null,null,null,null,null,null,null,null,null,null,null,null,null,null,"Totex for wage adjustment",null,null,null,null,null,null,null,null,null,null,null,null,null,null,null,"Totex for wage adjustment",null,null,null,null,null,null,null,null,null,null,null,null,null,null,null,"Totex for wage adjustment",null,null,null,null,null,null,null,null,null,null,null,null,null,null,null,"Totex for wage adjustment",null,null,null,null,null,null,null,null,null,null,null,null,null,null,null,"Totex for wage adjustment",null,null,null,null,null,null,null,null,null,null,null,null,null,null,null,"Totex for wage adjustment",null,null,null,null,null,null,null,null,null,null,null,null,null,null,null,"Totex for wage adjustment",null,null,null,null,null,null,null,null,null,null,null,null,null,null,null,"Totex for wage adjustment",null,null,null,null,null,null,null,null,null,null,null,null,null,null,null,"Totex for wage adjustment",null,null,null,null,null,null,null,null,null,null,null,null,null,null,null,"Totex for wage adjustment",null,null,null,null,null,null,null,null,null,null,null,null,null,null,null,"Totex for wage adjustment",null,null,null,null,null,null,null,null,null,null,null,null,null,null,null,"Totex for wage adjustment",null,null,null,null,null,null,null,null,null,null,null,null,null,null,null,"Totex for wage adjustment",null,null,null,null,null,null,null,null,null,null,null,null,null,null,null,"Totex for wage adjustment",null,null,null,null,null,null,null,null,null,null,null,null,null,null,null,"Totex for wage adjustment",null,null,null,null,null,null,null,null,null,null,null,null,null,null,null,"Totex for wage adjustment",null,null,null,null,null,null,null,null,null,null,null,null,null,null,null,"Totex for wage adjustment",null,null,null,null,null,null,null,null,null,null,null,null,null,null,null,"Totex for wage adjustment",null,null,null,null,null,null,null,null,null,null,null,null,null,null,null,"Totex for wage adjustment",null,null,null,null,null,null,null,null,null,null,null,null,null,null,null,"Totex for wage adjustment",null,null,null,null,null,null,null,null,null,null,null,null,null,null,null,"Totex for wage adjustment",null,null,null,null,null,null,null,null,null,null,null,null,null,null,null,"Totex for wage adjustment",null,null,null,null,null,null,null,null,null,null,null,null,null,null,null,"Totex for wage adjustment",null,null,null,null,null,null,null,null,null,null,null,null,null,null,null,"Totex for wage adjustment",null,null,null,null,null,null,null,null,null,null,null,null,null,null,null,"Totex for wage adjustment",null,null,null,null,null,null,null,null,null,null,null,null,null,null,null,"Totex for wage adjustment",null,null,null,null,null,null,null,null,null,null,null,null,null,null,null,"Totex for wage adjustment",null,null,null,null,null,null,null,null,null,null,null,null,null,null,null,"Totex for wage adjustment",null,null,null,null,null,null,null,null,null,null,null,null,null,null,null,"Totex for wage adjustment",null,null,null,null,null,null,null,null,null,null,null,null,null,null,null,"Totex for wage adjustment",null,null,null,null,null,null,null,null,null,null,null,null,null,null,null,"Totex for wage adjustment",null,null,null,null,null,null,null,null,null,null,null,null,null,null,null,"Totex for wage adjustment",null,null,null,null,null,null,null,null,null,null,null,null,null,null,null,"Totex for wage adjustment",null,null,null,null,null,null,null,null,null,null,null,null,null,null,null,"Totex for wage adjustment",null,null,null,null,null,null,null,null,null,null,null,null,null,null,null,"Totex for wage adjustment",null,null,null,null,null,null,null,null,null,null,null,null,null,null,null,"Totex for wage adjustment",null,null,null,null,null,null,null,null,null,null,null,null,null,null,null,"Totex for wage adjustment",null,null,null,null,null,null,null,null,null,null,null,null,null,null,null,"Totex for wage adjustment",null,null,null,null,null,null,null,null,null,null,null,null,null,null,null,"Totex for wage adjustment",null,null,null,null,null,null,null,null,null,null,null,null,null,null,null,"Totex for wage adjustment",null,null,null,null,null,null,null,null,null,null,null,null,null,null,null,"Totex for wage adjustment",null,null,null,null,null,null,null,null,null,null,null,null,null,null,null,"Totex for wage adjustment",null,null,null,null,null,null,null,null,null,null,null,null,null,null,null,"Totex for wage adjustment",null,null,null,null,null,null,null,null,null,null,null,null,null,null,null,"Totex for wage adjustment",null,null,null,null,null,null,null,null,null,null,null,null,null,null,null,"Totex for wage adjustment",null,null,null,null,null,null,null,null,null,null,null,null,null,null,null,"Totex for wage adjustment",null,null,null,null,null,null,null,null,null,null,null,null,null,null,null,"Totex for wage adjustment",null,null,null,null,null,null,null,null,null,null,null,null,null,null,null,"Totex for wage adjustment",null,null,null,null,null,null,null,null,null,null,null,null,null,null,null,"Totex for wage adjustment",null,null,null,null,null,null,null,null,null,null,null,null,null,null,null,"Totex for wage adjustment",null,null,null,null,null,null,null,null,null,null,null,null,null,null,null,"Totex for wage adjustment",null,null,null,null,null,null,null,null,null,null,null,null,null,null,null,"Totex for wage adjustment",null,null,null,null,null,null,null,null,null,null,null,null,null,null,null,"Totex for wage adjustment",null,null,null,null,null,null,null,null,null,null,null,null,null,null,null,"Totex for wage adjustment",null,null,null,null,null,null,null,null,null,null,null,null,null,null,null,"Totex for wage adjustment",null,null,null,null,null,null,null,null,null,null,null,null,null,null,null,"Totex for wage adjustment",null,null,null,null,null,null,null,null,null,null,null,null,null,null,null,"Totex for wage adjustment",null,null,null,null,null,null,null,null,null,null,null,null,null,null,null,"Totex for wage adjustment",null,null,null,null,null,null,null,null,null,null,null,null,null,null,null,"Totex for wage adjustment",null,null,null,null,null,null,null,null,null,null,null,null,null,null,null,"Totex for wage adjustment",null,null,null,null,null,null,null,null,null,null,null,null,null,null,null,"Totex for wage adjustment",null,null,null,null,null,null,null,null,null,null,null,null,null,null,null,"Totex for wage adjustment",null,null,null,null,null,null,null,null,null,null,null,null,null,null,null,"Totex for wage adjustment",null,null,null,null,null,null,null,null,null,null,null,null,null,null,null,"Totex for wage adjustment",null,null,null,null,null,null,null,null,null,null,null,null,null,null,null,"Totex for wage adjustment",null,null,null,null,null,null,null,null,null,null,null,null,null,null,null,"Totex for wage adjustment",null,null,null,null,null,null,null,null,null,null,null,null,null,null,null,"Totex for wage adjustment",null,null,null,null,null,null,null,null,null,null,null,null,null,null,null,"Totex for wage adjustment",null,null,null,null,null,null,null,null,null,null,null,null,null,null,null,"Totex for wage adjustment",null,null,null,null,null,null,null,null,null,null,null,null,null,null,null,"Totex for wage adjustment",null,null,null,null,null,null,null,null,null,null,null,null,null,null,null,"Totex for wage adjustment",null,null,null,null,null,null,null,null,null,null,null,null,null,null,null,"Totex for wage adjustment",null,null,null,null,null,null,null,null,null,null,null,null,null,null,null,"Totex for wage adjustment",null,null,null,null,null,null,null,null,null,null,null,null,null,null,null,"Totex for wage adjustment",null,null,null,null,null,null,null,null,null,null,null,null,null,null,null,"Totex for wage adjustment",null,null,null,null,null,null,null,null,null,null,null,null,null,null,null,"Totex for wage adjustment",null,null,null,null,null,null,null,null,null,null,null,null,null,null,null,"Totex for wage adjustment",null,null,null,null,null,null,null,null,null,null,null,null,null,null,null,"Totex for wage adjustment",null,null,null,null,null,null,null,null,null,null,null,null,null,null,null,"Totex for wage adjustment",null,null,null,null,null,null,null,null,null,null,null,null,null,null,null,"Totex for wage adjustment",null,null,null,null,null,null,null,null,null,null,null,null,null,null,null,"Totex for wage adjustment",null,null,null,null,null,null,null,null,null,null,null,null,null,null,null,"Totex for wage adjustment",null,null,null,null,null,null,null,null,null,null,null,null,null,null,null,"Totex for wage adjustment",null,null,null,null,null,null,null,null,null,null,null,null,null,null,null,"Totex for wage adjustment",null,null,null,null,null,null,null,null,null,null,null,null,null,null,null,"Totex for wage adjustment",null,null,null,null,null,null,null,null,null,null,null,null,null,null,null,"Totex for wage adjustment",null,null,null,null,null,null,null,null,null,null,null,null,null,null,null,"Totex for wage adjustment",null,null,null,null,null,null,null,null,null,null,null,null,null,null,null,"Totex for wage adjustment",null,null,null,null,null,null,null,null,null,null,null,null,null,null,null,"Totex for wage adjustment",null,null,null,null,null,null,null,null,null,null,null,null,null,null,null,"Totex for wage adjustment",null,null,null,null,null,null,null,null,null,null,null,null,null,null,null,"Totex for wage adjustment",null,null,null,null,null,null,null,null,null,null,null,null,null,null,null,"Totex for wage adjustment",null,null,null,null,null,null,null,null,null,null,null,null,null,null,null,"Totex for wage adjustment",null,null,null,null,null,null,null,null,null,null,null,null,null,null,null,"Totex for wage adjustment",null,null,null,null,null,null,null,null,null,null,null,null,null,null,null,"Totex for wage adjustment",null,null,null,null,null,null,null,null,null,null,null,null,null,null,null,"Totex for wage adjustment",null,null,null,null,null,null,null,null,null,null,null,null,null,null,null,"Totex for wage adjustment",null,null,null,null,null,null,null,null,null,null,null,null,null,null,null,"Totex for wage adjustment",null,null,null,null,null,null,null,null,null,null,null,null,null,null,null,"Totex for wage adjustment",null,null,null,null,null,null,null,null,null,null,null,null,null,null,null,"Totex for wage adjustment",null,null,null,null,null,null,null,null,null,null,null,null,null,null,null,"Totex for wage adjustment",null,null,null,null,null,null,null,null,null,null,null,null,null,null,null,"Totex for wage adjustment",null,null,null,null,null,null,null,null,null,null,null,null,null,null,null,"Totex for wage adjustment",null,null,null,null,null,null,null,null,null,null,null,null,null,null,null,"Totex for wage adjustment",null,null,null,null,null,null,null,null,null,null,null,null,null,null,null,"Totex for wage adjustment",null,null,null,null,null,null,null,null,null,null,null,null,null,null,null,"Totex for wage adjustment",null,null,null,null,null,null,null,null,null,null,null,null,null,null,null,"Totex for wage adjustment",null,null,null,null,null,null,null,null,null,null,null,null,null,null,null,"Totex for wage adjustment",null,null,null,null,null,null,null,null,null,null,null,null,null,null,null,"Totex for wage adjustment",null,null,null,null,null,null,null,null,null,null,null,null,null,null,null,"Totex for wage adjustment",null,null,null,null,null,null,null,null,null,null,null,null,null,null,null,"Totex for wage adjustment",null,null,null,null,null,null,null,null,null,null,null,null,null,null,null,"Totex for wage adjustment",null,null,null,null,null,null,null,null,null,null,null,null,null,null,null,"Totex for wage adjustment",null,null,null,null,null,null,null,null,null,null,null,null,null,null,null,"Totex for wage adjustment",null,null,null,null,null,null,null,null,null,null,null,null,null,null,null,"Totex for wage adjustment",null,null,null,null,null,null,null,null,null,null,null,null,null,null,null,"Totex for wage adjustment",null,null,null,null,null,null,null,null,null,null,null,null,null,null,null,"Totex for wage adjustment",null,null,null,null,null,null,null,null,null,null,null,null,null,null,null,"Totex for wage adjustment",null,null,null,null,null,null,null,null,null,null,null,null,null,null,null,"Totex for wage adjustment"]
[null,null,null,null,null,null,null,null,null,null,null,null,null,null,null,null,null,null,null,null,{"$f":" U$354","v":0},{"$f":" V$354","v":0},0,0,0,0,0,0,0,0,0,0,null,null,null,null,{"$f":" AK$354","v":0},0,0,0,0,0,0,0,0,0,0,0,null,null,null,null,{"$f":" BA$354","v":0},0,0,0,0,0,0,0,0,0,0,0,null,null,null,null,{"$f":" BQ$354","v":0},0,0,0,0,0,0,0,0,0,0,0,null,null,null,null,{"$f":" CG$354","v":0},0,0,0,0,0,0,0,0,0,0,0,null,null,null,null,{"$f":" CW$354","v":0},0,0,0,0,0,0,0,0,0,0,0,null,null,null,null,{"$f":" DM$354","v":0},0,0,0,0,0,0,0,0,0,0,0,null,null,null,null,{"$f":" EC$354","v":0},0,0,0,0,0,0,0,0,0,0,0,null,null,null,null,{"$f":" ES$354","v":0},0,0,0,0,0,0,0,0,0,0,0,null,null,null,null,{"$f":" FI$354","v":0},0,0,0,0,0,0,0,0,0,0,0,null,null,null,null,{"$f":" FY$354","v":0},0,0,0,0,0,0,0,0,0,0,0,null,null,null,null,{"$f":" GO$354","v":0},0,0,0,0,0,0,0,0,0,0,0,null,null,null,null,{"$f":" HE$354","v":0},0,0,0,0,0,0,0,0,0,0,0,null,null,null,null,{"$f":" HU$354","v":0},0,0,0,0,0,0,0,0,0,0,0,null,null,null,null,{"$f":" IK$354","v":0},0,0,0,0,0,0,0,0,0,0,0,null,null,null,null,{"$f":" JA$354","v":0},0,0,0,0,0,0,0,0,0,0,0,null,null,null,null,{"$f":" JQ$354","v":0},0,0,0,0,0,0,0,0,0,0,0,null,null,null,null,{"$f":" KG$354","v":0},0,0,0,0,0,0,0,0,0,0,0,null,null,null,null,{"$f":" KW$354","v":0},0,0,0,0,0,0,0,0,0,0,0,null,null,null,null,{"$f":" LM$354","v":0},0,0,0,0,0,0,0,0,0,0,0,null,null,null,null,{"$f":" MC$354","v":0},0,0,0,0,0,0,0,0,0,0,0,null,null,null,null,{"$f":" MS$354","v":0},0,0,0,0,0,0,0,0,0,0,0,null,null,null,null,{"$f":" NI$354","v":0},0,0,0,0,0,0,0,0,0,0,0,null,null,null,null,{"$f":" NY$354","v":0},0,0,0,0,0,0,0,0,0,0,0,null,null,null,null,{"$f":" OO$354","v":0},0,0,0,0,0,0,0,0,0,0,0,null,null,null,null,{"$f":" PE$354","v":0},0,0,0,0,0,0,0,0,0,0,0,null,null,null,null,{"$f":" PU$354","v":0},0,0,0,0,0,0,0,0,0,0,0,null,null,null,null,{"$f":" QK$354","v":0},0,0,0,0,0,0,0,0,0,0,0,null,null,null,null,{"$f":" RA$354","v":0},0,0,0,0,0,0,0,0,0,0,0,null,null,null,null,{"$f":" RQ$354","v":0},0,0,0,0,0,0,0,0,0,0,0,null,null,null,null,{"$f":" SG$354","v":0},0,0,0,0,0,0,0,0,0,0,0,null,null,null,null,{"$f":" SW$354","v":0},0,0,0,0,0,0,0,0,0,0,0,null,null,null,null,{"$f":" TM$354","v":0},0,0,0,0,0,0,0,0,0,0,0,null,null,null,null,{"$f":" UC$354","v":0},0,0,0,0,0,0,0,0,0,0,0,null,null,null,null,{"$f":" US$354","v":0},0,0,0,0,0,0,0,0,0,0,0,null,null,null,null,{"$f":" VI$354","v":0},0,0,0,0,0,0,0,0,0,0,0,null,null,null,null,{"$f":" VY$354","v":0},0,0,0,0,0,0,0,0,0,0,0,null,null,null,null,{"$f":" WO$354","v":0},0,0,0,0,0,0,0,0,0,0,0,null,null,null,null,{"$f":" XE$354","v":0},0,0,0,0,0,0,0,0,0,0,0,null,null,null,null,{"$f":" XU$354","v":0},0,0,0,0,0,0,0,0,0,0,0,null,null,null,null,{"$f":" YK$354","v":0},0,0,0,0,0,0,0,0,0,0,0,null,null,null,null,{"$f":" ZA$354","v":0},0,0,0,0,0,0,0,0,0,0,0,null,null,null,null,{"$f":" ZQ$354","v":0},0,0,0,0,0,0,0,0,0,0,0,null,null,null,null,{"$f":" AAG$354","v":0},0,0,0,0,0,0,0,0,0,0,0,null,null,null,null,{"$f":" AAW$354","v":0},0,0,0,0,0,0,0,0,0,0,0,null,null,null,null,{"$f":" ABM$354","v":0},0,0,0,0,0,0,0,0,0,0,0,null,null,null,null,{"$f":" ACC$354","v":0},0,0,0,0,0,0,0,0,0,0,0,null,null,null,null,{"$f":" ACS$354","v":0},0,0,0,0,0,0,0,0,0,0,0,null,null,null,null,{"$f":" ADI$354","v":0},0,0,0,0,0,0,0,0,0,0,0,null,null,null,null,{"$f":" ADY$354","v":0},0,0,0,0,0,0,0,0,0,0,0,null,null,null,null,{"$f":" AEO$354","v":0},0,0,0,0,0,0,0,0,0,0,0,null,null,null,null,{"$f":" AFE$354","v":0},0,0,0,0,0,0,0,0,0,0,0,null,null,null,null,{"$f":" AFU$354","v":0},0,0,0,0,0,0,0,0,0,0,0,null,null,null,null,{"$f":" AGK$354","v":0},0,0,0,0,0,0,0,0,0,0,0,null,null,null,null,{"$f":" AHA$354","v":0},0,0,0,0,0,0,0,0,0,0,0,null,null,null,null,{"$f":" AHQ$354","v":0},0,0,0,0,0,0,0,0,0,0,0,null,null,null,null,{"$f":" AIG$354","v":0},0,0,0,0,0,0,0,0,0,0,0,null,null,null,null,{"$f":" AIW$354","v":0},0,0,0,0,0,0,0,0,0,0,0,null,null,null,null,{"$f":" AJM$354","v":0},0,0,0,0,0,0,0,0,0,0,0,null,null,null,null,{"$f":" AKC$354","v":0},0,0,0,0,0,0,0,0,0,0,0,null,null,null,null,{"$f":" AKS$354","v":0},0,0,0,0,0,0,0,0,0,0,0,null,null,null,null,{"$f":" ALI$354","v":0},0,0,0,0,0,0,0,0,0,0,0,null,null,null,null,{"$f":" ALY$354","v":0},0,0,0,0,0,0,0,0,0,0,0,null,null,null,null,{"$f":" AMO$354","v":0},0,0,0,0,0,0,0,0,0,0,0,null,null,null,null,{"$f":" ANE$354","v":0},0,0,0,0,0,0,0,0,0,0,0,null,null,null,null,{"$f":" ANU$354","v":0},0,0,0,0,0,0,0,0,0,0,0,null,null,null,null,{"$f":" AOK$354","v":0},0,0,0,0,0,0,0,0,0,0,0,null,null,null,null,{"$f":" APA$354","v":0},0,0,0,0,0,0,0,0,0,0,0,null,null,null,null,{"$f":" APQ$354","v":0},0,0,0,0,0,0,0,0,0,0,0,null,null,null,null,{"$f":" AQG$354","v":0},0,0,0,0,0,0,0,0,0,0,0,null,null,null,null,{"$f":" AQW$354","v":0},0,0,0,0,0,0,0,0,0,0,0,null,null,null,null,{"$f":" ARM$354","v":0},0,0,0,0,0,0,0,0,0,0,0,null,null,null,null,{"$f":" ASC$354","v":0},0,0,0,0,0,0,0,0,0,0,0,null,null,null,null,{"$f":" ASS$354","v":0},0,0,0,0,0,0,0,0,0,0,0,null,null,null,null,{"$f":" ATI$354","v":0},0,0,0,0,0,0,0,0,0,0,0,null,null,null,null,{"$f":" ATY$354","v":0},0,0,0,0,0,0,0,0,0,0,0,null,null,null,null,{"$f":" AUO$354","v":0},0,0,0,0,0,0,0,0,0,0,0,null,null,null,null,{"$f":" AVE$354","v":0},0,0,0,0,0,0,0,0,0,0,0,null,null,null,null,{"$f":" AVU$354","v":0},0,0,0,0,0,0,0,0,0,0,0,null,null,null,null,{"$f":" AWK$354","v":0},0,0,0,0,0,0,0,0,0,0,0,null,null,null,null,{"$f":" AXA$354","v":0},0,0,0,0,0,0,0,0,0,0,0,null,null,null,null,{"$f":" AXQ$354","v":0},0,0,0,0,0,0,0,0,0,0,0,null,null,null,null,{"$f":" AYG$354","v":0},0,0,0,0,0,0,0,0,0,0,0,null,null,null,null,{"$f":" AYW$354","v":0},0,0,0,0,0,0,0,0,0,0,0,null,null,null,null,{"$f":" AZM$354","v":0},0,0,0,0,0,0,0,0,0,0,0,null,null,null,null,{"$f":" BAC$354","v":0},0,0,0,0,0,0,0,0,0,0,0,null,null,null,null,{"$f":" BAS$354","v":0},0,0,0,0,0,0,0,0,0,0,0,null,null,null,null,{"$f":" BBI$354","v":0},0,0,0,0,0,0,0,0,0,0,0,null,null,null,null,{"$f":" BBY$354","v":0},0,0,0,0,0,0,0,0,0,0,0,null,null,null,null,{"$f":" BCO$354","v":0},0,0,0,0,0,0,0,0,0,0,0,null,null,null,null,{"$f":" BDE$354","v":0},0,0,0,0,0,0,0,0,0,0,0,null,null,null,null,{"$f":" BDU$354","v":0},0,0,0,0,0,0,0,0,0,0,0,null,null,null,null,{"$f":" BEK$354","v":0},0,0,0,0,0,0,0,0,0,0,0,null,null,null,null,{"$f":" BFA$354","v":0},0,0,0,0,0,0,0,0,0,0,0,null,null,null,null,{"$f":" BFQ$354","v":0},0,0,0,0,0,0,0,0,0,0,0,null,null,null,null,{"$f":" BGG$354","v":0},0,0,0,0,0,0,0,0,0,0,0,null,null,null,null,{"$f":" BGW$354","v":0},0,0,0,0,0,0,0,0,0,0,0,null,null,null,null,{"$f":" BHM$354","v":0},0,0,0,0,0,0,0,0,0,0,0,null,null,null,null,{"$f":" BIC$354","v":0},0,0,0,0,0,0,0,0,0,0,0,null,null,null,null,{"$f":" BIS$354","v":0},0,0,0,0,0,0,0,0,0,0,0,null,null,null,null,{"$f":" BJI$354","v":0},0,0,0,0,0,0,0,0,0,0,0,null,null,null,null,{"$f":" BJY$354","v":0},0,0,0,0,0,0,0,0,0,0,0,null,null,null,null,{"$f":" BKO$354","v":0},0,0,0,0,0,0,0,0,0,0,0,null,null,null,null,{"$f":" BLE$354","v":0},0,0,0,0,0,0,0,0,0,0,0,null,null,null,null,{"$f":" BLU$354","v":0},0,0,0,0,0,0,0,0,0,0,0,null,null,null,null,{"$f":" BMK$354","v":0},0,0,0,0,0,0,0,0,0,0,0,null,null,null,null,{"$f":" BNA$354","v":0},0,0,0,0,0,0,0,0,0,0,0,null,null,null,null,{"$f":" BNQ$354","v":0},0,0,0,0,0,0,0,0,0,0,0,null,null,null,null,{"$f":" BOG$354","v":0},0,0,0,0,0,0,0,0,0,0,0,null,null,null,null,{"$f":" BOW$354","v":0},0,0,0,0,0,0,0,0,0,0,0,null,null,null,null,{"$f":" BPM$354","v":0},0,0,0,0,0,0,0,0,0,0,0,null,null,null,null,{"$f":" BQC$354","v":0},0,0,0,0,0,0,0,0,0,0,0,null,null,null,null,{"$f":" BQS$354","v":0},0,0,0,0,0,0,0,0,0,0,0,null,null,null,null,{"$f":" BRI$354","v":0},0,0,0,0,0,0,0,0,0,0,0,null,null,null,null,{"$f":" BRY$354","v":0},0,0,0,0,0,0,0,0,0,0,0,null,null,null,null,{"$f":" BSO$354","v":0},0,0,0,0,0,0,0,0,0,0,0,null,null,null,null,{"$f":" BTE$354","v":0},0,0,0,0,0,0,0,0,0,0,0,null,null,null,null,{"$f":" BTU$354","v":0},0,0,0,0,0,0,0,0,0,0,0,null,null,null,null,{"$f":" BUK$354","v":0},0,0,0,0,0,0,0,0,0,0,0,null,null,null,null,{"$f":" BVA$354","v":0},0,0,0,0,0,0,0,0,0,0,0,null,null,null,null,{"$f":" BVQ$354","v":0},0,0,0,0,0,0,0,0,0,0,0,null,null,null,null,{"$f":" BWG$354","v":0},0,0,0,0,0,0,0,0,0,0,0,null,null,null,null,{"$f":" BWW$354","v":0},0,0,0,0,0,0,0,0,0,0,0,null,null,null,null,{"$f":" BXM$354","v":0},0,0,0,0,0,0,0,0,0,0,0,null,null,null,null,{"$f":" BYC$354","v":0},0,0,0,0,0,0,0,0,0,0,0,null,null,null,null,{"$f":" BYS$354","v":0},0,0,0,0,0,0,0,0,0,0,0,null,null,null,null,{"$f":" BZI$354","v":0},0,0,0,0,0,0,0,0,0,0,0,null,null,null,null,{"$f":" BZY$354","v":0},0,0,0,0,0,0,0,0,0,0,0,null,null,null,null,{"$f":" CAO$354","v":0},0,0,0,0,0,0,0,0,0,0,0,null,null,null,null,{"$f":" CBE$354","v":0},0,0,0,0,0,0,0,0,0,0,0,null,null,null,null,{"$f":" CBU$354","v":0},0,0,0,0,0,0,0,0,0,0,0,null,null,null,null,{"$f":" CCK$354","v":0},0,0,0,0,0,0,0,0,0,0,0,null,null,null,null,{"$f":" CDA$354","v":0},0,0,0,0,0,0,0,0,0,0,0,null,null,null,null,{"$f":" CDQ$354","v":0},0,0,0,0,0,0,0,0,0,0,0,null,null,null,null,{"$f":" CEG$354","v":0},0,0,0,0,0,0,0,0,0,0,0,null,null,null,null,{"$f":" CEW$354","v":0},0,0,0,0,0,0,0,0,0,0,0,null,null,null,null,{"$f":" CFM$354","v":0},0,0,0,0,0,0,0,0,0,0,0,null,null,null,null,{"$f":" CGC$354","v":0},0,0,0,0,0,0,0,0,0,0,0,null,null,null,null,{"$f":" CGS$354","v":0},0,0,0,0,0,0,0,0,0,0,0,null,null,null,null,{"$f":" CHI$354","v":0},0,0,0,0,0,0,0,0,0,0,0,null,null,null,null,{"$f":" CHY$354","v":0},0,0,0,0,0,0,0,0,0,0,0,null,null,null,null,{"$f":" CIO$354","v":0},0,0,0,0,0,0,0,0,0,0,0,null,null,null,null,{"$f":" CJE$354","v":0},0,0,0,0,0,0,0,0,0,0,0,null,null,null,null,{"$f":" CJU$354","v":0},0,0,0,0,0,0,0,0,0,0,0,null,null,null,null,{"$f":" CKK$354","v":0},0,0,0,0,0,0,0,0,0,0,0,null,null,null,null,{"$f":" CLA$354","v":0},0,0,0,0,0,0,0,0,0,0,0,null,null,null,null,{"$f":" CLQ$354","v":0},0,0,0,0,0,0,0,0,0,0,0,null,null,null,null,{"$f":" CMG$354","v":0},0,0,0,0,0,0,0,0,0,0,0,null,null,null,null,{"$f":" CMW$354","v":0},0,0,0,0,0,0,0,0,0,0,0,null,null,null,null,{"$f":" CNM$354","v":0},0,0,0,0,0,0,0,0,0,0,0,null,null,null,null,{"$f":" COC$354","v":0},0,0,0,0,0,0,0,0,0,0,0,null,null,null,null,{"$f":" COS$354","v":0},0,0,0,0,0,0,0,0,0,0,0,null,null,null,null,{"$f":" CPI$354","v":0},0,0,0,0,0,0,0,0,0,0,0,null,null,null,null,{"$f":" CPY$354","v":0},0,0,0,0,0,0,0,0,0,0,0,null,null,null,null,{"$f":" CQO$354","v":0},0,0,0,0,0,0,0,0,0,0,0,null,null,null,null,{"$f":" CRE$354","v":0},0,0,0,0,0,0,0,0,0,0,0,null,null,null,null,{"$f":" CRU$354","v":0},0,0,0,0,0,0,0,0,0,0,0,null,null,null,null,{"$f":" CSK$354","v":0},0,0,0,0,0,0,0,0,0,0,0,null,null,null,null,{"$f":" CTA$354","v":0},0,0,0,0,0,0,0,0,0,0,0,null,null,null,null,{"$f":" CTQ$354","v":0},0,0,0,0,0,0,0,0,0,0,0,null,null,null,null,{"$f":" CUG$354","v":0},0,0,0,0,0,0,0,0,0,0,0,null,null,null,null,{"$f":" CUW$354","v":0},0,0,0,0,0,0,0,0,0,0,0,null,null,null,null,{"$f":" CVM$354","v":0},0,0,0,0,0,0,0,0,0,0,0,null,null,null,null,{"$f":" CWC$354","v":0},0,0,0,0,0,0,0,0,0,0,0,null,null,null,null,{"$f":" CWS$354","v":0},0,0,0,0,0,0,0,0,0,0,0,null,null,null,null,{"$f":" CXI$354","v":0},0,0,0,0,0,0,0,0,0,0,0,null,null,null,null,{"$f":" CXY$354","v":0},0,0,0,0,0,0,0,0,0,0,0,null,null,null,null,{"$f":" CYO$354","v":0},0,0,0,0,0,0,0,0,0,0,0,null,null,null,null,{"$f":" CZE$354","v":0},0,0,0,0,0,0,0,0,0,0,0,null,null,null,null,{"$f":" CZU$354","v":0},0,0,0,0,0,0,0,0,0,0,0,null,null,null,null,{"$f":" DAK$354","v":0},0,0,0,0,0,0,0,0,0,0,0,null,null,null,null,{"$f":" DBA$354","v":0},0,0,0,0,0,0,0,0,0,0,0,null,null,null,null,{"$f":" DBQ$354","v":0},0,0,0,0,0,0,0,0,0,0,0,null,null,null,null,{"$f":" DCG$354","v":0},0,0,0,0,0,0,0,0,0,0,0,null,null,null,null,{"$f":" DCW$354","v":0},0,0,0,0,0,0,0,0,0,0,0,null,null,null,null,{"$f":" DDM$354","v":0},0,0,0,0,0,0,0,0,0,0,0,null,null,null,null,{"$f":" DEC$354","v":0},0,0,0,0,0,0,0,0,0,0,0,null,null,null,null,{"$f":" DES$354","v":0},0,0,0,0,0,0,0,0,0,0,0,null,null,null,null,{"$f":" DFI$354","v":0},0,0,0,0,0,0,0,0,0,0,0,null,null,null,null,{"$f":" DFY$354","v":0},0,0,0,0,0,0,0,0,0,0,0,null,null,null,null,{"$f":" DGO$354","v":0},0,0,0,0,0,0,0,0,0,0,0,null,null,null,null,{"$f":" DHE$354","v":0},0,0,0,0,0,0,0,0,0,0,0,null,null,null,null,{"$f":" DHU$354","v":0},0,0,0,0,0,0,0,0,0,0,0,null,null,null,null,{"$f":" DIK$354","v":0},0,0,0,0,0,0,0,0,0,0,0,null,null,null,null,{"$f":" DJA$354","v":0},0,0,0,0,0,0,0,0,0,0,0,null,null,null,null,{"$f":" DJQ$354","v":0},0,0,0,0,0,0,0,0,0,0,0,null,null,null,null,{"$f":" DKG$354","v":0},0,0,0,0,0,0,0,0,0,0,0,null,null,null,null,{"$f":" DKW$354","v":0},0,0,0,0,0,0,0,0,0,0,0,null,null,null,null,{"$f":" DLM$354","v":0},0,0,0,0,0,0,0,0,0,0,0,null,null,null,null,{"$f":" DMC$354","v":0},0,0,0,0,0,0,0,0,0,0,0,null,null,null,null,{"$f":" DMS$354","v":0},0,0,0,0,0,0,0,0,0,0,0,null,null,null,null,{"$f":" DNI$354","v":0},0,0,0,0,0,0,0,0,0,0,0,null,null,null,null,{"$f":" DNY$354","v":0},0,0,0,0,0,0,0,0,0,0,0,null,null,null,null,{"$f":" DOO$354","v":0},0,0,0,0,0,0,0,0,0,0,0,null,null,null,null,{"$f":" DPE$354","v":0},0,0,0,0,0,0,0,0,0,0,0,null,null,null,null,{"$f":" DPU$354","v":0},0,0,0,0,0,0,0,0,0,0,0,null,null,null,null,{"$f":" DQK$354","v":0},0,0,0,0,0,0,0,0,0,0,0,null,null,null,null,{"$f":" DRA$354","v":0},0,0,0,0,0,0,0,0,0,0,0,null,null,null,null,{"$f":" DRQ$354","v":0},0,0,0,0,0,0,0,0,0,0,0,null,null,null,null,{"$f":" DSG$354","v":0},0,0,0,0,0,0,0,0,0,0,0,null,null,null,null,{"$f":" DSW$354","v":0},0,0,0,0,0,0,0,0,0,0,0,null,null,null,null,{"$f":" DTM$354","v":0},0,0,0,0,0,0,0,0,0,0,0,null,null,null,null,{"$f":" DUC$354","v":0},0,0,0,0,0,0,0,0,0,0,0,null,null,null,null,{"$f":" DUS$354","v":0},0,0,0,0,0,0,0,0,0,0,0,null,null,null,null,{"$f":" DVI$354","v":0},0,0,0,0,0,0,0,0,0,0,0,null,null,null,null,{"$f":" DVY$354","v":0},0,0,0,0,0,0,0,0,0,0,0,null,null,null,null,{"$f":" DWO$354","v":0},0,0,0,0,0,0,0,0,0,0,0,null,null,null,null,{"$f":" DXE$354","v":0},0,0,0,0,0,0,0,0,0,0,0,null,null,null,null,{"$f":" DXU$354","v":0},0,0,0,0,0,0,0,0,0,0,0,null,null,null,null,{"$f":" DYK$354","v":0},0,0,0,0,0,0,0,0,0,0,0,null,null,null,null,{"$f":" DZA$354","v":0},0,0,0,0,0,0,0,0,0,0,0,null,null,null,null,{"$f":" DZQ$354","v":0},0,0,0,0,0,0,0,0,0,0,0,null,null,null,null,{"$f":" EAG$354","v":0},0,0,0,0,0,0,0,0,0,0,0,null,null,null,null,{"$f":" EAW$354","v":0},0,0,0,0,0,0,0,0,0,0,0,null,null,null,null,{"$f":" EBM$354","v":0},0,0,0,0,0,0,0,0,0,0,0,null,null,null,null,{"$f":" ECC$354","v":0},0,0,0,0,0,0,0,0,0,0,0,null,null,null,null,{"$f":" ECS$354","v":0},0,0,0,0,0,0,0,0,0,0,0,null,null,null,null,{"$f":" EDI$354","v":0},0,0,0,0,0,0,0,0,0,0,0,null,null,null,null,{"$f":" EDY$354","v":0},0,0,0,0,0,0,0,0,0,0,0,null,null,null,null,{"$f":" EEO$354","v":0},0,0,0,0,0,0,0,0,0,0,0,null,null,null,null,{"$f":" EFE$354","v":0},0,0,0,0,0,0,0,0,0,0,0,null,null,null,null,{"$f":" EFU$354","v":0},0,0,0,0,0,0,0,0,0,0,0,null,null,null,null,{"$f":" EGK$354","v":0},0,0,0,0,0,0,0,0,0,0,0,null,null,null,null,{"$f":" EHA$354","v":0},0,0,0,0,0,0,0,0,0,0,0,null,null,null,null,{"$f":" EHQ$354","v":0},0,0,0,0,0,0,0,0,0,0,0,null,null,null,null,{"$f":" EIG$354","v":0},0,0,0,0,0,0,0,0,0,0,0,null,null,null,null,{"$f":" EIW$354","v":0},0,0,0,0,0,0,0,0,0,0,0,null,null,null,null,{"$f":" EJM$354","v":0},0,0,0,0,0,0,0,0,0,0,0,null,null,null,null,{"$f":" EKC$354","v":0},0,0,0,0,0,0,0,0,0,0,0,null,null,null,null,{"$f":" EKS$354","v":0},0,0,0,0,0,0,0,0,0,0,0,null,null,null,null,{"$f":" ELI$354","v":0},0,0,0,0,0,0,0,0,0,0,0,null,null,null,null,{"$f":" ELY$354","v":0},0,0,0,0,0,0,0,0,0,0,0,null,null,null,null,{"$f":" EMO$354","v":0},0,0,0,0,0,0,0,0,0,0,0,null,null,null,null,{"$f":" ENE$354","v":0},0,0,0,0,0,0,0,0,0,0,0,null,null,null,null,{"$f":" ENU$354","v":0},0,0,0,0,0,0,0,0,0,0,0,null,null,null,null,{"$f":" EOK$354","v":0},0,0,0,0,0,0,0,0,0,0,0,null,null,null,null,{"$f":" EPA$354","v":0},0,0,0,0,0,0,0,0,0,0,0,null,null,null,null,{"$f":" EPQ$354","v":0},0,0,0,0,0,0,0,0,0,0,0,null,null,null,null,{"$f":" EQG$354","v":0},0,0,0,0,0,0,0,0,0,0,0,null,null,null,null,{"$f":" EQW$354","v":0},0,0,0,0,0,0,0,0,0,0,0,null,null,null,null,{"$f":" ERM$354","v":0},0,0,0,0,0,0,0,0,0,0,0,null,null,null,null,{"$f":" ESC$354","v":0},0,0,0,0,0,0,0,0,0,0,0,null,null,null,null,{"$f":" ESS$354","v":0},0,0,0,0,0,0,0,0,0,0,0,null,null,null,null,{"$f":" ETI$354","v":0},0,0,0,0,0,0,0,0,0,0,0,null,null,null,null,{"$f":" ETY$354","v":0},0,0,0,0,0,0,0,0,0,0,0,null,null,null,null,{"$f":" EUO$354","v":0},0,0,0,0,0,0,0,0,0,0,0,null,null,null,null,{"$f":" EVE$354","v":0},0,0,0,0,0,0,0,0,0,0,0,null,null,null,null,{"$f":" EVU$354","v":0},0,0,0,0,0,0,0,0,0,0,0,null,null,null,null,{"$f":" EWK$354","v":0},0,0,0,0,0,0,0,0,0,0,0,null,null,null,null,{"$f":" EXA$354","v":0},0,0,0,0,0,0,0,0,0,0,0,null,null,null,null,{"$f":" EXQ$354","v":0},0,0,0,0,0,0,0,0,0,0,0,null,null,null,null,{"$f":" EYG$354","v":0},0,0,0,0,0,0,0,0,0,0,0,null,null,null,null,{"$f":" EYW$354","v":0},0,0,0,0,0,0,0,0,0,0,0,null,null,null,null,{"$f":" EZM$354","v":0},0,0,0,0,0,0,0,0,0,0,0,null,null,null,null,{"$f":" FAC$354","v":0},0,0,0,0,0,0,0,0,0,0,0,null,null,null,null,{"$f":" FAS$354","v":0},0,0,0,0,0,0,0,0,0,0,0,null,null,null,null,{"$f":" FBI$354","v":0},0,0,0,0,0,0,0,0,0,0,0,null,null,null,null,{"$f":" FBY$354","v":0},0,0,0,0,0,0,0,0,0,0,0,null,null,null,null,{"$f":" FCO$354","v":0},0,0,0,0,0,0,0,0,0,0,0,null,null,null,null,{"$f":" FDE$354","v":0},0,0,0,0,0,0,0,0,0,0,0,null,null,null,null,{"$f":" FDU$354","v":0},0,0,0,0,0,0,0,0,0,0,0,null,null,null,null,{"$f":" FEK$354","v":0},0,0,0,0,0,0,0,0,0,0,0,null,null,null,null,{"$f":" FFA$354","v":0},0,0,0,0,0,0,0,0,0,0,0,null,null,null,null,{"$f":" FFQ$354","v":0},0,0,0,0,0,0,0,0,0,0,0,null,null,null,null,{"$f":" FGG$354","v":0},0,0,0,0,0,0,0,0,0,0,0,null,null,null,null,{"$f":" FGW$354","v":0},0,0,0,0,0,0,0,0,0,0,0,null,null,null,null,{"$f":" FHM$354","v":0},0,0,0,0,0,0,0,0,0,0,0,null,null,null,null,{"$f":" FIC$354","v":0},0,0,0,0,0,0,0,0,0,0,0,null,null,null,null,{"$f":" FIS$354","v":0},0,0,0,0,0,0,0,0,0,0,0,null,null,null,null,{"$f":" FJI$354","v":0},0,0,0,0,0,0,0,0,0,0,0,null,null,null,null,{"$f":" FJY$354","v":0},0,0,0,0,0,0,0,0,0,0,0,null,null,null,null,{"$f":" FKO$354","v":0},0,0,0,0,0,0,0,0,0,0,0,null,null,null,null,{"$f":" FLE$354","v":0},0,0,0,0,0,0,0,0,0,0,0,null,null,null,null,{"$f":" FLU$354","v":0},0,0,0,0,0,0,0,0,0,0,0,null,null,null,null,{"$f":" FMK$354","v":0},0,0,0,0,0,0,0,0,0,0,0,null,null,null,null,{"$f":" FNA$354","v":0},0,0,0,0,0,0,0,0,0,0,0,null,null,null,null,{"$f":" FNQ$354","v":0},0,0,0,0,0,0,0,0,0,0,0,null,null,null,null,{"$f":" FOG$354","v":0},0,0,0,0,0,0,0,0,0,0,0,null,null,null,null,{"$f":" FOW$354","v":0},0,0,0,0,0,0,0,0,0,0,0,null,null,null,null,{"$f":" FPM$354","v":0},0,0,0,0,0,0,0,0,0,0,0,null,null,null,null,{"$f":" FQC$354","v":0},0,0,0,0,0,0,0,0,0,0,0,null,null,null,null,{"$f":" FQS$354","v":0},0,0,0,0,0,0,0,0,0,0,0,null,null,null,null,{"$f":" FRI$354","v":0},0,0,0,0,0,0,0,0,0,0,0,null,null,null,null,{"$f":" FRY$354","v":0},0,0,0,0,0,0,0,0,0,0,0,null,null,null,null,{"$f":" FSO$354","v":0},0,0,0,0,0,0,0,0,0,0,0,null,null,null,null,{"$f":" FTE$354","v":0},0,0,0,0,0,0,0,0,0,0,0,null,null,null,null,{"$f":" FTU$354","v":0},0,0,0,0,0,0,0,0,0,0,0,null,null,null,null,{"$f":" FUK$354","v":0},0,0,0,0,0,0,0,0,0,0,0,null,null,null,null,{"$f":" FVA$354","v":0},0,0,0,0,0,0,0,0,0,0,0,null,null,null,null,{"$f":" FVQ$354","v":0},0,0,0,0,0,0,0,0,0,0,0,null,null,null,null,{"$f":" FWG$354","v":0},0,0,0,0,0,0,0,0,0,0,0,null,null,null,null,{"$f":" FWW$354","v":0},0,0,0,0,0,0,0,0,0,0,0,null,null,null,null,{"$f":" FXM$354","v":0},0,0,0,0,0,0,0,0,0,0,0,null,null,null,null,{"$f":" FYC$354","v":0},0,0,0,0,0,0,0,0,0,0,0,null,null,null,null,{"$f":" FYS$354","v":0},0,0,0,0,0,0,0,0,0,0,0,null,null,null,null,{"$f":" FZI$354","v":0},0,0,0,0,0,0,0,0,0,0,0,null,null,null,null,{"$f":" FZY$354","v":0},0,0,0,0,0,0,0,0,0,0,0,null,null,null,null,{"$f":" GAO$354","v":0},0,0,0,0,0,0,0,0,0,0,0,null,null,null,null,{"$f":" GBE$354","v":0},0,0,0,0,0,0,0,0,0,0,0,null,null,null,null,{"$f":" GBU$354","v":0},0,0,0,0,0,0,0,0,0,0,0,null,null,null,null,{"$f":" GCK$354","v":0},0,0,0,0,0,0,0,0,0,0,0,null,null,null,null,{"$f":" GDA$354","v":0},0,0,0,0,0,0,0,0,0,0,0,null,null,null,null,{"$f":" GDQ$354","v":0},0,0,0,0,0,0,0,0,0,0,0,null,null,null,null,{"$f":" GEG$354","v":0},0,0,0,0,0,0,0,0,0,0,0,null,null,null,null,{"$f":" GEW$354","v":0},0,0,0,0,0,0,0,0,0,0,0,null,null,null,null,{"$f":" GFM$354","v":0},0,0,0,0,0,0,0,0,0,0,0,null,null,null,null,{"$f":" GGC$354","v":0},0,0,0,0,0,0,0,0,0,0,0,null,null,null,null,{"$f":" GGS$354","v":0},0,0,0,0,0,0,0,0,0,0,0,null,null,null,null,{"$f":" GHI$354","v":0},0,0,0,0,0,0,0,0,0,0,0,null,null,null,null,{"$f":" GHY$354","v":0},0,0,0,0,0,0,0,0,0,0,0,null,null,null,null,{"$f":" GIO$354","v":0},0,0,0,0,0,0,0,0,0,0,0,null,null,null,null,{"$f":" GJE$354","v":0},0,0,0,0,0,0,0,0,0,0,0,null,null,null,null,{"$f":" GJU$354","v":0},0,0,0,0,0,0,0,0,0,0,0,null,null,null,null,{"$f":" GKK$354","v":0},0,0,0,0,0,0,0,0,0,0,0,null,null,null,null,{"$f":" GLA$354","v":0},0,0,0,0,0,0,0,0,0,0,0,null,null,null,null,{"$f":" GLQ$354","v":0},0,0,0,0,0,0,0,0,0,0,0,null,null,null,null,{"$f":" GMG$354","v":0},0,0,0,0,0,0,0,0,0,0,0,null,null,null,null,{"$f":" GMW$354","v":0},0,0,0,0,0,0,0,0,0,0,0,null,null,null,null,{"$f":" GNM$354","v":0},0,0,0,0,0,0,0,0,0,0,0,null,null,null,null,{"$f":" GOC$354","v":0},0,0,0,0,0,0,0,0,0,0,0,null,null,null,null,{"$f":" GOS$354","v":0},0,0,0,0,0,0,0,0,0,0,0,null,null,null,null,{"$f":" GPI$354","v":0},0,0,0,0,0,0,0,0,0,0,0,null,null,null,null,{"$f":" GPY$354","v":0},0,0,0,0,0,0,0,0,0,0,0,null,null,null,null,{"$f":" GQO$354","v":0},0,0,0,0,0,0,0,0,0,0,0,null,null,null,null,{"$f":" GRE$354","v":0},0,0,0,0,0,0,0,0,0,0,0,null,null,null,null,{"$f":" GRU$354","v":0},0,0,0,0,0,0,0,0,0,0,0,null,null,null,null,{"$f":" GSK$354","v":0},0,0,0,0,0,0,0,0,0,0,0,null,null,null,null,{"$f":" GTA$354","v":0},0,0,0,0,0,0,0,0,0,0,0,null,null,null,null,{"$f":" GTQ$354","v":0},0,0,0,0,0,0,0,0,0,0,0,null,null,null,null,{"$f":" GUG$354","v":0},0,0,0,0,0,0,0,0,0,0,0,null,null,null,null,{"$f":" GUW$354","v":0},0,0,0,0,0,0,0,0,0,0,0,null,null,null,null,{"$f":" GVM$354","v":0},0,0,0,0,0,0,0,0,0,0,0,null,null,null,null,{"$f":" GWC$354","v":0},0,0,0,0,0,0,0,0,0,0,0,null,null,null,null,{"$f":" GWS$354","v":0},0,0,0,0,0,0,0,0,0,0,0,null,null,null,null,{"$f":" GXI$354","v":0},0,0,0,0,0,0,0,0,0,0,0,null,null,null,null,{"$f":" GXY$354","v":0},0,0,0,0,0,0,0,0,0,0,0,null,null,null,null,{"$f":" GYO$354","v":0},0,0,0,0,0,0,0,0,0,0,0,null,null,null,null,{"$f":" GZE$354","v":0},0,0,0,0,0,0,0,0,0,0,0,null,null,null,null,{"$f":" GZU$354","v":0},0,0,0,0,0,0,0,0,0,0,0,null,null,null,null,{"$f":" HAK$354","v":0},0,0,0,0,0,0,0,0,0,0,0,null,null,null,null,{"$f":" HBA$354","v":0},0,0,0,0,0,0,0,0,0,0,0,null,null,null,null,{"$f":" HBQ$354","v":0},0,0,0,0,0,0,0,0,0,0,0,null,null,null,null,{"$f":" HCG$354","v":0},0,0,0,0,0,0,0,0,0,0,0,null,null,null,null,{"$f":" HCW$354","v":0},0,0,0,0,0,0,0,0,0,0,0,null,null,null,null,{"$f":" HDM$354","v":0},0,0,0,0,0,0,0,0,0,0,0,null,null,null,null,{"$f":" HEC$354","v":0},0,0,0,0,0,0,0,0,0,0,0,null,null,null,null,{"$f":" HES$354","v":0},0,0,0,0,0,0,0,0,0,0,0,null,null,null,null,{"$f":" HFI$354","v":0},0,0,0,0,0,0,0,0,0,0,0,null,null,null,null,{"$f":" HFY$354","v":0},0,0,0,0,0,0,0,0,0,0,0,null,null,null,null,{"$f":" HGO$354","v":0},0,0,0,0,0,0,0,0,0,0,0,null,null,null,null,{"$f":" HHE$354","v":0},0,0,0,0,0,0,0,0,0,0,0,null,null,null,null,{"$f":" HHU$354","v":0},0,0,0,0,0,0,0,0,0,0,0,null,null,null,null,{"$f":" HIK$354","v":0},0,0,0,0,0,0,0,0,0,0,0,null,null,null,null,{"$f":" HJA$354","v":0},0,0,0,0,0,0,0,0,0,0,0,null,null,null,null,{"$f":" HJQ$354","v":0},0,0,0,0,0,0,0,0,0,0,0,null,null,null,null,{"$f":" HKG$354","v":0},0,0,0,0,0,0,0,0,0,0,0,null,null,null,null,{"$f":" HKW$354","v":0},0,0,0,0,0,0,0,0,0,0,0,null,null,null,null,{"$f":" HLM$354","v":0},0,0,0,0,0,0,0,0,0,0,0,null,null,null,null,{"$f":" HMC$354","v":0},0,0,0,0,0,0,0,0,0,0,0,null,null,null,null,{"$f":" HMS$354","v":0},0,0,0,0,0,0,0,0,0,0,0,null,null,null,null,{"$f":" HNI$354","v":0},0,0,0,0,0,0,0,0,0,0,0,null,null,null,null,{"$f":" HNY$354","v":0},0,0,0,0,0,0,0,0,0,0,0,null,null,null,null,{"$f":" HOO$354","v":0},0,0,0,0,0,0,0,0,0,0,0,null,null,null,null,{"$f":" HPE$354","v":0},0,0,0,0,0,0,0,0,0,0,0,null,null,null,null,{"$f":" HPU$354","v":0},0,0,0,0,0,0,0,0,0,0,0,null,null,null,null,{"$f":" HQK$354","v":0},0,0,0,0,0,0,0,0,0,0,0,null,null,null,null,{"$f":" HRA$354","v":0},0,0,0,0,0,0,0,0,0,0,0,null,null,null,null,{"$f":" HRQ$354","v":0},0,0,0,0,0,0,0,0,0,0,0,null,null,null,null,{"$f":" HSG$354","v":0},0,0,0,0,0,0,0,0,0,0,0,null,null,null,null,{"$f":" HSW$354","v":0},0,0,0,0,0,0,0,0,0,0,0,null,null,null,null,{"$f":" HTM$354","v":0},0,0,0,0,0,0,0,0,0,0,0,null,null,null,null,{"$f":" HUC$354","v":0},0,0,0,0,0,0,0,0,0,0,0,null,null,null,null,{"$f":" HUS$354","v":0},0,0,0,0,0,0,0,0,0,0,0,null,null,null,null,{"$f":" HVI$354","v":0},0,0,0,0,0,0,0,0,0,0,0,null,null,null,null,{"$f":" HVY$354","v":0},0,0,0,0,0,0,0,0,0,0,0,null,null,null,null,{"$f":" HWO$354","v":0},0,0,0,0,0,0,0,0,0,0,0,null,null,null,null,{"$f":" HXE$354","v":0},0,0,0,0,0,0,0,0,0,0,0,null,null,null,null,{"$f":" HXU$354","v":0},0,0,0,0,0,0,0,0,0,0,0,null,null,null,null,{"$f":" HYK$354","v":0},0,0,0,0,0,0,0,0,0,0,0,null,null,null,null,{"$f":" HZA$354","v":0},0,0,0,0,0,0,0,0,0,0,0,null,null,null,null,{"$f":" HZQ$354","v":0},0,0,0,0,0,0,0,0,0,0,0,null,null,null,null,{"$f":" IAG$354","v":0},0,0,0,0,0,0,0,0,0,0,0,null,null,null,null,{"$f":" IAW$354","v":0},0,0,0,0,0,0,0,0,0,0,0,null,null,null,null,{"$f":" IBM$354","v":0},0,0,0,0,0,0,0,0,0,0,0,null,null,null,null,{"$f":" ICC$354","v":0},0,0,0,0,0,0,0,0,0,0,0,null,null,null,null,{"$f":" ICS$354","v":0},0,0,0,0,0,0,0,0,0,0,0,null,null,null,null,{"$f":" IDI$354","v":0},0,0,0,0,0,0,0,0,0,0,0,null,null,null,null,{"$f":" IDY$354","v":0},0,0,0,0,0,0,0,0,0,0,0,null,null,null,null,{"$f":" IEO$354","v":0},0,0,0,0,0,0,0,0,0,0,0,null,null,null,null,{"$f":" IFE$354","v":0},0,0,0,0,0,0,0,0,0,0,0,null,null,null,null,{"$f":" IFU$354","v":0},0,0,0,0,0,0,0,0,0,0,0,null,null,null,null,{"$f":" IGK$354","v":0},0,0,0,0,0,0,0,0,0,0,0,null,null,null,null,{"$f":" IHA$354","v":0},0,0,0,0,0,0,0,0,0,0,0,null,null,null,null,{"$f":" IHQ$354","v":0},0,0,0,0,0,0,0,0,0,0,0,null,null,null,null,{"$f":" IIG$354","v":0},0,0,0,0,0,0,0,0,0,0,0,null,null,null,null,{"$f":" IIW$354","v":0},0,0,0,0,0,0,0,0,0,0,0,null,null,null,null,{"$f":" IJM$354","v":0},0,0,0,0,0,0,0,0,0,0,0,null,null,null,null,{"$f":" IKC$354","v":0},0,0,0,0,0,0,0,0,0,0,0,null,null,null,null,{"$f":" IKS$354","v":0},0,0,0,0,0,0,0,0,0,0,0,null,null,null,null,{"$f":" ILI$354","v":0},0,0,0,0,0,0,0,0,0,0,0,null,null,null,null,{"$f":" ILY$354","v":0},0,0,0,0,0,0,0,0,0,0,0,null,null,null,null,{"$f":" IMO$354","v":0},0,0,0,0,0,0,0,0,0,0,0,null,null,null,null,{"$f":" INE$354","v":0},0,0,0,0,0,0,0,0,0,0,0,null,null,null,null,{"$f":" INU$354","v":0},0,0,0,0,0,0,0,0,0,0,0,null,null,null,null,{"$f":" IOK$354","v":0},0,0,0,0,0,0,0,0,0,0,0,null,null,null,null,{"$f":" IPA$354","v":0},0,0,0,0,0,0,0,0,0,0,0,null,null,null,null,{"$f":" IPQ$354","v":0},0,0,0,0,0,0,0,0,0,0,0,null,null,null,null,{"$f":" IQG$354","v":0},0,0,0,0,0,0,0,0,0,0,0,null,null,null,null,{"$f":" IQW$354","v":0},0,0,0,0,0,0,0,0,0,0,0,null,null,null,null,{"$f":" IRM$354","v":0},0,0,0,0,0,0,0,0,0,0,0,null,null,null,null,{"$f":" ISC$354","v":0},0,0,0,0,0,0,0,0,0,0,0,null,null,null,null,{"$f":" ISS$354","v":0},0,0,0,0,0,0,0,0,0,0,0,null,null,null,null,{"$f":" ITI$354","v":0},0,0,0,0,0,0,0,0,0,0,0,null,null,null,null,{"$f":" ITY$354","v":0},0,0,0,0,0,0,0,0,0,0,0,null,null,null,null,{"$f":" IUO$354","v":0},0,0,0,0,0,0,0,0,0,0,0,null,null,null,null,{"$f":" IVE$354","v":0},0,0,0,0,0,0,0,0,0,0,0,null,null,null,null,{"$f":" IVU$354","v":0},0,0,0,0,0,0,0,0,0,0,0,null,null,null,null,{"$f":" IWK$354","v":0},0,0,0,0,0,0,0,0,0,0,0,null,null,null,null,{"$f":" IXA$354","v":0},0,0,0,0,0,0,0,0,0,0,0,null,null,null,null,{"$f":" IXQ$354","v":0},0,0,0,0,0,0,0,0,0,0,0,null,null,null,null,{"$f":" IYG$354","v":0},0,0,0,0,0,0,0,0,0,0,0,null,null,null,null,{"$f":" IYW$354","v":0},0,0,0,0,0,0,0,0,0,0,0,null,null,null,null,{"$f":" IZM$354","v":0},0,0,0,0,0,0,0,0,0,0,0,null,null,null,null,{"$f":" JAC$354","v":0},0,0,0,0,0,0,0,0,0,0,0,null,null,null,null,{"$f":" JAS$354","v":0},0,0,0,0,0,0,0,0,0,0,0,null,null,null,null,{"$f":" JBI$354","v":0},0,0,0,0,0,0,0,0,0,0,0,null,null,null,null,{"$f":" JBY$354","v":0},0,0,0,0,0,0,0,0,0,0,0,null,null,null,null,{"$f":" JCO$354","v":0},0,0,0,0,0,0,0,0,0,0,0,null,null,null,null,{"$f":" JDE$354","v":0},0,0,0,0,0,0,0,0,0,0,0,null,null,null,null,{"$f":" JDU$354","v":0},0,0,0,0,0,0,0,0,0,0,0,null,null,null,null,{"$f":" JEK$354","v":0},0,0,0,0,0,0,0,0,0,0,0,null,null,null,null,{"$f":" JFA$354","v":0},0,0,0,0,0,0,0,0,0,0,0,null,null,null,null,{"$f":" JFQ$354","v":0},0,0,0,0,0,0,0,0,0,0,0,null,null,null,null,{"$f":" JGG$354","v":0},0,0,0,0,0,0,0,0,0,0,0,null,null,null,null,{"$f":" JGW$354","v":0},0,0,0,0,0,0,0,0,0,0,0,null,null,null,null,{"$f":" JHM$354","v":0},0,0,0,0,0,0,0,0,0,0,0,null,null,null,null,{"$f":" JIC$354","v":0},0,0,0,0,0,0,0,0,0,0,0,null,null,null,null,{"$f":" JIS$354","v":0},0,0,0,0,0,0,0,0,0,0,0,null,null,null,null,{"$f":" JJI$354","v":0},0,0,0,0,0,0,0,0,0,0,0,null,null,null,null,{"$f":" JJY$354","v":0},0,0,0,0,0,0,0,0,0,0,0,null,null,null,null,{"$f":" JKO$354","v":0},0,0,0,0,0,0,0,0,0,0,0,null,null,null,null,{"$f":" JLE$354","v":0},0,0,0,0,0,0,0,0,0,0,0,null,null,null,null,{"$f":" JLU$354","v":0},0,0,0,0,0,0,0,0,0,0,0,null,null,null,null,{"$f":" JMK$354","v":0},0,0,0,0,0,0,0,0,0,0,0,null,null,null,null,{"$f":" JNA$354","v":0},0,0,0,0,0,0,0,0,0,0,0,null,null,null,null,{"$f":" JNQ$354","v":0},0,0,0,0,0,0,0,0,0,0,0,null,null,null,null,{"$f":" JOG$354","v":0},0,0,0,0,0,0,0,0,0,0,0,null,null,null,null,{"$f":" JOW$354","v":0},0,0,0,0,0,0,0,0,0,0,0,null,null,null,null,{"$f":" JPM$354","v":0},0,0,0,0,0,0,0,0,0,0,0,null,null,null,null,{"$f":" JQC$354","v":0},0,0,0,0,0,0,0,0,0,0,0,null,null,null,null,{"$f":" JQS$354","v":0},0,0,0,0,0,0,0,0,0,0,0,null,null,null,null,{"$f":" JRI$354","v":0},0,0,0,0,0,0,0,0,0,0,0,null,null,null,null,{"$f":" JRY$354","v":0},0,0,0,0,0,0,0,0,0,0,0,null,null,null,null,{"$f":" JSO$354","v":0},0,0,0,0,0,0,0,0,0,0,0,null,null,null,null,{"$f":" JTE$354","v":0},0,0,0,0,0,0,0,0,0,0,0,null,null,null,null,{"$f":" JTU$354","v":0},0,0,0,0,0,0,0,0,0,0,0,null,null,null,null,{"$f":" JUK$354","v":0},0,0,0,0,0,0,0,0,0,0,0,null,null,null,null,{"$f":" JVA$354","v":0},0,0,0,0,0,0,0,0,0,0,0,null,null,null,null,{"$f":" JVQ$354","v":0},0,0,0,0,0,0,0,0,0,0,0,null,null,null,null,{"$f":" JWG$354","v":0},0,0,0,0,0,0,0,0,0,0,0,null,null,null,null,{"$f":" JWW$354","v":0},0,0,0,0,0,0,0,0,0,0,0,null,null,null,null,{"$f":" JXM$354","v":0},0,0,0,0,0,0,0,0,0,0,0,null,null,null,null,{"$f":" JYC$354","v":0},0,0,0,0,0,0,0,0,0,0,0,null,null,null,null,{"$f":" JYS$354","v":0},0,0,0,0,0,0,0,0,0,0,0,null,null,null,null,{"$f":" JZI$354","v":0},0,0,0,0,0,0,0,0,0,0,0,null,null,null,null,{"$f":" JZY$354","v":0},0,0,0,0,0,0,0,0,0,0,0,null,null,null,null,{"$f":" KAO$354","v":0},0,0,0,0,0,0,0,0,0,0,0,null,null,null,null,{"$f":" KBE$354","v":0},0,0,0,0,0,0,0,0,0,0,0,null,null,null,null,{"$f":" KBU$354","v":0},0,0,0,0,0,0,0,0,0,0,0,null,null,null,null,{"$f":" KCK$354","v":0},0,0,0,0,0,0,0,0,0,0,0,null,null,null,null,{"$f":" KDA$354","v":0},0,0,0,0,0,0,0,0,0,0,0,null,null,null,null,{"$f":" KDQ$354","v":0},0,0,0,0,0,0,0,0,0,0,0,null,null,null,null,{"$f":" KEG$354","v":0},0,0,0,0,0,0,0,0,0,0,0,null,null,null,null,{"$f":" KEW$354","v":0},0,0,0,0,0,0,0,0,0,0,0,null,null,null,null,{"$f":" KFM$354","v":0},0,0,0,0,0,0,0,0,0,0,0,null,null,null,null,{"$f":" KGC$354","v":0},0,0,0,0,0,0,0,0,0,0,0,null,null,null,null,{"$f":" KGS$354","v":0},0,0,0,0,0,0,0,0,0,0,0,null,null,null,null,{"$f":" KHI$354","v":0},0,0,0,0,0,0,0,0,0,0,0,null,null,null,null,{"$f":" KHY$354","v":0},0,0,0,0,0,0,0,0,0,0,0,null,null,null,null,{"$f":" KIO$354","v":0},0,0,0,0,0,0,0,0,0,0,0,null,null,null,null,{"$f":" KJE$354","v":0},0,0,0,0,0,0,0,0,0,0,0,null,null,null,null,{"$f":" KJU$354","v":0},0,0,0,0,0,0,0,0,0,0,0,null,null,null,null,{"$f":" KKK$354","v":0},0,0,0,0,0,0,0,0,0,0,0,null,null,null,null,{"$f":" KLA$354","v":0},0,0,0,0,0,0,0,0,0,0,0,null,null,null,null,{"$f":" KLQ$354","v":0},0,0,0,0,0,0,0,0,0,0,0,null,null,null,null,{"$f":" KMG$354","v":0},0,0,0,0,0,0,0,0,0,0,0,null,null,null,null,{"$f":" KMW$354","v":0},0,0,0,0,0,0,0,0,0,0,0,null,null,null,null,{"$f":" KNM$354","v":0},0,0,0,0,0,0,0,0,0,0,0,null,null,null,null,{"$f":" KOC$354","v":0},0,0,0,0,0,0,0,0,0,0,0,null,null,null,null,{"$f":" KOS$354","v":0},0,0,0,0,0,0,0,0,0,0,0,null,null,null,null,{"$f":" KPI$354","v":0},0,0,0,0,0,0,0,0,0,0,0,null,null,null,null,{"$f":" KPY$354","v":0},0,0,0,0,0,0,0,0,0,0,0,null,null,null,null,{"$f":" KQO$354","v":0},0,0,0,0,0,0,0,0,0,0,0,null,null,null,null,{"$f":" KRE$354","v":0},0,0,0,0,0,0,0,0,0,0,0,null,null,null,null,{"$f":" KRU$354","v":0},0,0,0,0,0,0,0,0,0,0,0,null,null,null,null,{"$f":" KSK$354","v":0},0,0,0,0,0,0,0,0,0,0,0,null,null,null,null,{"$f":" KTA$354","v":0},0,0,0,0,0,0,0,0,0,0,0,null,null,null,null,{"$f":" KTQ$354","v":0},0,0,0,0,0,0,0,0,0,0,0,null,null,null,null,{"$f":" KUG$354","v":0},0,0,0,0,0,0,0,0,0,0,0,null,null,null,null,{"$f":" KUW$354","v":0},0,0,0,0,0,0,0,0,0,0,0,null,null,null,null,{"$f":" KVM$354","v":0},0,0,0,0,0,0,0,0,0,0,0,null,null,null,null,{"$f":" KWC$354","v":0},0,0,0,0,0,0,0,0,0,0,0,null,null,null,null,{"$f":" KWS$354","v":0},0,0,0,0,0,0,0,0,0,0,0,null,null,null,null,{"$f":" KXI$354","v":0},0,0,0,0,0,0,0,0,0,0,0,null,null,null,null,{"$f":" KXY$354","v":0},0,0,0,0,0,0,0,0,0,0,0,null,null,null,null,{"$f":" KYO$354","v":0},0,0,0,0,0,0,0,0,0,0,0,null,null,null,null,{"$f":" KZE$354","v":0},0,0,0,0,0,0,0,0,0,0,0,null,null,null,null,{"$f":" KZU$354","v":0},0,0,0,0,0,0,0,0,0,0,0,null,null,null,null,{"$f":" LAK$354","v":0},0,0,0,0,0,0,0,0,0,0,0,null,null,null,null,{"$f":" LBA$354","v":0},0,0,0,0,0,0,0,0,0,0,0,null,null,null,null,{"$f":" LBQ$354","v":0},0,0,0,0,0,0,0,0,0,0,0,null,null,null,null,{"$f":" LCG$354","v":0},0,0,0,0,0,0,0,0,0,0,0,null,null,null,null,{"$f":" LCW$354","v":0},0,0,0,0,0,0,0,0,0,0,0,null,null,null,null,{"$f":" LDM$354","v":0},0,0,0,0,0,0,0,0,0,0,0,null,null,null,null,{"$f":" LEC$354","v":0},0,0,0,0,0,0,0,0,0,0,0,null,null,null,null,{"$f":" LES$354","v":0},0,0,0,0,0,0,0,0,0,0,0,null,null,null,null,{"$f":" LFI$354","v":0},0,0,0,0,0,0,0,0,0,0,0,null,null,null,null,{"$f":" LFY$354","v":0},0,0,0,0,0,0,0,0,0,0,0,null,null,null,null,{"$f":" LGO$354","v":0},0,0,0,0,0,0,0,0,0,0,0,null,null,null,null,{"$f":" LHE$354","v":0},0,0,0,0,0,0,0,0,0,0,0,null,null,null,null,{"$f":" LHU$354","v":0},0,0,0,0,0,0,0,0,0,0,0,null,null,null,null,{"$f":" LIK$354","v":0},0,0,0,0,0,0,0,0,0,0,0,null,null,null,null,{"$f":" LJA$354","v":0},0,0,0,0,0,0,0,0,0,0,0,null,null,null,null,{"$f":" LJQ$354","v":0},0,0,0,0,0,0,0,0,0,0,0,null,null,null,null,{"$f":" LKG$354","v":0},0,0,0,0,0,0,0,0,0,0,0,null,null,null,null,{"$f":" LKW$354","v":0},0,0,0,0,0,0,0,0,0,0,0,null,null,null,null,{"$f":" LLM$354","v":0},0,0,0,0,0,0,0,0,0,0,0,null,null,null,null,{"$f":" LMC$354","v":0},0,0,0,0,0,0,0,0,0,0,0,null,null,null,null,{"$f":" LMS$354","v":0},0,0,0,0,0,0,0,0,0,0,0,null,null,null,null,{"$f":" LNI$354","v":0},0,0,0,0,0,0,0,0,0,0,0,null,null,null,null,{"$f":" LNY$354","v":0},0,0,0,0,0,0,0,0,0,0,0,null,null,null,null,{"$f":" LOO$354","v":0},0,0,0,0,0,0,0,0,0,0,0,null,null,null,null,{"$f":" LPE$354","v":0},0,0,0,0,0,0,0,0,0,0,0,null,null,null,null,{"$f":" LPU$354","v":0},0,0,0,0,0,0,0,0,0,0,0,null,null,null,null,{"$f":" LQK$354","v":0},0,0,0,0,0,0,0,0,0,0,0,null,null,null,null,{"$f":" LRA$354","v":0},0,0,0,0,0,0,0,0,0,0,0,null,null,null,null,{"$f":" LRQ$354","v":0},0,0,0,0,0,0,0,0,0,0,0,null,null,null,null,{"$f":" LSG$354","v":0},0,0,0,0,0,0,0,0,0,0,0,null,null,null,null,{"$f":" LSW$354","v":0},0,0,0,0,0,0,0,0,0,0,0,null,null,null,null,{"$f":" LTM$354","v":0},0,0,0,0,0,0,0,0,0,0,0,null,null,null,null,{"$f":" LUC$354","v":0},0,0,0,0,0,0,0,0,0,0,0,null,null,null,null,{"$f":" LUS$354","v":0},0,0,0,0,0,0,0,0,0,0,0,null,null,null,null,{"$f":" LVI$354","v":0},0,0,0,0,0,0,0,0,0,0,0,null,null,null,null,{"$f":" LVY$354","v":0},0,0,0,0,0,0,0,0,0,0,0,null,null,null,null,{"$f":" LWO$354","v":0},0,0,0,0,0,0,0,0,0,0,0,null,null,null,null,{"$f":" LXE$354","v":0},0,0,0,0,0,0,0,0,0,0,0,null,null,null,null,{"$f":" LXU$354","v":0},0,0,0,0,0,0,0,0,0,0,0,null,null,null,null,{"$f":" LYK$354","v":0},0,0,0,0,0,0,0,0,0,0,0,null,null,null,null,{"$f":" LZA$354","v":0},0,0,0,0,0,0,0,0,0,0,0,null,null,null,null,{"$f":" LZQ$354","v":0},0,0,0,0,0,0,0,0,0,0,0,null,null,null,null,{"$f":" MAG$354","v":0},0,0,0,0,0,0,0,0,0,0,0,null,null,null,null,{"$f":" MAW$354","v":0},0,0,0,0,0,0,0,0,0,0,0,null,null,null,null,{"$f":" MBM$354","v":0},0,0,0,0,0,0,0,0,0,0,0,null,null,null,null,{"$f":" MCC$354","v":0},0,0,0,0,0,0,0,0,0,0,0,null,null,null,null,{"$f":" MCS$354","v":0},0,0,0,0,0,0,0,0,0,0,0,null,null,null,null,{"$f":" MDI$354","v":0},0,0,0,0,0,0,0,0,0,0,0,null,null,null,null,{"$f":" MDY$354","v":0},0,0,0,0,0,0,0,0,0,0,0,null,null,null,null,{"$f":" MEO$354","v":0},0,0,0,0,0,0,0,0,0,0,0,null,null,null,null,{"$f":" MFE$354","v":0},0,0,0,0,0,0,0,0,0,0,0,null,null,null,null,{"$f":" MFU$354","v":0},0,0,0,0,0,0,0,0,0,0,0,null,null,null,null,{"$f":" MGK$354","v":0},0,0,0,0,0,0,0,0,0,0,0,null,null,null,null,{"$f":" MHA$354","v":0},0,0,0,0,0,0,0,0,0,0,0,null,null,null,null,{"$f":" MHQ$354","v":0},0,0,0,0,0,0,0,0,0,0,0,null,null,null,null,{"$f":" MIG$354","v":0},0,0,0,0,0,0,0,0,0,0,0,null,null,null,null,{"$f":" MIW$354","v":0},0,0,0,0,0,0,0,0,0,0,0,null,null,null,null,{"$f":" MJM$354","v":0},0,0,0,0,0,0,0,0,0,0,0,null,null,null,null,{"$f":" MKC$354","v":0},0,0,0,0,0,0,0,0,0,0,0,null,null,null,null,{"$f":" MKS$354","v":0},0,0,0,0,0,0,0,0,0,0,0,null,null,null,null,{"$f":" MLI$354","v":0},0,0,0,0,0,0,0,0,0,0,0,null,null,null,null,{"$f":" MLY$354","v":0},0,0,0,0,0,0,0,0,0,0,0,null,null,null,null,{"$f":" MMO$354","v":0},0,0,0,0,0,0,0,0,0,0,0,null,null,null,null,{"$f":" MNE$354","v":0},0,0,0,0,0,0,0,0,0,0,0,null,null,null,null,{"$f":" MNU$354","v":0},0,0,0,0,0,0,0,0,0,0,0,null,null,null,null,{"$f":" MOK$354","v":0},0,0,0,0,0,0,0,0,0,0,0,null,null,null,null,{"$f":" MPA$354","v":0},0,0,0,0,0,0,0,0,0,0,0,null,null,null,null,{"$f":" MPQ$354","v":0},0,0,0,0,0,0,0,0,0,0,0,null,null,null,null,{"$f":" MQG$354","v":0},0,0,0,0,0,0,0,0,0,0,0,null,null,null,null,{"$f":" MQW$354","v":0},0,0,0,0,0,0,0,0,0,0,0,null,null,null,null,{"$f":" MRM$354","v":0},0,0,0,0,0,0,0,0,0,0,0,null,null,null,null,{"$f":" MSC$354","v":0},0,0,0,0,0,0,0,0,0,0,0,null,null,null,null,{"$f":" MSS$354","v":0},0,0,0,0,0,0,0,0,0,0,0,null,null,null,null,{"$f":" MTI$354","v":0},0,0,0,0,0,0,0,0,0,0,0,null,null,null,null,{"$f":" MTY$354","v":0},0,0,0,0,0,0,0,0,0,0,0,null,null,null,null,{"$f":" MUO$354","v":0},0,0,0,0,0,0,0,0,0,0,0,null,null,null,null,{"$f":" MVE$354","v":0},0,0,0,0,0,0,0,0,0,0,0,null,null,null,null,{"$f":" MVU$354","v":0},0,0,0,0,0,0,0,0,0,0,0,null,null,null,null,{"$f":" MWK$354","v":0},0,0,0,0,0,0,0,0,0,0,0,null,null,null,null,{"$f":" MXA$354","v":0},0,0,0,0,0,0,0,0,0,0,0,null,null,null,null,{"$f":" MXQ$354","v":0},0,0,0,0,0,0,0,0,0,0,0,null,null,null,null,{"$f":" MYG$354","v":0},0,0,0,0,0,0,0,0,0,0,0,null,null,null,null,{"$f":" MYW$354","v":0},0,0,0,0,0,0,0,0,0,0,0,null,null,null,null,{"$f":" MZM$354","v":0},0,0,0,0,0,0,0,0,0,0,0,null,null,null,null,{"$f":" NAC$354","v":0},0,0,0,0,0,0,0,0,0,0,0,null,null,null,null,{"$f":" NAS$354","v":0},0,0,0,0,0,0,0,0,0,0,0,null,null,null,null,{"$f":" NBI$354","v":0},0,0,0,0,0,0,0,0,0,0,0,null,null,null,null,{"$f":" NBY$354","v":0},0,0,0,0,0,0,0,0,0,0,0,null,null,null,null,{"$f":" NCO$354","v":0},0,0,0,0,0,0,0,0,0,0,0,null,null,null,null,{"$f":" NDE$354","v":0},0,0,0,0,0,0,0,0,0,0,0,null,null,null,null,{"$f":" NDU$354","v":0},0,0,0,0,0,0,0,0,0,0,0,null,null,null,null,{"$f":" NEK$354","v":0},0,0,0,0,0,0,0,0,0,0,0,null,null,null,null,{"$f":" NFA$354","v":0},0,0,0,0,0,0,0,0,0,0,0,null,null,null,null,{"$f":" NFQ$354","v":0},0,0,0,0,0,0,0,0,0,0,0,null,null,null,null,{"$f":" NGG$354","v":0},0,0,0,0,0,0,0,0,0,0,0,null,null,null,null,{"$f":" NGW$354","v":0},0,0,0,0,0,0,0,0,0,0,0,null,null,null,null,{"$f":" NHM$354","v":0},0,0,0,0,0,0,0,0,0,0,0,null,null,null,null,{"$f":" NIC$354","v":0},0,0,0,0,0,0,0,0,0,0,0,null,null,null,null,{"$f":" NIS$354","v":0},0,0,0,0,0,0,0,0,0,0,0,null,null,null,null,{"$f":" NJI$354","v":0},0,0,0,0,0,0,0,0,0,0,0,null,null,null,null,{"$f":" NJY$354","v":0},0,0,0,0,0,0,0,0,0,0,0,null,null,null,null,{"$f":" NKO$354","v":0},0,0,0,0,0,0,0,0,0,0,0,null,null,null,null,{"$f":" NLE$354","v":0},0,0,0,0,0,0,0,0,0,0,0,null,null,null,null,{"$f":" NLU$354","v":0},0,0,0,0,0,0,0,0,0,0,0,null,null,null,null,{"$f":" NMK$354","v":0},0,0,0,0,0,0,0,0,0,0,0,null,null,null,null,{"$f":" NNA$354","v":0},0,0,0,0,0,0,0,0,0,0,0,null,null,null,null,{"$f":" NNQ$354","v":0},0,0,0,0,0,0,0,0,0,0,0,null,null,null,null,{"$f":" NOG$354","v":0},0,0,0,0,0,0,0,0,0,0,0,null,null,null,null,{"$f":" NOW$354","v":0},0,0,0,0,0,0,0,0,0,0,0,null,null,null,null,{"$f":" NPM$354","v":0},0,0,0,0,0,0,0,0,0,0,0,null,null,null,null,{"$f":" NQC$354","v":0},0,0,0,0,0,0,0,0,0,0,0,null,null,null,null,{"$f":" NQS$354","v":0},0,0,0,0,0,0,0,0,0,0,0,null,null,null,null,{"$f":" NRI$354","v":0},0,0,0,0,0,0,0,0,0,0,0,null,null,null,null,{"$f":" NRY$354","v":0},0,0,0,0,0,0,0,0,0,0,0,null,null,null,null,{"$f":" NSO$354","v":0},0,0,0,0,0,0,0,0,0,0,0,null,null,null,null,{"$f":" NTE$354","v":0},0,0,0,0,0,0,0,0,0,0,0,null,null,null,null,{"$f":" NTU$354","v":0},0,0,0,0,0,0,0,0,0,0,0,null,null,null,null,{"$f":" NUK$354","v":0},0,0,0,0,0,0,0,0,0,0,0,null,null,null,null,{"$f":" NVA$354","v":0},0,0,0,0,0,0,0,0,0,0,0,null,null,null,null,{"$f":" NVQ$354","v":0},0,0,0,0,0,0,0,0,0,0,0,null,null,null,null,{"$f":" NWG$354","v":0},0,0,0,0,0,0,0,0,0,0,0,null,null,null,null,{"$f":" NWW$354","v":0},0,0,0,0,0,0,0,0,0,0,0,null,null,null,null,{"$f":" NXM$354","v":0},0,0,0,0,0,0,0,0,0,0,0,null,null,null,null,{"$f":" NYC$354","v":0},0,0,0,0,0,0,0,0,0,0,0,null,null,null,null,{"$f":" NYS$354","v":0},0,0,0,0,0,0,0,0,0,0,0,null,null,null,null,{"$f":" NZI$354","v":0},0,0,0,0,0,0,0,0,0,0,0,null,null,null,null,{"$f":" NZY$354","v":0},0,0,0,0,0,0,0,0,0,0,0,null,null,null,null,{"$f":" OAO$354","v":0},0,0,0,0,0,0,0,0,0,0,0,null,null,null,null,{"$f":" OBE$354","v":0},0,0,0,0,0,0,0,0,0,0,0,null,null,null,null,{"$f":" OBU$354","v":0},0,0,0,0,0,0,0,0,0,0,0,null,null,null,null,{"$f":" OCK$354","v":0},0,0,0,0,0,0,0,0,0,0,0,null,null,null,null,{"$f":" ODA$354","v":0},0,0,0,0,0,0,0,0,0,0,0,null,null,null,null,{"$f":" ODQ$354","v":0},0,0,0,0,0,0,0,0,0,0,0,null,null,null,null,{"$f":" OEG$354","v":0},0,0,0,0,0,0,0,0,0,0,0,null,null,null,null,{"$f":" OEW$354","v":0},0,0,0,0,0,0,0,0,0,0,0,null,null,null,null,{"$f":" OFM$354","v":0},0,0,0,0,0,0,0,0,0,0,0,null,null,null,null,{"$f":" OGC$354","v":0},0,0,0,0,0,0,0,0,0,0,0,null,null,null,null,{"$f":" OGS$354","v":0},0,0,0,0,0,0,0,0,0,0,0,null,null,null,null,{"$f":" OHI$354","v":0},0,0,0,0,0,0,0,0,0,0,0,null,null,null,null,{"$f":" OHY$354","v":0},0,0,0,0,0,0,0,0,0,0,0,null,null,null,null,{"$f":" OIO$354","v":0},0,0,0,0,0,0,0,0,0,0,0,null,null,null,null,{"$f":" OJE$354","v":0},0,0,0,0,0,0,0,0,0,0,0,null,null,null,null,{"$f":" OJU$354","v":0},0,0,0,0,0,0,0,0,0,0,0,null,null,null,null,{"$f":" OKK$354","v":0},0,0,0,0,0,0,0,0,0,0,0,null,null,null,null,{"$f":" OLA$354","v":0},0,0,0,0,0,0,0,0,0,0,0,null,null,null,null,{"$f":" OLQ$354","v":0},0,0,0,0,0,0,0,0,0,0,0,null,null,null,null,{"$f":" OMG$354","v":0},0,0,0,0,0,0,0,0,0,0,0,null,null,null,null,{"$f":" OMW$354","v":0},0,0,0,0,0,0,0,0,0,0,0,null,null,null,null,{"$f":" ONM$354","v":0},0,0,0,0,0,0,0,0,0,0,0,null,null,null,null,{"$f":" OOC$354","v":0},0,0,0,0,0,0,0,0,0,0,0,null,null,null,null,{"$f":" OOS$354","v":0},0,0,0,0,0,0,0,0,0,0,0,null,null,null,null,{"$f":" OPI$354","v":0},0,0,0,0,0,0,0,0,0,0,0,null,null,null,null,{"$f":" OPY$354","v":0},0,0,0,0,0,0,0,0,0,0,0,null,null,null,null,{"$f":" OQO$354","v":0},0,0,0,0,0,0,0,0,0,0,0,null,null,null,null,{"$f":" ORE$354","v":0},0,0,0,0,0,0,0,0,0,0,0,null,null,null,null,{"$f":" ORU$354","v":0},0,0,0,0,0,0,0,0,0,0,0,null,null,null,null,{"$f":" OSK$354","v":0},0,0,0,0,0,0,0,0,0,0,0,null,null,null,null,{"$f":" OTA$354","v":0},0,0,0,0,0,0,0,0,0,0,0,null,null,null,null,{"$f":" OTQ$354","v":0},0,0,0,0,0,0,0,0,0,0,0,null,null,null,null,{"$f":" OUG$354","v":0},0,0,0,0,0,0,0,0,0,0,0,null,null,null,null,{"$f":" OUW$354","v":0},0,0,0,0,0,0,0,0,0,0,0,null,null,null,null,{"$f":" OVM$354","v":0},0,0,0,0,0,0,0,0,0,0,0,null,null,null,null,{"$f":" OWC$354","v":0},0,0,0,0,0,0,0,0,0,0,0,null,null,null,null,{"$f":" OWS$354","v":0},0,0,0,0,0,0,0,0,0,0,0,null,null,null,null,{"$f":" OXI$354","v":0},0,0,0,0,0,0,0,0,0,0,0,null,null,null,null,{"$f":" OXY$354","v":0},0,0,0,0,0,0,0,0,0,0,0,null,null,null,null,{"$f":" OYO$354","v":0},0,0,0,0,0,0,0,0,0,0,0,null,null,null,null,{"$f":" OZE$354","v":0},0,0,0,0,0,0,0,0,0,0,0,null,null,null,null,{"$f":" OZU$354","v":0},0,0,0,0,0,0,0,0,0,0,0,null,null,null,null,{"$f":" PAK$354","v":0},0,0,0,0,0,0,0,0,0,0,0,null,null,null,null,{"$f":" PBA$354","v":0},0,0,0,0,0,0,0,0,0,0,0,null,null,null,null,{"$f":" PBQ$354","v":0},0,0,0,0,0,0,0,0,0,0,0,null,null,null,null,{"$f":" PCG$354","v":0},0,0,0,0,0,0,0,0,0,0,0,null,null,null,null,{"$f":" PCW$354","v":0},0,0,0,0,0,0,0,0,0,0,0,null,null,null,null,{"$f":" PDM$354","v":0},0,0,0,0,0,0,0,0,0,0,0,null,null,null,null,{"$f":" PEC$354","v":0},0,0,0,0,0,0,0,0,0,0,0,null,null,null,null,{"$f":" PES$354","v":0},0,0,0,0,0,0,0,0,0,0,0,null,null,null,null,{"$f":" PFI$354","v":0},0,0,0,0,0,0,0,0,0,0,0,null,null,null,null,{"$f":" PFY$354","v":0},0,0,0,0,0,0,0,0,0,0,0,null,null,null,null,{"$f":" PGO$354","v":0},0,0,0,0,0,0,0,0,0,0,0,null,null,null,null,{"$f":" PHE$354","v":0},0,0,0,0,0,0,0,0,0,0,0,null,null,null,null,{"$f":" PHU$354","v":0},0,0,0,0,0,0,0,0,0,0,0,null,null,null,null,{"$f":" PIK$354","v":0},0,0,0,0,0,0,0,0,0,0,0,null,null,null,null,{"$f":" PJA$354","v":0},0,0,0,0,0,0,0,0,0,0,0,null,null,null,null,{"$f":" PJQ$354","v":0},0,0,0,0,0,0,0,0,0,0,0,null,null,null,null,{"$f":" PKG$354","v":0},0,0,0,0,0,0,0,0,0,0,0,null,null,null,null,{"$f":" PKW$354","v":0},0,0,0,0,0,0,0,0,0,0,0,null,null,null,null,{"$f":" PLM$354","v":0},0,0,0,0,0,0,0,0,0,0,0,null,null,null,null,{"$f":" PMC$354","v":0},0,0,0,0,0,0,0,0,0,0,0,null,null,null,null,{"$f":" PMS$354","v":0},0,0,0,0,0,0,0,0,0,0,0,null,null,null,null,{"$f":" PNI$354","v":0},0,0,0,0,0,0,0,0,0,0,0,null,null,null,null,{"$f":" PNY$354","v":0},0,0,0,0,0,0,0,0,0,0,0,null,null,null,null,{"$f":" POO$354","v":0},0,0,0,0,0,0,0,0,0,0,0,null,null,null,null,{"$f":" PPE$354","v":0},0,0,0,0,0,0,0,0,0,0,0,null,null,null,null,{"$f":" PPU$354","v":0},0,0,0,0,0,0,0,0,0,0,0,null,null,null,null,{"$f":" PQK$354","v":0},0,0,0,0,0,0,0,0,0,0,0,null,null,null,null,{"$f":" PRA$354","v":0},0,0,0,0,0,0,0,0,0,0,0,null,null,null,null,{"$f":" PRQ$354","v":0},0,0,0,0,0,0,0,0,0,0,0,null,null,null,null,{"$f":" PSG$354","v":0},0,0,0,0,0,0,0,0,0,0,0,null,null,null,null,{"$f":" PSW$354","v":0},0,0,0,0,0,0,0,0,0,0,0,null,null,null,null,{"$f":" PTM$354","v":0},0,0,0,0,0,0,0,0,0,0,0,null,null,null,null,{"$f":" PUC$354","v":0},0,0,0,0,0,0,0,0,0,0,0,null,null,null,null,{"$f":" PUS$354","v":0},0,0,0,0,0,0,0,0,0,0,0,null,null,null,null,{"$f":" PVI$354","v":0},0,0,0,0,0,0,0,0,0,0,0,null,null,null,null,{"$f":" PVY$354","v":0},0,0,0,0,0,0,0,0,0,0,0,null,null,null,null,{"$f":" PWO$354","v":0},0,0,0,0,0,0,0,0,0,0,0,null,null,null,null,{"$f":" PXE$354","v":0},0,0,0,0,0,0,0,0,0,0,0,null,null,null,null,{"$f":" PXU$354","v":0},0,0,0,0,0,0,0,0,0,0,0,null,null,null,null,{"$f":" PYK$354","v":0},0,0,0,0,0,0,0,0,0,0,0,null,null,null,null,{"$f":" PZA$354","v":0},0,0,0,0,0,0,0,0,0,0,0,null,null,null,null,{"$f":" PZQ$354","v":0},0,0,0,0,0,0,0,0,0,0,0,null,null,null,null,{"$f":" QAG$354","v":0},0,0,0,0,0,0,0,0,0,0,0,null,null,null,null,{"$f":" QAW$354","v":0},0,0,0,0,0,0,0,0,0,0,0,null,null,null,null,{"$f":" QBM$354","v":0},0,0,0,0,0,0,0,0,0,0,0,null,null,null,null,{"$f":" QCC$354","v":0},0,0,0,0,0,0,0,0,0,0,0,null,null,null,null,{"$f":" QCS$354","v":0},0,0,0,0,0,0,0,0,0,0,0,null,null,null,null,{"$f":" QDI$354","v":0},0,0,0,0,0,0,0,0,0,0,0,null,null,null,null,{"$f":" QDY$354","v":0},0,0,0,0,0,0,0,0,0,0,0,null,null,null,null,{"$f":" QEO$354","v":0},0,0,0,0,0,0,0,0,0,0,0,null,null,null,null,{"$f":" QFE$354","v":0},0,0,0,0,0,0,0,0,0,0,0,null,null,null,null,{"$f":" QFU$354","v":0},0,0,0,0,0,0,0,0,0,0,0,null,null,null,null,{"$f":" QGK$354","v":0},0,0,0,0,0,0,0,0,0,0,0,null,null,null,null,{"$f":" QHA$354","v":0},0,0,0,0,0,0,0,0,0,0,0,null,null,null,null,{"$f":" QHQ$354","v":0},0,0,0,0,0,0,0,0,0,0,0,null,null,null,null,{"$f":" QIG$354","v":0},0,0,0,0,0,0,0,0,0,0,0,null,null,null,null,{"$f":" QIW$354","v":0},0,0,0,0,0,0,0,0,0,0,0,null,null,null,null,{"$f":" QJM$354","v":0},0,0,0,0,0,0,0,0,0,0,0,null,null,null,null,{"$f":" QKC$354","v":0},0,0,0,0,0,0,0,0,0,0,0,null,null,null,null,{"$f":" QKS$354","v":0},0,0,0,0,0,0,0,0,0,0,0,null,null,null,null,{"$f":" QLI$354","v":0},0,0,0,0,0,0,0,0,0,0,0,null,null,null,null,{"$f":" QLY$354","v":0},0,0,0,0,0,0,0,0,0,0,0,null,null,null,null,{"$f":" QMO$354","v":0},0,0,0,0,0,0,0,0,0,0,0,null,null,null,null,{"$f":" QNE$354","v":0},0,0,0,0,0,0,0,0,0,0,0,null,null,null,null,{"$f":" QNU$354","v":0},0,0,0,0,0,0,0,0,0,0,0,null,null,null,null,{"$f":" QOK$354","v":0},0,0,0,0,0,0,0,0,0,0,0,null,null,null,null,{"$f":" QPA$354","v":0},0,0,0,0,0,0,0,0,0,0,0,null,null,null,null,{"$f":" QPQ$354","v":0},0,0,0,0,0,0,0,0,0,0,0,null,null,null,null,{"$f":" QQG$354","v":0},0,0,0,0,0,0,0,0,0,0,0,null,null,null,null,{"$f":" QQW$354","v":0},0,0,0,0,0,0,0,0,0,0,0,null,null,null,null,{"$f":" QRM$354","v":0},0,0,0,0,0,0,0,0,0,0,0,null,null,null,null,{"$f":" QSC$354","v":0},0,0,0,0,0,0,0,0,0,0,0,null,null,null,null,{"$f":" QSS$354","v":0},0,0,0,0,0,0,0,0,0,0,0,null,null,null,null,{"$f":" QTI$354","v":0},0,0,0,0,0,0,0,0,0,0,0,null,null,null,null,{"$f":" QTY$354","v":0},0,0,0,0,0,0,0,0,0,0,0,null,null,null,null,{"$f":" QUO$354","v":0},0,0,0,0,0,0,0,0,0,0,0,null,null,null,null,{"$f":" QVE$354","v":0},0,0,0,0,0,0,0,0,0,0,0,null,null,null,null,{"$f":" QVU$354","v":0},0,0,0,0,0,0,0,0,0,0,0,null,null,null,null,{"$f":" QWK$354","v":0},0,0,0,0,0,0,0,0,0,0,0,null,null,null,null,{"$f":" QXA$354","v":0},0,0,0,0,0,0,0,0,0,0,0,null,null,null,null,{"$f":" QXQ$354","v":0},0,0,0,0,0,0,0,0,0,0,0,null,null,null,null,{"$f":" QYG$354","v":0},0,0,0,0,0,0,0,0,0,0,0,null,null,null,null,{"$f":" QYW$354","v":0},0,0,0,0,0,0,0,0,0,0,0,null,null,null,null,{"$f":" QZM$354","v":0},0,0,0,0,0,0,0,0,0,0,0,null,null,null,null,{"$f":" RAC$354","v":0},0,0,0,0,0,0,0,0,0,0,0,null,null,null,null,{"$f":" RAS$354","v":0},0,0,0,0,0,0,0,0,0,0,0,null,null,null,null,{"$f":" RBI$354","v":0},0,0,0,0,0,0,0,0,0,0,0,null,null,null,null,{"$f":" RBY$354","v":0},0,0,0,0,0,0,0,0,0,0,0,null,null,null,null,{"$f":" RCO$354","v":0},0,0,0,0,0,0,0,0,0,0,0,null,null,null,null,{"$f":" RDE$354","v":0},0,0,0,0,0,0,0,0,0,0,0,null,null,null,null,{"$f":" RDU$354","v":0},0,0,0,0,0,0,0,0,0,0,0,null,null,null,null,{"$f":" REK$354","v":0},0,0,0,0,0,0,0,0,0,0,0,null,null,null,null,{"$f":" RFA$354","v":0},0,0,0,0,0,0,0,0,0,0,0,null,null,null,null,{"$f":" RFQ$354","v":0},0,0,0,0,0,0,0,0,0,0,0,null,null,null,null,{"$f":" RGG$354","v":0},0,0,0,0,0,0,0,0,0,0,0,null,null,null,null,{"$f":" RGW$354","v":0},0,0,0,0,0,0,0,0,0,0,0,null,null,null,null,{"$f":" RHM$354","v":0},0,0,0,0,0,0,0,0,0,0,0,null,null,null,null,{"$f":" RIC$354","v":0},0,0,0,0,0,0,0,0,0,0,0,null,null,null,null,{"$f":" RIS$354","v":0},0,0,0,0,0,0,0,0,0,0,0,null,null,null,null,{"$f":" RJI$354","v":0},0,0,0,0,0,0,0,0,0,0,0,null,null,null,null,{"$f":" RJY$354","v":0},0,0,0,0,0,0,0,0,0,0,0,null,null,null,null,{"$f":" RKO$354","v":0},0,0,0,0,0,0,0,0,0,0,0,null,null,null,null,{"$f":" RLE$354","v":0},0,0,0,0,0,0,0,0,0,0,0,null,null,null,null,{"$f":" RLU$354","v":0},0,0,0,0,0,0,0,0,0,0,0,null,null,null,null,{"$f":" RMK$354","v":0},0,0,0,0,0,0,0,0,0,0,0,null,null,null,null,{"$f":" RNA$354","v":0},0,0,0,0,0,0,0,0,0,0,0,null,null,null,null,{"$f":" RNQ$354","v":0},0,0,0,0,0,0,0,0,0,0,0,null,null,null,null,{"$f":" ROG$354","v":0},0,0,0,0,0,0,0,0,0,0,0,null,null,null,null,{"$f":" ROW$354","v":0},0,0,0,0,0,0,0,0,0,0,0,null,null,null,null,{"$f":" RPM$354","v":0},0,0,0,0,0,0,0,0,0,0,0,null,null,null,null,{"$f":" RQC$354","v":0},0,0,0,0,0,0,0,0,0,0,0,null,null,null,null,{"$f":" RQS$354","v":0},0,0,0,0,0,0,0,0,0,0,0,null,null,null,null,{"$f":" RRI$354","v":0},0,0,0,0,0,0,0,0,0,0,0,null,null,null,null,{"$f":" RRY$354","v":0},0,0,0,0,0,0,0,0,0,0,0,null,null,null,null,{"$f":" RSO$354","v":0},0,0,0,0,0,0,0,0,0,0,0,null,null,null,null,{"$f":" RTE$354","v":0},0,0,0,0,0,0,0,0,0,0,0,null,null,null,null,{"$f":" RTU$354","v":0},0,0,0,0,0,0,0,0,0,0,0,null,null,null,null,{"$f":" RUK$354","v":0},0,0,0,0,0,0,0,0,0,0,0,null,null,null,null,{"$f":" RVA$354","v":0},0,0,0,0,0,0,0,0,0,0,0,null,null,null,null,{"$f":" RVQ$354","v":0},0,0,0,0,0,0,0,0,0,0,0,null,null,null,null,{"$f":" RWG$354","v":0},0,0,0,0,0,0,0,0,0,0,0,null,null,null,null,{"$f":" RWW$354","v":0},0,0,0,0,0,0,0,0,0,0,0,null,null,null,null,{"$f":" RXM$354","v":0},0,0,0,0,0,0,0,0,0,0,0,null,null,null,null,{"$f":" RYC$354","v":0},0,0,0,0,0,0,0,0,0,0,0,null,null,null,null,{"$f":" RYS$354","v":0},0,0,0,0,0,0,0,0,0,0,0,null,null,null,null,{"$f":" RZI$354","v":0},0,0,0,0,0,0,0,0,0,0,0,null,null,null,null,{"$f":" RZY$354","v":0},0,0,0,0,0,0,0,0,0,0,0,null,null,null,null,{"$f":" SAO$354","v":0},0,0,0,0,0,0,0,0,0,0,0,null,null,null,null,{"$f":" SBE$354","v":0},0,0,0,0,0,0,0,0,0,0,0,null,null,null,null,{"$f":" SBU$354","v":0},0,0,0,0,0,0,0,0,0,0,0,null,null,null,null,{"$f":" SCK$354","v":0},0,0,0,0,0,0,0,0,0,0,0,null,null,null,null,{"$f":" SDA$354","v":0},0,0,0,0,0,0,0,0,0,0,0,null,null,null,null,{"$f":" SDQ$354","v":0},0,0,0,0,0,0,0,0,0,0,0,null,null,null,null,{"$f":" SEG$354","v":0},0,0,0,0,0,0,0,0,0,0,0,null,null,null,null,{"$f":" SEW$354","v":0},0,0,0,0,0,0,0,0,0,0,0,null,null,null,null,{"$f":" SFM$354","v":0},0,0,0,0,0,0,0,0,0,0,0,null,null,null,null,{"$f":" SGC$354","v":0},0,0,0,0,0,0,0,0,0,0,0,null,null,null,null,{"$f":" SGS$354","v":0},0,0,0,0,0,0,0,0,0,0,0,null,null,null,null,{"$f":" SHI$354","v":0},0,0,0,0,0,0,0,0,0,0,0,null,null,null,null,{"$f":" SHY$354","v":0},0,0,0,0,0,0,0,0,0,0,0,null,null,null,null,{"$f":" SIO$354","v":0},0,0,0,0,0,0,0,0,0,0,0,null,null,null,null,{"$f":" SJE$354","v":0},0,0,0,0,0,0,0,0,0,0,0,null,null,null,null,{"$f":" SJU$354","v":0},0,0,0,0,0,0,0,0,0,0,0,null,null,null,null,{"$f":" SKK$354","v":0},0,0,0,0,0,0,0,0,0,0,0,null,null,null,null,{"$f":" SLA$354","v":0},0,0,0,0,0,0,0,0,0,0,0,null,null,null,null,{"$f":" SLQ$354","v":0},0,0,0,0,0,0,0,0,0,0,0,null,null,null,null,{"$f":" SMG$354","v":0},0,0,0,0,0,0,0,0,0,0,0,null,null,null,null,{"$f":" SMW$354","v":0},0,0,0,0,0,0,0,0,0,0,0,null,null,null,null,{"$f":" SNM$354","v":0},0,0,0,0,0,0,0,0,0,0,0,null,null,null,null,{"$f":" SOC$354","v":0},0,0,0,0,0,0,0,0,0,0,0,null,null,null,null,{"$f":" SOS$354","v":0},0,0,0,0,0,0,0,0,0,0,0,null,null,null,null,{"$f":" SPI$354","v":0},0,0,0,0,0,0,0,0,0,0,0,null,null,null,null,{"$f":" SPY$354","v":0},0,0,0,0,0,0,0,0,0,0,0,null,null,null,null,{"$f":" SQO$354","v":0},0,0,0,0,0,0,0,0,0,0,0,null,null,null,null,{"$f":" SRE$354","v":0},0,0,0,0,0,0,0,0,0,0,0,null,null,null,null,{"$f":" SRU$354","v":0},0,0,0,0,0,0,0,0,0,0,0,null,null,null,null,{"$f":" SSK$354","v":0},0,0,0,0,0,0,0,0,0,0,0,null,null,null,null,{"$f":" STA$354","v":0},0,0,0,0,0,0,0,0,0,0,0,null,null,null,null,{"$f":" STQ$354","v":0},0,0,0,0,0,0,0,0,0,0,0,null,null,null,null,{"$f":" SUG$354","v":0},0,0,0,0,0,0,0,0,0,0,0,null,null,null,null,{"$f":" SUW$354","v":0},0,0,0,0,0,0,0,0,0,0,0,null,null,null,null,{"$f":" SVM$354","v":0},0,0,0,0,0,0,0,0,0,0,0,null,null,null,null,{"$f":" SWC$354","v":0},0,0,0,0,0,0,0,0,0,0,0,null,null,null,null,{"$f":" SWS$354","v":0},0,0,0,0,0,0,0,0,0,0,0,null,null,null,null,{"$f":" SXI$354","v":0},0,0,0,0,0,0,0,0,0,0,0,null,null,null,null,{"$f":" SXY$354","v":0},0,0,0,0,0,0,0,0,0,0,0,null,null,null,null,{"$f":" SYO$354","v":0},0,0,0,0,0,0,0,0,0,0,0,null,null,null,null,{"$f":" SZE$354","v":0},0,0,0,0,0,0,0,0,0,0,0,null,null,null,null,{"$f":" SZU$354","v":0},0,0,0,0,0,0,0,0,0,0,0,null,null,null,null,{"$f":" TAK$354","v":0},0,0,0,0,0,0,0,0,0,0,0,null,null,null,null,{"$f":" TBA$354","v":0},0,0,0,0,0,0,0,0,0,0,0,null,null,null,null,{"$f":" TBQ$354","v":0},0,0,0,0,0,0,0,0,0,0,0,null,null,null,null,{"$f":" TCG$354","v":0},0,0,0,0,0,0,0,0,0,0,0,null,null,null,null,{"$f":" TCW$354","v":0},0,0,0,0,0,0,0,0,0,0,0,null,null,null,null,{"$f":" TDM$354","v":0},0,0,0,0,0,0,0,0,0,0,0,null,null,null,null,{"$f":" TEC$354","v":0},0,0,0,0,0,0,0,0,0,0,0,null,null,null,null,{"$f":" TES$354","v":0},0,0,0,0,0,0,0,0,0,0,0,null,null,null,null,{"$f":" TFI$354","v":0},0,0,0,0,0,0,0,0,0,0,0,null,null,null,null,{"$f":" TFY$354","v":0},0,0,0,0,0,0,0,0,0,0,0,null,null,null,null,{"$f":" TGO$354","v":0},0,0,0,0,0,0,0,0,0,0,0,null,null,null,null,{"$f":" THE$354","v":0},0,0,0,0,0,0,0,0,0,0,0,null,null,null,null,{"$f":" THU$354","v":0},0,0,0,0,0,0,0,0,0,0,0,null,null,null,null,{"$f":" TIK$354","v":0},0,0,0,0,0,0,0,0,0,0,0,null,null,null,null,{"$f":" TJA$354","v":0},0,0,0,0,0,0,0,0,0,0,0,null,null,null,null,{"$f":" TJQ$354","v":0},0,0,0,0,0,0,0,0,0,0,0,null,null,null,null,{"$f":" TKG$354","v":0},0,0,0,0,0,0,0,0,0,0,0,null,null,null,null,{"$f":" TKW$354","v":0},0,0,0,0,0,0,0,0,0,0,0,null,null,null,null,{"$f":" TLM$354","v":0},0,0,0,0,0,0,0,0,0,0,0,null,null,null,null,{"$f":" TMC$354","v":0},0,0,0,0,0,0,0,0,0,0,0,null,null,null,null,{"$f":" TMS$354","v":0},0,0,0,0,0,0,0,0,0,0,0,null,null,null,null,{"$f":" TNI$354","v":0},0,0,0,0,0,0,0,0,0,0,0,null,null,null,null,{"$f":" TNY$354","v":0},0,0,0,0,0,0,0,0,0,0,0,null,null,null,null,{"$f":" TOO$354","v":0},0,0,0,0,0,0,0,0,0,0,0,null,null,null,null,{"$f":" TPE$354","v":0},0,0,0,0,0,0,0,0,0,0,0,null,null,null,null,{"$f":" TPU$354","v":0},0,0,0,0,0,0,0,0,0,0,0,null,null,null,null,{"$f":" TQK$354","v":0},0,0,0,0,0,0,0,0,0,0,0,null,null,null,null,{"$f":" TRA$354","v":0},0,0,0,0,0,0,0,0,0,0,0,null,null,null,null,{"$f":" TRQ$354","v":0},0,0,0,0,0,0,0,0,0,0,0,null,null,null,null,{"$f":" TSG$354","v":0},0,0,0,0,0,0,0,0,0,0,0,null,null,null,null,{"$f":" TSW$354","v":0},0,0,0,0,0,0,0,0,0,0,0,null,null,null,null,{"$f":" TTM$354","v":0},0,0,0,0,0,0,0,0,0,0,0,null,null,null,null,{"$f":" TUC$354","v":0},0,0,0,0,0,0,0,0,0,0,0,null,null,null,null,{"$f":" TUS$354","v":0},0,0,0,0,0,0,0,0,0,0,0,null,null,null,null,{"$f":" TVI$354","v":0},0,0,0,0,0,0,0,0,0,0,0,null,null,null,null,{"$f":" TVY$354","v":0},0,0,0,0,0,0,0,0,0,0,0,null,null,null,null,{"$f":" TWO$354","v":0},0,0,0,0,0,0,0,0,0,0,0,null,null,null,null,{"$f":" TXE$354","v":0},0,0,0,0,0,0,0,0,0,0,0,null,null,null,null,{"$f":" TXU$354","v":0},0,0,0,0,0,0,0,0,0,0,0,null,null,null,null,{"$f":" TYK$354","v":0},0,0,0,0,0,0,0,0,0,0,0,null,null,null,null,{"$f":" TZA$354","v":0},0,0,0,0,0,0,0,0,0,0,0,null,null,null,null,{"$f":" TZQ$354","v":0},0,0,0,0,0,0,0,0,0,0,0,null,null,null,null,{"$f":" UAG$354","v":0},0,0,0,0,0,0,0,0,0,0,0,null,null,null,null,{"$f":" UAW$354","v":0},0,0,0,0,0,0,0,0,0,0,0,null,null,null,null,{"$f":" UBM$354","v":0},0,0,0,0,0,0,0,0,0,0,0,null,null,null,null,{"$f":" UCC$354","v":0},0,0,0,0,0,0,0,0,0,0,0,null,null,null,null,{"$f":" UCS$354","v":0},0,0,0,0,0,0,0,0,0,0,0,null,null,null,null,{"$f":" UDI$354","v":0},0,0,0,0,0,0,0,0,0,0,0,null,null,null,null,{"$f":" UDY$354","v":0},0,0,0,0,0,0,0,0,0,0,0,null,null,null,null,{"$f":" UEO$354","v":0},0,0,0,0,0,0,0,0,0,0,0,null,null,null,null,{"$f":" UFE$354","v":0},0,0,0,0,0,0,0,0,0,0,0,null,null,null,null,{"$f":" UFU$354","v":0},0,0,0,0,0,0,0,0,0,0,0,null,null,null,null,{"$f":" UGK$354","v":0},0,0,0,0,0,0,0,0,0,0,0,null,null,null,null,{"$f":" UHA$354","v":0},0,0,0,0,0,0,0,0,0,0,0,null,null,null,null,{"$f":" UHQ$354","v":0},0,0,0,0,0,0,0,0,0,0,0,null,null,null,null,{"$f":" UIG$354","v":0},0,0,0,0,0,0,0,0,0,0,0,null,null,null,null,{"$f":" UIW$354","v":0},0,0,0,0,0,0,0,0,0,0,0,null,null,null,null,{"$f":" UJM$354","v":0},0,0,0,0,0,0,0,0,0,0,0,null,null,null,null,{"$f":" UKC$354","v":0},0,0,0,0,0,0,0,0,0,0,0,null,null,null,null,{"$f":" UKS$354","v":0},0,0,0,0,0,0,0,0,0,0,0,null,null,null,null,{"$f":" ULI$354","v":0},0,0,0,0,0,0,0,0,0,0,0,null,null,null,null,{"$f":" ULY$354","v":0},0,0,0,0,0,0,0,0,0,0,0,null,null,null,null,{"$f":" UMO$354","v":0},0,0,0,0,0,0,0,0,0,0,0,null,null,null,null,{"$f":" UNE$354","v":0},0,0,0,0,0,0,0,0,0,0,0,null,null,null,null,{"$f":" UNU$354","v":0},0,0,0,0,0,0,0,0,0,0,0,null,null,null,null,{"$f":" UOK$354","v":0},0,0,0,0,0,0,0,0,0,0,0,null,null,null,null,{"$f":" UPA$354","v":0},0,0,0,0,0,0,0,0,0,0,0,null,null,null,null,{"$f":" UPQ$354","v":0},0,0,0,0,0,0,0,0,0,0,0,null,null,null,null,{"$f":" UQG$354","v":0},0,0,0,0,0,0,0,0,0,0,0,null,null,null,null,{"$f":" UQW$354","v":0},0,0,0,0,0,0,0,0,0,0,0,null,null,null,null,{"$f":" URM$354","v":0},0,0,0,0,0,0,0,0,0,0,0,null,null,null,null,{"$f":" USC$354","v":0},0,0,0,0,0,0,0,0,0,0,0,null,null,null,null,{"$f":" USS$354","v":0},0,0,0,0,0,0,0,0,0,0,0,null,null,null,null,{"$f":" UTI$354","v":0},0,0,0,0,0,0,0,0,0,0,0,null,null,null,null,{"$f":" UTY$354","v":0},0,0,0,0,0,0,0,0,0,0,0,null,null,null,null,{"$f":" UUO$354","v":0},0,0,0,0,0,0,0,0,0,0,0,null,null,null,null,{"$f":" UVE$354","v":0},0,0,0,0,0,0,0,0,0,0,0,null,null,null,null,{"$f":" UVU$354","v":0},0,0,0,0,0,0,0,0,0,0,0,null,null,null,null,{"$f":" UWK$354","v":0},0,0,0,0,0,0,0,0,0,0,0,null,null,null,null,{"$f":" UXA$354","v":0},0,0,0,0,0,0,0,0,0,0,0,null,null,null,null,{"$f":" UXQ$354","v":0},0,0,0,0,0,0,0,0,0,0,0,null,null,null,null,{"$f":" UYG$354","v":0},0,0,0,0,0,0,0,0,0,0,0,null,null,null,null,{"$f":" UYW$354","v":0},0,0,0,0,0,0,0,0,0,0,0,null,null,null,null,{"$f":" UZM$354","v":0},0,0,0,0,0,0,0,0,0,0,0,null,null,null,null,{"$f":" VAC$354","v":0},0,0,0,0,0,0,0,0,0,0,0,null,null,null,null,{"$f":" VAS$354","v":0},0,0,0,0,0,0,0,0,0,0,0,null,null,null,null,{"$f":" VBI$354","v":0},0,0,0,0,0,0,0,0,0,0,0,null,null,null,null,{"$f":" VBY$354","v":0},0,0,0,0,0,0,0,0,0,0,0,null,null,null,null,{"$f":" VCO$354","v":0},0,0,0,0,0,0,0,0,0,0,0,null,null,null,null,{"$f":" VDE$354","v":0},0,0,0,0,0,0,0,0,0,0,0,null,null,null,null,{"$f":" VDU$354","v":0},0,0,0,0,0,0,0,0,0,0,0,null,null,null,null,{"$f":" VEK$354","v":0},0,0,0,0,0,0,0,0,0,0,0,null,null,null,null,{"$f":" VFA$354","v":0},0,0,0,0,0,0,0,0,0,0,0,null,null,null,null,{"$f":" VFQ$354","v":0},0,0,0,0,0,0,0,0,0,0,0,null,null,null,null,{"$f":" VGG$354","v":0},0,0,0,0,0,0,0,0,0,0,0,null,null,null,null,{"$f":" VGW$354","v":0},0,0,0,0,0,0,0,0,0,0,0,null,null,null,null,{"$f":" VHM$354","v":0},0,0,0,0,0,0,0,0,0,0,0,null,null,null,null,{"$f":" VIC$354","v":0},0,0,0,0,0,0,0,0,0,0,0,null,null,null,null,{"$f":" VIS$354","v":0},0,0,0,0,0,0,0,0,0,0,0,null,null,null,null,{"$f":" VJI$354","v":0},0,0,0,0,0,0,0,0,0,0,0,null,null,null,null,{"$f":" VJY$354","v":0},0,0,0,0,0,0,0,0,0,0,0,null,null,null,null,{"$f":" VKO$354","v":0},0,0,0,0,0,0,0,0,0,0,0,null,null,null,null,{"$f":" VLE$354","v":0},0,0,0,0,0,0,0,0,0,0,0,null,null,null,null,{"$f":" VLU$354","v":0},0,0,0,0,0,0,0,0,0,0,0,null,null,null,null,{"$f":" VMK$354","v":0},0,0,0,0,0,0,0,0,0,0,0,null,null,null,null,{"$f":" VNA$354","v":0},0,0,0,0,0,0,0,0,0,0,0,null,null,null,null,{"$f":" VNQ$354","v":0},0,0,0,0,0,0,0,0,0,0,0,null,null,null,null,{"$f":" VOG$354","v":0},0,0,0,0,0,0,0,0,0,0,0,null,null,null,null,{"$f":" VOW$354","v":0},0,0,0,0,0,0,0,0,0,0,0,null,null,null,null,{"$f":" VPM$354","v":0},0,0,0,0,0,0,0,0,0,0,0,null,null,null,null,{"$f":" VQC$354","v":0},0,0,0,0,0,0,0,0,0,0,0,null,null,null,null,{"$f":" VQS$354","v":0},0,0,0,0,0,0,0,0,0,0,0,null,null,null,null,{"$f":" VRI$354","v":0},0,0,0,0,0,0,0,0,0,0,0,null,null,null,null,{"$f":" VRY$354","v":0},0,0,0,0,0,0,0,0,0,0,0,null,null,null,null,{"$f":" VSO$354","v":0},0,0,0,0,0,0,0,0,0,0,0,null,null,null,null,{"$f":" VTE$354","v":0},0,0,0,0,0,0,0,0,0,0,0,null,null,null,null,{"$f":" VTU$354","v":0},0,0,0,0,0,0,0,0,0,0,0,null,null,null,null,{"$f":" VUK$354","v":0},0,0,0,0,0,0,0,0,0,0,0,null,null,null,null,{"$f":" VVA$354","v":0},0,0,0,0,0,0,0,0,0,0,0,null,null,null,null,{"$f":" VVQ$354","v":0},0,0,0,0,0,0,0,0,0,0,0,null,null,null,null,{"$f":" VWG$354","v":0},0,0,0,0,0,0,0,0,0,0,0,null,null,null,null,{"$f":" VWW$354","v":0},0,0,0,0,0,0,0,0,0,0,0,null,null,null,null,{"$f":" VXM$354","v":0},0,0,0,0,0,0,0,0,0,0,0,null,null,null,null,{"$f":" VYC$354","v":0},0,0,0,0,0,0,0,0,0,0,0,null,null,null,null,{"$f":" VYS$354","v":0},0,0,0,0,0,0,0,0,0,0,0,null,null,null,null,{"$f":" VZI$354","v":0},0,0,0,0,0,0,0,0,0,0,0,null,null,null,null,{"$f":" VZY$354","v":0},0,0,0,0,0,0,0,0,0,0,0,null,null,null,null,{"$f":" WAO$354","v":0},0,0,0,0,0,0,0,0,0,0,0,null,null,null,null,{"$f":" WBE$354","v":0},0,0,0,0,0,0,0,0,0,0,0,null,null,null,null,{"$f":" WBU$354","v":0},0,0,0,0,0,0,0,0,0,0,0,null,null,null,null,{"$f":" WCK$354","v":0},0,0,0,0,0,0,0,0,0,0,0,null,null,null,null,{"$f":" WDA$354","v":0},0,0,0,0,0,0,0,0,0,0,0,null,null,null,null,{"$f":" WDQ$354","v":0},0,0,0,0,0,0,0,0,0,0,0,null,null,null,null,{"$f":" WEG$354","v":0},0,0,0,0,0,0,0,0,0,0,0,null,null,null,null,{"$f":" WEW$354","v":0},0,0,0,0,0,0,0,0,0,0,0,null,null,null,null,{"$f":" WFM$354","v":0},0,0,0,0,0,0,0,0,0,0,0,null,null,null,null,{"$f":" WGC$354","v":0},0,0,0,0,0,0,0,0,0,0,0,null,null,null,null,{"$f":" WGS$354","v":0},0,0,0,0,0,0,0,0,0,0,0,null,null,null,null,{"$f":" WHI$354","v":0},0,0,0,0,0,0,0,0,0,0,0,null,null,null,null,{"$f":" WHY$354","v":0},0,0,0,0,0,0,0,0,0,0,0,null,null,null,null,{"$f":" WIO$354","v":0},0,0,0,0,0,0,0,0,0,0,0,null,null,null,null,{"$f":" WJE$354","v":0},0,0,0,0,0,0,0,0,0,0,0,null,null,null,null,{"$f":" WJU$354","v":0},0,0,0,0,0,0,0,0,0,0,0,null,null,null,null,{"$f":" WKK$354","v":0},0,0,0,0,0,0,0,0,0,0,0,null,null,null,null,{"$f":" WLA$354","v":0},0,0,0,0,0,0,0,0,0,0,0,null,null,null,null,{"$f":" WLQ$354","v":0},0,0,0,0,0,0,0,0,0,0,0,null,null,null,null,{"$f":" WMG$354","v":0},0,0,0,0,0,0,0,0,0,0,0,null,null,null,null,{"$f":" WMW$354","v":0},0,0,0,0,0,0,0,0,0,0,0,null,null,null,null,{"$f":" WNM$354","v":0},0,0,0,0,0,0,0,0,0,0,0,null,null,null,null,{"$f":" WOC$354","v":0},0,0,0,0,0,0,0,0,0,0,0,null,null,null,null,{"$f":" WOS$354","v":0},0,0,0,0,0,0,0,0,0,0,0,null,null,null,null,{"$f":" WPI$354","v":0},0,0,0,0,0,0,0,0,0,0,0,null,null,null,null,{"$f":" WPY$354","v":0},0,0,0,0,0,0,0,0,0,0,0,null,null,null,null,{"$f":" WQO$354","v":0},0,0,0,0,0,0,0,0,0,0,0,null,null,null,null,{"$f":" WRE$354","v":0},0,0,0,0,0,0,0,0,0,0,0,null,null,null,null,{"$f":" WRU$354","v":0},0,0,0,0,0,0,0,0,0,0,0,null,null,null,null,{"$f":" WSK$354","v":0},0,0,0,0,0,0,0,0,0,0,0,null,null,null,null,{"$f":" WTA$354","v":0},0,0,0,0,0,0,0,0,0,0,0,null,null,null,null,{"$f":" WTQ$354","v":0},0,0,0,0,0,0,0,0,0,0,0,null,null,null,null,{"$f":" WUG$354","v":0},0,0,0,0,0,0,0,0,0,0,0,null,null,null,null,{"$f":" WUW$354","v":0},0,0,0,0,0,0,0,0,0,0,0,null,null,null,null,{"$f":" WVM$354","v":0},0,0,0,0,0,0,0,0,0,0,0,null,null,null,null,{"$f":" WWC$354","v":0},0,0,0,0,0,0,0,0,0,0,0,null,null,null,null,{"$f":" WWS$354","v":0},0,0,0,0,0,0,0,0,0,0,0,null,null,null,null,{"$f":" WXI$354","v":0},0,0,0,0,0,0,0,0,0,0,0,null,null,null,null,{"$f":" WXY$354","v":0},0,0,0,0,0,0,0,0,0,0,0,null,null,null,null,{"$f":" WYO$354","v":0},0,0,0,0,0,0,0,0,0,0,0,null,null,null,null,{"$f":" WZE$354","v":0},0,0,0,0,0,0,0,0,0,0,0,null,null,null,null,{"$f":" WZU$354","v":0},0,0,0,0,0,0,0,0,0,0,0,null,null,null,null,{"$f":" XAK$354","v":0},0,0,0,0,0,0,0,0,0,0,0,null,null,null,null,{"$f":" XBA$354","v":0},0,0,0,0,0,0,0,0,0,0,0,null,null,null,null,{"$f":" XBQ$354","v":0},0,0,0,0,0,0,0,0,0,0,0,null,null,null,null,{"$f":" XCG$354","v":0},0,0,0,0,0,0,0,0,0,0,0,null,null,null,null,{"$f":" XCW$354","v":0},0,0,0,0,0,0,0,0,0,0,0,null,null,null,null,{"$f":" XDM$354","v":0},0,0,0,0,0,0,0,0,0,0,0,null,null,null,null,{"$f":" XEC$354","v":0},0,0,0,0,0,0,0,0,0,0,0,null,null,null,null,{"$f":" XES$354","v":0},0,0,0,0,0,0,0,0,0,0,0]
[null,null,null,null,null,null,null,null,null,null,null,null,null,null,null,null,null,null,null,null,{"$f":" U$26","v":0},0,0,0,0,0,0,0,0,0,0,0,null,null,null,null,0,0,0,0,0,0,0,0,0,0,0,0,null,null,null,null,0,0,0,0,0,0,0,0,0,0,0,0,null,null,null,null,{"$f":" BQ$26","v":0},0,0,0,0,0,0,0,0,0,0,0,null,null,null,null,0,0,0,0,0,0,0,0,0,0,0,0,null,null,null,null,0,0,0,0,0,0,0,0,0,0,0,0,null,null,null,null,0,0,0,0,0,0,0,0,0,0,0,0,null,null,null,null,{"$f":" EC$26","v":0},0,0,0,0,0,0,0,0,0,0,0,null,null,null,null,0,0,0,0,0,0,0,0,0,0,0,0,null,null,null,null,0,0,0,0,0,0,0,0,0,0,0,0,null,null,null,null,0,0,0,0,0,0,0,0,0,0,0,0,null,null,null,null,{"$f":" GO$26","v":0},0,0,0,0,0,0,0,0,0,0,0,null,null,null,null,0,0,0,0,0,0,0,0,0,0,0,0,null,null,null,null,0,0,0,0,0,0,0,0,0,0,0,0,null,null,null,null,0,0,0,0,0,0,0,0,0,0,0,0,null,null,null,null,{"$f":" JA$26","v":0},0,0,0,0,0,0,0,0,0,0,0,null,null,null,null,0,0,0,0,0,0,0,0,0,0,0,0,null,null,null,null,0,0,0,0,0,0,0,0,0,0,0,0,null,null,null,null,0,0,0,0,0,0,0,0,0,0,0,0,null,null,null,null,{"$f":" LM$26","v":0},0,0,0,0,0,0,0,0,0,0,0,null,null,null,null,0,0,0,0,0,0,0,0,0,0,0,0,null,null,null,null,0,0,0,0,0,0,0,0,0,0,0,0,null,null,null,null,0,0,0,0,0,0,0,0,0,0,0,0,null,null,null,null,{"$f":" NY$26","v":0},0,0,0,0,0,0,0,0,0,0,0,null,null,null,null,0,0,0,0,0,0,0,0,0,0,0,0,null,null,null,null,0,0,0,0,0,0,0,0,0,0,0,0,null,null,null,null,0,0,0,0,0,0,0,0,0,0,0,0,null,null,null,null,{"$f":" QK$26","v":0},0,0,0,0,0,0,0,0,0,0,0,null,null,null,null,0,0,0,0,0,0,0,0,0,0,0,0,null,null,null,null,0,0,0,0,0,0,0,0,0,0,0,0,null,null,null,null,0,0,0,0,0,0,0,0,0,0,0,0,null,null,null,null,{"$f":" SW$26","v":0},0,0,0,0,0,0,0,0,0,0,0,null,null,null,null,0,0,0,0,0,0,0,0,0,0,0,0,null,null,null,null,0,0,0,0,0,0,0,0,0,0,0,0,null,null,null,null,0,0,0,0,0,0,0,0,0,0,0,0,null,null,null,null,{"$f":" VI$26","v":0},0,0,0,0,0,0,0,0,0,0,0,null,null,null,null,0,0,0,0,0,0,0,0,0,0,0,0,null,null,null,null,0,0,0,0,0,0,0,0,0,0,0,0,null,null,null,null,0,0,0,0,0,0,0,0,0,0,0,0,null,null,null,null,{"$f":" XU$26","v":0},0,0,0,0,0,0,0,0,0,0,0,null,null,null,null,0,0,0,0,0,0,0,0,0,0,0,0,null,null,null,null,0,0,0,0,0,0,0,0,0,0,0,0,null,null,null,null,0,0,0,0,0,0,0,0,0,0,0,0,null,null,null,null,{"$f":" AAG$26","v":0},0,0,0,0,0,0,0,0,0,0,0,null,null,null,null,0,0,0,0,0,0,0,0,0,0,0,0,null,null,null,null,0,0,0,0,0,0,0,0,0,0,0,0,null,null,null,null,0,0,0,0,0,0,0,0,0,0,0,0,null,null,null,null,{"$f":" ACS$26","v":0},0,0,0,0,0,0,0,0,0,0,0,null,null,null,null,0,0,0,0,0,0,0,0,0,0,0,0,null,null,null,null,0,0,0,0,0,0,0,0,0,0,0,0,null,null,null,null,0,0,0,0,0,0,0,0,0,0,0,0,null,null,null,null,{"$f":" AFE$26","v":0},0,0,0,0,0,0,0,0,0,0,0,null,null,null,null,0,0,0,0,0,0,0,0,0,0,0,0,null,null,null,null,0,0,0,0,0,0,0,0,0,0,0,0,null,null,null,null,0,0,0,0,0,0,0,0,0,0,0,0,null,null,null,null,{"$f":" AHQ$26","v":0},0,0,0,0,0,0,0,0,0,0,0,null,null,null,null,0,0,0,0,0,0,0,0,0,0,0,0,null,null,null,null,0,0,0,0,0,0,0,0,0,0,0,0,null,null,null,null,0,0,0,0,0,0,0,0,0,0,0,0,null,null,null,null,{"$f":" AKC$26","v":0},0,0,0,0,0,0,0,0,0,0,0,null,null,null,null,0,0,0,0,0,0,0,0,0,0,0,0,null,null,null,null,0,0,0,0,0,0,0,0,0,0,0,0,null,null,null,null,0,0,0,0,0,0,0,0,0,0,0,0,null,null,null,null,{"$f":" AMO$26","v":0},0,0,0,0,0,0,0,0,0,0,0,null,null,null,null,0,0,0,0,0,0,0,0,0,0,0,0,null,null,null,null,0,0,0,0,0,0,0,0,0,0,0,0,null,null,null,null,0,0,0,0,0,0,0,0,0,0,0,0,null,null,null,null,{"$f":" APA$26","v":0},0,0,0,0,0,0,0,0,0,0,0,null,null,null,null,0,0,0,0,0,0,0,0,0,0,0,0,null,null,null,null,0,0,0,0,0,0,0,0,0,0,0,0,null,null,null,null,0,0,0,0,0,0,0,0,0,0,0,0,null,null,null,null,{"$f":" ARM$26","v":0},0,0,0,0,0,0,0,0,0,0,0,null,null,null,null,0,0,0,0,0,0,0,0,0,0,0,0,null,null,null,null,0,0,0,0,0,0,0,0,0,0,0,0,null,null,null,null,0,0,0,0,0,0,0,0,0,0,0,0,null,null,null,null,{"$f":" ATY$26","v":0},0,0,0,0,0,0,0,0,0,0,0,null,null,null,null,0,0,0,0,0,0,0,0,0,0,0,0,null,null,null,null,0,0,0,0,0,0,0,0,0,0,0,0,null,null,null,null,0,0,0,0,0,0,0,0,0,0,0,0,null,null,null,null,{"$f":" AWK$26","v":0},0,0,0,0,0,0,0,0,0,0,0,null,null,null,null,0,0,0,0,0,0,0,0,0,0,0,0,null,null,null,null,0,0,0,0,0,0,0,0,0,0,0,0,null,null,null,null,0,0,0,0,0,0,0,0,0,0,0,0,null,null,null,null,{"$f":" AYW$26","v":0},0,0,0,0,0,0,0,0,0,0,0,null,null,null,null,0,0,0,0,0,0,0,0,0,0,0,0,null,null,null,null,0,0,0,0,0,0,0,0,0,0,0,0,null,null,null,null,0,0,0,0,0,0,0,0,0,0,0,0,null,null,null,null,{"$f":" BBI$26","v":0},0,0,0,0,0,0,0,0,0,0,0,null,null,null,null,0,0,0,0,0,0,0,0,0,0,0,0,null,null,null,null,0,0,0,0,0,0,0,0,0,0,0,0,null,null,null,null,0,0,0,0,0,0,0,0,0,0,0,0,null,null,null,null,{"$f":" BDU$26","v":0},0,0,0,0,0,0,0,0,0,0,0,null,null,null,null,0,0,0,0,0,0,0,0,0,0,0,0,null,null,null,null,0,0,0,0,0,0,0,0,0,0,0,0,null,null,null,null,0,0,0,0,0,0,0,0,0,0,0,0,null,null,null,null,{"$f":" BGG$26","v":0},0,0,0,0,0,0,0,0,0,0,0,null,null,null,null,0,0,0,0,0,0,0,0,0,0,0,0,null,null,null,null,0,0,0,0,0,0,0,0,0,0,0,0,null,null,null,null,0,0,0,0,0,0,0,0,0,0,0,0,null,null,null,null,{"$f":" BIS$26","v":0},0,0,0,0,0,0,0,0,0,0,0,null,null,null,null,0,0,0,0,0,0,0,0,0,0,0,0,null,null,null,null,0,0,0,0,0,0,0,0,0,0,0,0,null,null,null,null,0,0,0,0,0,0,0,0,0,0,0,0,null,null,null,null,{"$f":" BLE$26","v":0},0,0,0,0,0,0,0,0,0,0,0,null,null,null,null,0,0,0,0,0,0,0,0,0,0,0,0,null,null,null,null,0,0,0,0,0,0,0,0,0,0,0,0,null,null,null,null,0,0,0,0,0,0,0,0,0,0,0,0,null,null,null,null,{"$f":" BNQ$26","v":0},0,0,0,0,0,0,0,0,0,0,0,null,null,null,null,0,0,0,0,0,0,0,0,0,0,0,0,null,null,null,null,0,0,0,0,0,0,0,0,0,0,0,0,null,null,null,null,0,0,0,0,0,0,0,0,0,0,0,0,null,null,null,null,{"$f":" BQC$26","v":0},0,0,0,0,0,0,0,0,0,0,0,null,null,null,null,0,0,0,0,0,0,0,0,0,0,0,0,null,null,null,null,0,0,0,0,0,0,0,0,0,0,0,0,null,null,null,null,0,0,0,0,0,0,0,0,0,0,0,0,null,null,null,null,{"$f":" BSO$26","v":0},0,0,0,0,0,0,0,0,0,0,0,null,null,null,null,0,0,0,0,0,0,0,0,0,0,0,0,null,null,null,null,0,0,0,0,0,0,0,0,0,0,0,0,null,null,null,null,0,0,0,0,0,0,0,0,0,0,0,0,null,null,null,null,{"$f":" BVA$26","v":0},0,0,0,0,0,0,0,0,0,0,0,null,null,null,null,0,0,0,0,0,0,0,0,0,0,0,0,null,null,null,null,0,0,0,0,0,0,0,0,0,0,0,0,null,null,null,null,0,0,0,0,0,0,0,0,0,0,0,0,null,null,null,null,{"$f":" BXM$26","v":0},0,0,0,0,0,0,0,0,0,0,0,null,null,null,null,0,0,0,0,0,0,0,0,0,0,0,0,null,null,null,null,0,0,0,0,0,0,0,0,0,0,0,0,null,null,null,null,0,0,0,0,0,0,0,0,0,0,0,0,null,null,null,null,{"$f":" BZY$26","v":0},0,0,0,0,0,0,0,0,0,0,0,null,null,null,null,0,0,0,0,0,0,0,0,0,0,0,0,null,null,null,null,0,0,0,0,0,0,0,0,0,0,0,0,null,null,null,null,0,0,0,0,0,0,0,0,0,0,0,0,null,null,null,null,{"$f":" CCK$26","v":0},0,0,0,0,0,0,0,0,0,0,0,null,null,null,null,0,0,0,0,0,0,0,0,0,0,0,0,null,null,null,null,0,0,0,0,0,0,0,0,0,0,0,0,null,null,null,null,0,0,0,0,0,0,0,0,0,0,0,0,null,null,null,null,{"$f":" CEW$26","v":0},0,0,0,0,0,0,0,0,0,0,0,null,null,null,null,0,0,0,0,0,0,0,0,0,0,0,0,null,null,null,null,0,0,0,0,0,0,0,0,0,0,0,0,null,null,null,null,0,0,0,0,0,0,0,0,0,0,0,0,null,null,null,null,{"$f":" CHI$26","v":0},0,0,0,0,0,0,0,0,0,0,0,null,null,null,null,0,0,0,0,0,0,0,0,0,0,0,0,null,null,null,null,0,0,0,0,0,0,0,0,0,0,0,0,null,null,null,null,0,0,0,0,0,0,0,0,0,0,0,0,null,null,null,null,{"$f":" CJU$26","v":0},0,0,0,0,0,0,0,0,0,0,0,null,null,null,null,0,0,0,0,0,0,0,0,0,0,0,0,null,null,null,null,0,0,0,0,0,0,0,0,0,0,0,0,null,null,null,null,0,0,0,0,0,0,0,0,0,0,0,0,null,null,null,null,{"$f":" CMG$26","v":0},0,0,0,0,0,0,0,0,0,0,0,null,null,null,null,0,0,0,0,0,0,0,0,0,0,0,0,null,null,null,null,0,0,0,0,0,0,0,0,0,0,0,0,null,null,null,null,0,0,0,0,0,0,0,0,0,0,0,0,null,null,null,null,{"$f":" COS$26","v":0},0,0,0,0,0,0,0,0,0,0,0,null,null,null,null,0,0,0,0,0,0,0,0,0,0,0,0,null,null,null,null,0,0,0,0,0,0,0,0,0,0,0,0,null,null,null,null,0,0,0,0,0,0,0,0,0,0,0,0,null,null,null,null,{"$f":" CRE$26","v":0},0,0,0,0,0,0,0,0,0,0,0,null,null,null,null,0,0,0,0,0,0,0,0,0,0,0,0,null,null,null,null,0,0,0,0,0,0,0,0,0,0,0,0,null,null,null,null,0,0,0,0,0,0,0,0,0,0,0,0,null,null,null,null,{"$f":" CTQ$26","v":0},0,0,0,0,0,0,0,0,0,0,0,null,null,null,null,0,0,0,0,0,0,0,0,0,0,0,0,null,null,null,null,0,0,0,0,0,0,0,0,0,0,0,0,null,null,null,null,0,0,0,0,0,0,0,0,0,0,0,0,null,null,null,null,{"$f":" CWC$26","v":0},0,0,0,0,0,0,0,0,0,0,0,null,null,null,null,0,0,0,0,0,0,0,0,0,0,0,0,null,null,null,null,0,0,0,0,0,0,0,0,0,0,0,0,null,null,null,null,0,0,0,0,0,0,0,0,0,0,0,0,null,null,null,null,{"$f":" CYO$26","v":0},0,0,0,0,0,0,0,0,0,0,0,null,null,null,null,0,0,0,0,0,0,0,0,0,0,0,0,null,null,null,null,0,0,0,0,0,0,0,0,0,0,0,0,null,null,null,null,0,0,0,0,0,0,0,0,0,0,0,0,null,null,null,null,{"$f":" DBA$26","v":0},0,0,0,0,0,0,0,0,0,0,0,null,null,null,null,0,0,0,0,0,0,0,0,0,0,0,0,null,null,null,null,0,0,0,0,0,0,0,0,0,0,0,0,null,null,null,null,0,0,0,0,0,0,0,0,0,0,0,0,null,null,null,null,{"$f":" DDM$26","v":0},0,0,0,0,0,0,0,0,0,0,0,null,null,null,null,0,0,0,0,0,0,0,0,0,0,0,0,null,null,null,null,0,0,0,0,0,0,0,0,0,0,0,0,null,null,null,null,0,0,0,0,0,0,0,0,0,0,0,0,null,null,null,null,{"$f":" DFY$26","v":0},0,0,0,0,0,0,0,0,0,0,0,null,null,null,null,0,0,0,0,0,0,0,0,0,0,0,0,null,null,null,null,0,0,0,0,0,0,0,0,0,0,0,0,null,null,null,null,0,0,0,0,0,0,0,0,0,0,0,0,null,null,null,null,{"$f":" DIK$26","v":0},0,0,0,0,0,0,0,0,0,0,0,null,null,null,null,0,0,0,0,0,0,0,0,0,0,0,0,null,null,null,null,0,0,0,0,0,0,0,0,0,0,0,0,null,null,null,null,0,0,0,0,0,0,0,0,0,0,0,0,null,null,null,null,{"$f":" DKW$26","v":0},0,0,0,0,0,0,0,0,0,0,0,null,null,null,null,0,0,0,0,0,0,0,0,0,0,0,0,null,null,null,null,0,0,0,0,0,0,0,0,0,0,0,0,null,null,null,null,0,0,0,0,0,0,0,0,0,0,0,0,null,null,null,null,{"$f":" DNI$26","v":0},0,0,0,0,0,0,0,0,0,0,0,null,null,null,null,0,0,0,0,0,0,0,0,0,0,0,0,null,null,null,null,0,0,0,0,0,0,0,0,0,0,0,0,null,null,null,null,0,0,0,0,0,0,0,0,0,0,0,0,null,null,null,null,{"$f":" DPU$26","v":0},0,0,0,0,0,0,0,0,0,0,0,null,null,null,null,0,0,0,0,0,0,0,0,0,0,0,0,null,null,null,null,0,0,0,0,0,0,0,0,0,0,0,0,null,null,null,null,0,0,0,0,0,0,0,0,0,0,0,0,null,null,null,null,{"$f":" DSG$26","v":0},0,0,0,0,0,0,0,0,0,0,0,null,null,null,null,0,0,0,0,0,0,0,0,0,0,0,0,null,null,null,null,0,0,0,0,0,0,0,0,0,0,0,0,null,null,null,null,0,0,0,0,0,0,0,0,0,0,0,0,null,null,null,null,{"$f":" DUS$26","v":0},0,0,0,0,0,0,0,0,0,0,0,null,null,null,null,0,0,0,0,0,0,0,0,0,0,0,0,null,null,null,null,0,0,0,0,0,0,0,0,0,0,0,0,null,null,null,null,0,0,0,0,0,0,0,0,0,0,0,0,null,null,null,null,{"$f":" DXE$26","v":0},0,0,0,0,0,0,0,0,0,0,0,null,null,null,null,0,0,0,0,0,0,0,0,0,0,0,0,null,null,null,null,0,0,0,0,0,0,0,0,0,0,0,0,null,null,null,null,0,0,0,0,0,0,0,0,0,0,0,0,null,null,null,null,{"$f":" DZQ$26","v":0},0,0,0,0,0,0,0,0,0,0,0,null,null,null,null,0,0,0,0,0,0,0,0,0,0,0,0,null,null,null,null,0,0,0,0,0,0,0,0,0,0,0,0,null,null,null,null,0,0,0,0,0,0,0,0,0,0,0,0,null,null,null,null,{"$f":" ECC$26","v":0},0,0,0,0,0,0,0,0,0,0,0,null,null,null,null,0,0,0,0,0,0,0,0,0,0,0,0,null,null,null,null,0,0,0,0,0,0,0,0,0,0,0,0,null,null,null,null,0,0,0,0,0,0,0,0,0,0,0,0,null,null,null,null,{"$f":" EEO$26","v":0},0,0,0,0,0,0,0,0,0,0,0,null,null,null,null,0,0,0,0,0,0,0,0,0,0,0,0,null,null,null,null,0,0,0,0,0,0,0,0,0,0,0,0,null,null,null,null,0,0,0,0,0,0,0,0,0,0,0,0,null,null,null,null,{"$f":" EHA$26","v":0},0,0,0,0,0,0,0,0,0,0,0,null,null,null,null,0,0,0,0,0,0,0,0,0,0,0,0,null,null,null,null,0,0,0,0,0,0,0,0,0,0,0,0,null,null,null,null,0,0,0,0,0,0,0,0,0,0,0,0,null,null,null,null,{"$f":" EJM$26","v":0},0,0,0,0,0,0,0,0,0,0,0,null,null,null,null,0,0,0,0,0,0,0,0,0,0,0,0,null,null,null,null,0,0,0,0,0,0,0,0,0,0,0,0,null,null,null,null,0,0,0,0,0,0,0,0,0,0,0,0,null,null,null,null,{"$f":" ELY$26","v":0},0,0,0,0,0,0,0,0,0,0,0,null,null,null,null,0,0,0,0,0,0,0,0,0,0,0,0,null,null,null,null,0,0,0,0,0,0,0,0,0,0,0,0,null,null,null,null,0,0,0,0,0,0,0,0,0,0,0,0,null,null,null,null,{"$f":" EOK$26","v":0},0,0,0,0,0,0,0,0,0,0,0,null,null,null,null,0,0,0,0,0,0,0,0,0,0,0,0,null,null,null,null,0,0,0,0,0,0,0,0,0,0,0,0,null,null,null,null,0,0,0,0,0,0,0,0,0,0,0,0,null,null,null,null,{"$f":" EQW$26","v":0},0,0,0,0,0,0,0,0,0,0,0,null,null,null,null,0,0,0,0,0,0,0,0,0,0,0,0,null,null,null,null,0,0,0,0,0,0,0,0,0,0,0,0,null,null,null,null,0,0,0,0,0,0,0,0,0,0,0,0,null,null,null,null,{"$f":" ETI$26","v":0},0,0,0,0,0,0,0,0,0,0,0,null,null,null,null,0,0,0,0,0,0,0,0,0,0,0,0,null,null,null,null,0,0,0,0,0,0,0,0,0,0,0,0,null,null,null,null,0,0,0,0,0,0,0,0,0,0,0,0,null,null,null,null,{"$f":" EVU$26","v":0},0,0,0,0,0,0,0,0,0,0,0,null,null,null,null,0,0,0,0,0,0,0,0,0,0,0,0,null,null,null,null,0,0,0,0,0,0,0,0,0,0,0,0,null,null,null,null,0,0,0,0,0,0,0,0,0,0,0,0,null,null,null,null,{"$f":" EYG$26","v":0},0,0,0,0,0,0,0,0,0,0,0,null,null,null,null,0,0,0,0,0,0,0,0,0,0,0,0,null,null,null,null,0,0,0,0,0,0,0,0,0,0,0,0,null,null,null,null,0,0,0,0,0,0,0,0,0,0,0,0,null,null,null,null,{"$f":" FAS$26","v":0},0,0,0,0,0,0,0,0,0,0,0,null,null,null,null,0,0,0,0,0,0,0,0,0,0,0,0,null,null,null,null,0,0,0,0,0,0,0,0,0,0,0,0,null,null,null,null,0,0,0,0,0,0,0,0,0,0,0,0,null,null,null,null,{"$f":" FDE$26","v":0},0,0,0,0,0,0,0,0,0,0,0,null,null,null,null,0,0,0,0,0,0,0,0,0,0,0,0,null,null,null,null,0,0,0,0,0,0,0,0,0,0,0,0,null,null,null,null,0,0,0,0,0,0,0,0,0,0,0,0,null,null,null,null,{"$f":" FFQ$26","v":0},0,0,0,0,0,0,0,0,0,0,0,null,null,null,null,0,0,0,0,0,0,0,0,0,0,0,0,null,null,null,null,0,0,0,0,0,0,0,0,0,0,0,0,null,null,null,null,0,0,0,0,0,0,0,0,0,0,0,0,null,null,null,null,{"$f":" FIC$26","v":0},0,0,0,0,0,0,0,0,0,0,0,null,null,null,null,0,0,0,0,0,0,0,0,0,0,0,0,null,null,null,null,0,0,0,0,0,0,0,0,0,0,0,0,null,null,null,null,0,0,0,0,0,0,0,0,0,0,0,0,null,null,null,null,{"$f":" FKO$26","v":0},0,0,0,0,0,0,0,0,0,0,0,null,null,null,null,0,0,0,0,0,0,0,0,0,0,0,0,null,null,null,null,0,0,0,0,0,0,0,0,0,0,0,0,null,null,null,null,0,0,0,0,0,0,0,0,0,0,0,0,null,null,null,null,{"$f":" FNA$26","v":0},0,0,0,0,0,0,0,0,0,0,0,null,null,null,null,0,0,0,0,0,0,0,0,0,0,0,0,null,null,null,null,0,0,0,0,0,0,0,0,0,0,0,0,null,null,null,null,0,0,0,0,0,0,0,0,0,0,0,0,null,null,null,null,{"$f":" FPM$26","v":0},0,0,0,0,0,0,0,0,0,0,0,null,null,null,null,0,0,0,0,0,0,0,0,0,0,0,0,null,null,null,null,0,0,0,0,0,0,0,0,0,0,0,0,null,null,null,null,0,0,0,0,0,0,0,0,0,0,0,0,null,null,null,null,{"$f":" FRY$26","v":0},0,0,0,0,0,0,0,0,0,0,0,null,null,null,null,0,0,0,0,0,0,0,0,0,0,0,0,null,null,null,null,0,0,0,0,0,0,0,0,0,0,0,0,null,null,null,null,0,0,0,0,0,0,0,0,0,0,0,0,null,null,null,null,{"$f":" FUK$26","v":0},0,0,0,0,0,0,0,0,0,0,0,null,null,null,null,0,0,0,0,0,0,0,0,0,0,0,0,null,null,null,null,0,0,0,0,0,0,0,0,0,0,0,0,null,null,null,null,0,0,0,0,0,0,0,0,0,0,0,0,null,null,null,null,{"$f":" FWW$26","v":0},0,0,0,0,0,0,0,0,0,0,0,null,null,null,null,0,0,0,0,0,0,0,0,0,0,0,0,null,null,null,null,0,0,0,0,0,0,0,0,0,0,0,0,null,null,null,null,0,0,0,0,0,0,0,0,0,0,0,0,null,null,null,null,{"$f":" FZI$26","v":0},0,0,0,0,0,0,0,0,0,0,0,null,null,null,null,0,0,0,0,0,0,0,0,0,0,0,0,null,null,null,null,0,0,0,0,0,0,0,0,0,0,0,0,null,null,null,null,0,0,0,0,0,0,0,0,0,0,0,0,null,null,null,null,{"$f":" GBU$26","v":0},0,0,0,0,0,0,0,0,0,0,0,null,null,null,null,0,0,0,0,0,0,0,0,0,0,0,0,null,null,null,null,0,0,0,0,0,0,0,0,0,0,0,0,null,null,null,null,0,0,0,0,0,0,0,0,0,0,0,0,null,null,null,null,{"$f":" GEG$26","v":0},0,0,0,0,0,0,0,0,0,0,0,null,null,null,null,0,0,0,0,0,0,0,0,0,0,0,0,null,null,null,null,0,0,0,0,0,0,0,0,0,0,0,0,null,null,null,null,0,0,0,0,0,0,0,0,0,0,0,0,null,null,null,null,{"$f":" GGS$26","v":0},0,0,0,0,0,0,0,0,0,0,0,null,null,null,null,0,0,0,0,0,0,0,0,0,0,0,0,null,null,null,null,0,0,0,0,0,0,0,0,0,0,0,0,null,null,null,null,0,0,0,0,0,0,0,0,0,0,0,0,null,null,null,null,{"$f":" GJE$26","v":0},0,0,0,0,0,0,0,0,0,0,0,null,null,null,null,0,0,0,0,0,0,0,0,0,0,0,0,null,null,null,null,0,0,0,0,0,0,0,0,0,0,0,0,null,null,null,null,0,0,0,0,0,0,0,0,0,0,0,0,null,null,null,null,{"$f":" GLQ$26","v":0},0,0,0,0,0,0,0,0,0,0,0,null,null,null,null,0,0,0,0,0,0,0,0,0,0,0,0,null,null,null,null,0,0,0,0,0,0,0,0,0,0,0,0,null,null,null,null,0,0,0,0,0,0,0,0,0,0,0,0,null,null,null,null,{"$f":" GOC$26","v":0},0,0,0,0,0,0,0,0,0,0,0,null,null,null,null,0,0,0,0,0,0,0,0,0,0,0,0,null,null,null,null,0,0,0,0,0,0,0,0,0,0,0,0,null,null,null,null,0,0,0,0,0,0,0,0,0,0,0,0,null,null,null,null,{"$f":" GQO$26","v":0},0,0,0,0,0,0,0,0,0,0,0,null,null,null,null,0,0,0,0,0,0,0,0,0,0,0,0,null,null,null,null,0,0,0,0,0,0,0,0,0,0,0,0,null,null,null,null,0,0,0,0,0,0,0,0,0,0,0,0,null,null,null,null,{"$f":" GTA$26","v":0},0,0,0,0,0,0,0,0,0,0,0,null,null,null,null,0,0,0,0,0,0,0,0,0,0,0,0,null,null,null,null,0,0,0,0,0,0,0,0,0,0,0,0,null,null,null,null,0,0,0,0,0,0,0,0,0,0,0,0,null,null,null,null,{"$f":" GVM$26","v":0},0,0,0,0,0,0,0,0,0,0,0,null,null,null,null,0,0,0,0,0,0,0,0,0,0,0,0,null,null,null,null,0,0,0,0,0,0,0,0,0,0,0,0,null,null,null,null,0,0,0,0,0,0,0,0,0,0,0,0,null,null,null,null,{"$f":" GXY$26","v":0},0,0,0,0,0,0,0,0,0,0,0,null,null,null,null,0,0,0,0,0,0,0,0,0,0,0,0,null,null,null,null,0,0,0,0,0,0,0,0,0,0,0,0,null,null,null,null,0,0,0,0,0,0,0,0,0,0,0,0,null,null,null,null,{"$f":" HAK$26","v":0},0,0,0,0,0,0,0,0,0,0,0,null,null,null,null,0,0,0,0,0,0,0,0,0,0,0,0,null,null,null,null,0,0,0,0,0,0,0,0,0,0,0,0,null,null,null,null,0,0,0,0,0,0,0,0,0,0,0,0,null,null,null,null,{"$f":" HCW$26","v":0},0,0,0,0,0,0,0,0,0,0,0,null,null,null,null,0,0,0,0,0,0,0,0,0,0,0,0,null,null,null,null,0,0,0,0,0,0,0,0,0,0,0,0,null,null,null,null,0,0,0,0,0,0,0,0,0,0,0,0,null,null,null,null,{"$f":" HFI$26","v":0},0,0,0,0,0,0,0,0,0,0,0,null,null,null,null,0,0,0,0,0,0,0,0,0,0,0,0,null,null,null,null,0,0,0,0,0,0,0,0,0,0,0,0,null,null,null,null,0,0,0,0,0,0,0,0,0,0,0,0,null,null,null,null,{"$f":" HHU$26","v":0},0,0,0,0,0,0,0,0,0,0,0,null,null,null,null,0,0,0,0,0,0,0,0,0,0,0,0,null,null,null,null,0,0,0,0,0,0,0,0,0,0,0,0,null,null,null,null,0,0,0,0,0,0,0,0,0,0,0,0,null,null,null,null,{"$f":" HKG$26","v":0},0,0,0,0,0,0,0,0,0,0,0,null,null,null,null,0,0,0,0,0,0,0,0,0,0,0,0,null,null,null,null,0,0,0,0,0,0,0,0,0,0,0,0,null,null,null,null,0,0,0,0,0,0,0,0,0,0,0,0,null,null,null,null,{"$f":" HMS$26","v":0},0,0,0,0,0,0,0,0,0,0,0,null,null,null,null,0,0,0,0,0,0,0,0,0,0,0,0,null,null,null,null,0,0,0,0,0,0,0,0,0,0,0,0,null,null,null,null,0,0,0,0,0,0,0,0,0,0,0,0,null,null,null,null,{"$f":" HPE$26","v":0},0,0,0,0,0,0,0,0,0,0,0,null,null,null,null,0,0,0,0,0,0,0,0,0,0,0,0,null,null,null,null,0,0,0,0,0,0,0,0,0,0,0,0,null,null,null,null,0,0,0,0,0,0,0,0,0,0,0,0,null,null,null,null,{"$f":" HRQ$26","v":0},0,0,0,0,0,0,0,0,0,0,0,null,null,null,null,0,0,0,0,0,0,0,0,0,0,0,0,null,null,null,null,0,0,0,0,0,0,0,0,0,0,0,0,null,null,null,null,0,0,0,0,0,0,0,0,0,0,0,0,null,null,null,null,{"$f":" HUC$26","v":0},0,0,0,0,0,0,0,0,0,0,0,null,null,null,null,0,0,0,0,0,0,0,0,0,0,0,0,null,null,null,null,0,0,0,0,0,0,0,0,0,0,0,0,null,null,null,null,0,0,0,0,0,0,0,0,0,0,0,0,null,null,null,null,{"$f":" HWO$26","v":0},0,0,0,0,0,0,0,0,0,0,0,null,null,null,null,0,0,0,0,0,0,0,0,0,0,0,0,null,null,null,null,0,0,0,0,0,0,0,0,0,0,0,0,null,null,null,null,0,0,0,0,0,0,0,0,0,0,0,0,null,null,null,null,{"$f":" HZA$26","v":0},0,0,0,0,0,0,0,0,0,0,0,null,null,null,null,0,0,0,0,0,0,0,0,0,0,0,0,null,null,null,null,0,0,0,0,0,0,0,0,0,0,0,0,null,null,null,null,0,0,0,0,0,0,0,0,0,0,0,0,null,null,null,null,{"$f":" IBM$26","v":0},0,0,0,0,0,0,0,0,0,0,0,null,null,null,null,0,0,0,0,0,0,0,0,0,0,0,0,null,null,null,null,0,0,0,0,0,0,0,0,0,0,0,0,null,null,null,null,0,0,0,0,0,0,0,0,0,0,0,0,null,null,null,null,{"$f":" IDY$26","v":0},0,0,0,0,0,0,0,0,0,0,0,null,null,null,null,0,0,0,0,0,0,0,0,0,0,0,0,null,null,null,null,0,0,0,0,0,0,0,0,0,0,0,0,null,null,null,null,0,0,0,0,0,0,0,0,0,0,0,0,null,null,null,null,{"$f":" IGK$26","v":0},0,0,0,0,0,0,0,0,0,0,0,null,null,null,null,0,0,0,0,0,0,0,0,0,0,0,0,null,null,null,null,0,0,0,0,0,0,0,0,0,0,0,0,null,null,null,null,0,0,0,0,0,0,0,0,0,0,0,0,null,null,null,null,{"$f":" IIW$26","v":0},0,0,0,0,0,0,0,0,0,0,0,null,null,null,null,0,0,0,0,0,0,0,0,0,0,0,0,null,null,null,null,0,0,0,0,0,0,0,0,0,0,0,0,null,null,null,null,0,0,0,0,0,0,0,0,0,0,0,0,null,null,null,null,{"$f":" ILI$26","v":0},0,0,0,0,0,0,0,0,0,0,0,null,null,null,null,0,0,0,0,0,0,0,0,0,0,0,0,null,null,null,null,0,0,0,0,0,0,0,0,0,0,0,0,null,null,null,null,0,0,0,0,0,0,0,0,0,0,0,0,null,null,null,null,{"$f":" INU$26","v":0},0,0,0,0,0,0,0,0,0,0,0,null,null,null,null,0,0,0,0,0,0,0,0,0,0,0,0,null,null,null,null,0,0,0,0,0,0,0,0,0,0,0,0,null,null,null,null,0,0,0,0,0,0,0,0,0,0,0,0,null,null,null,null,{"$f":" IQG$26","v":0},0,0,0,0,0,0,0,0,0,0,0,null,null,null,null,0,0,0,0,0,0,0,0,0,0,0,0,null,null,null,null,0,0,0,0,0,0,0,0,0,0,0,0,null,null,null,null,0,0,0,0,0,0,0,0,0,0,0,0,null,null,null,null,{"$f":" ISS$26","v":0},0,0,0,0,0,0,0,0,0,0,0,null,null,null,null,0,0,0,0,0,0,0,0,0,0,0,0,null,null,null,null,0,0,0,0,0,0,0,0,0,0,0,0,null,null,null,null,0,0,0,0,0,0,0,0,0,0,0,0,null,null,null,null,{"$f":" IVE$26","v":0},0,0,0,0,0,0,0,0,0,0,0,null,null,null,null,0,0,0,0,0,0,0,0,0,0,0,0,null,null,null,null,0,0,0,0,0,0,0,0,0,0,0,0,null,null,null,null,0,0,0,0,0,0,0,0,0,0,0,0,null,null,null,null,{"$f":" IXQ$26","v":0},0,0,0,0,0,0,0,0,0,0,0,null,null,null,null,0,0,0,0,0,0,0,0,0,0,0,0,null,null,null,null,0,0,0,0,0,0,0,0,0,0,0,0,null,null,null,null,0,0,0,0,0,0,0,0,0,0,0,0,null,null,null,null,{"$f":" JAC$26","v":0},0,0,0,0,0,0,0,0,0,0,0,null,null,null,null,0,0,0,0,0,0,0,0,0,0,0,0,null,null,null,null,0,0,0,0,0,0,0,0,0,0,0,0,null,null,null,null,0,0,0,0,0,0,0,0,0,0,0,0,null,null,null,null,{"$f":" JCO$26","v":0},0,0,0,0,0,0,0,0,0,0,0,null,null,null,null,0,0,0,0,0,0,0,0,0,0,0,0,null,null,null,null,0,0,0,0,0,0,0,0,0,0,0,0,null,null,null,null,0,0,0,0,0,0,0,0,0,0,0,0,null,null,null,null,{"$f":" JFA$26","v":0},0,0,0,0,0,0,0,0,0,0,0,null,null,null,null,0,0,0,0,0,0,0,0,0,0,0,0,null,null,null,null,0,0,0,0,0,0,0,0,0,0,0,0,null,null,null,null,0,0,0,0,0,0,0,0,0,0,0,0,null,null,null,null,{"$f":" JHM$26","v":0},0,0,0,0,0,0,0,0,0,0,0,null,null,null,null,0,0,0,0,0,0,0,0,0,0,0,0,null,null,null,null,0,0,0,0,0,0,0,0,0,0,0,0,null,null,null,null,0,0,0,0,0,0,0,0,0,0,0,0,null,null,null,null,{"$f":" JJY$26","v":0},0,0,0,0,0,0,0,0,0,0,0,null,null,null,null,0,0,0,0,0,0,0,0,0,0,0,0,null,null,null,null,0,0,0,0,0,0,0,0,0,0,0,0,null,null,null,null,0,0,0,0,0,0,0,0,0,0,0,0,null,null,null,null,{"$f":" JMK$26","v":0},0,0,0,0,0,0,0,0,0,0,0,null,null,null,null,0,0,0,0,0,0,0,0,0,0,0,0,null,null,null,null,0,0,0,0,0,0,0,0,0,0,0,0,null,null,null,null,0,0,0,0,0,0,0,0,0,0,0,0,null,null,null,null,{"$f":" JOW$26","v":0},0,0,0,0,0,0,0,0,0,0,0,null,null,null,null,0,0,0,0,0,0,0,0,0,0,0,0,null,null,null,null,0,0,0,0,0,0,0,0,0,0,0,0,null,null,null,null,0,0,0,0,0,0,0,0,0,0,0,0,null,null,null,null,{"$f":" JRI$26","v":0},0,0,0,0,0,0,0,0,0,0,0,null,null,null,null,0,0,0,0,0,0,0,0,0,0,0,0,null,null,null,null,0,0,0,0,0,0,0,0,0,0,0,0,null,null,null,null,0,0,0,0,0,0,0,0,0,0,0,0,null,null,null,null,{"$f":" JTU$26","v":0},0,0,0,0,0,0,0,0,0,0,0,null,null,null,null,0,0,0,0,0,0,0,0,0,0,0,0,null,null,null,null,0,0,0,0,0,0,0,0,0,0,0,0,null,null,null,null,0,0,0,0,0,0,0,0,0,0,0,0,null,null,null,null,{"$f":" JWG$26","v":0},0,0,0,0,0,0,0,0,0,0,0,null,null,null,null,0,0,0,0,0,0,0,0,0,0,0,0,null,null,null,null,0,0,0,0,0,0,0,0,0,0,0,0,null,null,null,null,0,0,0,0,0,0,0,0,0,0,0,0,null,null,null,null,{"$f":" JYS$26","v":0},0,0,0,0,0,0,0,0,0,0,0,null,null,null,null,0,0,0,0,0,0,0,0,0,0,0,0,null,null,null,null,0,0,0,0,0,0,0,0,0,0,0,0,null,null,null,null,0,0,0,0,0,0,0,0,0,0,0,0,null,null,null,null,{"$f":" KBE$26","v":0},0,0,0,0,0,0,0,0,0,0,0,null,null,null,null,0,0,0,0,0,0,0,0,0,0,0,0,null,null,null,null,0,0,0,0,0,0,0,0,0,0,0,0,null,null,null,null,0,0,0,0,0,0,0,0,0,0,0,0,null,null,null,null,{"$f":" KDQ$26","v":0},0,0,0,0,0,0,0,0,0,0,0,null,null,null,null,0,0,0,0,0,0,0,0,0,0,0,0,null,null,null,null,0,0,0,0,0,0,0,0,0,0,0,0,null,null,null,null,0,0,0,0,0,0,0,0,0,0,0,0,null,null,null,null,{"$f":" KGC$26","v":0},0,0,0,0,0,0,0,0,0,0,0,null,null,null,null,0,0,0,0,0,0,0,0,0,0,0,0,null,null,null,null,0,0,0,0,0,0,0,0,0,0,0,0,null,null,null,null,0,0,0,0,0,0,0,0,0,0,0,0,null,null,null,null,{"$f":" KIO$26","v":0},0,0,0,0,0,0,0,0,0,0,0,null,null,null,null,0,0,0,0,0,0,0,0,0,0,0,0,null,null,null,null,0,0,0,0,0,0,0,0,0,0,0,0,null,null,null,null,0,0,0,0,0,0,0,0,0,0,0,0,null,null,null,null,{"$f":" KLA$26","v":0},0,0,0,0,0,0,0,0,0,0,0,null,null,null,null,0,0,0,0,0,0,0,0,0,0,0,0,null,null,null,null,0,0,0,0,0,0,0,0,0,0,0,0,null,null,null,null,0,0,0,0,0,0,0,0,0,0,0,0,null,null,null,null,{"$f":" KNM$26","v":0},0,0,0,0,0,0,0,0,0,0,0,null,null,null,null,0,0,0,0,0,0,0,0,0,0,0,0,null,null,null,null,0,0,0,0,0,0,0,0,0,0,0,0,null,null,null,null,0,0,0,0,0,0,0,0,0,0,0,0,null,null,null,null,{"$f":" KPY$26","v":0},0,0,0,0,0,0,0,0,0,0,0,null,null,null,null,0,0,0,0,0,0,0,0,0,0,0,0,null,null,null,null,0,0,0,0,0,0,0,0,0,0,0,0,null,null,null,null,0,0,0,0,0,0,0,0,0,0,0,0,null,null,null,null,{"$f":" KSK$26","v":0},0,0,0,0,0,0,0,0,0,0,0,null,null,null,null,0,0,0,0,0,0,0,0,0,0,0,0,null,null,null,null,0,0,0,0,0,0,0,0,0,0,0,0,null,null,null,null,0,0,0,0,0,0,0,0,0,0,0,0,null,null,null,null,{"$f":" KUW$26","v":0},0,0,0,0,0,0,0,0,0,0,0,null,null,null,null,0,0,0,0,0,0,0,0,0,0,0,0,null,null,null,null,0,0,0,0,0,0,0,0,0,0,0,0,null,null,null,null,0,0,0,0,0,0,0,0,0,0,0,0,null,null,null,null,{"$f":" KXI$26","v":0},0,0,0,0,0,0,0,0,0,0,0,null,null,null,null,0,0,0,0,0,0,0,0,0,0,0,0,null,null,null,null,0,0,0,0,0,0,0,0,0,0,0,0,null,null,null,null,0,0,0,0,0,0,0,0,0,0,0,0,null,null,null,null,{"$f":" KZU$26","v":0},0,0,0,0,0,0,0,0,0,0,0,null,null,null,null,0,0,0,0,0,0,0,0,0,0,0,0,null,null,null,null,0,0,0,0,0,0,0,0,0,0,0,0,null,null,null,null,0,0,0,0,0,0,0,0,0,0,0,0,null,null,null,null,{"$f":" LCG$26","v":0},0,0,0,0,0,0,0,0,0,0,0,null,null,null,null,0,0,0,0,0,0,0,0,0,0,0,0,null,null,null,null,0,0,0,0,0,0,0,0,0,0,0,0,null,null,null,null,0,0,0,0,0,0,0,0,0,0,0,0,null,null,null,null,{"$f":" LES$26","v":0},0,0,0,0,0,0,0,0,0,0,0,null,null,null,null,0,0,0,0,0,0,0,0,0,0,0,0,null,null,null,null,0,0,0,0,0,0,0,0,0,0,0,0,null,null,null,null,0,0,0,0,0,0,0,0,0,0,0,0,null,null,null,null,{"$f":" LHE$26","v":0},0,0,0,0,0,0,0,0,0,0,0,null,null,null,null,0,0,0,0,0,0,0,0,0,0,0,0,null,null,null,null,0,0,0,0,0,0,0,0,0,0,0,0,null,null,null,null,0,0,0,0,0,0,0,0,0,0,0,0,null,null,null,null,{"$f":" LJQ$26","v":0},0,0,0,0,0,0,0,0,0,0,0,null,null,null,null,0,0,0,0,0,0,0,0,0,0,0,0,null,null,null,null,0,0,0,0,0,0,0,0,0,0,0,0,null,null,null,null,0,0,0,0,0,0,0,0,0,0,0,0,null,null,null,null,{"$f":" LMC$26","v":0},0,0,0,0,0,0,0,0,0,0,0,null,null,null,null,0,0,0,0,0,0,0,0,0,0,0,0,null,null,null,null,0,0,0,0,0,0,0,0,0,0,0,0,null,null,null,null,0,0,0,0,0,0,0,0,0,0,0,0,null,null,null,null,{"$f":" LOO$26","v":0},0,0,0,0,0,0,0,0,0,0,0,null,null,null,null,0,0,0,0,0,0,0,0,0,0,0,0,null,null,null,null,0,0,0,0,0,0,0,0,0,0,0,0,null,null,null,null,0,0,0,0,0,0,0,0,0,0,0,0,null,null,null,null,{"$f":" LRA$26","v":0},0,0,0,0,0,0,0,0,0,0,0,null,null,null,null,0,0,0,0,0,0,0,0,0,0,0,0,null,null,null,null,0,0,0,0,0,0,0,0,0,0,0,0,null,null,null,null,0,0,0,0,0,0,0,0,0,0,0,0,null,null,null,null,{"$f":" LTM$26","v":0},0,0,0,0,0,0,0,0,0,0,0,null,null,null,null,0,0,0,0,0,0,0,0,0,0,0,0,null,null,null,null,0,0,0,0,0,0,0,0,0,0,0,0,null,null,null,null,0,0,0,0,0,0,0,0,0,0,0,0,null,null,null,null,{"$f":" LVY$26","v":0},0,0,0,0,0,0,0,0,0,0,0,null,null,null,null,0,0,0,0,0,0,0,0,0,0,0,0,null,null,null,null,0,0,0,0,0,0,0,0,0,0,0,0,null,null,null,null,0,0,0,0,0,0,0,0,0,0,0,0,null,null,null,null,{"$f":" LYK$26","v":0},0,0,0,0,0,0,0,0,0,0,0,null,null,null,null,0,0,0,0,0,0,0,0,0,0,0,0,null,null,null,null,0,0,0,0,0,0,0,0,0,0,0,0,null,null,null,null,0,0,0,0,0,0,0,0,0,0,0,0,null,null,null,null,{"$f":" MAW$26","v":0},0,0,0,0,0,0,0,0,0,0,0,null,null,null,null,0,0,0,0,0,0,0,0,0,0,0,0,null,null,null,null,0,0,0,0,0,0,0,0,0,0,0,0,null,null,null,null,0,0,0,0,0,0,0,0,0,0,0,0,null,null,null,null,{"$f":" MDI$26","v":0},0,0,0,0,0,0,0,0,0,0,0,null,null,null,null,0,0,0,0,0,0,0,0,0,0,0,0,null,null,null,null,0,0,0,0,0,0,0,0,0,0,0,0,null,null,null,null,0,0,0,0,0,0,0,0,0,0,0,0,null,null,null,null,{"$f":" MFU$26","v":0},0,0,0,0,0,0,0,0,0,0,0,null,null,null,null,0,0,0,0,0,0,0,0,0,0,0,0,null,null,null,null,0,0,0,0,0,0,0,0,0,0,0,0,null,null,null,null,0,0,0,0,0,0,0,0,0,0,0,0,null,null,null,null,{"$f":" MIG$26","v":0},0,0,0,0,0,0,0,0,0,0,0,null,null,null,null,0,0,0,0,0,0,0,0,0,0,0,0,null,null,null,null,0,0,0,0,0,0,0,0,0,0,0,0,null,null,null,null,0,0,0,0,0,0,0,0,0,0,0,0,null,null,null,null,{"$f":" MKS$26","v":0},0,0,0,0,0,0,0,0,0,0,0,null,null,null,null,0,0,0,0,0,0,0,0,0,0,0,0,null,null,null,null,0,0,0,0,0,0,0,0,0,0,0,0,null,null,null,null,0,0,0,0,0,0,0,0,0,0,0,0,null,null,null,null,{"$f":" MNE$26","v":0},0,0,0,0,0,0,0,0,0,0,0,null,null,null,null,0,0,0,0,0,0,0,0,0,0,0,0,null,null,null,null,0,0,0,0,0,0,0,0,0,0,0,0,null,null,null,null,0,0,0,0,0,0,0,0,0,0,0,0,null,null,null,null,{"$f":" MPQ$26","v":0},0,0,0,0,0,0,0,0,0,0,0,null,null,null,null,0,0,0,0,0,0,0,0,0,0,0,0,null,null,null,null,0,0,0,0,0,0,0,0,0,0,0,0,null,null,null,null,0,0,0,0,0,0,0,0,0,0,0,0,null,null,null,null,{"$f":" MSC$26","v":0},0,0,0,0,0,0,0,0,0,0,0,null,null,null,null,0,0,0,0,0,0,0,0,0,0,0,0,null,null,null,null,0,0,0,0,0,0,0,0,0,0,0,0,null,null,null,null,0,0,0,0,0,0,0,0,0,0,0,0,null,null,null,null,{"$f":" MUO$26","v":0},0,0,0,0,0,0,0,0,0,0,0,null,null,null,null,0,0,0,0,0,0,0,0,0,0,0,0,null,null,null,null,0,0,0,0,0,0,0,0,0,0,0,0,null,null,null,null,0,0,0,0,0,0,0,0,0,0,0,0,null,null,null,null,{"$f":" MXA$26","v":0},0,0,0,0,0,0,0,0,0,0,0,null,null,null,null,0,0,0,0,0,0,0,0,0,0,0,0,null,null,null,null,0,0,0,0,0,0,0,0,0,0,0,0,null,null,null,null,0,0,0,0,0,0,0,0,0,0,0,0,null,null,null,null,{"$f":" MZM$26","v":0},0,0,0,0,0,0,0,0,0,0,0,null,null,null,null,0,0,0,0,0,0,0,0,0,0,0,0,null,null,null,null,0,0,0,0,0,0,0,0,0,0,0,0,null,null,null,null,0,0,0,0,0,0,0,0,0,0,0,0,null,null,null,null,{"$f":" NBY$26","v":0},0,0,0,0,0,0,0,0,0,0,0,null,null,null,null,0,0,0,0,0,0,0,0,0,0,0,0,null,null,null,null,0,0,0,0,0,0,0,0,0,0,0,0,null,null,null,null,0,0,0,0,0,0,0,0,0,0,0,0,null,null,null,null,{"$f":" NEK$26","v":0},0,0,0,0,0,0,0,0,0,0,0,null,null,null,null,0,0,0,0,0,0,0,0,0,0,0,0,null,null,null,null,0,0,0,0,0,0,0,0,0,0,0,0,null,null,null,null,0,0,0,0,0,0,0,0,0,0,0,0,null,null,null,null,{"$f":" NGW$26","v":0},0,0,0,0,0,0,0,0,0,0,0,null,null,null,null,0,0,0,0,0,0,0,0,0,0,0,0,null,null,null,null,0,0,0,0,0,0,0,0,0,0,0,0,null,null,null,null,0,0,0,0,0,0,0,0,0,0,0,0,null,null,null,null,{"$f":" NJI$26","v":0},0,0,0,0,0,0,0,0,0,0,0,null,null,null,null,0,0,0,0,0,0,0,0,0,0,0,0,null,null,null,null,0,0,0,0,0,0,0,0,0,0,0,0,null,null,null,null,0,0,0,0,0,0,0,0,0,0,0,0,null,null,null,null,{"$f":" NLU$26","v":0},0,0,0,0,0,0,0,0,0,0,0,null,null,null,null,0,0,0,0,0,0,0,0,0,0,0,0,null,null,null,null,0,0,0,0,0,0,0,0,0,0,0,0,null,null,null,null,0,0,0,0,0,0,0,0,0,0,0,0,null,null,null,null,{"$f":" NOG$26","v":0},0,0,0,0,0,0,0,0,0,0,0,null,null,null,null,0,0,0,0,0,0,0,0,0,0,0,0,null,null,null,null,0,0,0,0,0,0,0,0,0,0,0,0,null,null,null,null,0,0,0,0,0,0,0,0,0,0,0,0,null,null,null,null,{"$f":" NQS$26","v":0},0,0,0,0,0,0,0,0,0,0,0,null,null,null,null,0,0,0,0,0,0,0,0,0,0,0,0,null,null,null,null,0,0,0,0,0,0,0,0,0,0,0,0,null,null,null,null,0,0,0,0,0,0,0,0,0,0,0,0,null,null,null,null,{"$f":" NTE$26","v":0},0,0,0,0,0,0,0,0,0,0,0,null,null,null,null,0,0,0,0,0,0,0,0,0,0,0,0,null,null,null,null,0,0,0,0,0,0,0,0,0,0,0,0,null,null,null,null,0,0,0,0,0,0,0,0,0,0,0,0,null,null,null,null,{"$f":" NVQ$26","v":0},0,0,0,0,0,0,0,0,0,0,0,null,null,null,null,0,0,0,0,0,0,0,0,0,0,0,0,null,null,null,null,0,0,0,0,0,0,0,0,0,0,0,0,null,null,null,null,0,0,0,0,0,0,0,0,0,0,0,0,null,null,null,null,{"$f":" NYC$26","v":0},0,0,0,0,0,0,0,0,0,0,0,null,null,null,null,0,0,0,0,0,0,0,0,0,0,0,0,null,null,null,null,0,0,0,0,0,0,0,0,0,0,0,0,null,null,null,null,0,0,0,0,0,0,0,0,0,0,0,0,null,null,null,null,{"$f":" OAO$26","v":0},0,0,0,0,0,0,0,0,0,0,0,null,null,null,null,0,0,0,0,0,0,0,0,0,0,0,0,null,null,null,null,0,0,0,0,0,0,0,0,0,0,0,0,null,null,null,null,0,0,0,0,0,0,0,0,0,0,0,0,null,null,null,null,{"$f":" ODA$26","v":0},0,0,0,0,0,0,0,0,0,0,0,null,null,null,null,0,0,0,0,0,0,0,0,0,0,0,0,null,null,null,null,0,0,0,0,0,0,0,0,0,0,0,0,null,null,null,null,0,0,0,0,0,0,0,0,0,0,0,0,null,null,null,null,{"$f":" OFM$26","v":0},0,0,0,0,0,0,0,0,0,0,0,null,null,null,null,0,0,0,0,0,0,0,0,0,0,0,0,null,null,null,null,0,0,0,0,0,0,0,0,0,0,0,0,null,null,null,null,0,0,0,0,0,0,0,0,0,0,0,0,null,null,null,null,{"$f":" OHY$26","v":0},0,0,0,0,0,0,0,0,0,0,0,null,null,null,null,0,0,0,0,0,0,0,0,0,0,0,0,null,null,null,null,0,0,0,0,0,0,0,0,0,0,0,0,null,null,null,null,0,0,0,0,0,0,0,0,0,0,0,0,null,null,null,null,{"$f":" OKK$26","v":0},0,0,0,0,0,0,0,0,0,0,0,null,null,null,null,0,0,0,0,0,0,0,0,0,0,0,0,null,null,null,null,0,0,0,0,0,0,0,0,0,0,0,0,null,null,null,null,0,0,0,0,0,0,0,0,0,0,0,0,null,null,null,null,{"$f":" OMW$26","v":0},0,0,0,0,0,0,0,0,0,0,0,null,null,null,null,0,0,0,0,0,0,0,0,0,0,0,0,null,null,null,null,0,0,0,0,0,0,0,0,0,0,0,0,null,null,null,null,0,0,0,0,0,0,0,0,0,0,0,0,null,null,null,null,{"$f":" OPI$26","v":0},0,0,0,0,0,0,0,0,0,0,0,null,null,null,null,0,0,0,0,0,0,0,0,0,0,0,0,null,null,null,null,0,0,0,0,0,0,0,0,0,0,0,0,null,null,null,null,0,0,0,0,0,0,0,0,0,0,0,0,null,null,null,null,{"$f":" ORU$26","v":0},0,0,0,0,0,0,0,0,0,0,0,null,null,null,null,0,0,0,0,0,0,0,0,0,0,0,0,null,null,null,null,0,0,0,0,0,0,0,0,0,0,0,0,null,null,null,null,0,0,0,0,0,0,0,0,0,0,0,0,null,null,null,null,{"$f":" OUG$26","v":0},0,0,0,0,0,0,0,0,0,0,0,null,null,null,null,0,0,0,0,0,0,0,0,0,0,0,0,null,null,null,null,0,0,0,0,0,0,0,0,0,0,0,0,null,null,null,null,0,0,0,0,0,0,0,0,0,0,0,0,null,null,null,null,{"$f":" OWS$26","v":0},0,0,0,0,0,0,0,0,0,0,0,null,null,null,null,0,0,0,0,0,0,0,0,0,0,0,0,null,null,null,null,0,0,0,0,0,0,0,0,0,0,0,0,null,null,null,null,0,0,0,0,0,0,0,0,0,0,0,0,null,null,null,null,{"$f":" OZE$26","v":0},0,0,0,0,0,0,0,0,0,0,0,null,null,null,null,0,0,0,0,0,0,0,0,0,0,0,0,null,null,null,null,0,0,0,0,0,0,0,0,0,0,0,0,null,null,null,null,0,0,0,0,0,0,0,0,0,0,0,0,null,null,null,null,{"$f":" PBQ$26","v":0},0,0,0,0,0,0,0,0,0,0,0,null,null,null,null,0,0,0,0,0,0,0,0,0,0,0,0,null,null,null,null,0,0,0,0,0,0,0,0,0,0,0,0,null,null,null,null,0,0,0,0,0,0,0,0,0,0,0,0,null,null,null,null,{"$f":" PEC$26","v":0},0,0,0,0,0,0,0,0,0,0,0,null,null,null,null,0,0,0,0,0,0,0,0,0,0,0,0,null,null,null,null,0,0,0,0,0,0,0,0,0,0,0,0,null,null,null,null,0,0,0,0,0,0,0,0,0,0,0,0,null,null,null,null,{"$f":" PGO$26","v":0},0,0,0,0,0,0,0,0,0,0,0,null,null,null,null,0,0,0,0,0,0,0,0,0,0,0,0,null,null,null,null,0,0,0,0,0,0,0,0,0,0,0,0,null,null,null,null,0,0,0,0,0,0,0,0,0,0,0,0,null,null,null,null,{"$f":" PJA$26","v":0},0,0,0,0,0,0,0,0,0,0,0,null,null,null,null,0,0,0,0,0,0,0,0,0,0,0,0,null,null,null,null,0,0,0,0,0,0,0,0,0,0,0,0,null,null,null,null,0,0,0,0,0,0,0,0,0,0,0,0,null,null,null,null,{"$f":" PLM$26","v":0},0,0,0,0,0,0,0,0,0,0,0,null,null,null,null,0,0,0,0,0,0,0,0,0,0,0,0,null,null,null,null,0,0,0,0,0,0,0,0,0,0,0,0,null,null,null,null,0,0,0,0,0,0,0,0,0,0,0,0,null,null,null,null,{"$f":" PNY$26","v":0},0,0,0,0,0,0,0,0,0,0,0,null,null,null,null,0,0,0,0,0,0,0,0,0,0,0,0,null,null,null,null,0,0,0,0,0,0,0,0,0,0,0,0,null,null,null,null,0,0,0,0,0,0,0,0,0,0,0,0,null,null,null,null,{"$f":" PQK$26","v":0},0,0,0,0,0,0,0,0,0,0,0,null,null,null,null,0,0,0,0,0,0,0,0,0,0,0,0,null,null,null,null,0,0,0,0,0,0,0,0,0,0,0,0,null,null,null,null,0,0,0,0,0,0,0,0,0,0,0,0,null,null,null,null,{"$f":" PSW$26","v":0},0,0,0,0,0,0,0,0,0,0,0,null,null,null,null,0,0,0,0,0,0,0,0,0,0,0,0,null,null,null,null,0,0,0,0,0,0,0,0,0,0,0,0,null,null,null,null,0,0,0,0,0,0,0,0,0,0,0,0,null,null,null,null,{"$f":" PVI$26","v":0},0,0,0,0,0,0,0,0,0,0,0,null,null,null,null,0,0,0,0,0,0,0,0,0,0,0,0,null,null,null,null,0,0,0,0,0,0,0,0,0,0,0,0,null,null,null,null,0,0,0,0,0,0,0,0,0,0,0,0,null,null,null,null,{"$f":" PXU$26","v":0},0,0,0,0,0,0,0,0,0,0,0,null,null,null,null,0,0,0,0,0,0,0,0,0,0,0,0,null,null,null,null,0,0,0,0,0,0,0,0,0,0,0,0,null,null,null,null,0,0,0,0,0,0,0,0,0,0,0,0,null,null,null,null,{"$f":" QAG$26","v":0},0,0,0,0,0,0,0,0,0,0,0,null,null,null,null,0,0,0,0,0,0,0,0,0,0,0,0,null,null,null,null,0,0,0,0,0,0,0,0,0,0,0,0,null,null,null,null,0,0,0,0,0,0,0,0,0,0,0,0,null,null,null,null,{"$f":" QCS$26","v":0},0,0,0,0,0,0,0,0,0,0,0,null,null,null,null,0,0,0,0,0,0,0,0,0,0,0,0,null,null,null,null,0,0,0,0,0,0,0,0,0,0,0,0,null,null,null,null,0,0,0,0,0,0,0,0,0,0,0,0,null,null,null,null,{"$f":" QFE$26","v":0},0,0,0,0,0,0,0,0,0,0,0,null,null,null,null,0,0,0,0,0,0,0,0,0,0,0,0,null,null,null,null,0,0,0,0,0,0,0,0,0,0,0,0,null,null,null,null,0,0,0,0,0,0,0,0,0,0,0,0,null,null,null,null,{"$f":" QHQ$26","v":0},0,0,0,0,0,0,0,0,0,0,0,null,null,null,null,0,0,0,0,0,0,0,0,0,0,0,0,null,null,null,null,0,0,0,0,0,0,0,0,0,0,0,0,null,null,null,null,0,0,0,0,0,0,0,0,0,0,0,0,null,null,null,null,{"$f":" QKC$26","v":0},0,0,0,0,0,0,0,0,0,0,0,null,null,null,null,0,0,0,0,0,0,0,0,0,0,0,0,null,null,null,null,0,0,0,0,0,0,0,0,0,0,0,0,null,null,null,null,0,0,0,0,0,0,0,0,0,0,0,0,null,null,null,null,{"$f":" QMO$26","v":0},0,0,0,0,0,0,0,0,0,0,0,null,null,null,null,0,0,0,0,0,0,0,0,0,0,0,0,null,null,null,null,0,0,0,0,0,0,0,0,0,0,0,0,null,null,null,null,0,0,0,0,0,0,0,0,0,0,0,0,null,null,null,null,{"$f":" QPA$26","v":0},0,0,0,0,0,0,0,0,0,0,0,null,null,null,null,0,0,0,0,0,0,0,0,0,0,0,0,null,null,null,null,0,0,0,0,0,0,0,0,0,0,0,0,null,null,null,null,0,0,0,0,0,0,0,0,0,0,0,0,null,null,null,null,{"$f":" QRM$26","v":0},0,0,0,0,0,0,0,0,0,0,0,null,null,null,null,0,0,0,0,0,0,0,0,0,0,0,0,null,null,null,null,0,0,0,0,0,0,0,0,0,0,0,0,null,null,null,null,0,0,0,0,0,0,0,0,0,0,0,0,null,null,null,null,{"$f":" QTY$26","v":0},0,0,0,0,0,0,0,0,0,0,0,null,null,null,null,0,0,0,0,0,0,0,0,0,0,0,0,null,null,null,null,0,0,0,0,0,0,0,0,0,0,0,0,null,null,null,null,0,0,0,0,0,0,0,0,0,0,0,0,null,null,null,null,{"$f":" QWK$26","v":0},0,0,0,0,0,0,0,0,0,0,0,null,null,null,null,0,0,0,0,0,0,0,0,0,0,0,0,null,null,null,null,0,0,0,0,0,0,0,0,0,0,0,0,null,null,null,null,0,0,0,0,0,0,0,0,0,0,0,0,null,null,null,null,{"$f":" QYW$26","v":0},0,0,0,0,0,0,0,0,0,0,0,null,null,null,null,0,0,0,0,0,0,0,0,0,0,0,0,null,null,null,null,0,0,0,0,0,0,0,0,0,0,0,0,null,null,null,null,0,0,0,0,0,0,0,0,0,0,0,0,null,null,null,null,{"$f":" RBI$26","v":0},0,0,0,0,0,0,0,0,0,0,0,null,null,null,null,0,0,0,0,0,0,0,0,0,0,0,0,null,null,null,null,0,0,0,0,0,0,0,0,0,0,0,0,null,null,null,null,0,0,0,0,0,0,0,0,0,0,0,0,null,null,null,null,{"$f":" RDU$26","v":0},0,0,0,0,0,0,0,0,0,0,0,null,null,null,null,0,0,0,0,0,0,0,0,0,0,0,0,null,null,null,null,0,0,0,0,0,0,0,0,0,0,0,0,null,null,null,null,0,0,0,0,0,0,0,0,0,0,0,0,null,null,null,null,{"$f":" RGG$26","v":0},0,0,0,0,0,0,0,0,0,0,0,null,null,null,null,0,0,0,0,0,0,0,0,0,0,0,0,null,null,null,null,0,0,0,0,0,0,0,0,0,0,0,0,null,null,null,null,0,0,0,0,0,0,0,0,0,0,0,0,null,null,null,null,{"$f":" RIS$26","v":0},0,0,0,0,0,0,0,0,0,0,0,null,null,null,null,0,0,0,0,0,0,0,0,0,0,0,0,null,null,null,null,0,0,0,0,0,0,0,0,0,0,0,0,null,null,null,null,0,0,0,0,0,0,0,0,0,0,0,0,null,null,null,null,{"$f":" RLE$26","v":0},0,0,0,0,0,0,0,0,0,0,0,null,null,null,null,0,0,0,0,0,0,0,0,0,0,0,0,null,null,null,null,0,0,0,0,0,0,0,0,0,0,0,0,null,null,null,null,0,0,0,0,0,0,0,0,0,0,0,0,null,null,null,null,{"$f":" RNQ$26","v":0},0,0,0,0,0,0,0,0,0,0,0,null,null,null,null,0,0,0,0,0,0,0,0,0,0,0,0,null,null,null,null,0,0,0,0,0,0,0,0,0,0,0,0,null,null,null,null,0,0,0,0,0,0,0,0,0,0,0,0,null,null,null,null,{"$f":" RQC$26","v":0},0,0,0,0,0,0,0,0,0,0,0,null,null,null,null,0,0,0,0,0,0,0,0,0,0,0,0,null,null,null,null,0,0,0,0,0,0,0,0,0,0,0,0,null,null,null,null,0,0,0,0,0,0,0,0,0,0,0,0,null,null,null,null,{"$f":" RSO$26","v":0},0,0,0,0,0,0,0,0,0,0,0,null,null,null,null,0,0,0,0,0,0,0,0,0,0,0,0,null,null,null,null,0,0,0,0,0,0,0,0,0,0,0,0,null,null,null,null,0,0,0,0,0,0,0,0,0,0,0,0,null,null,null,null,{"$f":" RVA$26","v":0},0,0,0,0,0,0,0,0,0,0,0,null,null,null,null,0,0,0,0,0,0,0,0,0,0,0,0,null,null,null,null,0,0,0,0,0,0,0,0,0,0,0,0,null,null,null,null,0,0,0,0,0,0,0,0,0,0,0,0,null,null,null,null,{"$f":" RXM$26","v":0},0,0,0,0,0,0,0,0,0,0,0,null,null,null,null,0,0,0,0,0,0,0,0,0,0,0,0,null,null,null,null,0,0,0,0,0,0,0,0,0,0,0,0,null,null,null,null,0,0,0,0,0,0,0,0,0,0,0,0,null,null,null,null,{"$f":" RZY$26","v":0},0,0,0,0,0,0,0,0,0,0,0,null,null,null,null,0,0,0,0,0,0,0,0,0,0,0,0,null,null,null,null,0,0,0,0,0,0,0,0,0,0,0,0,null,null,null,null,0,0,0,0,0,0,0,0,0,0,0,0,null,null,null,null,{"$f":" SCK$26","v":0},0,0,0,0,0,0,0,0,0,0,0,null,null,null,null,0,0,0,0,0,0,0,0,0,0,0,0,null,null,null,null,0,0,0,0,0,0,0,0,0,0,0,0,null,null,null,null,0,0,0,0,0,0,0,0,0,0,0,0,null,null,null,null,{"$f":" SEW$26","v":0},0,0,0,0,0,0,0,0,0,0,0,null,null,null,null,0,0,0,0,0,0,0,0,0,0,0,0,null,null,null,null,0,0,0,0,0,0,0,0,0,0,0,0,null,null,null,null,0,0,0,0,0,0,0,0,0,0,0,0,null,null,null,null,{"$f":" SHI$26","v":0},0,0,0,0,0,0,0,0,0,0,0,null,null,null,null,0,0,0,0,0,0,0,0,0,0,0,0,null,null,null,null,0,0,0,0,0,0,0,0,0,0,0,0,null,null,null,null,0,0,0,0,0,0,0,0,0,0,0,0,null,null,null,null,{"$f":" SJU$26","v":0},0,0,0,0,0,0,0,0,0,0,0,null,null,null,null,0,0,0,0,0,0,0,0,0,0,0,0,null,null,null,null,0,0,0,0,0,0,0,0,0,0,0,0,null,null,null,null,0,0,0,0,0,0,0,0,0,0,0,0,null,null,null,null,{"$f":" SMG$26","v":0},0,0,0,0,0,0,0,0,0,0,0,null,null,null,null,0,0,0,0,0,0,0,0,0,0,0,0,null,null,null,null,0,0,0,0,0,0,0,0,0,0,0,0,null,null,null,null,0,0,0,0,0,0,0,0,0,0,0,0,null,null,null,null,{"$f":" SOS$26","v":0},0,0,0,0,0,0,0,0,0,0,0,null,null,null,null,0,0,0,0,0,0,0,0,0,0,0,0,null,null,null,null,0,0,0,0,0,0,0,0,0,0,0,0,null,null,null,null,0,0,0,0,0,0,0,0,0,0,0,0,null,null,null,null,{"$f":" SRE$26","v":0},0,0,0,0,0,0,0,0,0,0,0,null,null,null,null,0,0,0,0,0,0,0,0,0,0,0,0,null,null,null,null,0,0,0,0,0,0,0,0,0,0,0,0,null,null,null,null,0,0,0,0,0,0,0,0,0,0,0,0,null,null,null,null,{"$f":" STQ$26","v":0},0,0,0,0,0,0,0,0,0,0,0,null,null,null,null,0,0,0,0,0,0,0,0,0,0,0,0,null,null,null,null,0,0,0,0,0,0,0,0,0,0,0,0,null,null,null,null,0,0,0,0,0,0,0,0,0,0,0,0,null,null,null,null,{"$f":" SWC$26","v":0},0,0,0,0,0,0,0,0,0,0,0,null,null,null,null,0,0,0,0,0,0,0,0,0,0,0,0,null,null,null,null,0,0,0,0,0,0,0,0,0,0,0,0,null,null,null,null,0,0,0,0,0,0,0,0,0,0,0,0,null,null,null,null,{"$f":" SYO$26","v":0},0,0,0,0,0,0,0,0,0,0,0,null,null,null,null,0,0,0,0,0,0,0,0,0,0,0,0,null,null,null,null,0,0,0,0,0,0,0,0,0,0,0,0,null,null,null,null,0,0,0,0,0,0,0,0,0,0,0,0,null,null,null,null,{"$f":" TBA$26","v":0},0,0,0,0,0,0,0,0,0,0,0,null,null,null,null,0,0,0,0,0,0,0,0,0,0,0,0,null,null,null,null,0,0,0,0,0,0,0,0,0,0,0,0,null,null,null,null,0,0,0,0,0,0,0,0,0,0,0,0,null,null,null,null,{"$f":" TDM$26","v":0},0,0,0,0,0,0,0,0,0,0,0,null,null,null,null,0,0,0,0,0,0,0,0,0,0,0,0,null,null,null,null,0,0,0,0,0,0,0,0,0,0,0,0,null,null,null,null,0,0,0,0,0,0,0,0,0,0,0,0,null,null,null,null,{"$f":" TFY$26","v":0},0,0,0,0,0,0,0,0,0,0,0,null,null,null,null,0,0,0,0,0,0,0,0,0,0,0,0,null,null,null,null,0,0,0,0,0,0,0,0,0,0,0,0,null,null,null,null,0,0,0,0,0,0,0,0,0,0,0,0,null,null,null,null,{"$f":" TIK$26","v":0},0,0,0,0,0,0,0,0,0,0,0,null,null,null,null,0,0,0,0,0,0,0,0,0,0,0,0,null,null,null,null,0,0,0,0,0,0,0,0,0,0,0,0,null,null,null,null,0,0,0,0,0,0,0,0,0,0,0,0,null,null,null,null,{"$f":" TKW$26","v":0},0,0,0,0,0,0,0,0,0,0,0,null,null,null,null,0,0,0,0,0,0,0,0,0,0,0,0,null,null,null,null,0,0,0,0,0,0,0,0,0,0,0,0,null,null,null,null,0,0,0,0,0,0,0,0,0,0,0,0,null,null,null,null,{"$f":" TNI$26","v":0},0,0,0,0,0,0,0,0,0,0,0,null,null,null,null,0,0,0,0,0,0,0,0,0,0,0,0,null,null,null,null,0,0,0,0,0,0,0,0,0,0,0,0,null,null,null,null,0,0,0,0,0,0,0,0,0,0,0,0,null,null,null,null,{"$f":" TPU$26","v":0},0,0,0,0,0,0,0,0,0,0,0,null,null,null,null,0,0,0,0,0,0,0,0,0,0,0,0,null,null,null,null,0,0,0,0,0,0,0,0,0,0,0,0,null,null,null,null,0,0,0,0,0,0,0,0,0,0,0,0,null,null,null,null,{"$f":" TSG$26","v":0},0,0,0,0,0,0,0,0,0,0,0,null,null,null,null,0,0,0,0,0,0,0,0,0,0,0,0,null,null,null,null,0,0,0,0,0,0,0,0,0,0,0,0,null,null,null,null,0,0,0,0,0,0,0,0,0,0,0,0,null,null,null,null,{"$f":" TUS$26","v":0},0,0,0,0,0,0,0,0,0,0,0,null,null,null,null,0,0,0,0,0,0,0,0,0,0,0,0,null,null,null,null,0,0,0,0,0,0,0,0,0,0,0,0,null,null,null,null,0,0,0,0,0,0,0,0,0,0,0,0,null,null,null,null,{"$f":" TXE$26","v":0},0,0,0,0,0,0,0,0,0,0,0,null,null,null,null,0,0,0,0,0,0,0,0,0,0,0,0,null,null,null,null,0,0,0,0,0,0,0,0,0,0,0,0,null,null,null,null,0,0,0,0,0,0,0,0,0,0,0,0,null,null,null,null,{"$f":" TZQ$26","v":0},0,0,0,0,0,0,0,0,0,0,0,null,null,null,null,0,0,0,0,0,0,0,0,0,0,0,0,null,null,null,null,0,0,0,0,0,0,0,0,0,0,0,0,null,null,null,null,0,0,0,0,0,0,0,0,0,0,0,0,null,null,null,null,{"$f":" UCC$26","v":0},0,0,0,0,0,0,0,0,0,0,0,null,null,null,null,0,0,0,0,0,0,0,0,0,0,0,0,null,null,null,null,0,0,0,0,0,0,0,0,0,0,0,0,null,null,null,null,0,0,0,0,0,0,0,0,0,0,0,0,null,null,null,null,{"$f":" UEO$26","v":0},0,0,0,0,0,0,0,0,0,0,0,null,null,null,null,0,0,0,0,0,0,0,0,0,0,0,0,null,null,null,null,0,0,0,0,0,0,0,0,0,0,0,0,null,null,null,null,0,0,0,0,0,0,0,0,0,0,0,0,null,null,null,null,{"$f":" UHA$26","v":0},0,0,0,0,0,0,0,0,0,0,0,null,null,null,null,0,0,0,0,0,0,0,0,0,0,0,0,null,null,null,null,0,0,0,0,0,0,0,0,0,0,0,0,null,null,null,null,0,0,0,0,0,0,0,0,0,0,0,0,null,null,null,null,{"$f":" UJM$26","v":0},0,0,0,0,0,0,0,0,0,0,0,null,null,null,null,0,0,0,0,0,0,0,0,0,0,0,0,null,null,null,null,0,0,0,0,0,0,0,0,0,0,0,0,null,null,null,null,0,0,0,0,0,0,0,0,0,0,0,0,null,null,null,null,{"$f":" ULY$26","v":0},0,0,0,0,0,0,0,0,0,0,0,null,null,null,null,0,0,0,0,0,0,0,0,0,0,0,0,null,null,null,null,0,0,0,0,0,0,0,0,0,0,0,0,null,null,null,null,0,0,0,0,0,0,0,0,0,0,0,0,null,null,null,null,{"$f":" UOK$26","v":0},0,0,0,0,0,0,0,0,0,0,0,null,null,null,null,0,0,0,0,0,0,0,0,0,0,0,0,null,null,null,null,0,0,0,0,0,0,0,0,0,0,0,0,null,null,null,null,0,0,0,0,0,0,0,0,0,0,0,0,null,null,null,null,{"$f":" UQW$26","v":0},0,0,0,0,0,0,0,0,0,0,0,null,null,null,null,0,0,0,0,0,0,0,0,0,0,0,0,null,null,null,null,0,0,0,0,0,0,0,0,0,0,0,0,null,null,null,null,0,0,0,0,0,0,0,0,0,0,0,0,null,null,null,null,{"$f":" UTI$26","v":0},0,0,0,0,0,0,0,0,0,0,0,null,null,null,null,0,0,0,0,0,0,0,0,0,0,0,0,null,null,null,null,0,0,0,0,0,0,0,0,0,0,0,0,null,null,null,null,0,0,0,0,0,0,0,0,0,0,0,0,null,null,null,null,{"$f":" UVU$26","v":0},0,0,0,0,0,0,0,0,0,0,0,null,null,null,null,0,0,0,0,0,0,0,0,0,0,0,0,null,null,null,null,0,0,0,0,0,0,0,0,0,0,0,0,null,null,null,null,0,0,0,0,0,0,0,0,0,0,0,0,null,null,null,null,{"$f":" UYG$26","v":0},0,0,0,0,0,0,0,0,0,0,0,null,null,null,null,0,0,0,0,0,0,0,0,0,0,0,0,null,null,null,null,0,0,0,0,0,0,0,0,0,0,0,0,null,null,null,null,0,0,0,0,0,0,0,0,0,0,0,0,null,null,null,null,{"$f":" VAS$26","v":0},0,0,0,0,0,0,0,0,0,0,0,null,null,null,null,0,0,0,0,0,0,0,0,0,0,0,0,null,null,null,null,0,0,0,0,0,0,0,0,0,0,0,0,null,null,null,null,0,0,0,0,0,0,0,0,0,0,0,0,null,null,null,null,{"$f":" VDE$26","v":0},0,0,0,0,0,0,0,0,0,0,0,null,null,null,null,0,0,0,0,0,0,0,0,0,0,0,0,null,null,null,null,0,0,0,0,0,0,0,0,0,0,0,0,null,null,null,null,0,0,0,0,0,0,0,0,0,0,0,0,null,null,null,null,{"$f":" VFQ$26","v":0},0,0,0,0,0,0,0,0,0,0,0,null,null,null,null,0,0,0,0,0,0,0,0,0,0,0,0,null,null,null,null,0,0,0,0,0,0,0,0,0,0,0,0,null,null,null,null,0,0,0,0,0,0,0,0,0,0,0,0,null,null,null,null,{"$f":" VIC$26","v":0},0,0,0,0,0,0,0,0,0,0,0,null,null,null,null,0,0,0,0,0,0,0,0,0,0,0,0,null,null,null,null,0,0,0,0,0,0,0,0,0,0,0,0,null,null,null,null,0,0,0,0,0,0,0,0,0,0,0,0,null,null,null,null,{"$f":" VKO$26","v":0},0,0,0,0,0,0,0,0,0,0,0,null,null,null,null,0,0,0,0,0,0,0,0,0,0,0,0,null,null,null,null,0,0,0,0,0,0,0,0,0,0,0,0,null,null,null,null,0,0,0,0,0,0,0,0,0,0,0,0,null,null,null,null,{"$f":" VNA$26","v":0},0,0,0,0,0,0,0,0,0,0,0,null,null,null,null,0,0,0,0,0,0,0,0,0,0,0,0,null,null,null,null,0,0,0,0,0,0,0,0,0,0,0,0,null,null,null,null,0,0,0,0,0,0,0,0,0,0,0,0,null,null,null,null,{"$f":" VPM$26","v":0},0,0,0,0,0,0,0,0,0,0,0,null,null,null,null,0,0,0,0,0,0,0,0,0,0,0,0,null,null,null,null,0,0,0,0,0,0,0,0,0,0,0,0,null,null,null,null,0,0,0,0,0,0,0,0,0,0,0,0,null,null,null,null,{"$f":" VRY$26","v":0},0,0,0,0,0,0,0,0,0,0,0,null,null,null,null,0,0,0,0,0,0,0,0,0,0,0,0,null,null,null,null,0,0,0,0,0,0,0,0,0,0,0,0,null,null,null,null,0,0,0,0,0,0,0,0,0,0,0,0,null,null,null,null,{"$f":" VUK$26","v":0},0,0,0,0,0,0,0,0,0,0,0,null,null,null,null,0,0,0,0,0,0,0,0,0,0,0,0,null,null,null,null,0,0,0,0,0,0,0,0,0,0,0,0,null,null,null,null,0,0,0,0,0,0,0,0,0,0,0,0,null,null,null,null,{"$f":" VWW$26","v":0},0,0,0,0,0,0,0,0,0,0,0,null,null,null,null,0,0,0,0,0,0,0,0,0,0,0,0,null,null,null,null,0,0,0,0,0,0,0,0,0,0,0,0,null,null,null,null,0,0,0,0,0,0,0,0,0,0,0,0,null,null,null,null,{"$f":" VZI$26","v":0},0,0,0,0,0,0,0,0,0,0,0,null,null,null,null,0,0,0,0,0,0,0,0,0,0,0,0,null,null,null,null,0,0,0,0,0,0,0,0,0,0,0,0,null,null,null,null,0,0,0,0,0,0,0,0,0,0,0,0,null,null,null,null,{"$f":" WBU$26","v":0},0,0,0,0,0,0,0,0,0,0,0,null,null,null,null,0,0,0,0,0,0,0,0,0,0,0,0,null,null,null,null,0,0,0,0,0,0,0,0,0,0,0,0,null,null,null,null,0,0,0,0,0,0,0,0,0,0,0,0,null,null,null,null,{"$f":" WEG$26","v":0},0,0,0,0,0,0,0,0,0,0,0,null,null,null,null,0,0,0,0,0,0,0,0,0,0,0,0,null,null,null,null,0,0,0,0,0,0,0,0,0,0,0,0,null,null,null,null,0,0,0,0,0,0,0,0,0,0,0,0,null,null,null,null,{"$f":" WGS$26","v":0},0,0,0,0,0,0,0,0,0,0,0,null,null,null,null,0,0,0,0,0,0,0,0,0,0,0,0,null,null,null,null,0,0,0,0,0,0,0,0,0,0,0,0,null,null,null,null,0,0,0,0,0,0,0,0,0,0,0,0,null,null,null,null,{"$f":" WJE$26","v":0},0,0,0,0,0,0,0,0,0,0,0,null,null,null,null,0,0,0,0,0,0,0,0,0,0,0,0,null,null,null,null,0,0,0,0,0,0,0,0,0,0,0,0,null,null,null,null,0,0,0,0,0,0,0,0,0,0,0,0,null,null,null,null,{"$f":" WLQ$26","v":0},0,0,0,0,0,0,0,0,0,0,0,null,null,null,null,0,0,0,0,0,0,0,0,0,0,0,0,null,null,null,null,0,0,0,0,0,0,0,0,0,0,0,0,null,null,null,null,0,0,0,0,0,0,0,0,0,0,0,0,null,null,null,null,{"$f":" WOC$26","v":0},0,0,0,0,0,0,0,0,0,0,0,null,null,null,null,0,0,0,0,0,0,0,0,0,0,0,0,null,null,null,null,0,0,0,0,0,0,0,0,0,0,0,0,null,null,null,null,0,0,0,0,0,0,0,0,0,0,0,0,null,null,null,null,{"$f":" WQO$26","v":0},0,0,0,0,0,0,0,0,0,0,0,null,null,null,null,0,0,0,0,0,0,0,0,0,0,0,0,null,null,null,null,0,0,0,0,0,0,0,0,0,0,0,0,null,null,null,null,0,0,0,0,0,0,0,0,0,0,0,0,null,null,null,null,{"$f":" WTA$26","v":0},0,0,0,0,0,0,0,0,0,0,0,null,null,null,null,0,0,0,0,0,0,0,0,0,0,0,0,null,null,null,null,0,0,0,0,0,0,0,0,0,0,0,0,null,null,null,null,0,0,0,0,0,0,0,0,0,0,0,0,null,null,null,null,{"$f":" WVM$26","v":0},0,0,0,0,0,0,0,0,0,0,0,null,null,null,null,0,0,0,0,0,0,0,0,0,0,0,0,null,null,null,null,0,0,0,0,0,0,0,0,0,0,0,0,null,null,null,null,0,0,0,0,0,0,0,0,0,0,0,0,null,null,null,null,{"$f":" WXY$26","v":0},0,0,0,0,0,0,0,0,0,0,0,null,null,null,null,0,0,0,0,0,0,0,0,0,0,0,0,null,null,null,null,0,0,0,0,0,0,0,0,0,0,0,0,null,null,null,null,0,0,0,0,0,0,0,0,0,0,0,0,null,null,null,null,{"$f":" XAK$26","v":0},0,0,0,0,0,0,0,0,0,0,0,null,null,null,null,0,0,0,0,0,0,0,0,0,0,0,0,null,null,null,null,0,0,0,0,0,0,0,0,0,0,0,0,null,null,null,null,0,0,0,0,0,0,0,0,0,0,0,0,null,null,null,null,{"$f":" XCW$26","v":0},0,0,0,0,0,0,0,0,0,0,0,null,null,null,null,0,0,0,0,0,0,0,0,0,0,0,0,null,null,null,null,0,0,0,0,0,0,0,0,0,0,0,0,null,null,null,null,0,0,0,0,0,0,0,0,0,0,0,0]
[null,null,null,null,null,null,null,null,null,null,null,null,null,null,null,null,null,null,null,null,"Profiled adjustment wage related totex - WWN - Real",null,"£m",{"$f":" SUM(Z518:AF518)","v":0},null,{"$f":" IF(Z515 = 1, Z516 * Z517, 0)","v":0},0,0,0,0,0,0,null,null,null,null,"Profiled adjustment wage related totex - WWN - Real",null,"£m",{"$f":" SUM(AP518:AV518)","v":0},null,{"$f":" IF(AP515 = 1, AP516 * AP517, 0)","v":0},0,0,0,0,0,0,null,null,null,null,"Profiled adjustment wage related totex - WWN - Real",null,"£m",{"$f":" SUM(BF518:BL518)","v":0},null,{"$f":" IF(BF515 = 1, BF516 * BF517, 0)","v":0},0,0,0,0,0,0,null,null,null,null,"Profiled adjustment wage related totex - WWN - Real",null,"£m",{"$f":" SUM(BV518:CB518)","v":0},null,{"$f":" IF(BV515 = 1, BV516 * BV517, 0)","v":0},0,0,0,0,0,0,null,null,null,null,"Profiled adjustment wage related totex - WWN - Real",null,"£m",{"$f":" SUM(CL518:CR518)","v":0},null,{"$f":" IF(CL515 = 1, CL516 * CL517, 0)","v":0},0,0,0,0,0,0,null,null,null,null,"Profiled adjustment wage related totex - WWN - Real",null,"£m",{"$f":" SUM(DB518:DH518)","v":0},null,{"$f":" IF(DB515 = 1, DB516 * DB517, 0)","v":0},0,0,0,0,0,0,null,null,null,null,"Profiled adjustment wage related totex - WWN - Real",null,"£m",{"$f":" SUM(DR518:DX518)","v":0},null,{"$f":" IF(DR515 = 1, DR516 * DR517, 0)","v":0},0,0,0,0,0,0,null,null,null,null,"Profiled adjustment wage related totex - WWN - Real",null,"£m",{"$f":" SUM(EH518:EN518)","v":0},null,{"$f":" IF(EH515 = 1, EH516 * EH517, 0)","v":0},0,0,0,0,0,0,null,null,null,null,"Profiled adjustment wage related totex - WWN - Real",null,"£m",{"$f":" SUM(EX518:FD518)","v":0},null,{"$f":" IF(EX515 = 1, EX516 * EX517, 0)","v":0},0,0,0,0,0,0,null,null,null,null,"Profiled adjustment wage related totex - WWN - Real",null,"£m",{"$f":" SUM(FN518:FT518)","v":0},null,{"$f":" IF(FN515 = 1, FN516 * FN517, 0)","v":0},0,0,0,0,0,0,null,null,null,null,"Profiled adjustment wage related totex - WWN - Real",null,"£m",{"$f":" SUM(GD518:GJ518)","v":0},null,{"$f":" IF(GD515 = 1, GD516 * GD517, 0)","v":0},0,0,0,0,0,0,null,null,null,null,"Profiled adjustment wage related totex - WWN - Real",null,"£m",{"$f":" SUM(GT518:GZ518)","v":0},null,{"$f":" IF(GT515 = 1, GT516 * GT517, 0)","v":0},0,0,0,0,0,0,null,null,null,null,"Profiled adjustment wage related totex - WWN - Real",null,"£m",{"$f":" SUM(HJ518:HP518)","v":0},null,{"$f":" IF(HJ515 = 1, HJ516 * HJ517, 0)","v":0},0,0,0,0,0,0,null,null,null,null,"Profiled adjustment wage related totex - WWN - Real",null,"£m",{"$f":" SUM(HZ518:IF518)","v":0},null,{"$f":" IF(HZ515 = 1, HZ516 * HZ517, 0)","v":0},0,0,0,0,0,0,null,null,null,null,"Profiled adjustment wage related totex - WWN - Real",null,"£m",{"$f":" SUM(IP518:IV518)","v":0},null,{"$f":" IF(IP515 = 1, IP516 * IP517, 0)","v":0},0,0,0,0,0,0,null,null,null,null,"Profiled adjustment wage related totex - WWN - Real",null,"£m",{"$f":" SUM(JF518:JL518)","v":0},null,{"$f":" IF(JF515 = 1, JF516 * JF517, 0)","v":0},0,0,0,0,0,0,null,null,null,null,"Profiled adjustment wage related totex - WWN - Real",null,"£m",{"$f":" SUM(JV518:KB518)","v":0},null,{"$f":" IF(JV515 = 1, JV516 * JV517, 0)","v":0},0,0,0,0,0,0,null,null,null,null,"Profiled adjustment wage related totex - WWN - Real",null,"£m",{"$f":" SUM(KL518:KR518)","v":0},null,{"$f":" IF(KL515 = 1, KL516 * KL517, 0)","v":0},0,0,0,0,0,0,null,null,null,null,"Profiled adjustment wage related totex - WWN - Real",null,"£m",{"$f":" SUM(LB518:LH518)","v":0},null,{"$f":" IF(LB515 = 1, LB516 * LB517, 0)","v":0},0,0,0,0,0,0,null,null,null,null,"Profiled adjustment wage related totex - WWN - Real",null,"£m",{"$f":" SUM(LR518:LX518)","v":0},null,{"$f":" IF(LR515 = 1, LR516 * LR517, 0)","v":0},0,0,0,0,0,0,null,null,null,null,"Profiled adjustment wage related totex - WWN - Real",null,"£m",{"$f":" SUM(MH518:MN518)","v":0},null,{"$f":" IF(MH515 = 1, MH516 * MH517, 0)","v":0},0,0,0,0,0,0,null,null,null,null,"Profiled adjustment wage related totex - WWN - Real",null,"£m",{"$f":" SUM(MX518:ND518)","v":0},null,{"$f":" IF(MX515 = 1, MX516 * MX517, 0)","v":0},0,0,0,0,0,0,null,null,null,null,"Profiled adjustment wage related totex - WWN - Real",null,"£m",{"$f":" SUM(NN518:NT518)","v":0},null,{"$f":" IF(NN515 = 1, NN516 * NN517, 0)","v":0},0,0,0,0,0,0,null,null,null,null,"Profiled adjustment wage related totex - WWN - Real",null,"£m",{"$f":" SUM(OD518:OJ518)","v":0},null,{"$f":" IF(OD515 = 1, OD516 * OD517, 0)","v":0},0,0,0,0,0,0,null,null,null,null,"Profiled adjustment wage related totex - WWN - Real",null,"£m",{"$f":" SUM(OT518:OZ518)","v":0},null,{"$f":" IF(OT515 = 1, OT516 * OT517, 0)","v":0},0,0,0,0,0,0,null,null,null,null,"Profiled adjustment wage related totex - WWN - Real",null,"£m",{"$f":" SUM(PJ518:PP518)","v":0},null,{"$f":" IF(PJ515 = 1, PJ516 * PJ517, 0)","v":0},0,0,0,0,0,0,null,null,null,null,"Profiled adjustment wage related totex - WWN - Real",null,"£m",{"$f":" SUM(PZ518:QF518)","v":0},null,{"$f":" IF(PZ515 = 1, PZ516 * PZ517, 0)","v":0},0,0,0,0,0,0,null,null,null,null,"Profiled adjustment wage related totex - WWN - Real",null,"£m",{"$f":" SUM(QP518:QV518)","v":0},null,{"$f":" IF(QP515 = 1, QP516 * QP517, 0)","v":0},0,0,0,0,0,0,null,null,null,null,"Profiled adjustment wage related totex - WWN - Real",null,"£m",{"$f":" SUM(RF518:RL518)","v":0},null,{"$f":" IF(RF515 = 1, RF516 * RF517, 0)","v":0},0,0,0,0,0,0,null,null,null,null,"Profiled adjustment wage related totex - WWN - Real",null,"£m",{"$f":" SUM(RV518:SB518)","v":0},null,{"$f":" IF(RV515 = 1, RV516 * RV517, 0)","v":0},0,0,0,0,0,0,null,null,null,null,"Profiled adjustment wage related totex - WWN - Real",null,"£m",{"$f":" SUM(SL518:SR518)","v":0},null,{"$f":" IF(SL515 = 1, SL516 * SL517, 0)","v":0},0,0,0,0,0,0,null,null,null,null,"Profiled adjustment wage related totex - WWN - Real",null,"£m",{"$f":" SUM(TB518:TH518)","v":0},null,{"$f":" IF(TB515 = 1, TB516 * TB517, 0)","v":0},0,0,0,0,0,0,null,null,null,null,"Profiled adjustment wage related totex - WWN - Real",null,"£m",{"$f":" SUM(TR518:TX518)","v":0},null,{"$f":" IF(TR515 = 1, TR516 * TR517, 0)","v":0},0,0,0,0,0,0,null,null,null,null,"Profiled adjustment wage related totex - WWN - Real",null,"£m",{"$f":" SUM(UH518:UN518)","v":0},null,{"$f":" IF(UH515 = 1, UH516 * UH517, 0)","v":0},0,0,0,0,0,0,null,null,null,null,"Profiled adjustment wage related totex - WWN - Real",null,"£m",{"$f":" SUM(UX518:VD518)","v":0},null,{"$f":" IF(UX515 = 1, UX516 * UX517, 0)","v":0},0,0,0,0,0,0,null,null,null,null,"Profiled adjustment wage related totex - WWN - Real",null,"£m",{"$f":" SUM(VN518:VT518)","v":0},null,{"$f":" IF(VN515 = 1, VN516 * VN517, 0)","v":0},0,0,0,0,0,0,null,null,null,null,"Profiled adjustment wage related totex - WWN - Real",null,"£m",{"$f":" SUM(WD518:WJ518)","v":0},null,{"$f":" IF(WD515 = 1, WD516 * WD517, 0)","v":0},0,0,0,0,0,0,null,null,null,null,"Profiled adjustment wage related totex - WWN - Real",null,"£m",{"$f":" SUM(WT518:WZ518)","v":0},null,{"$f":" IF(WT515 = 1, WT516 * WT517, 0)","v":0},0,0,0,0,0,0,null,null,null,null,"Profiled adjustment wage related totex - WWN - Real",null,"£m",{"$f":" SUM(XJ518:XP518)","v":0},null,{"$f":" IF(XJ515 = 1, XJ516 * XJ517, 0)","v":0},0,0,0,0,0,0,null,null,null,null,"Profiled adjustment wage related totex - WWN - Real",null,"£m",{"$f":" SUM(XZ518:YF518)","v":0},null,{"$f":" IF(XZ515 = 1, XZ516 * XZ517, 0)","v":0},0,0,0,0,0,0,null,null,null,null,"Profiled adjustment wage related totex - WWN - Real",null,"£m",{"$f":" SUM(YP518:YV518)","v":0},null,{"$f":" IF(YP515 = 1, YP516 * YP517, 0)","v":0},0,0,0,0,0,0,null,null,null,null,"Profiled adjustment wage related totex - WWN - Real",null,"£m",{"$f":" SUM(ZF518:ZL518)","v":0},null,{"$f":" IF(ZF515 = 1, ZF516 * ZF517, 0)","v":0},0,0,0,0,0,0,null,null,null,null,"Profiled adjustment wage related totex - WWN - Real",null,"£m",{"$f":" SUM(ZV518:AAB518)","v":0},null,{"$f":" IF(ZV515 = 1, ZV516 * ZV517, 0)","v":0},0,0,0,0,0,0,null,null,null,null,"Profiled adjustment wage related totex - WWN - Real",null,"£m",{"$f":" SUM(AAL518:AAR518)","v":0},null,{"$f":" IF(AAL515 = 1, AAL516 * AAL517, 0)","v":0},0,0,0,0,0,0,null,null,null,null,"Profiled adjustment wage related totex - WWN - Real",null,"£m",{"$f":" SUM(ABB518:ABH518)","v":0},null,{"$f":" IF(ABB515 = 1, ABB516 * ABB517, 0)","v":0},0,0,0,0,0,0,null,null,null,null,"Profiled adjustment wage related totex - WWN - Real",null,"£m",{"$f":" SUM(ABR518:ABX518)","v":0},null,{"$f":" IF(ABR515 = 1, ABR516 * ABR517, 0)","v":0},0,0,0,0,0,0,null,null,null,null,"Profiled adjustment wage related totex - WWN - Real",null,"£m",{"$f":" SUM(ACH518:ACN518)","v":0},null,{"$f":" IF(ACH515 = 1, ACH516 * ACH517, 0)","v":0},0,0,0,0,0,0,null,null,null,null,"Profiled adjustment wage related totex - WWN - Real",null,"£m",{"$f":" SUM(ACX518:ADD518)","v":0},null,{"$f":" IF(ACX515 = 1, ACX516 * ACX517, 0)","v":0},0,0,0,0,0,0,null,null,null,null,"Profiled adjustment wage related totex - WWN - Real",null,"£m",{"$f":" SUM(ADN518:ADT518)","v":0},null,{"$f":" IF(ADN515 = 1, ADN516 * ADN517, 0)","v":0},0,0,0,0,0,0,null,null,null,null,"Profiled adjustment wage related totex - WWN - Real",null,"£m",{"$f":" SUM(AED518:AEJ518)","v":0},null,{"$f":" IF(AED515 = 1, AED516 * AED517, 0)","v":0},0,0,0,0,0,0,null,null,null,null,"Profiled adjustment wage related totex - WWN - Real",null,"£m",{"$f":" SUM(AET518:AEZ518)","v":0},null,{"$f":" IF(AET515 = 1, AET516 * AET517, 0)","v":0},0,0,0,0,0,0,null,null,null,null,"Profiled adjustment wage related totex - WWN - Real",null,"£m",{"$f":" SUM(AFJ518:AFP518)","v":0},null,{"$f":" IF(AFJ515 = 1, AFJ516 * AFJ517, 0)","v":0},0,0,0,0,0,0,null,null,null,null,"Profiled adjustment wage related totex - WWN - Real",null,"£m",{"$f":" SUM(AFZ518:AGF518)","v":0},null,{"$f":" IF(AFZ515 = 1, AFZ516 * AFZ517, 0)","v":0},0,0,0,0,0,0,null,null,null,null,"Profiled adjustment wage related totex - WWN - Real",null,"£m",{"$f":" SUM(AGP518:AGV518)","v":0},null,{"$f":" IF(AGP515 = 1, AGP516 * AGP517, 0)","v":0},0,0,0,0,0,0,null,null,null,null,"Profiled adjustment wage related totex - WWN - Real",null,"£m",{"$f":" SUM(AHF518:AHL518)","v":0},null,{"$f":" IF(AHF515 = 1, AHF516 * AHF517, 0)","v":0},0,0,0,0,0,0,null,null,null,null,"Profiled adjustment wage related totex - WWN - Real",null,"£m",{"$f":" SUM(AHV518:AIB518)","v":0},null,{"$f":" IF(AHV515 = 1, AHV516 * AHV517, 0)","v":0},0,0,0,0,0,0,null,null,null,null,"Profiled adjustment wage related totex - WWN - Real",null,"£m",{"$f":" SUM(AIL518:AIR518)","v":0},null,{"$f":" IF(AIL515 = 1, AIL516 * AIL517, 0)","v":0},0,0,0,0,0,0,null,null,null,null,"Profiled adjustment wage related totex - WWN - Real",null,"£m",{"$f":" SUM(AJB518:AJH518)","v":0},null,{"$f":" IF(AJB515 = 1, AJB516 * AJB517, 0)","v":0},0,0,0,0,0,0,null,null,null,null,"Profiled adjustment wage related totex - WWN - Real",null,"£m",{"$f":" SUM(AJR518:AJX518)","v":0},null,{"$f":" IF(AJR515 = 1, AJR516 * AJR517, 0)","v":0},0,0,0,0,0,0,null,null,null,null,"Profiled adjustment wage related totex - WWN - Real",null,"£m",{"$f":" SUM(AKH518:AKN518)","v":0},null,{"$f":" IF(AKH515 = 1, AKH516 * AKH517, 0)","v":0},0,0,0,0,0,0,null,null,null,null,"Profiled adjustment wage related totex - WWN - Real",null,"£m",{"$f":" SUM(AKX518:ALD518)","v":0},null,{"$f":" IF(AKX515 = 1, AKX516 * AKX517, 0)","v":0},0,0,0,0,0,0,null,null,null,null,"Profiled adjustment wage related totex - WWN - Real",null,"£m",{"$f":" SUM(ALN518:ALT518)","v":0},null,{"$f":" IF(ALN515 = 1, ALN516 * ALN517, 0)","v":0},0,0,0,0,0,0,null,null,null,null,"Profiled adjustment wage related totex - WWN - Real",null,"£m",{"$f":" SUM(AMD518:AMJ518)","v":0},null,{"$f":" IF(AMD515 = 1, AMD516 * AMD517, 0)","v":0},0,0,0,0,0,0,null,null,null,null,"Profiled adjustment wage related totex - WWN - Real",null,"£m",{"$f":" SUM(AMT518:AMZ518)","v":0},null,{"$f":" IF(AMT515 = 1, AMT516 * AMT517, 0)","v":0},0,0,0,0,0,0,null,null,null,null,"Profiled adjustment wage related totex - WWN - Real",null,"£m",{"$f":" SUM(ANJ518:ANP518)","v":0},null,{"$f":" IF(ANJ515 = 1, ANJ516 * ANJ517, 0)","v":0},0,0,0,0,0,0,null,null,null,null,"Profiled adjustment wage related totex - WWN - Real",null,"£m",{"$f":" SUM(ANZ518:AOF518)","v":0},null,{"$f":" IF(ANZ515 = 1, ANZ516 * ANZ517, 0)","v":0},0,0,0,0,0,0,null,null,null,null,"Profiled adjustment wage related totex - WWN - Real",null,"£m",{"$f":" SUM(AOP518:AOV518)","v":0},null,{"$f":" IF(AOP515 = 1, AOP516 * AOP517, 0)","v":0},0,0,0,0,0,0,null,null,null,null,"Profiled adjustment wage related totex - WWN - Real",null,"£m",{"$f":" SUM(APF518:APL518)","v":0},null,{"$f":" IF(APF515 = 1, APF516 * APF517, 0)","v":0},0,0,0,0,0,0,null,null,null,null,"Profiled adjustment wage related totex - WWN - Real",null,"£m",{"$f":" SUM(APV518:AQB518)","v":0},null,{"$f":" IF(APV515 = 1, APV516 * APV517, 0)","v":0},0,0,0,0,0,0,null,null,null,null,"Profiled adjustment wage related totex - WWN - Real",null,"£m",{"$f":" SUM(AQL518:AQR518)","v":0},null,{"$f":" IF(AQL515 = 1, AQL516 * AQL517, 0)","v":0},0,0,0,0,0,0,null,null,null,null,"Profiled adjustment wage related totex - WWN - Real",null,"£m",{"$f":" SUM(ARB518:ARH518)","v":0},null,{"$f":" IF(ARB515 = 1, ARB516 * ARB517, 0)","v":0},0,0,0,0,0,0,null,null,null,null,"Profiled adjustment wage related totex - WWN - Real",null,"£m",{"$f":" SUM(ARR518:ARX518)","v":0},null,{"$f":" IF(ARR515 = 1, ARR516 * ARR517, 0)","v":0},0,0,0,0,0,0,null,null,null,null,"Profiled adjustment wage related totex - WWN - Real",null,"£m",{"$f":" SUM(ASH518:ASN518)","v":0},null,{"$f":" IF(ASH515 = 1, ASH516 * ASH517, 0)","v":0},0,0,0,0,0,0,null,null,null,null,"Profiled adjustment wage related totex - WWN - Real",null,"£m",{"$f":" SUM(ASX518:ATD518)","v":0},null,{"$f":" IF(ASX515 = 1, ASX516 * ASX517, 0)","v":0},0,0,0,0,0,0,null,null,null,null,"Profiled adjustment wage related totex - WWN - Real",null,"£m",{"$f":" SUM(ATN518:ATT518)","v":0},null,{"$f":" IF(ATN515 = 1, ATN516 * ATN517, 0)","v":0},0,0,0,0,0,0,null,null,null,null,"Profiled adjustment wage related totex - WWN - Real",null,"£m",{"$f":" SUM(AUD518:AUJ518)","v":0},null,{"$f":" IF(AUD515 = 1, AUD516 * AUD517, 0)","v":0},0,0,0,0,0,0,null,null,null,null,"Profiled adjustment wage related totex - WWN - Real",null,"£m",{"$f":" SUM(AUT518:AUZ518)","v":0},null,{"$f":" IF(AUT515 = 1, AUT516 * AUT517, 0)","v":0},0,0,0,0,0,0,null,null,null,null,"Profiled adjustment wage related totex - WWN - Real",null,"£m",{"$f":" SUM(AVJ518:AVP518)","v":0},null,{"$f":" IF(AVJ515 = 1, AVJ516 * AVJ517, 0)","v":0},0,0,0,0,0,0,null,null,null,null,"Profiled adjustment wage related totex - WWN - Real",null,"£m",{"$f":" SUM(AVZ518:AWF518)","v":0},null,{"$f":" IF(AVZ515 = 1, AVZ516 * AVZ517, 0)","v":0},0,0,0,0,0,0,null,null,null,null,"Profiled adjustment wage related totex - WWN - Real",null,"£m",{"$f":" SUM(AWP518:AWV518)","v":0},null,{"$f":" IF(AWP515 = 1, AWP516 * AWP517, 0)","v":0},0,0,0,0,0,0,null,null,null,null,"Profiled adjustment wage related totex - WWN - Real",null,"£m",{"$f":" SUM(AXF518:AXL518)","v":0},null,{"$f":" IF(AXF515 = 1, AXF516 * AXF517, 0)","v":0},0,0,0,0,0,0,null,null,null,null,"Profiled adjustment wage related totex - WWN - Real",null,"£m",{"$f":" SUM(AXV518:AYB518)","v":0},null,{"$f":" IF(AXV515 = 1, AXV516 * AXV517, 0)","v":0},0,0,0,0,0,0,null,null,null,null,"Profiled adjustment wage related totex - WWN - Real",null,"£m",{"$f":" SUM(AYL518:AYR518)","v":0},null,{"$f":" IF(AYL515 = 1, AYL516 * AYL517, 0)","v":0},0,0,0,0,0,0,null,null,null,null,"Profiled adjustment wage related totex - WWN - Real",null,"£m",{"$f":" SUM(AZB518:AZH518)","v":0},null,{"$f":" IF(AZB515 = 1, AZB516 * AZB517, 0)","v":0},0,0,0,0,0,0,null,null,null,null,"Profiled adjustment wage related totex - WWN - Real",null,"£m",{"$f":" SUM(AZR518:AZX518)","v":0},null,{"$f":" IF(AZR515 = 1, AZR516 * AZR517, 0)","v":0},0,0,0,0,0,0,null,null,null,null,"Profiled adjustment wage related totex - WWN - Real",null,"£m",{"$f":" SUM(BAH518:BAN518)","v":0},null,{"$f":" IF(BAH515 = 1, BAH516 * BAH517, 0)","v":0},0,0,0,0,0,0,null,null,null,null,"Profiled adjustment wage related totex - WWN - Real",null,"£m",{"$f":" SUM(BAX518:BBD518)","v":0},null,{"$f":" IF(BAX515 = 1, BAX516 * BAX517, 0)","v":0},0,0,0,0,0,0,null,null,null,null,"Profiled adjustment wage related totex - WWN - Real",null,"£m",{"$f":" SUM(BBN518:BBT518)","v":0},null,{"$f":" IF(BBN515 = 1, BBN516 * BBN517, 0)","v":0},0,0,0,0,0,0,null,null,null,null,"Profiled adjustment wage related totex - WWN - Real",null,"£m",{"$f":" SUM(BCD518:BCJ518)","v":0},null,{"$f":" IF(BCD515 = 1, BCD516 * BCD517, 0)","v":0},0,0,0,0,0,0,null,null,null,null,"Profiled adjustment wage related totex - WWN - Real",null,"£m",{"$f":" SUM(BCT518:BCZ518)","v":0},null,{"$f":" IF(BCT515 = 1, BCT516 * BCT517, 0)","v":0},0,0,0,0,0,0,null,null,null,null,"Profiled adjustment wage related totex - WWN - Real",null,"£m",{"$f":" SUM(BDJ518:BDP518)","v":0},null,{"$f":" IF(BDJ515 = 1, BDJ516 * BDJ517, 0)","v":0},0,0,0,0,0,0,null,null,null,null,"Profiled adjustment wage related totex - WWN - Real",null,"£m",{"$f":" SUM(BDZ518:BEF518)","v":0},null,{"$f":" IF(BDZ515 = 1, BDZ516 * BDZ517, 0)","v":0},0,0,0,0,0,0,null,null,null,null,"Profiled adjustment wage related totex - WWN - Real",null,"£m",{"$f":" SUM(BEP518:BEV518)","v":0},null,{"$f":" IF(BEP515 = 1, BEP516 * BEP517, 0)","v":0},0,0,0,0,0,0,null,null,null,null,"Profiled adjustment wage related totex - WWN - Real",null,"£m",{"$f":" SUM(BFF518:BFL518)","v":0},null,{"$f":" IF(BFF515 = 1, BFF516 * BFF517, 0)","v":0},0,0,0,0,0,0,null,null,null,null,"Profiled adjustment wage related totex - WWN - Real",null,"£m",{"$f":" SUM(BFV518:BGB518)","v":0},null,{"$f":" IF(BFV515 = 1, BFV516 * BFV517, 0)","v":0},0,0,0,0,0,0,null,null,null,null,"Profiled adjustment wage related totex - WWN - Real",null,"£m",{"$f":" SUM(BGL518:BGR518)","v":0},null,{"$f":" IF(BGL515 = 1, BGL516 * BGL517, 0)","v":0},0,0,0,0,0,0,null,null,null,null,"Profiled adjustment wage related totex - WWN - Real",null,"£m",{"$f":" SUM(BHB518:BHH518)","v":0},null,{"$f":" IF(BHB515 = 1, BHB516 * BHB517, 0)","v":0},0,0,0,0,0,0,null,null,null,null,"Profiled adjustment wage related totex - WWN - Real",null,"£m",{"$f":" SUM(BHR518:BHX518)","v":0},null,{"$f":" IF(BHR515 = 1, BHR516 * BHR517, 0)","v":0},0,0,0,0,0,0,null,null,null,null,"Profiled adjustment wage related totex - WWN - Real",null,"£m",{"$f":" SUM(BIH518:BIN518)","v":0},null,{"$f":" IF(BIH515 = 1, BIH516 * BIH517, 0)","v":0},0,0,0,0,0,0,null,null,null,null,"Profiled adjustment wage related totex - WWN - Real",null,"£m",{"$f":" SUM(BIX518:BJD518)","v":0},null,{"$f":" IF(BIX515 = 1, BIX516 * BIX517, 0)","v":0},0,0,0,0,0,0,null,null,null,null,"Profiled adjustment wage related totex - WWN - Real",null,"£m",{"$f":" SUM(BJN518:BJT518)","v":0},null,{"$f":" IF(BJN515 = 1, BJN516 * BJN517, 0)","v":0},0,0,0,0,0,0,null,null,null,null,"Profiled adjustment wage related totex - WWN - Real",null,"£m",{"$f":" SUM(BKD518:BKJ518)","v":0},null,{"$f":" IF(BKD515 = 1, BKD516 * BKD517, 0)","v":0},0,0,0,0,0,0,null,null,null,null,"Profiled adjustment wage related totex - WWN - Real",null,"£m",{"$f":" SUM(BKT518:BKZ518)","v":0},null,{"$f":" IF(BKT515 = 1, BKT516 * BKT517, 0)","v":0},0,0,0,0,0,0,null,null,null,null,"Profiled adjustment wage related totex - WWN - Real",null,"£m",{"$f":" SUM(BLJ518:BLP518)","v":0},null,{"$f":" IF(BLJ515 = 1, BLJ516 * BLJ517, 0)","v":0},0,0,0,0,0,0,null,null,null,null,"Profiled adjustment wage related totex - WWN - Real",null,"£m",{"$f":" SUM(BLZ518:BMF518)","v":0},null,{"$f":" IF(BLZ515 = 1, BLZ516 * BLZ517, 0)","v":0},0,0,0,0,0,0,null,null,null,null,"Profiled adjustment wage related totex - WWN - Real",null,"£m",{"$f":" SUM(BMP518:BMV518)","v":0},null,{"$f":" IF(BMP515 = 1, BMP516 * BMP517, 0)","v":0},0,0,0,0,0,0,null,null,null,null,"Profiled adjustment wage related totex - WWN - Real",null,"£m",{"$f":" SUM(BNF518:BNL518)","v":0},null,{"$f":" IF(BNF515 = 1, BNF516 * BNF517, 0)","v":0},0,0,0,0,0,0,null,null,null,null,"Profiled adjustment wage related totex - WWN - Real",null,"£m",{"$f":" SUM(BNV518:BOB518)","v":0},null,{"$f":" IF(BNV515 = 1, BNV516 * BNV517, 0)","v":0},0,0,0,0,0,0,null,null,null,null,"Profiled adjustment wage related totex - WWN - Real",null,"£m",{"$f":" SUM(BOL518:BOR518)","v":0},null,{"$f":" IF(BOL515 = 1, BOL516 * BOL517, 0)","v":0},0,0,0,0,0,0,null,null,null,null,"Profiled adjustment wage related totex - WWN - Real",null,"£m",{"$f":" SUM(BPB518:BPH518)","v":0},null,{"$f":" IF(BPB515 = 1, BPB516 * BPB517, 0)","v":0},0,0,0,0,0,0,null,null,null,null,"Profiled adjustment wage related totex - WWN - Real",null,"£m",{"$f":" SUM(BPR518:BPX518)","v":0},null,{"$f":" IF(BPR515 = 1, BPR516 * BPR517, 0)","v":0},0,0,0,0,0,0,null,null,null,null,"Profiled adjustment wage related totex - WWN - Real",null,"£m",{"$f":" SUM(BQH518:BQN518)","v":0},null,{"$f":" IF(BQH515 = 1, BQH516 * BQH517, 0)","v":0},0,0,0,0,0,0,null,null,null,null,"Profiled adjustment wage related totex - WWN - Real",null,"£m",{"$f":" SUM(BQX518:BRD518)","v":0},null,{"$f":" IF(BQX515 = 1, BQX516 * BQX517, 0)","v":0},0,0,0,0,0,0,null,null,null,null,"Profiled adjustment wage related totex - WWN - Real",null,"£m",{"$f":" SUM(BRN518:BRT518)","v":0},null,{"$f":" IF(BRN515 = 1, BRN516 * BRN517, 0)","v":0},0,0,0,0,0,0,null,null,null,null,"Profiled adjustment wage related totex - WWN - Real",null,"£m",{"$f":" SUM(BSD518:BSJ518)","v":0},null,{"$f":" IF(BSD515 = 1, BSD516 * BSD517, 0)","v":0},0,0,0,0,0,0,null,null,null,null,"Profiled adjustment wage related totex - WWN - Real",null,"£m",{"$f":" SUM(BST518:BSZ518)","v":0},null,{"$f":" IF(BST515 = 1, BST516 * BST517, 0)","v":0},0,0,0,0,0,0,null,null,null,null,"Profiled adjustment wage related totex - WWN - Real",null,"£m",{"$f":" SUM(BTJ518:BTP518)","v":0},null,{"$f":" IF(BTJ515 = 1, BTJ516 * BTJ517, 0)","v":0},0,0,0,0,0,0,null,null,null,null,"Profiled adjustment wage related totex - WWN - Real",null,"£m",{"$f":" SUM(BTZ518:BUF518)","v":0},null,{"$f":" IF(BTZ515 = 1, BTZ516 * BTZ517, 0)","v":0},0,0,0,0,0,0,null,null,null,null,"Profiled adjustment wage related totex - WWN - Real",null,"£m",{"$f":" SUM(BUP518:BUV518)","v":0},null,{"$f":" IF(BUP515 = 1, BUP516 * BUP517, 0)","v":0},0,0,0,0,0,0,null,null,null,null,"Profiled adjustment wage related totex - WWN - Real",null,"£m",{"$f":" SUM(BVF518:BVL518)","v":0},null,{"$f":" IF(BVF515 = 1, BVF516 * BVF517, 0)","v":0},0,0,0,0,0,0,null,null,null,null,"Profiled adjustment wage related totex - WWN - Real",null,"£m",{"$f":" SUM(BVV518:BWB518)","v":0},null,{"$f":" IF(BVV515 = 1, BVV516 * BVV517, 0)","v":0},0,0,0,0,0,0,null,null,null,null,"Profiled adjustment wage related totex - WWN - Real",null,"£m",{"$f":" SUM(BWL518:BWR518)","v":0},null,{"$f":" IF(BWL515 = 1, BWL516 * BWL517, 0)","v":0},0,0,0,0,0,0,null,null,null,null,"Profiled adjustment wage related totex - WWN - Real",null,"£m",{"$f":" SUM(BXB518:BXH518)","v":0},null,{"$f":" IF(BXB515 = 1, BXB516 * BXB517, 0)","v":0},0,0,0,0,0,0,null,null,null,null,"Profiled adjustment wage related totex - WWN - Real",null,"£m",{"$f":" SUM(BXR518:BXX518)","v":0},null,{"$f":" IF(BXR515 = 1, BXR516 * BXR517, 0)","v":0},0,0,0,0,0,0,null,null,null,null,"Profiled adjustment wage related totex - WWN - Real",null,"£m",{"$f":" SUM(BYH518:BYN518)","v":0},null,{"$f":" IF(BYH515 = 1, BYH516 * BYH517, 0)","v":0},0,0,0,0,0,0,null,null,null,null,"Profiled adjustment wage related totex - WWN - Real",null,"£m",{"$f":" SUM(BYX518:BZD518)","v":0},null,{"$f":" IF(BYX515 = 1, BYX516 * BYX517, 0)","v":0},0,0,0,0,0,0,null,null,null,null,"Profiled adjustment wage related totex - WWN - Real",null,"£m",{"$f":" SUM(BZN518:BZT518)","v":0},null,{"$f":" IF(BZN515 = 1, BZN516 * BZN517, 0)","v":0},0,0,0,0,0,0,null,null,null,null,"Profiled adjustment wage related totex - WWN - Real",null,"£m",{"$f":" SUM(CAD518:CAJ518)","v":0},null,{"$f":" IF(CAD515 = 1, CAD516 * CAD517, 0)","v":0},0,0,0,0,0,0,null,null,null,null,"Profiled adjustment wage related totex - WWN - Real",null,"£m",{"$f":" SUM(CAT518:CAZ518)","v":0},null,{"$f":" IF(CAT515 = 1, CAT516 * CAT517, 0)","v":0},0,0,0,0,0,0,null,null,null,null,"Profiled adjustment wage related totex - WWN - Real",null,"£m",{"$f":" SUM(CBJ518:CBP518)","v":0},null,{"$f":" IF(CBJ515 = 1, CBJ516 * CBJ517, 0)","v":0},0,0,0,0,0,0,null,null,null,null,"Profiled adjustment wage related totex - WWN - Real",null,"£m",{"$f":" SUM(CBZ518:CCF518)","v":0},null,{"$f":" IF(CBZ515 = 1, CBZ516 * CBZ517, 0)","v":0},0,0,0,0,0,0,null,null,null,null,"Profiled adjustment wage related totex - WWN - Real",null,"£m",{"$f":" SUM(CCP518:CCV518)","v":0},null,{"$f":" IF(CCP515 = 1, CCP516 * CCP517, 0)","v":0},0,0,0,0,0,0,null,null,null,null,"Profiled adjustment wage related totex - WWN - Real",null,"£m",{"$f":" SUM(CDF518:CDL518)","v":0},null,{"$f":" IF(CDF515 = 1, CDF516 * CDF517, 0)","v":0},0,0,0,0,0,0,null,null,null,null,"Profiled adjustment wage related totex - WWN - Real",null,"£m",{"$f":" SUM(CDV518:CEB518)","v":0},null,{"$f":" IF(CDV515 = 1, CDV516 * CDV517, 0)","v":0},0,0,0,0,0,0,null,null,null,null,"Profiled adjustment wage related totex - WWN - Real",null,"£m",{"$f":" SUM(CEL518:CER518)","v":0},null,{"$f":" IF(CEL515 = 1, CEL516 * CEL517, 0)","v":0},0,0,0,0,0,0,null,null,null,null,"Profiled adjustment wage related totex - WWN - Real",null,"£m",{"$f":" SUM(CFB518:CFH518)","v":0},null,{"$f":" IF(CFB515 = 1, CFB516 * CFB517, 0)","v":0},0,0,0,0,0,0,null,null,null,null,"Profiled adjustment wage related totex - WWN - Real",null,"£m",{"$f":" SUM(CFR518:CFX518)","v":0},null,{"$f":" IF(CFR515 = 1, CFR516 * CFR517, 0)","v":0},0,0,0,0,0,0,null,null,null,null,"Profiled adjustment wage related totex - WWN - Real",null,"£m",{"$f":" SUM(CGH518:CGN518)","v":0},null,{"$f":" IF(CGH515 = 1, CGH516 * CGH517, 0)","v":0},0,0,0,0,0,0,null,null,null,null,"Profiled adjustment wage related totex - WWN - Real",null,"£m",{"$f":" SUM(CGX518:CHD518)","v":0},null,{"$f":" IF(CGX515 = 1, CGX516 * CGX517, 0)","v":0},0,0,0,0,0,0,null,null,null,null,"Profiled adjustment wage related totex - WWN - Real",null,"£m",{"$f":" SUM(CHN518:CHT518)","v":0},null,{"$f":" IF(CHN515 = 1, CHN516 * CHN517, 0)","v":0},0,0,0,0,0,0,null,null,null,null,"Profiled adjustment wage related totex - WWN - Real",null,"£m",{"$f":" SUM(CID518:CIJ518)","v":0},null,{"$f":" IF(CID515 = 1, CID516 * CID517, 0)","v":0},0,0,0,0,0,0,null,null,null,null,"Profiled adjustment wage related totex - WWN - Real",null,"£m",{"$f":" SUM(CIT518:CIZ518)","v":0},null,{"$f":" IF(CIT515 = 1, CIT516 * CIT517, 0)","v":0},0,0,0,0,0,0,null,null,null,null,"Profiled adjustment wage related totex - WWN - Real",null,"£m",{"$f":" SUM(CJJ518:CJP518)","v":0},null,{"$f":" IF(CJJ515 = 1, CJJ516 * CJJ517, 0)","v":0},0,0,0,0,0,0,null,null,null,null,"Profiled adjustment wage related totex - WWN - Real",null,"£m",{"$f":" SUM(CJZ518:CKF518)","v":0},null,{"$f":" IF(CJZ515 = 1, CJZ516 * CJZ517, 0)","v":0},0,0,0,0,0,0,null,null,null,null,"Profiled adjustment wage related totex - WWN - Real",null,"£m",{"$f":" SUM(CKP518:CKV518)","v":0},null,{"$f":" IF(CKP515 = 1, CKP516 * CKP517, 0)","v":0},0,0,0,0,0,0,null,null,null,null,"Profiled adjustment wage related totex - WWN - Real",null,"£m",{"$f":" SUM(CLF518:CLL518)","v":0},null,{"$f":" IF(CLF515 = 1, CLF516 * CLF517, 0)","v":0},0,0,0,0,0,0,null,null,null,null,"Profiled adjustment wage related totex - WWN - Real",null,"£m",{"$f":" SUM(CLV518:CMB518)","v":0},null,{"$f":" IF(CLV515 = 1, CLV516 * CLV517, 0)","v":0},0,0,0,0,0,0,null,null,null,null,"Profiled adjustment wage related totex - WWN - Real",null,"£m",{"$f":" SUM(CML518:CMR518)","v":0},null,{"$f":" IF(CML515 = 1, CML516 * CML517, 0)","v":0},0,0,0,0,0,0,null,null,null,null,"Profiled adjustment wage related totex - WWN - Real",null,"£m",{"$f":" SUM(CNB518:CNH518)","v":0},null,{"$f":" IF(CNB515 = 1, CNB516 * CNB517, 0)","v":0},0,0,0,0,0,0,null,null,null,null,"Profiled adjustment wage related totex - WWN - Real",null,"£m",{"$f":" SUM(CNR518:CNX518)","v":0},null,{"$f":" IF(CNR515 = 1, CNR516 * CNR517, 0)","v":0},0,0,0,0,0,0,null,null,null,null,"Profiled adjustment wage related totex - WWN - Real",null,"£m",{"$f":" SUM(COH518:CON518)","v":0},null,{"$f":" IF(COH515 = 1, COH516 * COH517, 0)","v":0},0,0,0,0,0,0,null,null,null,null,"Profiled adjustment wage related totex - WWN - Real",null,"£m",{"$f":" SUM(COX518:CPD518)","v":0},null,{"$f":" IF(COX515 = 1, COX516 * COX517, 0)","v":0},0,0,0,0,0,0,null,null,null,null,"Profiled adjustment wage related totex - WWN - Real",null,"£m",{"$f":" SUM(CPN518:CPT518)","v":0},null,{"$f":" IF(CPN515 = 1, CPN516 * CPN517, 0)","v":0},0,0,0,0,0,0,null,null,null,null,"Profiled adjustment wage related totex - WWN - Real",null,"£m",{"$f":" SUM(CQD518:CQJ518)","v":0},null,{"$f":" IF(CQD515 = 1, CQD516 * CQD517, 0)","v":0},0,0,0,0,0,0,null,null,null,null,"Profiled adjustment wage related totex - WWN - Real",null,"£m",{"$f":" SUM(CQT518:CQZ518)","v":0},null,{"$f":" IF(CQT515 = 1, CQT516 * CQT517, 0)","v":0},0,0,0,0,0,0,null,null,null,null,"Profiled adjustment wage related totex - WWN - Real",null,"£m",{"$f":" SUM(CRJ518:CRP518)","v":0},null,{"$f":" IF(CRJ515 = 1, CRJ516 * CRJ517, 0)","v":0},0,0,0,0,0,0,null,null,null,null,"Profiled adjustment wage related totex - WWN - Real",null,"£m",{"$f":" SUM(CRZ518:CSF518)","v":0},null,{"$f":" IF(CRZ515 = 1, CRZ516 * CRZ517, 0)","v":0},0,0,0,0,0,0,null,null,null,null,"Profiled adjustment wage related totex - WWN - Real",null,"£m",{"$f":" SUM(CSP518:CSV518)","v":0},null,{"$f":" IF(CSP515 = 1, CSP516 * CSP517, 0)","v":0},0,0,0,0,0,0,null,null,null,null,"Profiled adjustment wage related totex - WWN - Real",null,"£m",{"$f":" SUM(CTF518:CTL518)","v":0},null,{"$f":" IF(CTF515 = 1, CTF516 * CTF517, 0)","v":0},0,0,0,0,0,0,null,null,null,null,"Profiled adjustment wage related totex - WWN - Real",null,"£m",{"$f":" SUM(CTV518:CUB518)","v":0},null,{"$f":" IF(CTV515 = 1, CTV516 * CTV517, 0)","v":0},0,0,0,0,0,0,null,null,null,null,"Profiled adjustment wage related totex - WWN - Real",null,"£m",{"$f":" SUM(CUL518:CUR518)","v":0},null,{"$f":" IF(CUL515 = 1, CUL516 * CUL517, 0)","v":0},0,0,0,0,0,0,null,null,null,null,"Profiled adjustment wage related totex - WWN - Real",null,"£m",{"$f":" SUM(CVB518:CVH518)","v":0},null,{"$f":" IF(CVB515 = 1, CVB516 * CVB517, 0)","v":0},0,0,0,0,0,0,null,null,null,null,"Profiled adjustment wage related totex - WWN - Real",null,"£m",{"$f":" SUM(CVR518:CVX518)","v":0},null,{"$f":" IF(CVR515 = 1, CVR516 * CVR517, 0)","v":0},0,0,0,0,0,0,null,null,null,null,"Profiled adjustment wage related totex - WWN - Real",null,"£m",{"$f":" SUM(CWH518:CWN518)","v":0},null,{"$f":" IF(CWH515 = 1, CWH516 * CWH517, 0)","v":0},0,0,0,0,0,0,null,null,null,null,"Profiled adjustment wage related totex - WWN - Real",null,"£m",{"$f":" SUM(CWX518:CXD518)","v":0},null,{"$f":" IF(CWX515 = 1, CWX516 * CWX517, 0)","v":0},0,0,0,0,0,0,null,null,null,null,"Profiled adjustment wage related totex - WWN - Real",null,"£m",{"$f":" SUM(CXN518:CXT518)","v":0},null,{"$f":" IF(CXN515 = 1, CXN516 * CXN517, 0)","v":0},0,0,0,0,0,0,null,null,null,null,"Profiled adjustment wage related totex - WWN - Real",null,"£m",{"$f":" SUM(CYD518:CYJ518)","v":0},null,{"$f":" IF(CYD515 = 1, CYD516 * CYD517, 0)","v":0},0,0,0,0,0,0,null,null,null,null,"Profiled adjustment wage related totex - WWN - Real",null,"£m",{"$f":" SUM(CYT518:CYZ518)","v":0},null,{"$f":" IF(CYT515 = 1, CYT516 * CYT517, 0)","v":0},0,0,0,0,0,0,null,null,null,null,"Profiled adjustment wage related totex - WWN - Real",null,"£m",{"$f":" SUM(CZJ518:CZP518)","v":0},null,{"$f":" IF(CZJ515 = 1, CZJ516 * CZJ517, 0)","v":0},0,0,0,0,0,0,null,null,null,null,"Profiled adjustment wage related totex - WWN - Real",null,"£m",{"$f":" SUM(CZZ518:DAF518)","v":0},null,{"$f":" IF(CZZ515 = 1, CZZ516 * CZZ517, 0)","v":0},0,0,0,0,0,0,null,null,null,null,"Profiled adjustment wage related totex - WWN - Real",null,"£m",{"$f":" SUM(DAP518:DAV518)","v":0},null,{"$f":" IF(DAP515 = 1, DAP516 * DAP517, 0)","v":0},0,0,0,0,0,0,null,null,null,null,"Profiled adjustment wage related totex - WWN - Real",null,"£m",{"$f":" SUM(DBF518:DBL518)","v":0},null,{"$f":" IF(DBF515 = 1, DBF516 * DBF517, 0)","v":0},0,0,0,0,0,0,null,null,null,null,"Profiled adjustment wage related totex - WWN - Real",null,"£m",{"$f":" SUM(DBV518:DCB518)","v":0},null,{"$f":" IF(DBV515 = 1, DBV516 * DBV517, 0)","v":0},0,0,0,0,0,0,null,null,null,null,"Profiled adjustment wage related totex - WWN - Real",null,"£m",{"$f":" SUM(DCL518:DCR518)","v":0},null,{"$f":" IF(DCL515 = 1, DCL516 * DCL517, 0)","v":0},0,0,0,0,0,0,null,null,null,null,"Profiled adjustment wage related totex - WWN - Real",null,"£m",{"$f":" SUM(DDB518:DDH518)","v":0},null,{"$f":" IF(DDB515 = 1, DDB516 * DDB517, 0)","v":0},0,0,0,0,0,0,null,null,null,null,"Profiled adjustment wage related totex - WWN - Real",null,"£m",{"$f":" SUM(DDR518:DDX518)","v":0},null,{"$f":" IF(DDR515 = 1, DDR516 * DDR517, 0)","v":0},0,0,0,0,0,0,null,null,null,null,"Profiled adjustment wage related totex - WWN - Real",null,"£m",{"$f":" SUM(DEH518:DEN518)","v":0},null,{"$f":" IF(DEH515 = 1, DEH516 * DEH517, 0)","v":0},0,0,0,0,0,0,null,null,null,null,"Profiled adjustment wage related totex - WWN - Real",null,"£m",{"$f":" SUM(DEX518:DFD518)","v":0},null,{"$f":" IF(DEX515 = 1, DEX516 * DEX517, 0)","v":0},0,0,0,0,0,0,null,null,null,null,"Profiled adjustment wage related totex - WWN - Real",null,"£m",{"$f":" SUM(DFN518:DFT518)","v":0},null,{"$f":" IF(DFN515 = 1, DFN516 * DFN517, 0)","v":0},0,0,0,0,0,0,null,null,null,null,"Profiled adjustment wage related totex - WWN - Real",null,"£m",{"$f":" SUM(DGD518:DGJ518)","v":0},null,{"$f":" IF(DGD515 = 1, DGD516 * DGD517, 0)","v":0},0,0,0,0,0,0,null,null,null,null,"Profiled adjustment wage related totex - WWN - Real",null,"£m",{"$f":" SUM(DGT518:DGZ518)","v":0},null,{"$f":" IF(DGT515 = 1, DGT516 * DGT517, 0)","v":0},0,0,0,0,0,0,null,null,null,null,"Profiled adjustment wage related totex - WWN - Real",null,"£m",{"$f":" SUM(DHJ518:DHP518)","v":0},null,{"$f":" IF(DHJ515 = 1, DHJ516 * DHJ517, 0)","v":0},0,0,0,0,0,0,null,null,null,null,"Profiled adjustment wage related totex - WWN - Real",null,"£m",{"$f":" SUM(DHZ518:DIF518)","v":0},null,{"$f":" IF(DHZ515 = 1, DHZ516 * DHZ517, 0)","v":0},0,0,0,0,0,0,null,null,null,null,"Profiled adjustment wage related totex - WWN - Real",null,"£m",{"$f":" SUM(DIP518:DIV518)","v":0},null,{"$f":" IF(DIP515 = 1, DIP516 * DIP517, 0)","v":0},0,0,0,0,0,0,null,null,null,null,"Profiled adjustment wage related totex - WWN - Real",null,"£m",{"$f":" SUM(DJF518:DJL518)","v":0},null,{"$f":" IF(DJF515 = 1, DJF516 * DJF517, 0)","v":0},0,0,0,0,0,0,null,null,null,null,"Profiled adjustment wage related totex - WWN - Real",null,"£m",{"$f":" SUM(DJV518:DKB518)","v":0},null,{"$f":" IF(DJV515 = 1, DJV516 * DJV517, 0)","v":0},0,0,0,0,0,0,null,null,null,null,"Profiled adjustment wage related totex - WWN - Real",null,"£m",{"$f":" SUM(DKL518:DKR518)","v":0},null,{"$f":" IF(DKL515 = 1, DKL516 * DKL517, 0)","v":0},0,0,0,0,0,0,null,null,null,null,"Profiled adjustment wage related totex - WWN - Real",null,"£m",{"$f":" SUM(DLB518:DLH518)","v":0},null,{"$f":" IF(DLB515 = 1, DLB516 * DLB517, 0)","v":0},0,0,0,0,0,0,null,null,null,null,"Profiled adjustment wage related totex - WWN - Real",null,"£m",{"$f":" SUM(DLR518:DLX518)","v":0},null,{"$f":" IF(DLR515 = 1, DLR516 * DLR517, 0)","v":0},0,0,0,0,0,0,null,null,null,null,"Profiled adjustment wage related totex - WWN - Real",null,"£m",{"$f":" SUM(DMH518:DMN518)","v":0},null,{"$f":" IF(DMH515 = 1, DMH516 * DMH517, 0)","v":0},0,0,0,0,0,0,null,null,null,null,"Profiled adjustment wage related totex - WWN - Real",null,"£m",{"$f":" SUM(DMX518:DND518)","v":0},null,{"$f":" IF(DMX515 = 1, DMX516 * DMX517, 0)","v":0},0,0,0,0,0,0,null,null,null,null,"Profiled adjustment wage related totex - WWN - Real",null,"£m",{"$f":" SUM(DNN518:DNT518)","v":0},null,{"$f":" IF(DNN515 = 1, DNN516 * DNN517, 0)","v":0},0,0,0,0,0,0,null,null,null,null,"Profiled adjustment wage related totex - WWN - Real",null,"£m",{"$f":" SUM(DOD518:DOJ518)","v":0},null,{"$f":" IF(DOD515 = 1, DOD516 * DOD517, 0)","v":0},0,0,0,0,0,0,null,null,null,null,"Profiled adjustment wage related totex - WWN - Real",null,"£m",{"$f":" SUM(DOT518:DOZ518)","v":0},null,{"$f":" IF(DOT515 = 1, DOT516 * DOT517, 0)","v":0},0,0,0,0,0,0,null,null,null,null,"Profiled adjustment wage related totex - WWN - Real",null,"£m",{"$f":" SUM(DPJ518:DPP518)","v":0},null,{"$f":" IF(DPJ515 = 1, DPJ516 * DPJ517, 0)","v":0},0,0,0,0,0,0,null,null,null,null,"Profiled adjustment wage related totex - WWN - Real",null,"£m",{"$f":" SUM(DPZ518:DQF518)","v":0},null,{"$f":" IF(DPZ515 = 1, DPZ516 * DPZ517, 0)","v":0},0,0,0,0,0,0,null,null,null,null,"Profiled adjustment wage related totex - WWN - Real",null,"£m",{"$f":" SUM(DQP518:DQV518)","v":0},null,{"$f":" IF(DQP515 = 1, DQP516 * DQP517, 0)","v":0},0,0,0,0,0,0,null,null,null,null,"Profiled adjustment wage related totex - WWN - Real",null,"£m",{"$f":" SUM(DRF518:DRL518)","v":0},null,{"$f":" IF(DRF515 = 1, DRF516 * DRF517, 0)","v":0},0,0,0,0,0,0,null,null,null,null,"Profiled adjustment wage related totex - WWN - Real",null,"£m",{"$f":" SUM(DRV518:DSB518)","v":0},null,{"$f":" IF(DRV515 = 1, DRV516 * DRV517, 0)","v":0},0,0,0,0,0,0,null,null,null,null,"Profiled adjustment wage related totex - WWN - Real",null,"£m",{"$f":" SUM(DSL518:DSR518)","v":0},null,{"$f":" IF(DSL515 = 1, DSL516 * DSL517, 0)","v":0},0,0,0,0,0,0,null,null,null,null,"Profiled adjustment wage related totex - WWN - Real",null,"£m",{"$f":" SUM(DTB518:DTH518)","v":0},null,{"$f":" IF(DTB515 = 1, DTB516 * DTB517, 0)","v":0},0,0,0,0,0,0,null,null,null,null,"Profiled adjustment wage related totex - WWN - Real",null,"£m",{"$f":" SUM(DTR518:DTX518)","v":0},null,{"$f":" IF(DTR515 = 1, DTR516 * DTR517, 0)","v":0},0,0,0,0,0,0,null,null,null,null,"Profiled adjustment wage related totex - WWN - Real",null,"£m",{"$f":" SUM(DUH518:DUN518)","v":0},null,{"$f":" IF(DUH515 = 1, DUH516 * DUH517, 0)","v":0},0,0,0,0,0,0,null,null,null,null,"Profiled adjustment wage related totex - WWN - Real",null,"£m",{"$f":" SUM(DUX518:DVD518)","v":0},null,{"$f":" IF(DUX515 = 1, DUX516 * DUX517, 0)","v":0},0,0,0,0,0,0,null,null,null,null,"Profiled adjustment wage related totex - WWN - Real",null,"£m",{"$f":" SUM(DVN518:DVT518)","v":0},null,{"$f":" IF(DVN515 = 1, DVN516 * DVN517, 0)","v":0},0,0,0,0,0,0,null,null,null,null,"Profiled adjustment wage related totex - WWN - Real",null,"£m",{"$f":" SUM(DWD518:DWJ518)","v":0},null,{"$f":" IF(DWD515 = 1, DWD516 * DWD517, 0)","v":0},0,0,0,0,0,0,null,null,null,null,"Profiled adjustment wage related totex - WWN - Real",null,"£m",{"$f":" SUM(DWT518:DWZ518)","v":0},null,{"$f":" IF(DWT515 = 1, DWT516 * DWT517, 0)","v":0},0,0,0,0,0,0,null,null,null,null,"Profiled adjustment wage related totex - WWN - Real",null,"£m",{"$f":" SUM(DXJ518:DXP518)","v":0},null,{"$f":" IF(DXJ515 = 1, DXJ516 * DXJ517, 0)","v":0},0,0,0,0,0,0,null,null,null,null,"Profiled adjustment wage related totex - WWN - Real",null,"£m",{"$f":" SUM(DXZ518:DYF518)","v":0},null,{"$f":" IF(DXZ515 = 1, DXZ516 * DXZ517, 0)","v":0},0,0,0,0,0,0,null,null,null,null,"Profiled adjustment wage related totex - WWN - Real",null,"£m",{"$f":" SUM(DYP518:DYV518)","v":0},null,{"$f":" IF(DYP515 = 1, DYP516 * DYP517, 0)","v":0},0,0,0,0,0,0,null,null,null,null,"Profiled adjustment wage related totex - WWN - Real",null,"£m",{"$f":" SUM(DZF518:DZL518)","v":0},null,{"$f":" IF(DZF515 = 1, DZF516 * DZF517, 0)","v":0},0,0,0,0,0,0,null,null,null,null,"Profiled adjustment wage related totex - WWN - Real",null,"£m",{"$f":" SUM(DZV518:EAB518)","v":0},null,{"$f":" IF(DZV515 = 1, DZV516 * DZV517, 0)","v":0},0,0,0,0,0,0,null,null,null,null,"Profiled adjustment wage related totex - WWN - Real",null,"£m",{"$f":" SUM(EAL518:EAR518)","v":0},null,{"$f":" IF(EAL515 = 1, EAL516 * EAL517, 0)","v":0},0,0,0,0,0,0,null,null,null,null,"Profiled adjustment wage related totex - WWN - Real",null,"£m",{"$f":" SUM(EBB518:EBH518)","v":0},null,{"$f":" IF(EBB515 = 1, EBB516 * EBB517, 0)","v":0},0,0,0,0,0,0,null,null,null,null,"Profiled adjustment wage related totex - WWN - Real",null,"£m",{"$f":" SUM(EBR518:EBX518)","v":0},null,{"$f":" IF(EBR515 = 1, EBR516 * EBR517, 0)","v":0},0,0,0,0,0,0,null,null,null,null,"Profiled adjustment wage related totex - WWN - Real",null,"£m",{"$f":" SUM(ECH518:ECN518)","v":0},null,{"$f":" IF(ECH515 = 1, ECH516 * ECH517, 0)","v":0},0,0,0,0,0,0,null,null,null,null,"Profiled adjustment wage related totex - WWN - Real",null,"£m",{"$f":" SUM(ECX518:EDD518)","v":0},null,{"$f":" IF(ECX515 = 1, ECX516 * ECX517, 0)","v":0},0,0,0,0,0,0,null,null,null,null,"Profiled adjustment wage related totex - WWN - Real",null,"£m",{"$f":" SUM(EDN518:EDT518)","v":0},null,{"$f":" IF(EDN515 = 1, EDN516 * EDN517, 0)","v":0},0,0,0,0,0,0,null,null,null,null,"Profiled adjustment wage related totex - WWN - Real",null,"£m",{"$f":" SUM(EED518:EEJ518)","v":0},null,{"$f":" IF(EED515 = 1, EED516 * EED517, 0)","v":0},0,0,0,0,0,0,null,null,null,null,"Profiled adjustment wage related totex - WWN - Real",null,"£m",{"$f":" SUM(EET518:EEZ518)","v":0},null,{"$f":" IF(EET515 = 1, EET516 * EET517, 0)","v":0},0,0,0,0,0,0,null,null,null,null,"Profiled adjustment wage related totex - WWN - Real",null,"£m",{"$f":" SUM(EFJ518:EFP518)","v":0},null,{"$f":" IF(EFJ515 = 1, EFJ516 * EFJ517, 0)","v":0},0,0,0,0,0,0,null,null,null,null,"Profiled adjustment wage related totex - WWN - Real",null,"£m",{"$f":" SUM(EFZ518:EGF518)","v":0},null,{"$f":" IF(EFZ515 = 1, EFZ516 * EFZ517, 0)","v":0},0,0,0,0,0,0,null,null,null,null,"Profiled adjustment wage related totex - WWN - Real",null,"£m",{"$f":" SUM(EGP518:EGV518)","v":0},null,{"$f":" IF(EGP515 = 1, EGP516 * EGP517, 0)","v":0},0,0,0,0,0,0,null,null,null,null,"Profiled adjustment wage related totex - WWN - Real",null,"£m",{"$f":" SUM(EHF518:EHL518)","v":0},null,{"$f":" IF(EHF515 = 1, EHF516 * EHF517, 0)","v":0},0,0,0,0,0,0,null,null,null,null,"Profiled adjustment wage related totex - WWN - Real",null,"£m",{"$f":" SUM(EHV518:EIB518)","v":0},null,{"$f":" IF(EHV515 = 1, EHV516 * EHV517, 0)","v":0},0,0,0,0,0,0,null,null,null,null,"Profiled adjustment wage related totex - WWN - Real",null,"£m",{"$f":" SUM(EIL518:EIR518)","v":0},null,{"$f":" IF(EIL515 = 1, EIL516 * EIL517, 0)","v":0},0,0,0,0,0,0,null,null,null,null,"Profiled adjustment wage related totex - WWN - Real",null,"£m",{"$f":" SUM(EJB518:EJH518)","v":0},null,{"$f":" IF(EJB515 = 1, EJB516 * EJB517, 0)","v":0},0,0,0,0,0,0,null,null,null,null,"Profiled adjustment wage related totex - WWN - Real",null,"£m",{"$f":" SUM(EJR518:EJX518)","v":0},null,{"$f":" IF(EJR515 = 1, EJR516 * EJR517, 0)","v":0},0,0,0,0,0,0,null,null,null,null,"Profiled adjustment wage related totex - WWN - Real",null,"£m",{"$f":" SUM(EKH518:EKN518)","v":0},null,{"$f":" IF(EKH515 = 1, EKH516 * EKH517, 0)","v":0},0,0,0,0,0,0,null,null,null,null,"Profiled adjustment wage related totex - WWN - Real",null,"£m",{"$f":" SUM(EKX518:ELD518)","v":0},null,{"$f":" IF(EKX515 = 1, EKX516 * EKX517, 0)","v":0},0,0,0,0,0,0,null,null,null,null,"Profiled adjustment wage related totex - WWN - Real",null,"£m",{"$f":" SUM(ELN518:ELT518)","v":0},null,{"$f":" IF(ELN515 = 1, ELN516 * ELN517, 0)","v":0},0,0,0,0,0,0,null,null,null,null,"Profiled adjustment wage related totex - WWN - Real",null,"£m",{"$f":" SUM(EMD518:EMJ518)","v":0},null,{"$f":" IF(EMD515 = 1, EMD516 * EMD517, 0)","v":0},0,0,0,0,0,0,null,null,null,null,"Profiled adjustment wage related totex - WWN - Real",null,"£m",{"$f":" SUM(EMT518:EMZ518)","v":0},null,{"$f":" IF(EMT515 = 1, EMT516 * EMT517, 0)","v":0},0,0,0,0,0,0,null,null,null,null,"Profiled adjustment wage related totex - WWN - Real",null,"£m",{"$f":" SUM(ENJ518:ENP518)","v":0},null,{"$f":" IF(ENJ515 = 1, ENJ516 * ENJ517, 0)","v":0},0,0,0,0,0,0,null,null,null,null,"Profiled adjustment wage related totex - WWN - Real",null,"£m",{"$f":" SUM(ENZ518:EOF518)","v":0},null,{"$f":" IF(ENZ515 = 1, ENZ516 * ENZ517, 0)","v":0},0,0,0,0,0,0,null,null,null,null,"Profiled adjustment wage related totex - WWN - Real",null,"£m",{"$f":" SUM(EOP518:EOV518)","v":0},null,{"$f":" IF(EOP515 = 1, EOP516 * EOP517, 0)","v":0},0,0,0,0,0,0,null,null,null,null,"Profiled adjustment wage related totex - WWN - Real",null,"£m",{"$f":" SUM(EPF518:EPL518)","v":0},null,{"$f":" IF(EPF515 = 1, EPF516 * EPF517, 0)","v":0},0,0,0,0,0,0,null,null,null,null,"Profiled adjustment wage related totex - WWN - Real",null,"£m",{"$f":" SUM(EPV518:EQB518)","v":0},null,{"$f":" IF(EPV515 = 1, EPV516 * EPV517, 0)","v":0},0,0,0,0,0,0,null,null,null,null,"Profiled adjustment wage related totex - WWN - Real",null,"£m",{"$f":" SUM(EQL518:EQR518)","v":0},null,{"$f":" IF(EQL515 = 1, EQL516 * EQL517, 0)","v":0},0,0,0,0,0,0,null,null,null,null,"Profiled adjustment wage related totex - WWN - Real",null,"£m",{"$f":" SUM(ERB518:ERH518)","v":0},null,{"$f":" IF(ERB515 = 1, ERB516 * ERB517, 0)","v":0},0,0,0,0,0,0,null,null,null,null,"Profiled adjustment wage related totex - WWN - Real",null,"£m",{"$f":" SUM(ERR518:ERX518)","v":0},null,{"$f":" IF(ERR515 = 1, ERR516 * ERR517, 0)","v":0},0,0,0,0,0,0,null,null,null,null,"Profiled adjustment wage related totex - WWN - Real",null,"£m",{"$f":" SUM(ESH518:ESN518)","v":0},null,{"$f":" IF(ESH515 = 1, ESH516 * ESH517, 0)","v":0},0,0,0,0,0,0,null,null,null,null,"Profiled adjustment wage related totex - WWN - Real",null,"£m",{"$f":" SUM(ESX518:ETD518)","v":0},null,{"$f":" IF(ESX515 = 1, ESX516 * ESX517, 0)","v":0},0,0,0,0,0,0,null,null,null,null,"Profiled adjustment wage related totex - WWN - Real",null,"£m",{"$f":" SUM(ETN518:ETT518)","v":0},null,{"$f":" IF(ETN515 = 1, ETN516 * ETN517, 0)","v":0},0,0,0,0,0,0,null,null,null,null,"Profiled adjustment wage related totex - WWN - Real",null,"£m",{"$f":" SUM(EUD518:EUJ518)","v":0},null,{"$f":" IF(EUD515 = 1, EUD516 * EUD517, 0)","v":0},0,0,0,0,0,0,null,null,null,null,"Profiled adjustment wage related totex - WWN - Real",null,"£m",{"$f":" SUM(EUT518:EUZ518)","v":0},null,{"$f":" IF(EUT515 = 1, EUT516 * EUT517, 0)","v":0},0,0,0,0,0,0,null,null,null,null,"Profiled adjustment wage related totex - WWN - Real",null,"£m",{"$f":" SUM(EVJ518:EVP518)","v":0},null,{"$f":" IF(EVJ515 = 1, EVJ516 * EVJ517, 0)","v":0},0,0,0,0,0,0,null,null,null,null,"Profiled adjustment wage related totex - WWN - Real",null,"£m",{"$f":" SUM(EVZ518:EWF518)","v":0},null,{"$f":" IF(EVZ515 = 1, EVZ516 * EVZ517, 0)","v":0},0,0,0,0,0,0,null,null,null,null,"Profiled adjustment wage related totex - WWN - Real",null,"£m",{"$f":" SUM(EWP518:EWV518)","v":0},null,{"$f":" IF(EWP515 = 1, EWP516 * EWP517, 0)","v":0},0,0,0,0,0,0,null,null,null,null,"Profiled adjustment wage related totex - WWN - Real",null,"£m",{"$f":" SUM(EXF518:EXL518)","v":0},null,{"$f":" IF(EXF515 = 1, EXF516 * EXF517, 0)","v":0},0,0,0,0,0,0,null,null,null,null,"Profiled adjustment wage related totex - WWN - Real",null,"£m",{"$f":" SUM(EXV518:EYB518)","v":0},null,{"$f":" IF(EXV515 = 1, EXV516 * EXV517, 0)","v":0},0,0,0,0,0,0,null,null,null,null,"Profiled adjustment wage related totex - WWN - Real",null,"£m",{"$f":" SUM(EYL518:EYR518)","v":0},null,{"$f":" IF(EYL515 = 1, EYL516 * EYL517, 0)","v":0},0,0,0,0,0,0,null,null,null,null,"Profiled adjustment wage related totex - WWN - Real",null,"£m",{"$f":" SUM(EZB518:EZH518)","v":0},null,{"$f":" IF(EZB515 = 1, EZB516 * EZB517, 0)","v":0},0,0,0,0,0,0,null,null,null,null,"Profiled adjustment wage related totex - WWN - Real",null,"£m",{"$f":" SUM(EZR518:EZX518)","v":0},null,{"$f":" IF(EZR515 = 1, EZR516 * EZR517, 0)","v":0},0,0,0,0,0,0,null,null,null,null,"Profiled adjustment wage related totex - WWN - Real",null,"£m",{"$f":" SUM(FAH518:FAN518)","v":0},null,{"$f":" IF(FAH515 = 1, FAH516 * FAH517, 0)","v":0},0,0,0,0,0,0,null,null,null,null,"Profiled adjustment wage related totex - WWN - Real",null,"£m",{"$f":" SUM(FAX518:FBD518)","v":0},null,{"$f":" IF(FAX515 = 1, FAX516 * FAX517, 0)","v":0},0,0,0,0,0,0,null,null,null,null,"Profiled adjustment wage related totex - WWN - Real",null,"£m",{"$f":" SUM(FBN518:FBT518)","v":0},null,{"$f":" IF(FBN515 = 1, FBN516 * FBN517, 0)","v":0},0,0,0,0,0,0,null,null,null,null,"Profiled adjustment wage related totex - WWN - Real",null,"£m",{"$f":" SUM(FCD518:FCJ518)","v":0},null,{"$f":" IF(FCD515 = 1, FCD516 * FCD517, 0)","v":0},0,0,0,0,0,0,null,null,null,null,"Profiled adjustment wage related totex - WWN - Real",null,"£m",{"$f":" SUM(FCT518:FCZ518)","v":0},null,{"$f":" IF(FCT515 = 1, FCT516 * FCT517, 0)","v":0},0,0,0,0,0,0,null,null,null,null,"Profiled adjustment wage related totex - WWN - Real",null,"£m",{"$f":" SUM(FDJ518:FDP518)","v":0},null,{"$f":" IF(FDJ515 = 1, FDJ516 * FDJ517, 0)","v":0},0,0,0,0,0,0,null,null,null,null,"Profiled adjustment wage related totex - WWN - Real",null,"£m",{"$f":" SUM(FDZ518:FEF518)","v":0},null,{"$f":" IF(FDZ515 = 1, FDZ516 * FDZ517, 0)","v":0},0,0,0,0,0,0,null,null,null,null,"Profiled adjustment wage related totex - WWN - Real",null,"£m",{"$f":" SUM(FEP518:FEV518)","v":0},null,{"$f":" IF(FEP515 = 1, FEP516 * FEP517, 0)","v":0},0,0,0,0,0,0,null,null,null,null,"Profiled adjustment wage related totex - WWN - Real",null,"£m",{"$f":" SUM(FFF518:FFL518)","v":0},null,{"$f":" IF(FFF515 = 1, FFF516 * FFF517, 0)","v":0},0,0,0,0,0,0,null,null,null,null,"Profiled adjustment wage related totex - WWN - Real",null,"£m",{"$f":" SUM(FFV518:FGB518)","v":0},null,{"$f":" IF(FFV515 = 1, FFV516 * FFV517, 0)","v":0},0,0,0,0,0,0,null,null,null,null,"Profiled adjustment wage related totex - WWN - Real",null,"£m",{"$f":" SUM(FGL518:FGR518)","v":0},null,{"$f":" IF(FGL515 = 1, FGL516 * FGL517, 0)","v":0},0,0,0,0,0,0,null,null,null,null,"Profiled adjustment wage related totex - WWN - Real",null,"£m",{"$f":" SUM(FHB518:FHH518)","v":0},null,{"$f":" IF(FHB515 = 1, FHB516 * FHB517, 0)","v":0},0,0,0,0,0,0,null,null,null,null,"Profiled adjustment wage related totex - WWN - Real",null,"£m",{"$f":" SUM(FHR518:FHX518)","v":0},null,{"$f":" IF(FHR515 = 1, FHR516 * FHR517, 0)","v":0},0,0,0,0,0,0,null,null,null,null,"Profiled adjustment wage related totex - WWN - Real",null,"£m",{"$f":" SUM(FIH518:FIN518)","v":0},null,{"$f":" IF(FIH515 = 1, FIH516 * FIH517, 0)","v":0},0,0,0,0,0,0,null,null,null,null,"Profiled adjustment wage related totex - WWN - Real",null,"£m",{"$f":" SUM(FIX518:FJD518)","v":0},null,{"$f":" IF(FIX515 = 1, FIX516 * FIX517, 0)","v":0},0,0,0,0,0,0,null,null,null,null,"Profiled adjustment wage related totex - WWN - Real",null,"£m",{"$f":" SUM(FJN518:FJT518)","v":0},null,{"$f":" IF(FJN515 = 1, FJN516 * FJN517, 0)","v":0},0,0,0,0,0,0,null,null,null,null,"Profiled adjustment wage related totex - WWN - Real",null,"£m",{"$f":" SUM(FKD518:FKJ518)","v":0},null,{"$f":" IF(FKD515 = 1, FKD516 * FKD517, 0)","v":0},0,0,0,0,0,0,null,null,null,null,"Profiled adjustment wage related totex - WWN - Real",null,"£m",{"$f":" SUM(FKT518:FKZ518)","v":0},null,{"$f":" IF(FKT515 = 1, FKT516 * FKT517, 0)","v":0},0,0,0,0,0,0,null,null,null,null,"Profiled adjustment wage related totex - WWN - Real",null,"£m",{"$f":" SUM(FLJ518:FLP518)","v":0},null,{"$f":" IF(FLJ515 = 1, FLJ516 * FLJ517, 0)","v":0},0,0,0,0,0,0,null,null,null,null,"Profiled adjustment wage related totex - WWN - Real",null,"£m",{"$f":" SUM(FLZ518:FMF518)","v":0},null,{"$f":" IF(FLZ515 = 1, FLZ516 * FLZ517, 0)","v":0},0,0,0,0,0,0,null,null,null,null,"Profiled adjustment wage related totex - WWN - Real",null,"£m",{"$f":" SUM(FMP518:FMV518)","v":0},null,{"$f":" IF(FMP515 = 1, FMP516 * FMP517, 0)","v":0},0,0,0,0,0,0,null,null,null,null,"Profiled adjustment wage related totex - WWN - Real",null,"£m",{"$f":" SUM(FNF518:FNL518)","v":0},null,{"$f":" IF(FNF515 = 1, FNF516 * FNF517, 0)","v":0},0,0,0,0,0,0,null,null,null,null,"Profiled adjustment wage related totex - WWN - Real",null,"£m",{"$f":" SUM(FNV518:FOB518)","v":0},null,{"$f":" IF(FNV515 = 1, FNV516 * FNV517, 0)","v":0},0,0,0,0,0,0,null,null,null,null,"Profiled adjustment wage related totex - WWN - Real",null,"£m",{"$f":" SUM(FOL518:FOR518)","v":0},null,{"$f":" IF(FOL515 = 1, FOL516 * FOL517, 0)","v":0},0,0,0,0,0,0,null,null,null,null,"Profiled adjustment wage related totex - WWN - Real",null,"£m",{"$f":" SUM(FPB518:FPH518)","v":0},null,{"$f":" IF(FPB515 = 1, FPB516 * FPB517, 0)","v":0},0,0,0,0,0,0,null,null,null,null,"Profiled adjustment wage related totex - WWN - Real",null,"£m",{"$f":" SUM(FPR518:FPX518)","v":0},null,{"$f":" IF(FPR515 = 1, FPR516 * FPR517, 0)","v":0},0,0,0,0,0,0,null,null,null,null,"Profiled adjustment wage related totex - WWN - Real",null,"£m",{"$f":" SUM(FQH518:FQN518)","v":0},null,{"$f":" IF(FQH515 = 1, FQH516 * FQH517, 0)","v":0},0,0,0,0,0,0,null,null,null,null,"Profiled adjustment wage related totex - WWN - Real",null,"£m",{"$f":" SUM(FQX518:FRD518)","v":0},null,{"$f":" IF(FQX515 = 1, FQX516 * FQX517, 0)","v":0},0,0,0,0,0,0,null,null,null,null,"Profiled adjustment wage related totex - WWN - Real",null,"£m",{"$f":" SUM(FRN518:FRT518)","v":0},null,{"$f":" IF(FRN515 = 1, FRN516 * FRN517, 0)","v":0},0,0,0,0,0,0,null,null,null,null,"Profiled adjustment wage related totex - WWN - Real",null,"£m",{"$f":" SUM(FSD518:FSJ518)","v":0},null,{"$f":" IF(FSD515 = 1, FSD516 * FSD517, 0)","v":0},0,0,0,0,0,0,null,null,null,null,"Profiled adjustment wage related totex - WWN - Real",null,"£m",{"$f":" SUM(FST518:FSZ518)","v":0},null,{"$f":" IF(FST515 = 1, FST516 * FST517, 0)","v":0},0,0,0,0,0,0,null,null,null,null,"Profiled adjustment wage related totex - WWN - Real",null,"£m",{"$f":" SUM(FTJ518:FTP518)","v":0},null,{"$f":" IF(FTJ515 = 1, FTJ516 * FTJ517, 0)","v":0},0,0,0,0,0,0,null,null,null,null,"Profiled adjustment wage related totex - WWN - Real",null,"£m",{"$f":" SUM(FTZ518:FUF518)","v":0},null,{"$f":" IF(FTZ515 = 1, FTZ516 * FTZ517, 0)","v":0},0,0,0,0,0,0,null,null,null,null,"Profiled adjustment wage related totex - WWN - Real",null,"£m",{"$f":" SUM(FUP518:FUV518)","v":0},null,{"$f":" IF(FUP515 = 1, FUP516 * FUP517, 0)","v":0},0,0,0,0,0,0,null,null,null,null,"Profiled adjustment wage related totex - WWN - Real",null,"£m",{"$f":" SUM(FVF518:FVL518)","v":0},null,{"$f":" IF(FVF515 = 1, FVF516 * FVF517, 0)","v":0},0,0,0,0,0,0,null,null,null,null,"Profiled adjustment wage related totex - WWN - Real",null,"£m",{"$f":" SUM(FVV518:FWB518)","v":0},null,{"$f":" IF(FVV515 = 1, FVV516 * FVV517, 0)","v":0},0,0,0,0,0,0,null,null,null,null,"Profiled adjustment wage related totex - WWN - Real",null,"£m",{"$f":" SUM(FWL518:FWR518)","v":0},null,{"$f":" IF(FWL515 = 1, FWL516 * FWL517, 0)","v":0},0,0,0,0,0,0,null,null,null,null,"Profiled adjustment wage related totex - WWN - Real",null,"£m",{"$f":" SUM(FXB518:FXH518)","v":0},null,{"$f":" IF(FXB515 = 1, FXB516 * FXB517, 0)","v":0},0,0,0,0,0,0,null,null,null,null,"Profiled adjustment wage related totex - WWN - Real",null,"£m",{"$f":" SUM(FXR518:FXX518)","v":0},null,{"$f":" IF(FXR515 = 1, FXR516 * FXR517, 0)","v":0},0,0,0,0,0,0,null,null,null,null,"Profiled adjustment wage related totex - WWN - Real",null,"£m",{"$f":" SUM(FYH518:FYN518)","v":0},null,{"$f":" IF(FYH515 = 1, FYH516 * FYH517, 0)","v":0},0,0,0,0,0,0,null,null,null,null,"Profiled adjustment wage related totex - WWN - Real",null,"£m",{"$f":" SUM(FYX518:FZD518)","v":0},null,{"$f":" IF(FYX515 = 1, FYX516 * FYX517, 0)","v":0},0,0,0,0,0,0,null,null,null,null,"Profiled adjustment wage related totex - WWN - Real",null,"£m",{"$f":" SUM(FZN518:FZT518)","v":0},null,{"$f":" IF(FZN515 = 1, FZN516 * FZN517, 0)","v":0},0,0,0,0,0,0,null,null,null,null,"Profiled adjustment wage related totex - WWN - Real",null,"£m",{"$f":" SUM(GAD518:GAJ518)","v":0},null,{"$f":" IF(GAD515 = 1, GAD516 * GAD517, 0)","v":0},0,0,0,0,0,0,null,null,null,null,"Profiled adjustment wage related totex - WWN - Real",null,"£m",{"$f":" SUM(GAT518:GAZ518)","v":0},null,{"$f":" IF(GAT515 = 1, GAT516 * GAT517, 0)","v":0},0,0,0,0,0,0,null,null,null,null,"Profiled adjustment wage related totex - WWN - Real",null,"£m",{"$f":" SUM(GBJ518:GBP518)","v":0},null,{"$f":" IF(GBJ515 = 1, GBJ516 * GBJ517, 0)","v":0},0,0,0,0,0,0,null,null,null,null,"Profiled adjustment wage related totex - WWN - Real",null,"£m",{"$f":" SUM(GBZ518:GCF518)","v":0},null,{"$f":" IF(GBZ515 = 1, GBZ516 * GBZ517, 0)","v":0},0,0,0,0,0,0,null,null,null,null,"Profiled adjustment wage related totex - WWN - Real",null,"£m",{"$f":" SUM(GCP518:GCV518)","v":0},null,{"$f":" IF(GCP515 = 1, GCP516 * GCP517, 0)","v":0},0,0,0,0,0,0,null,null,null,null,"Profiled adjustment wage related totex - WWN - Real",null,"£m",{"$f":" SUM(GDF518:GDL518)","v":0},null,{"$f":" IF(GDF515 = 1, GDF516 * GDF517, 0)","v":0},0,0,0,0,0,0,null,null,null,null,"Profiled adjustment wage related totex - WWN - Real",null,"£m",{"$f":" SUM(GDV518:GEB518)","v":0},null,{"$f":" IF(GDV515 = 1, GDV516 * GDV517, 0)","v":0},0,0,0,0,0,0,null,null,null,null,"Profiled adjustment wage related totex - WWN - Real",null,"£m",{"$f":" SUM(GEL518:GER518)","v":0},null,{"$f":" IF(GEL515 = 1, GEL516 * GEL517, 0)","v":0},0,0,0,0,0,0,null,null,null,null,"Profiled adjustment wage related totex - WWN - Real",null,"£m",{"$f":" SUM(GFB518:GFH518)","v":0},null,{"$f":" IF(GFB515 = 1, GFB516 * GFB517, 0)","v":0},0,0,0,0,0,0,null,null,null,null,"Profiled adjustment wage related totex - WWN - Real",null,"£m",{"$f":" SUM(GFR518:GFX518)","v":0},null,{"$f":" IF(GFR515 = 1, GFR516 * GFR517, 0)","v":0},0,0,0,0,0,0,null,null,null,null,"Profiled adjustment wage related totex - WWN - Real",null,"£m",{"$f":" SUM(GGH518:GGN518)","v":0},null,{"$f":" IF(GGH515 = 1, GGH516 * GGH517, 0)","v":0},0,0,0,0,0,0,null,null,null,null,"Profiled adjustment wage related totex - WWN - Real",null,"£m",{"$f":" SUM(GGX518:GHD518)","v":0},null,{"$f":" IF(GGX515 = 1, GGX516 * GGX517, 0)","v":0},0,0,0,0,0,0,null,null,null,null,"Profiled adjustment wage related totex - WWN - Real",null,"£m",{"$f":" SUM(GHN518:GHT518)","v":0},null,{"$f":" IF(GHN515 = 1, GHN516 * GHN517, 0)","v":0},0,0,0,0,0,0,null,null,null,null,"Profiled adjustment wage related totex - WWN - Real",null,"£m",{"$f":" SUM(GID518:GIJ518)","v":0},null,{"$f":" IF(GID515 = 1, GID516 * GID517, 0)","v":0},0,0,0,0,0,0,null,null,null,null,"Profiled adjustment wage related totex - WWN - Real",null,"£m",{"$f":" SUM(GIT518:GIZ518)","v":0},null,{"$f":" IF(GIT515 = 1, GIT516 * GIT517, 0)","v":0},0,0,0,0,0,0,null,null,null,null,"Profiled adjustment wage related totex - WWN - Real",null,"£m",{"$f":" SUM(GJJ518:GJP518)","v":0},null,{"$f":" IF(GJJ515 = 1, GJJ516 * GJJ517, 0)","v":0},0,0,0,0,0,0,null,null,null,null,"Profiled adjustment wage related totex - WWN - Real",null,"£m",{"$f":" SUM(GJZ518:GKF518)","v":0},null,{"$f":" IF(GJZ515 = 1, GJZ516 * GJZ517, 0)","v":0},0,0,0,0,0,0,null,null,null,null,"Profiled adjustment wage related totex - WWN - Real",null,"£m",{"$f":" SUM(GKP518:GKV518)","v":0},null,{"$f":" IF(GKP515 = 1, GKP516 * GKP517, 0)","v":0},0,0,0,0,0,0,null,null,null,null,"Profiled adjustment wage related totex - WWN - Real",null,"£m",{"$f":" SUM(GLF518:GLL518)","v":0},null,{"$f":" IF(GLF515 = 1, GLF516 * GLF517, 0)","v":0},0,0,0,0,0,0,null,null,null,null,"Profiled adjustment wage related totex - WWN - Real",null,"£m",{"$f":" SUM(GLV518:GMB518)","v":0},null,{"$f":" IF(GLV515 = 1, GLV516 * GLV517, 0)","v":0},0,0,0,0,0,0,null,null,null,null,"Profiled adjustment wage related totex - WWN - Real",null,"£m",{"$f":" SUM(GML518:GMR518)","v":0},null,{"$f":" IF(GML515 = 1, GML516 * GML517, 0)","v":0},0,0,0,0,0,0,null,null,null,null,"Profiled adjustment wage related totex - WWN - Real",null,"£m",{"$f":" SUM(GNB518:GNH518)","v":0},null,{"$f":" IF(GNB515 = 1, GNB516 * GNB517, 0)","v":0},0,0,0,0,0,0,null,null,null,null,"Profiled adjustment wage related totex - WWN - Real",null,"£m",{"$f":" SUM(GNR518:GNX518)","v":0},null,{"$f":" IF(GNR515 = 1, GNR516 * GNR517, 0)","v":0},0,0,0,0,0,0,null,null,null,null,"Profiled adjustment wage related totex - WWN - Real",null,"£m",{"$f":" SUM(GOH518:GON518)","v":0},null,{"$f":" IF(GOH515 = 1, GOH516 * GOH517, 0)","v":0},0,0,0,0,0,0,null,null,null,null,"Profiled adjustment wage related totex - WWN - Real",null,"£m",{"$f":" SUM(GOX518:GPD518)","v":0},null,{"$f":" IF(GOX515 = 1, GOX516 * GOX517, 0)","v":0},0,0,0,0,0,0,null,null,null,null,"Profiled adjustment wage related totex - WWN - Real",null,"£m",{"$f":" SUM(GPN518:GPT518)","v":0},null,{"$f":" IF(GPN515 = 1, GPN516 * GPN517, 0)","v":0},0,0,0,0,0,0,null,null,null,null,"Profiled adjustment wage related totex - WWN - Real",null,"£m",{"$f":" SUM(GQD518:GQJ518)","v":0},null,{"$f":" IF(GQD515 = 1, GQD516 * GQD517, 0)","v":0},0,0,0,0,0,0,null,null,null,null,"Profiled adjustment wage related totex - WWN - Real",null,"£m",{"$f":" SUM(GQT518:GQZ518)","v":0},null,{"$f":" IF(GQT515 = 1, GQT516 * GQT517, 0)","v":0},0,0,0,0,0,0,null,null,null,null,"Profiled adjustment wage related totex - WWN - Real",null,"£m",{"$f":" SUM(GRJ518:GRP518)","v":0},null,{"$f":" IF(GRJ515 = 1, GRJ516 * GRJ517, 0)","v":0},0,0,0,0,0,0,null,null,null,null,"Profiled adjustment wage related totex - WWN - Real",null,"£m",{"$f":" SUM(GRZ518:GSF518)","v":0},null,{"$f":" IF(GRZ515 = 1, GRZ516 * GRZ517, 0)","v":0},0,0,0,0,0,0,null,null,null,null,"Profiled adjustment wage related totex - WWN - Real",null,"£m",{"$f":" SUM(GSP518:GSV518)","v":0},null,{"$f":" IF(GSP515 = 1, GSP516 * GSP517, 0)","v":0},0,0,0,0,0,0,null,null,null,null,"Profiled adjustment wage related totex - WWN - Real",null,"£m",{"$f":" SUM(GTF518:GTL518)","v":0},null,{"$f":" IF(GTF515 = 1, GTF516 * GTF517, 0)","v":0},0,0,0,0,0,0,null,null,null,null,"Profiled adjustment wage related totex - WWN - Real",null,"£m",{"$f":" SUM(GTV518:GUB518)","v":0},null,{"$f":" IF(GTV515 = 1, GTV516 * GTV517, 0)","v":0},0,0,0,0,0,0,null,null,null,null,"Profiled adjustment wage related totex - WWN - Real",null,"£m",{"$f":" SUM(GUL518:GUR518)","v":0},null,{"$f":" IF(GUL515 = 1, GUL516 * GUL517, 0)","v":0},0,0,0,0,0,0,null,null,null,null,"Profiled adjustment wage related totex - WWN - Real",null,"£m",{"$f":" SUM(GVB518:GVH518)","v":0},null,{"$f":" IF(GVB515 = 1, GVB516 * GVB517, 0)","v":0},0,0,0,0,0,0,null,null,null,null,"Profiled adjustment wage related totex - WWN - Real",null,"£m",{"$f":" SUM(GVR518:GVX518)","v":0},null,{"$f":" IF(GVR515 = 1, GVR516 * GVR517, 0)","v":0},0,0,0,0,0,0,null,null,null,null,"Profiled adjustment wage related totex - WWN - Real",null,"£m",{"$f":" SUM(GWH518:GWN518)","v":0},null,{"$f":" IF(GWH515 = 1, GWH516 * GWH517, 0)","v":0},0,0,0,0,0,0,null,null,null,null,"Profiled adjustment wage related totex - WWN - Real",null,"£m",{"$f":" SUM(GWX518:GXD518)","v":0},null,{"$f":" IF(GWX515 = 1, GWX516 * GWX517, 0)","v":0},0,0,0,0,0,0,null,null,null,null,"Profiled adjustment wage related totex - WWN - Real",null,"£m",{"$f":" SUM(GXN518:GXT518)","v":0},null,{"$f":" IF(GXN515 = 1, GXN516 * GXN517, 0)","v":0},0,0,0,0,0,0,null,null,null,null,"Profiled adjustment wage related totex - WWN - Real",null,"£m",{"$f":" SUM(GYD518:GYJ518)","v":0},null,{"$f":" IF(GYD515 = 1, GYD516 * GYD517, 0)","v":0},0,0,0,0,0,0,null,null,null,null,"Profiled adjustment wage related totex - WWN - Real",null,"£m",{"$f":" SUM(GYT518:GYZ518)","v":0},null,{"$f":" IF(GYT515 = 1, GYT516 * GYT517, 0)","v":0},0,0,0,0,0,0,null,null,null,null,"Profiled adjustment wage related totex - WWN - Real",null,"£m",{"$f":" SUM(GZJ518:GZP518)","v":0},null,{"$f":" IF(GZJ515 = 1, GZJ516 * GZJ517, 0)","v":0},0,0,0,0,0,0,null,null,null,null,"Profiled adjustment wage related totex - WWN - Real",null,"£m",{"$f":" SUM(GZZ518:HAF518)","v":0},null,{"$f":" IF(GZZ515 = 1, GZZ516 * GZZ517, 0)","v":0},0,0,0,0,0,0,null,null,null,null,"Profiled adjustment wage related totex - WWN - Real",null,"£m",{"$f":" SUM(HAP518:HAV518)","v":0},null,{"$f":" IF(HAP515 = 1, HAP516 * HAP517, 0)","v":0},0,0,0,0,0,0,null,null,null,null,"Profiled adjustment wage related totex - WWN - Real",null,"£m",{"$f":" SUM(HBF518:HBL518)","v":0},null,{"$f":" IF(HBF515 = 1, HBF516 * HBF517, 0)","v":0},0,0,0,0,0,0,null,null,null,null,"Profiled adjustment wage related totex - WWN - Real",null,"£m",{"$f":" SUM(HBV518:HCB518)","v":0},null,{"$f":" IF(HBV515 = 1, HBV516 * HBV517, 0)","v":0},0,0,0,0,0,0,null,null,null,null,"Profiled adjustment wage related totex - WWN - Real",null,"£m",{"$f":" SUM(HCL518:HCR518)","v":0},null,{"$f":" IF(HCL515 = 1, HCL516 * HCL517, 0)","v":0},0,0,0,0,0,0,null,null,null,null,"Profiled adjustment wage related totex - WWN - Real",null,"£m",{"$f":" SUM(HDB518:HDH518)","v":0},null,{"$f":" IF(HDB515 = 1, HDB516 * HDB517, 0)","v":0},0,0,0,0,0,0,null,null,null,null,"Profiled adjustment wage related totex - WWN - Real",null,"£m",{"$f":" SUM(HDR518:HDX518)","v":0},null,{"$f":" IF(HDR515 = 1, HDR516 * HDR517, 0)","v":0},0,0,0,0,0,0,null,null,null,null,"Profiled adjustment wage related totex - WWN - Real",null,"£m",{"$f":" SUM(HEH518:HEN518)","v":0},null,{"$f":" IF(HEH515 = 1, HEH516 * HEH517, 0)","v":0},0,0,0,0,0,0,null,null,null,null,"Profiled adjustment wage related totex - WWN - Real",null,"£m",{"$f":" SUM(HEX518:HFD518)","v":0},null,{"$f":" IF(HEX515 = 1, HEX516 * HEX517, 0)","v":0},0,0,0,0,0,0,null,null,null,null,"Profiled adjustment wage related totex - WWN - Real",null,"£m",{"$f":" SUM(HFN518:HFT518)","v":0},null,{"$f":" IF(HFN515 = 1, HFN516 * HFN517, 0)","v":0},0,0,0,0,0,0,null,null,null,null,"Profiled adjustment wage related totex - WWN - Real",null,"£m",{"$f":" SUM(HGD518:HGJ518)","v":0},null,{"$f":" IF(HGD515 = 1, HGD516 * HGD517, 0)","v":0},0,0,0,0,0,0,null,null,null,null,"Profiled adjustment wage related totex - WWN - Real",null,"£m",{"$f":" SUM(HGT518:HGZ518)","v":0},null,{"$f":" IF(HGT515 = 1, HGT516 * HGT517, 0)","v":0},0,0,0,0,0,0,null,null,null,null,"Profiled adjustment wage related totex - WWN - Real",null,"£m",{"$f":" SUM(HHJ518:HHP518)","v":0},null,{"$f":" IF(HHJ515 = 1, HHJ516 * HHJ517, 0)","v":0},0,0,0,0,0,0,null,null,null,null,"Profiled adjustment wage related totex - WWN - Real",null,"£m",{"$f":" SUM(HHZ518:HIF518)","v":0},null,{"$f":" IF(HHZ515 = 1, HHZ516 * HHZ517, 0)","v":0},0,0,0,0,0,0,null,null,null,null,"Profiled adjustment wage related totex - WWN - Real",null,"£m",{"$f":" SUM(HIP518:HIV518)","v":0},null,{"$f":" IF(HIP515 = 1, HIP516 * HIP517, 0)","v":0},0,0,0,0,0,0,null,null,null,null,"Profiled adjustment wage related totex - WWN - Real",null,"£m",{"$f":" SUM(HJF518:HJL518)","v":0},null,{"$f":" IF(HJF515 = 1, HJF516 * HJF517, 0)","v":0},0,0,0,0,0,0,null,null,null,null,"Profiled adjustment wage related totex - WWN - Real",null,"£m",{"$f":" SUM(HJV518:HKB518)","v":0},null,{"$f":" IF(HJV515 = 1, HJV516 * HJV517, 0)","v":0},0,0,0,0,0,0,null,null,null,null,"Profiled adjustment wage related totex - WWN - Real",null,"£m",{"$f":" SUM(HKL518:HKR518)","v":0},null,{"$f":" IF(HKL515 = 1, HKL516 * HKL517, 0)","v":0},0,0,0,0,0,0,null,null,null,null,"Profiled adjustment wage related totex - WWN - Real",null,"£m",{"$f":" SUM(HLB518:HLH518)","v":0},null,{"$f":" IF(HLB515 = 1, HLB516 * HLB517, 0)","v":0},0,0,0,0,0,0,null,null,null,null,"Profiled adjustment wage related totex - WWN - Real",null,"£m",{"$f":" SUM(HLR518:HLX518)","v":0},null,{"$f":" IF(HLR515 = 1, HLR516 * HLR517, 0)","v":0},0,0,0,0,0,0,null,null,null,null,"Profiled adjustment wage related totex - WWN - Real",null,"£m",{"$f":" SUM(HMH518:HMN518)","v":0},null,{"$f":" IF(HMH515 = 1, HMH516 * HMH517, 0)","v":0},0,0,0,0,0,0,null,null,null,null,"Profiled adjustment wage related totex - WWN - Real",null,"£m",{"$f":" SUM(HMX518:HND518)","v":0},null,{"$f":" IF(HMX515 = 1, HMX516 * HMX517, 0)","v":0},0,0,0,0,0,0,null,null,null,null,"Profiled adjustment wage related totex - WWN - Real",null,"£m",{"$f":" SUM(HNN518:HNT518)","v":0},null,{"$f":" IF(HNN515 = 1, HNN516 * HNN517, 0)","v":0},0,0,0,0,0,0,null,null,null,null,"Profiled adjustment wage related totex - WWN - Real",null,"£m",{"$f":" SUM(HOD518:HOJ518)","v":0},null,{"$f":" IF(HOD515 = 1, HOD516 * HOD517, 0)","v":0},0,0,0,0,0,0,null,null,null,null,"Profiled adjustment wage related totex - WWN - Real",null,"£m",{"$f":" SUM(HOT518:HOZ518)","v":0},null,{"$f":" IF(HOT515 = 1, HOT516 * HOT517, 0)","v":0},0,0,0,0,0,0,null,null,null,null,"Profiled adjustment wage related totex - WWN - Real",null,"£m",{"$f":" SUM(HPJ518:HPP518)","v":0},null,{"$f":" IF(HPJ515 = 1, HPJ516 * HPJ517, 0)","v":0},0,0,0,0,0,0,null,null,null,null,"Profiled adjustment wage related totex - WWN - Real",null,"£m",{"$f":" SUM(HPZ518:HQF518)","v":0},null,{"$f":" IF(HPZ515 = 1, HPZ516 * HPZ517, 0)","v":0},0,0,0,0,0,0,null,null,null,null,"Profiled adjustment wage related totex - WWN - Real",null,"£m",{"$f":" SUM(HQP518:HQV518)","v":0},null,{"$f":" IF(HQP515 = 1, HQP516 * HQP517, 0)","v":0},0,0,0,0,0,0,null,null,null,null,"Profiled adjustment wage related totex - WWN - Real",null,"£m",{"$f":" SUM(HRF518:HRL518)","v":0},null,{"$f":" IF(HRF515 = 1, HRF516 * HRF517, 0)","v":0},0,0,0,0,0,0,null,null,null,null,"Profiled adjustment wage related totex - WWN - Real",null,"£m",{"$f":" SUM(HRV518:HSB518)","v":0},null,{"$f":" IF(HRV515 = 1, HRV516 * HRV517, 0)","v":0},0,0,0,0,0,0,null,null,null,null,"Profiled adjustment wage related totex - WWN - Real",null,"£m",{"$f":" SUM(HSL518:HSR518)","v":0},null,{"$f":" IF(HSL515 = 1, HSL516 * HSL517, 0)","v":0},0,0,0,0,0,0,null,null,null,null,"Profiled adjustment wage related totex - WWN - Real",null,"£m",{"$f":" SUM(HTB518:HTH518)","v":0},null,{"$f":" IF(HTB515 = 1, HTB516 * HTB517, 0)","v":0},0,0,0,0,0,0,null,null,null,null,"Profiled adjustment wage related totex - WWN - Real",null,"£m",{"$f":" SUM(HTR518:HTX518)","v":0},null,{"$f":" IF(HTR515 = 1, HTR516 * HTR517, 0)","v":0},0,0,0,0,0,0,null,null,null,null,"Profiled adjustment wage related totex - WWN - Real",null,"£m",{"$f":" SUM(HUH518:HUN518)","v":0},null,{"$f":" IF(HUH515 = 1, HUH516 * HUH517, 0)","v":0},0,0,0,0,0,0,null,null,null,null,"Profiled adjustment wage related totex - WWN - Real",null,"£m",{"$f":" SUM(HUX518:HVD518)","v":0},null,{"$f":" IF(HUX515 = 1, HUX516 * HUX517, 0)","v":0},0,0,0,0,0,0,null,null,null,null,"Profiled adjustment wage related totex - WWN - Real",null,"£m",{"$f":" SUM(HVN518:HVT518)","v":0},null,{"$f":" IF(HVN515 = 1, HVN516 * HVN517, 0)","v":0},0,0,0,0,0,0,null,null,null,null,"Profiled adjustment wage related totex - WWN - Real",null,"£m",{"$f":" SUM(HWD518:HWJ518)","v":0},null,{"$f":" IF(HWD515 = 1, HWD516 * HWD517, 0)","v":0},0,0,0,0,0,0,null,null,null,null,"Profiled adjustment wage related totex - WWN - Real",null,"£m",{"$f":" SUM(HWT518:HWZ518)","v":0},null,{"$f":" IF(HWT515 = 1, HWT516 * HWT517, 0)","v":0},0,0,0,0,0,0,null,null,null,null,"Profiled adjustment wage related totex - WWN - Real",null,"£m",{"$f":" SUM(HXJ518:HXP518)","v":0},null,{"$f":" IF(HXJ515 = 1, HXJ516 * HXJ517, 0)","v":0},0,0,0,0,0,0,null,null,null,null,"Profiled adjustment wage related totex - WWN - Real",null,"£m",{"$f":" SUM(HXZ518:HYF518)","v":0},null,{"$f":" IF(HXZ515 = 1, HXZ516 * HXZ517, 0)","v":0},0,0,0,0,0,0,null,null,null,null,"Profiled adjustment wage related totex - WWN - Real",null,"£m",{"$f":" SUM(HYP518:HYV518)","v":0},null,{"$f":" IF(HYP515 = 1, HYP516 * HYP517, 0)","v":0},0,0,0,0,0,0,null,null,null,null,"Profiled adjustment wage related totex - WWN - Real",null,"£m",{"$f":" SUM(HZF518:HZL518)","v":0},null,{"$f":" IF(HZF515 = 1, HZF516 * HZF517, 0)","v":0},0,0,0,0,0,0,null,null,null,null,"Profiled adjustment wage related totex - WWN - Real",null,"£m",{"$f":" SUM(HZV518:IAB518)","v":0},null,{"$f":" IF(HZV515 = 1, HZV516 * HZV517, 0)","v":0},0,0,0,0,0,0,null,null,null,null,"Profiled adjustment wage related totex - WWN - Real",null,"£m",{"$f":" SUM(IAL518:IAR518)","v":0},null,{"$f":" IF(IAL515 = 1, IAL516 * IAL517, 0)","v":0},0,0,0,0,0,0,null,null,null,null,"Profiled adjustment wage related totex - WWN - Real",null,"£m",{"$f":" SUM(IBB518:IBH518)","v":0},null,{"$f":" IF(IBB515 = 1, IBB516 * IBB517, 0)","v":0},0,0,0,0,0,0,null,null,null,null,"Profiled adjustment wage related totex - WWN - Real",null,"£m",{"$f":" SUM(IBR518:IBX518)","v":0},null,{"$f":" IF(IBR515 = 1, IBR516 * IBR517, 0)","v":0},0,0,0,0,0,0,null,null,null,null,"Profiled adjustment wage related totex - WWN - Real",null,"£m",{"$f":" SUM(ICH518:ICN518)","v":0},null,{"$f":" IF(ICH515 = 1, ICH516 * ICH517, 0)","v":0},0,0,0,0,0,0,null,null,null,null,"Profiled adjustment wage related totex - WWN - Real",null,"£m",{"$f":" SUM(ICX518:IDD518)","v":0},null,{"$f":" IF(ICX515 = 1, ICX516 * ICX517, 0)","v":0},0,0,0,0,0,0,null,null,null,null,"Profiled adjustment wage related totex - WWN - Real",null,"£m",{"$f":" SUM(IDN518:IDT518)","v":0},null,{"$f":" IF(IDN515 = 1, IDN516 * IDN517, 0)","v":0},0,0,0,0,0,0,null,null,null,null,"Profiled adjustment wage related totex - WWN - Real",null,"£m",{"$f":" SUM(IED518:IEJ518)","v":0},null,{"$f":" IF(IED515 = 1, IED516 * IED517, 0)","v":0},0,0,0,0,0,0,null,null,null,null,"Profiled adjustment wage related totex - WWN - Real",null,"£m",{"$f":" SUM(IET518:IEZ518)","v":0},null,{"$f":" IF(IET515 = 1, IET516 * IET517, 0)","v":0},0,0,0,0,0,0,null,null,null,null,"Profiled adjustment wage related totex - WWN - Real",null,"£m",{"$f":" SUM(IFJ518:IFP518)","v":0},null,{"$f":" IF(IFJ515 = 1, IFJ516 * IFJ517, 0)","v":0},0,0,0,0,0,0,null,null,null,null,"Profiled adjustment wage related totex - WWN - Real",null,"£m",{"$f":" SUM(IFZ518:IGF518)","v":0},null,{"$f":" IF(IFZ515 = 1, IFZ516 * IFZ517, 0)","v":0},0,0,0,0,0,0,null,null,null,null,"Profiled adjustment wage related totex - WWN - Real",null,"£m",{"$f":" SUM(IGP518:IGV518)","v":0},null,{"$f":" IF(IGP515 = 1, IGP516 * IGP517, 0)","v":0},0,0,0,0,0,0,null,null,null,null,"Profiled adjustment wage related totex - WWN - Real",null,"£m",{"$f":" SUM(IHF518:IHL518)","v":0},null,{"$f":" IF(IHF515 = 1, IHF516 * IHF517, 0)","v":0},0,0,0,0,0,0,null,null,null,null,"Profiled adjustment wage related totex - WWN - Real",null,"£m",{"$f":" SUM(IHV518:IIB518)","v":0},null,{"$f":" IF(IHV515 = 1, IHV516 * IHV517, 0)","v":0},0,0,0,0,0,0,null,null,null,null,"Profiled adjustment wage related totex - WWN - Real",null,"£m",{"$f":" SUM(IIL518:IIR518)","v":0},null,{"$f":" IF(IIL515 = 1, IIL516 * IIL517, 0)","v":0},0,0,0,0,0,0,null,null,null,null,"Profiled adjustment wage related totex - WWN - Real",null,"£m",{"$f":" SUM(IJB518:IJH518)","v":0},null,{"$f":" IF(IJB515 = 1, IJB516 * IJB517, 0)","v":0},0,0,0,0,0,0,null,null,null,null,"Profiled adjustment wage related totex - WWN - Real",null,"£m",{"$f":" SUM(IJR518:IJX518)","v":0},null,{"$f":" IF(IJR515 = 1, IJR516 * IJR517, 0)","v":0},0,0,0,0,0,0,null,null,null,null,"Profiled adjustment wage related totex - WWN - Real",null,"£m",{"$f":" SUM(IKH518:IKN518)","v":0},null,{"$f":" IF(IKH515 = 1, IKH516 * IKH517, 0)","v":0},0,0,0,0,0,0,null,null,null,null,"Profiled adjustment wage related totex - WWN - Real",null,"£m",{"$f":" SUM(IKX518:ILD518)","v":0},null,{"$f":" IF(IKX515 = 1, IKX516 * IKX517, 0)","v":0},0,0,0,0,0,0,null,null,null,null,"Profiled adjustment wage related totex - WWN - Real",null,"£m",{"$f":" SUM(ILN518:ILT518)","v":0},null,{"$f":" IF(ILN515 = 1, ILN516 * ILN517, 0)","v":0},0,0,0,0,0,0,null,null,null,null,"Profiled adjustment wage related totex - WWN - Real",null,"£m",{"$f":" SUM(IMD518:IMJ518)","v":0},null,{"$f":" IF(IMD515 = 1, IMD516 * IMD517, 0)","v":0},0,0,0,0,0,0,null,null,null,null,"Profiled adjustment wage related totex - WWN - Real",null,"£m",{"$f":" SUM(IMT518:IMZ518)","v":0},null,{"$f":" IF(IMT515 = 1, IMT516 * IMT517, 0)","v":0},0,0,0,0,0,0,null,null,null,null,"Profiled adjustment wage related totex - WWN - Real",null,"£m",{"$f":" SUM(INJ518:INP518)","v":0},null,{"$f":" IF(INJ515 = 1, INJ516 * INJ517, 0)","v":0},0,0,0,0,0,0,null,null,null,null,"Profiled adjustment wage related totex - WWN - Real",null,"£m",{"$f":" SUM(INZ518:IOF518)","v":0},null,{"$f":" IF(INZ515 = 1, INZ516 * INZ517, 0)","v":0},0,0,0,0,0,0,null,null,null,null,"Profiled adjustment wage related totex - WWN - Real",null,"£m",{"$f":" SUM(IOP518:IOV518)","v":0},null,{"$f":" IF(IOP515 = 1, IOP516 * IOP517, 0)","v":0},0,0,0,0,0,0,null,null,null,null,"Profiled adjustment wage related totex - WWN - Real",null,"£m",{"$f":" SUM(IPF518:IPL518)","v":0},null,{"$f":" IF(IPF515 = 1, IPF516 * IPF517, 0)","v":0},0,0,0,0,0,0,null,null,null,null,"Profiled adjustment wage related totex - WWN - Real",null,"£m",{"$f":" SUM(IPV518:IQB518)","v":0},null,{"$f":" IF(IPV515 = 1, IPV516 * IPV517, 0)","v":0},0,0,0,0,0,0,null,null,null,null,"Profiled adjustment wage related totex - WWN - Real",null,"£m",{"$f":" SUM(IQL518:IQR518)","v":0},null,{"$f":" IF(IQL515 = 1, IQL516 * IQL517, 0)","v":0},0,0,0,0,0,0,null,null,null,null,"Profiled adjustment wage related totex - WWN - Real",null,"£m",{"$f":" SUM(IRB518:IRH518)","v":0},null,{"$f":" IF(IRB515 = 1, IRB516 * IRB517, 0)","v":0},0,0,0,0,0,0,null,null,null,null,"Profiled adjustment wage related totex - WWN - Real",null,"£m",{"$f":" SUM(IRR518:IRX518)","v":0},null,{"$f":" IF(IRR515 = 1, IRR516 * IRR517, 0)","v":0},0,0,0,0,0,0,null,null,null,null,"Profiled adjustment wage related totex - WWN - Real",null,"£m",{"$f":" SUM(ISH518:ISN518)","v":0},null,{"$f":" IF(ISH515 = 1, ISH516 * ISH517, 0)","v":0},0,0,0,0,0,0,null,null,null,null,"Profiled adjustment wage related totex - WWN - Real",null,"£m",{"$f":" SUM(ISX518:ITD518)","v":0},null,{"$f":" IF(ISX515 = 1, ISX516 * ISX517, 0)","v":0},0,0,0,0,0,0,null,null,null,null,"Profiled adjustment wage related totex - WWN - Real",null,"£m",{"$f":" SUM(ITN518:ITT518)","v":0},null,{"$f":" IF(ITN515 = 1, ITN516 * ITN517, 0)","v":0},0,0,0,0,0,0,null,null,null,null,"Profiled adjustment wage related totex - WWN - Real",null,"£m",{"$f":" SUM(IUD518:IUJ518)","v":0},null,{"$f":" IF(IUD515 = 1, IUD516 * IUD517, 0)","v":0},0,0,0,0,0,0,null,null,null,null,"Profiled adjustment wage related totex - WWN - Real",null,"£m",{"$f":" SUM(IUT518:IUZ518)","v":0},null,{"$f":" IF(IUT515 = 1, IUT516 * IUT517, 0)","v":0},0,0,0,0,0,0,null,null,null,null,"Profiled adjustment wage related totex - WWN - Real",null,"£m",{"$f":" SUM(IVJ518:IVP518)","v":0},null,{"$f":" IF(IVJ515 = 1, IVJ516 * IVJ517, 0)","v":0},0,0,0,0,0,0,null,null,null,null,"Profiled adjustment wage related totex - WWN - Real",null,"£m",{"$f":" SUM(IVZ518:IWF518)","v":0},null,{"$f":" IF(IVZ515 = 1, IVZ516 * IVZ517, 0)","v":0},0,0,0,0,0,0,null,null,null,null,"Profiled adjustment wage related totex - WWN - Real",null,"£m",{"$f":" SUM(IWP518:IWV518)","v":0},null,{"$f":" IF(IWP515 = 1, IWP516 * IWP517, 0)","v":0},0,0,0,0,0,0,null,null,null,null,"Profiled adjustment wage related totex - WWN - Real",null,"£m",{"$f":" SUM(IXF518:IXL518)","v":0},null,{"$f":" IF(IXF515 = 1, IXF516 * IXF517, 0)","v":0},0,0,0,0,0,0,null,null,null,null,"Profiled adjustment wage related totex - WWN - Real",null,"£m",{"$f":" SUM(IXV518:IYB518)","v":0},null,{"$f":" IF(IXV515 = 1, IXV516 * IXV517, 0)","v":0},0,0,0,0,0,0,null,null,null,null,"Profiled adjustment wage related totex - WWN - Real",null,"£m",{"$f":" SUM(IYL518:IYR518)","v":0},null,{"$f":" IF(IYL515 = 1, IYL516 * IYL517, 0)","v":0},0,0,0,0,0,0,null,null,null,null,"Profiled adjustment wage related totex - WWN - Real",null,"£m",{"$f":" SUM(IZB518:IZH518)","v":0},null,{"$f":" IF(IZB515 = 1, IZB516 * IZB517, 0)","v":0},0,0,0,0,0,0,null,null,null,null,"Profiled adjustment wage related totex - WWN - Real",null,"£m",{"$f":" SUM(IZR518:IZX518)","v":0},null,{"$f":" IF(IZR515 = 1, IZR516 * IZR517, 0)","v":0},0,0,0,0,0,0,null,null,null,null,"Profiled adjustment wage related totex - WWN - Real",null,"£m",{"$f":" SUM(JAH518:JAN518)","v":0},null,{"$f":" IF(JAH515 = 1, JAH516 * JAH517, 0)","v":0},0,0,0,0,0,0,null,null,null,null,"Profiled adjustment wage related totex - WWN - Real",null,"£m",{"$f":" SUM(JAX518:JBD518)","v":0},null,{"$f":" IF(JAX515 = 1, JAX516 * JAX517, 0)","v":0},0,0,0,0,0,0,null,null,null,null,"Profiled adjustment wage related totex - WWN - Real",null,"£m",{"$f":" SUM(JBN518:JBT518)","v":0},null,{"$f":" IF(JBN515 = 1, JBN516 * JBN517, 0)","v":0},0,0,0,0,0,0,null,null,null,null,"Profiled adjustment wage related totex - WWN - Real",null,"£m",{"$f":" SUM(JCD518:JCJ518)","v":0},null,{"$f":" IF(JCD515 = 1, JCD516 * JCD517, 0)","v":0},0,0,0,0,0,0,null,null,null,null,"Profiled adjustment wage related totex - WWN - Real",null,"£m",{"$f":" SUM(JCT518:JCZ518)","v":0},null,{"$f":" IF(JCT515 = 1, JCT516 * JCT517, 0)","v":0},0,0,0,0,0,0,null,null,null,null,"Profiled adjustment wage related totex - WWN - Real",null,"£m",{"$f":" SUM(JDJ518:JDP518)","v":0},null,{"$f":" IF(JDJ515 = 1, JDJ516 * JDJ517, 0)","v":0},0,0,0,0,0,0,null,null,null,null,"Profiled adjustment wage related totex - WWN - Real",null,"£m",{"$f":" SUM(JDZ518:JEF518)","v":0},null,{"$f":" IF(JDZ515 = 1, JDZ516 * JDZ517, 0)","v":0},0,0,0,0,0,0,null,null,null,null,"Profiled adjustment wage related totex - WWN - Real",null,"£m",{"$f":" SUM(JEP518:JEV518)","v":0},null,{"$f":" IF(JEP515 = 1, JEP516 * JEP517, 0)","v":0},0,0,0,0,0,0,null,null,null,null,"Profiled adjustment wage related totex - WWN - Real",null,"£m",{"$f":" SUM(JFF518:JFL518)","v":0},null,{"$f":" IF(JFF515 = 1, JFF516 * JFF517, 0)","v":0},0,0,0,0,0,0,null,null,null,null,"Profiled adjustment wage related totex - WWN - Real",null,"£m",{"$f":" SUM(JFV518:JGB518)","v":0},null,{"$f":" IF(JFV515 = 1, JFV516 * JFV517, 0)","v":0},0,0,0,0,0,0,null,null,null,null,"Profiled adjustment wage related totex - WWN - Real",null,"£m",{"$f":" SUM(JGL518:JGR518)","v":0},null,{"$f":" IF(JGL515 = 1, JGL516 * JGL517, 0)","v":0},0,0,0,0,0,0,null,null,null,null,"Profiled adjustment wage related totex - WWN - Real",null,"£m",{"$f":" SUM(JHB518:JHH518)","v":0},null,{"$f":" IF(JHB515 = 1, JHB516 * JHB517, 0)","v":0},0,0,0,0,0,0,null,null,null,null,"Profiled adjustment wage related totex - WWN - Real",null,"£m",{"$f":" SUM(JHR518:JHX518)","v":0},null,{"$f":" IF(JHR515 = 1, JHR516 * JHR517, 0)","v":0},0,0,0,0,0,0,null,null,null,null,"Profiled adjustment wage related totex - WWN - Real",null,"£m",{"$f":" SUM(JIH518:JIN518)","v":0},null,{"$f":" IF(JIH515 = 1, JIH516 * JIH517, 0)","v":0},0,0,0,0,0,0,null,null,null,null,"Profiled adjustment wage related totex - WWN - Real",null,"£m",{"$f":" SUM(JIX518:JJD518)","v":0},null,{"$f":" IF(JIX515 = 1, JIX516 * JIX517, 0)","v":0},0,0,0,0,0,0,null,null,null,null,"Profiled adjustment wage related totex - WWN - Real",null,"£m",{"$f":" SUM(JJN518:JJT518)","v":0},null,{"$f":" IF(JJN515 = 1, JJN516 * JJN517, 0)","v":0},0,0,0,0,0,0,null,null,null,null,"Profiled adjustment wage related totex - WWN - Real",null,"£m",{"$f":" SUM(JKD518:JKJ518)","v":0},null,{"$f":" IF(JKD515 = 1, JKD516 * JKD517, 0)","v":0},0,0,0,0,0,0,null,null,null,null,"Profiled adjustment wage related totex - WWN - Real",null,"£m",{"$f":" SUM(JKT518:JKZ518)","v":0},null,{"$f":" IF(JKT515 = 1, JKT516 * JKT517, 0)","v":0},0,0,0,0,0,0,null,null,null,null,"Profiled adjustment wage related totex - WWN - Real",null,"£m",{"$f":" SUM(JLJ518:JLP518)","v":0},null,{"$f":" IF(JLJ515 = 1, JLJ516 * JLJ517, 0)","v":0},0,0,0,0,0,0,null,null,null,null,"Profiled adjustment wage related totex - WWN - Real",null,"£m",{"$f":" SUM(JLZ518:JMF518)","v":0},null,{"$f":" IF(JLZ515 = 1, JLZ516 * JLZ517, 0)","v":0},0,0,0,0,0,0,null,null,null,null,"Profiled adjustment wage related totex - WWN - Real",null,"£m",{"$f":" SUM(JMP518:JMV518)","v":0},null,{"$f":" IF(JMP515 = 1, JMP516 * JMP517, 0)","v":0},0,0,0,0,0,0,null,null,null,null,"Profiled adjustment wage related totex - WWN - Real",null,"£m",{"$f":" SUM(JNF518:JNL518)","v":0},null,{"$f":" IF(JNF515 = 1, JNF516 * JNF517, 0)","v":0},0,0,0,0,0,0,null,null,null,null,"Profiled adjustment wage related totex - WWN - Real",null,"£m",{"$f":" SUM(JNV518:JOB518)","v":0},null,{"$f":" IF(JNV515 = 1, JNV516 * JNV517, 0)","v":0},0,0,0,0,0,0,null,null,null,null,"Profiled adjustment wage related totex - WWN - Real",null,"£m",{"$f":" SUM(JOL518:JOR518)","v":0},null,{"$f":" IF(JOL515 = 1, JOL516 * JOL517, 0)","v":0},0,0,0,0,0,0,null,null,null,null,"Profiled adjustment wage related totex - WWN - Real",null,"£m",{"$f":" SUM(JPB518:JPH518)","v":0},null,{"$f":" IF(JPB515 = 1, JPB516 * JPB517, 0)","v":0},0,0,0,0,0,0,null,null,null,null,"Profiled adjustment wage related totex - WWN - Real",null,"£m",{"$f":" SUM(JPR518:JPX518)","v":0},null,{"$f":" IF(JPR515 = 1, JPR516 * JPR517, 0)","v":0},0,0,0,0,0,0,null,null,null,null,"Profiled adjustment wage related totex - WWN - Real",null,"£m",{"$f":" SUM(JQH518:JQN518)","v":0},null,{"$f":" IF(JQH515 = 1, JQH516 * JQH517, 0)","v":0},0,0,0,0,0,0,null,null,null,null,"Profiled adjustment wage related totex - WWN - Real",null,"£m",{"$f":" SUM(JQX518:JRD518)","v":0},null,{"$f":" IF(JQX515 = 1, JQX516 * JQX517, 0)","v":0},0,0,0,0,0,0,null,null,null,null,"Profiled adjustment wage related totex - WWN - Real",null,"£m",{"$f":" SUM(JRN518:JRT518)","v":0},null,{"$f":" IF(JRN515 = 1, JRN516 * JRN517, 0)","v":0},0,0,0,0,0,0,null,null,null,null,"Profiled adjustment wage related totex - WWN - Real",null,"£m",{"$f":" SUM(JSD518:JSJ518)","v":0},null,{"$f":" IF(JSD515 = 1, JSD516 * JSD517, 0)","v":0},0,0,0,0,0,0,null,null,null,null,"Profiled adjustment wage related totex - WWN - Real",null,"£m",{"$f":" SUM(JST518:JSZ518)","v":0},null,{"$f":" IF(JST515 = 1, JST516 * JST517, 0)","v":0},0,0,0,0,0,0,null,null,null,null,"Profiled adjustment wage related totex - WWN - Real",null,"£m",{"$f":" SUM(JTJ518:JTP518)","v":0},null,{"$f":" IF(JTJ515 = 1, JTJ516 * JTJ517, 0)","v":0},0,0,0,0,0,0,null,null,null,null,"Profiled adjustment wage related totex - WWN - Real",null,"£m",{"$f":" SUM(JTZ518:JUF518)","v":0},null,{"$f":" IF(JTZ515 = 1, JTZ516 * JTZ517, 0)","v":0},0,0,0,0,0,0,null,null,null,null,"Profiled adjustment wage related totex - WWN - Real",null,"£m",{"$f":" SUM(JUP518:JUV518)","v":0},null,{"$f":" IF(JUP515 = 1, JUP516 * JUP517, 0)","v":0},0,0,0,0,0,0,null,null,null,null,"Profiled adjustment wage related totex - WWN - Real",null,"£m",{"$f":" SUM(JVF518:JVL518)","v":0},null,{"$f":" IF(JVF515 = 1, JVF516 * JVF517, 0)","v":0},0,0,0,0,0,0,null,null,null,null,"Profiled adjustment wage related totex - WWN - Real",null,"£m",{"$f":" SUM(JVV518:JWB518)","v":0},null,{"$f":" IF(JVV515 = 1, JVV516 * JVV517, 0)","v":0},0,0,0,0,0,0,null,null,null,null,"Profiled adjustment wage related totex - WWN - Real",null,"£m",{"$f":" SUM(JWL518:JWR518)","v":0},null,{"$f":" IF(JWL515 = 1, JWL516 * JWL517, 0)","v":0},0,0,0,0,0,0,null,null,null,null,"Profiled adjustment wage related totex - WWN - Real",null,"£m",{"$f":" SUM(JXB518:JXH518)","v":0},null,{"$f":" IF(JXB515 = 1, JXB516 * JXB517, 0)","v":0},0,0,0,0,0,0,null,null,null,null,"Profiled adjustment wage related totex - WWN - Real",null,"£m",{"$f":" SUM(JXR518:JXX518)","v":0},null,{"$f":" IF(JXR515 = 1, JXR516 * JXR517, 0)","v":0},0,0,0,0,0,0,null,null,null,null,"Profiled adjustment wage related totex - WWN - Real",null,"£m",{"$f":" SUM(JYH518:JYN518)","v":0},null,{"$f":" IF(JYH515 = 1, JYH516 * JYH517, 0)","v":0},0,0,0,0,0,0,null,null,null,null,"Profiled adjustment wage related totex - WWN - Real",null,"£m",{"$f":" SUM(JYX518:JZD518)","v":0},null,{"$f":" IF(JYX515 = 1, JYX516 * JYX517, 0)","v":0},0,0,0,0,0,0,null,null,null,null,"Profiled adjustment wage related totex - WWN - Real",null,"£m",{"$f":" SUM(JZN518:JZT518)","v":0},null,{"$f":" IF(JZN515 = 1, JZN516 * JZN517, 0)","v":0},0,0,0,0,0,0,null,null,null,null,"Profiled adjustment wage related totex - WWN - Real",null,"£m",{"$f":" SUM(KAD518:KAJ518)","v":0},null,{"$f":" IF(KAD515 = 1, KAD516 * KAD517, 0)","v":0},0,0,0,0,0,0,null,null,null,null,"Profiled adjustment wage related totex - WWN - Real",null,"£m",{"$f":" SUM(KAT518:KAZ518)","v":0},null,{"$f":" IF(KAT515 = 1, KAT516 * KAT517, 0)","v":0},0,0,0,0,0,0,null,null,null,null,"Profiled adjustment wage related totex - WWN - Real",null,"£m",{"$f":" SUM(KBJ518:KBP518)","v":0},null,{"$f":" IF(KBJ515 = 1, KBJ516 * KBJ517, 0)","v":0},0,0,0,0,0,0,null,null,null,null,"Profiled adjustment wage related totex - WWN - Real",null,"£m",{"$f":" SUM(KBZ518:KCF518)","v":0},null,{"$f":" IF(KBZ515 = 1, KBZ516 * KBZ517, 0)","v":0},0,0,0,0,0,0,null,null,null,null,"Profiled adjustment wage related totex - WWN - Real",null,"£m",{"$f":" SUM(KCP518:KCV518)","v":0},null,{"$f":" IF(KCP515 = 1, KCP516 * KCP517, 0)","v":0},0,0,0,0,0,0,null,null,null,null,"Profiled adjustment wage related totex - WWN - Real",null,"£m",{"$f":" SUM(KDF518:KDL518)","v":0},null,{"$f":" IF(KDF515 = 1, KDF516 * KDF517, 0)","v":0},0,0,0,0,0,0,null,null,null,null,"Profiled adjustment wage related totex - WWN - Real",null,"£m",{"$f":" SUM(KDV518:KEB518)","v":0},null,{"$f":" IF(KDV515 = 1, KDV516 * KDV517, 0)","v":0},0,0,0,0,0,0,null,null,null,null,"Profiled adjustment wage related totex - WWN - Real",null,"£m",{"$f":" SUM(KEL518:KER518)","v":0},null,{"$f":" IF(KEL515 = 1, KEL516 * KEL517, 0)","v":0},0,0,0,0,0,0,null,null,null,null,"Profiled adjustment wage related totex - WWN - Real",null,"£m",{"$f":" SUM(KFB518:KFH518)","v":0},null,{"$f":" IF(KFB515 = 1, KFB516 * KFB517, 0)","v":0},0,0,0,0,0,0,null,null,null,null,"Profiled adjustment wage related totex - WWN - Real",null,"£m",{"$f":" SUM(KFR518:KFX518)","v":0},null,{"$f":" IF(KFR515 = 1, KFR516 * KFR517, 0)","v":0},0,0,0,0,0,0,null,null,null,null,"Profiled adjustment wage related totex - WWN - Real",null,"£m",{"$f":" SUM(KGH518:KGN518)","v":0},null,{"$f":" IF(KGH515 = 1, KGH516 * KGH517, 0)","v":0},0,0,0,0,0,0,null,null,null,null,"Profiled adjustment wage related totex - WWN - Real",null,"£m",{"$f":" SUM(KGX518:KHD518)","v":0},null,{"$f":" IF(KGX515 = 1, KGX516 * KGX517, 0)","v":0},0,0,0,0,0,0,null,null,null,null,"Profiled adjustment wage related totex - WWN - Real",null,"£m",{"$f":" SUM(KHN518:KHT518)","v":0},null,{"$f":" IF(KHN515 = 1, KHN516 * KHN517, 0)","v":0},0,0,0,0,0,0,null,null,null,null,"Profiled adjustment wage related totex - WWN - Real",null,"£m",{"$f":" SUM(KID518:KIJ518)","v":0},null,{"$f":" IF(KID515 = 1, KID516 * KID517, 0)","v":0},0,0,0,0,0,0,null,null,null,null,"Profiled adjustment wage related totex - WWN - Real",null,"£m",{"$f":" SUM(KIT518:KIZ518)","v":0},null,{"$f":" IF(KIT515 = 1, KIT516 * KIT517, 0)","v":0},0,0,0,0,0,0,null,null,null,null,"Profiled adjustment wage related totex - WWN - Real",null,"£m",{"$f":" SUM(KJJ518:KJP518)","v":0},null,{"$f":" IF(KJJ515 = 1, KJJ516 * KJJ517, 0)","v":0},0,0,0,0,0,0,null,null,null,null,"Profiled adjustment wage related totex - WWN - Real",null,"£m",{"$f":" SUM(KJZ518:KKF518)","v":0},null,{"$f":" IF(KJZ515 = 1, KJZ516 * KJZ517, 0)","v":0},0,0,0,0,0,0,null,null,null,null,"Profiled adjustment wage related totex - WWN - Real",null,"£m",{"$f":" SUM(KKP518:KKV518)","v":0},null,{"$f":" IF(KKP515 = 1, KKP516 * KKP517, 0)","v":0},0,0,0,0,0,0,null,null,null,null,"Profiled adjustment wage related totex - WWN - Real",null,"£m",{"$f":" SUM(KLF518:KLL518)","v":0},null,{"$f":" IF(KLF515 = 1, KLF516 * KLF517, 0)","v":0},0,0,0,0,0,0,null,null,null,null,"Profiled adjustment wage related totex - WWN - Real",null,"£m",{"$f":" SUM(KLV518:KMB518)","v":0},null,{"$f":" IF(KLV515 = 1, KLV516 * KLV517, 0)","v":0},0,0,0,0,0,0,null,null,null,null,"Profiled adjustment wage related totex - WWN - Real",null,"£m",{"$f":" SUM(KML518:KMR518)","v":0},null,{"$f":" IF(KML515 = 1, KML516 * KML517, 0)","v":0},0,0,0,0,0,0,null,null,null,null,"Profiled adjustment wage related totex - WWN - Real",null,"£m",{"$f":" SUM(KNB518:KNH518)","v":0},null,{"$f":" IF(KNB515 = 1, KNB516 * KNB517, 0)","v":0},0,0,0,0,0,0,null,null,null,null,"Profiled adjustment wage related totex - WWN - Real",null,"£m",{"$f":" SUM(KNR518:KNX518)","v":0},null,{"$f":" IF(KNR515 = 1, KNR516 * KNR517, 0)","v":0},0,0,0,0,0,0,null,null,null,null,"Profiled adjustment wage related totex - WWN - Real",null,"£m",{"$f":" SUM(KOH518:KON518)","v":0},null,{"$f":" IF(KOH515 = 1, KOH516 * KOH517, 0)","v":0},0,0,0,0,0,0,null,null,null,null,"Profiled adjustment wage related totex - WWN - Real",null,"£m",{"$f":" SUM(KOX518:KPD518)","v":0},null,{"$f":" IF(KOX515 = 1, KOX516 * KOX517, 0)","v":0},0,0,0,0,0,0,null,null,null,null,"Profiled adjustment wage related totex - WWN - Real",null,"£m",{"$f":" SUM(KPN518:KPT518)","v":0},null,{"$f":" IF(KPN515 = 1, KPN516 * KPN517, 0)","v":0},0,0,0,0,0,0,null,null,null,null,"Profiled adjustment wage related totex - WWN - Real",null,"£m",{"$f":" SUM(KQD518:KQJ518)","v":0},null,{"$f":" IF(KQD515 = 1, KQD516 * KQD517, 0)","v":0},0,0,0,0,0,0,null,null,null,null,"Profiled adjustment wage related totex - WWN - Real",null,"£m",{"$f":" SUM(KQT518:KQZ518)","v":0},null,{"$f":" IF(KQT515 = 1, KQT516 * KQT517, 0)","v":0},0,0,0,0,0,0,null,null,null,null,"Profiled adjustment wage related totex - WWN - Real",null,"£m",{"$f":" SUM(KRJ518:KRP518)","v":0},null,{"$f":" IF(KRJ515 = 1, KRJ516 * KRJ517, 0)","v":0},0,0,0,0,0,0,null,null,null,null,"Profiled adjustment wage related totex - WWN - Real",null,"£m",{"$f":" SUM(KRZ518:KSF518)","v":0},null,{"$f":" IF(KRZ515 = 1, KRZ516 * KRZ517, 0)","v":0},0,0,0,0,0,0,null,null,null,null,"Profiled adjustment wage related totex - WWN - Real",null,"£m",{"$f":" SUM(KSP518:KSV518)","v":0},null,{"$f":" IF(KSP515 = 1, KSP516 * KSP517, 0)","v":0},0,0,0,0,0,0,null,null,null,null,"Profiled adjustment wage related totex - WWN - Real",null,"£m",{"$f":" SUM(KTF518:KTL518)","v":0},null,{"$f":" IF(KTF515 = 1, KTF516 * KTF517, 0)","v":0},0,0,0,0,0,0,null,null,null,null,"Profiled adjustment wage related totex - WWN - Real",null,"£m",{"$f":" SUM(KTV518:KUB518)","v":0},null,{"$f":" IF(KTV515 = 1, KTV516 * KTV517, 0)","v":0},0,0,0,0,0,0,null,null,null,null,"Profiled adjustment wage related totex - WWN - Real",null,"£m",{"$f":" SUM(KUL518:KUR518)","v":0},null,{"$f":" IF(KUL515 = 1, KUL516 * KUL517, 0)","v":0},0,0,0,0,0,0,null,null,null,null,"Profiled adjustment wage related totex - WWN - Real",null,"£m",{"$f":" SUM(KVB518:KVH518)","v":0},null,{"$f":" IF(KVB515 = 1, KVB516 * KVB517, 0)","v":0},0,0,0,0,0,0,null,null,null,null,"Profiled adjustment wage related totex - WWN - Real",null,"£m",{"$f":" SUM(KVR518:KVX518)","v":0},null,{"$f":" IF(KVR515 = 1, KVR516 * KVR517, 0)","v":0},0,0,0,0,0,0,null,null,null,null,"Profiled adjustment wage related totex - WWN - Real",null,"£m",{"$f":" SUM(KWH518:KWN518)","v":0},null,{"$f":" IF(KWH515 = 1, KWH516 * KWH517, 0)","v":0},0,0,0,0,0,0,null,null,null,null,"Profiled adjustment wage related totex - WWN - Real",null,"£m",{"$f":" SUM(KWX518:KXD518)","v":0},null,{"$f":" IF(KWX515 = 1, KWX516 * KWX517, 0)","v":0},0,0,0,0,0,0,null,null,null,null,"Profiled adjustment wage related totex - WWN - Real",null,"£m",{"$f":" SUM(KXN518:KXT518)","v":0},null,{"$f":" IF(KXN515 = 1, KXN516 * KXN517, 0)","v":0},0,0,0,0,0,0,null,null,null,null,"Profiled adjustment wage related totex - WWN - Real",null,"£m",{"$f":" SUM(KYD518:KYJ518)","v":0},null,{"$f":" IF(KYD515 = 1, KYD516 * KYD517, 0)","v":0},0,0,0,0,0,0,null,null,null,null,"Profiled adjustment wage related totex - WWN - Real",null,"£m",{"$f":" SUM(KYT518:KYZ518)","v":0},null,{"$f":" IF(KYT515 = 1, KYT516 * KYT517, 0)","v":0},0,0,0,0,0,0,null,null,null,null,"Profiled adjustment wage related totex - WWN - Real",null,"£m",{"$f":" SUM(KZJ518:KZP518)","v":0},null,{"$f":" IF(KZJ515 = 1, KZJ516 * KZJ517, 0)","v":0},0,0,0,0,0,0,null,null,null,null,"Profiled adjustment wage related totex - WWN - Real",null,"£m",{"$f":" SUM(KZZ518:LAF518)","v":0},null,{"$f":" IF(KZZ515 = 1, KZZ516 * KZZ517, 0)","v":0},0,0,0,0,0,0,null,null,null,null,"Profiled adjustment wage related totex - WWN - Real",null,"£m",{"$f":" SUM(LAP518:LAV518)","v":0},null,{"$f":" IF(LAP515 = 1, LAP516 * LAP517, 0)","v":0},0,0,0,0,0,0,null,null,null,null,"Profiled adjustment wage related totex - WWN - Real",null,"£m",{"$f":" SUM(LBF518:LBL518)","v":0},null,{"$f":" IF(LBF515 = 1, LBF516 * LBF517, 0)","v":0},0,0,0,0,0,0,null,null,null,null,"Profiled adjustment wage related totex - WWN - Real",null,"£m",{"$f":" SUM(LBV518:LCB518)","v":0},null,{"$f":" IF(LBV515 = 1, LBV516 * LBV517, 0)","v":0},0,0,0,0,0,0,null,null,null,null,"Profiled adjustment wage related totex - WWN - Real",null,"£m",{"$f":" SUM(LCL518:LCR518)","v":0},null,{"$f":" IF(LCL515 = 1, LCL516 * LCL517, 0)","v":0},0,0,0,0,0,0,null,null,null,null,"Profiled adjustment wage related totex - WWN - Real",null,"£m",{"$f":" SUM(LDB518:LDH518)","v":0},null,{"$f":" IF(LDB515 = 1, LDB516 * LDB517, 0)","v":0},0,0,0,0,0,0,null,null,null,null,"Profiled adjustment wage related totex - WWN - Real",null,"£m",{"$f":" SUM(LDR518:LDX518)","v":0},null,{"$f":" IF(LDR515 = 1, LDR516 * LDR517, 0)","v":0},0,0,0,0,0,0,null,null,null,null,"Profiled adjustment wage related totex - WWN - Real",null,"£m",{"$f":" SUM(LEH518:LEN518)","v":0},null,{"$f":" IF(LEH515 = 1, LEH516 * LEH517, 0)","v":0},0,0,0,0,0,0,null,null,null,null,"Profiled adjustment wage related totex - WWN - Real",null,"£m",{"$f":" SUM(LEX518:LFD518)","v":0},null,{"$f":" IF(LEX515 = 1, LEX516 * LEX517, 0)","v":0},0,0,0,0,0,0,null,null,null,null,"Profiled adjustment wage related totex - WWN - Real",null,"£m",{"$f":" SUM(LFN518:LFT518)","v":0},null,{"$f":" IF(LFN515 = 1, LFN516 * LFN517, 0)","v":0},0,0,0,0,0,0,null,null,null,null,"Profiled adjustment wage related totex - WWN - Real",null,"£m",{"$f":" SUM(LGD518:LGJ518)","v":0},null,{"$f":" IF(LGD515 = 1, LGD516 * LGD517, 0)","v":0},0,0,0,0,0,0,null,null,null,null,"Profiled adjustment wage related totex - WWN - Real",null,"£m",{"$f":" SUM(LGT518:LGZ518)","v":0},null,{"$f":" IF(LGT515 = 1, LGT516 * LGT517, 0)","v":0},0,0,0,0,0,0,null,null,null,null,"Profiled adjustment wage related totex - WWN - Real",null,"£m",{"$f":" SUM(LHJ518:LHP518)","v":0},null,{"$f":" IF(LHJ515 = 1, LHJ516 * LHJ517, 0)","v":0},0,0,0,0,0,0,null,null,null,null,"Profiled adjustment wage related totex - WWN - Real",null,"£m",{"$f":" SUM(LHZ518:LIF518)","v":0},null,{"$f":" IF(LHZ515 = 1, LHZ516 * LHZ517, 0)","v":0},0,0,0,0,0,0,null,null,null,null,"Profiled adjustment wage related totex - WWN - Real",null,"£m",{"$f":" SUM(LIP518:LIV518)","v":0},null,{"$f":" IF(LIP515 = 1, LIP516 * LIP517, 0)","v":0},0,0,0,0,0,0,null,null,null,null,"Profiled adjustment wage related totex - WWN - Real",null,"£m",{"$f":" SUM(LJF518:LJL518)","v":0},null,{"$f":" IF(LJF515 = 1, LJF516 * LJF517, 0)","v":0},0,0,0,0,0,0,null,null,null,null,"Profiled adjustment wage related totex - WWN - Real",null,"£m",{"$f":" SUM(LJV518:LKB518)","v":0},null,{"$f":" IF(LJV515 = 1, LJV516 * LJV517, 0)","v":0},0,0,0,0,0,0,null,null,null,null,"Profiled adjustment wage related totex - WWN - Real",null,"£m",{"$f":" SUM(LKL518:LKR518)","v":0},null,{"$f":" IF(LKL515 = 1, LKL516 * LKL517, 0)","v":0},0,0,0,0,0,0,null,null,null,null,"Profiled adjustment wage related totex - WWN - Real",null,"£m",{"$f":" SUM(LLB518:LLH518)","v":0},null,{"$f":" IF(LLB515 = 1, LLB516 * LLB517, 0)","v":0},0,0,0,0,0,0,null,null,null,null,"Profiled adjustment wage related totex - WWN - Real",null,"£m",{"$f":" SUM(LLR518:LLX518)","v":0},null,{"$f":" IF(LLR515 = 1, LLR516 * LLR517, 0)","v":0},0,0,0,0,0,0,null,null,null,null,"Profiled adjustment wage related totex - WWN - Real",null,"£m",{"$f":" SUM(LMH518:LMN518)","v":0},null,{"$f":" IF(LMH515 = 1, LMH516 * LMH517, 0)","v":0},0,0,0,0,0,0,null,null,null,null,"Profiled adjustment wage related totex - WWN - Real",null,"£m",{"$f":" SUM(LMX518:LND518)","v":0},null,{"$f":" IF(LMX515 = 1, LMX516 * LMX517, 0)","v":0},0,0,0,0,0,0,null,null,null,null,"Profiled adjustment wage related totex - WWN - Real",null,"£m",{"$f":" SUM(LNN518:LNT518)","v":0},null,{"$f":" IF(LNN515 = 1, LNN516 * LNN517, 0)","v":0},0,0,0,0,0,0,null,null,null,null,"Profiled adjustment wage related totex - WWN - Real",null,"£m",{"$f":" SUM(LOD518:LOJ518)","v":0},null,{"$f":" IF(LOD515 = 1, LOD516 * LOD517, 0)","v":0},0,0,0,0,0,0,null,null,null,null,"Profiled adjustment wage related totex - WWN - Real",null,"£m",{"$f":" SUM(LOT518:LOZ518)","v":0},null,{"$f":" IF(LOT515 = 1, LOT516 * LOT517, 0)","v":0},0,0,0,0,0,0,null,null,null,null,"Profiled adjustment wage related totex - WWN - Real",null,"£m",{"$f":" SUM(LPJ518:LPP518)","v":0},null,{"$f":" IF(LPJ515 = 1, LPJ516 * LPJ517, 0)","v":0},0,0,0,0,0,0,null,null,null,null,"Profiled adjustment wage related totex - WWN - Real",null,"£m",{"$f":" SUM(LPZ518:LQF518)","v":0},null,{"$f":" IF(LPZ515 = 1, LPZ516 * LPZ517, 0)","v":0},0,0,0,0,0,0,null,null,null,null,"Profiled adjustment wage related totex - WWN - Real",null,"£m",{"$f":" SUM(LQP518:LQV518)","v":0},null,{"$f":" IF(LQP515 = 1, LQP516 * LQP517, 0)","v":0},0,0,0,0,0,0,null,null,null,null,"Profiled adjustment wage related totex - WWN - Real",null,"£m",{"$f":" SUM(LRF518:LRL518)","v":0},null,{"$f":" IF(LRF515 = 1, LRF516 * LRF517, 0)","v":0},0,0,0,0,0,0,null,null,null,null,"Profiled adjustment wage related totex - WWN - Real",null,"£m",{"$f":" SUM(LRV518:LSB518)","v":0},null,{"$f":" IF(LRV515 = 1, LRV516 * LRV517, 0)","v":0},0,0,0,0,0,0,null,null,null,null,"Profiled adjustment wage related totex - WWN - Real",null,"£m",{"$f":" SUM(LSL518:LSR518)","v":0},null,{"$f":" IF(LSL515 = 1, LSL516 * LSL517, 0)","v":0},0,0,0,0,0,0,null,null,null,null,"Profiled adjustment wage related totex - WWN - Real",null,"£m",{"$f":" SUM(LTB518:LTH518)","v":0},null,{"$f":" IF(LTB515 = 1, LTB516 * LTB517, 0)","v":0},0,0,0,0,0,0,null,null,null,null,"Profiled adjustment wage related totex - WWN - Real",null,"£m",{"$f":" SUM(LTR518:LTX518)","v":0},null,{"$f":" IF(LTR515 = 1, LTR516 * LTR517, 0)","v":0},0,0,0,0,0,0,null,null,null,null,"Profiled adjustment wage related totex - WWN - Real",null,"£m",{"$f":" SUM(LUH518:LUN518)","v":0},null,{"$f":" IF(LUH515 = 1, LUH516 * LUH517, 0)","v":0},0,0,0,0,0,0,null,null,null,null,"Profiled adjustment wage related totex - WWN - Real",null,"£m",{"$f":" SUM(LUX518:LVD518)","v":0},null,{"$f":" IF(LUX515 = 1, LUX516 * LUX517, 0)","v":0},0,0,0,0,0,0,null,null,null,null,"Profiled adjustment wage related totex - WWN - Real",null,"£m",{"$f":" SUM(LVN518:LVT518)","v":0},null,{"$f":" IF(LVN515 = 1, LVN516 * LVN517, 0)","v":0},0,0,0,0,0,0,null,null,null,null,"Profiled adjustment wage related totex - WWN - Real",null,"£m",{"$f":" SUM(LWD518:LWJ518)","v":0},null,{"$f":" IF(LWD515 = 1, LWD516 * LWD517, 0)","v":0},0,0,0,0,0,0,null,null,null,null,"Profiled adjustment wage related totex - WWN - Real",null,"£m",{"$f":" SUM(LWT518:LWZ518)","v":0},null,{"$f":" IF(LWT515 = 1, LWT516 * LWT517, 0)","v":0},0,0,0,0,0,0,null,null,null,null,"Profiled adjustment wage related totex - WWN - Real",null,"£m",{"$f":" SUM(LXJ518:LXP518)","v":0},null,{"$f":" IF(LXJ515 = 1, LXJ516 * LXJ517, 0)","v":0},0,0,0,0,0,0,null,null,null,null,"Profiled adjustment wage related totex - WWN - Real",null,"£m",{"$f":" SUM(LXZ518:LYF518)","v":0},null,{"$f":" IF(LXZ515 = 1, LXZ516 * LXZ517, 0)","v":0},0,0,0,0,0,0,null,null,null,null,"Profiled adjustment wage related totex - WWN - Real",null,"£m",{"$f":" SUM(LYP518:LYV518)","v":0},null,{"$f":" IF(LYP515 = 1, LYP516 * LYP517, 0)","v":0},0,0,0,0,0,0,null,null,null,null,"Profiled adjustment wage related totex - WWN - Real",null,"£m",{"$f":" SUM(LZF518:LZL518)","v":0},null,{"$f":" IF(LZF515 = 1, LZF516 * LZF517, 0)","v":0},0,0,0,0,0,0,null,null,null,null,"Profiled adjustment wage related totex - WWN - Real",null,"£m",{"$f":" SUM(LZV518:MAB518)","v":0},null,{"$f":" IF(LZV515 = 1, LZV516 * LZV517, 0)","v":0},0,0,0,0,0,0,null,null,null,null,"Profiled adjustment wage related totex - WWN - Real",null,"£m",{"$f":" SUM(MAL518:MAR518)","v":0},null,{"$f":" IF(MAL515 = 1, MAL516 * MAL517, 0)","v":0},0,0,0,0,0,0,null,null,null,null,"Profiled adjustment wage related totex - WWN - Real",null,"£m",{"$f":" SUM(MBB518:MBH518)","v":0},null,{"$f":" IF(MBB515 = 1, MBB516 * MBB517, 0)","v":0},0,0,0,0,0,0,null,null,null,null,"Profiled adjustment wage related totex - WWN - Real",null,"£m",{"$f":" SUM(MBR518:MBX518)","v":0},null,{"$f":" IF(MBR515 = 1, MBR516 * MBR517, 0)","v":0},0,0,0,0,0,0,null,null,null,null,"Profiled adjustment wage related totex - WWN - Real",null,"£m",{"$f":" SUM(MCH518:MCN518)","v":0},null,{"$f":" IF(MCH515 = 1, MCH516 * MCH517, 0)","v":0},0,0,0,0,0,0,null,null,null,null,"Profiled adjustment wage related totex - WWN - Real",null,"£m",{"$f":" SUM(MCX518:MDD518)","v":0},null,{"$f":" IF(MCX515 = 1, MCX516 * MCX517, 0)","v":0},0,0,0,0,0,0,null,null,null,null,"Profiled adjustment wage related totex - WWN - Real",null,"£m",{"$f":" SUM(MDN518:MDT518)","v":0},null,{"$f":" IF(MDN515 = 1, MDN516 * MDN517, 0)","v":0},0,0,0,0,0,0,null,null,null,null,"Profiled adjustment wage related totex - WWN - Real",null,"£m",{"$f":" SUM(MED518:MEJ518)","v":0},null,{"$f":" IF(MED515 = 1, MED516 * MED517, 0)","v":0},0,0,0,0,0,0,null,null,null,null,"Profiled adjustment wage related totex - WWN - Real",null,"£m",{"$f":" SUM(MET518:MEZ518)","v":0},null,{"$f":" IF(MET515 = 1, MET516 * MET517, 0)","v":0},0,0,0,0,0,0,null,null,null,null,"Profiled adjustment wage related totex - WWN - Real",null,"£m",{"$f":" SUM(MFJ518:MFP518)","v":0},null,{"$f":" IF(MFJ515 = 1, MFJ516 * MFJ517, 0)","v":0},0,0,0,0,0,0,null,null,null,null,"Profiled adjustment wage related totex - WWN - Real",null,"£m",{"$f":" SUM(MFZ518:MGF518)","v":0},null,{"$f":" IF(MFZ515 = 1, MFZ516 * MFZ517, 0)","v":0},0,0,0,0,0,0,null,null,null,null,"Profiled adjustment wage related totex - WWN - Real",null,"£m",{"$f":" SUM(MGP518:MGV518)","v":0},null,{"$f":" IF(MGP515 = 1, MGP516 * MGP517, 0)","v":0},0,0,0,0,0,0,null,null,null,null,"Profiled adjustment wage related totex - WWN - Real",null,"£m",{"$f":" SUM(MHF518:MHL518)","v":0},null,{"$f":" IF(MHF515 = 1, MHF516 * MHF517, 0)","v":0},0,0,0,0,0,0,null,null,null,null,"Profiled adjustment wage related totex - WWN - Real",null,"£m",{"$f":" SUM(MHV518:MIB518)","v":0},null,{"$f":" IF(MHV515 = 1, MHV516 * MHV517, 0)","v":0},0,0,0,0,0,0,null,null,null,null,"Profiled adjustment wage related totex - WWN - Real",null,"£m",{"$f":" SUM(MIL518:MIR518)","v":0},null,{"$f":" IF(MIL515 = 1, MIL516 * MIL517, 0)","v":0},0,0,0,0,0,0,null,null,null,null,"Profiled adjustment wage related totex - WWN - Real",null,"£m",{"$f":" SUM(MJB518:MJH518)","v":0},null,{"$f":" IF(MJB515 = 1, MJB516 * MJB517, 0)","v":0},0,0,0,0,0,0,null,null,null,null,"Profiled adjustment wage related totex - WWN - Real",null,"£m",{"$f":" SUM(MJR518:MJX518)","v":0},null,{"$f":" IF(MJR515 = 1, MJR516 * MJR517, 0)","v":0},0,0,0,0,0,0,null,null,null,null,"Profiled adjustment wage related totex - WWN - Real",null,"£m",{"$f":" SUM(MKH518:MKN518)","v":0},null,{"$f":" IF(MKH515 = 1, MKH516 * MKH517, 0)","v":0},0,0,0,0,0,0,null,null,null,null,"Profiled adjustment wage related totex - WWN - Real",null,"£m",{"$f":" SUM(MKX518:MLD518)","v":0},null,{"$f":" IF(MKX515 = 1, MKX516 * MKX517, 0)","v":0},0,0,0,0,0,0,null,null,null,null,"Profiled adjustment wage related totex - WWN - Real",null,"£m",{"$f":" SUM(MLN518:MLT518)","v":0},null,{"$f":" IF(MLN515 = 1, MLN516 * MLN517, 0)","v":0},0,0,0,0,0,0,null,null,null,null,"Profiled adjustment wage related totex - WWN - Real",null,"£m",{"$f":" SUM(MMD518:MMJ518)","v":0},null,{"$f":" IF(MMD515 = 1, MMD516 * MMD517, 0)","v":0},0,0,0,0,0,0,null,null,null,null,"Profiled adjustment wage related totex - WWN - Real",null,"£m",{"$f":" SUM(MMT518:MMZ518)","v":0},null,{"$f":" IF(MMT515 = 1, MMT516 * MMT517, 0)","v":0},0,0,0,0,0,0,null,null,null,null,"Profiled adjustment wage related totex - WWN - Real",null,"£m",{"$f":" SUM(MNJ518:MNP518)","v":0},null,{"$f":" IF(MNJ515 = 1, MNJ516 * MNJ517, 0)","v":0},0,0,0,0,0,0,null,null,null,null,"Profiled adjustment wage related totex - WWN - Real",null,"£m",{"$f":" SUM(MNZ518:MOF518)","v":0},null,{"$f":" IF(MNZ515 = 1, MNZ516 * MNZ517, 0)","v":0},0,0,0,0,0,0,null,null,null,null,"Profiled adjustment wage related totex - WWN - Real",null,"£m",{"$f":" SUM(MOP518:MOV518)","v":0},null,{"$f":" IF(MOP515 = 1, MOP516 * MOP517, 0)","v":0},0,0,0,0,0,0,null,null,null,null,"Profiled adjustment wage related totex - WWN - Real",null,"£m",{"$f":" SUM(MPF518:MPL518)","v":0},null,{"$f":" IF(MPF515 = 1, MPF516 * MPF517, 0)","v":0},0,0,0,0,0,0,null,null,null,null,"Profiled adjustment wage related totex - WWN - Real",null,"£m",{"$f":" SUM(MPV518:MQB518)","v":0},null,{"$f":" IF(MPV515 = 1, MPV516 * MPV517, 0)","v":0},0,0,0,0,0,0,null,null,null,null,"Profiled adjustment wage related totex - WWN - Real",null,"£m",{"$f":" SUM(MQL518:MQR518)","v":0},null,{"$f":" IF(MQL515 = 1, MQL516 * MQL517, 0)","v":0},0,0,0,0,0,0,null,null,null,null,"Profiled adjustment wage related totex - WWN - Real",null,"£m",{"$f":" SUM(MRB518:MRH518)","v":0},null,{"$f":" IF(MRB515 = 1, MRB516 * MRB517, 0)","v":0},0,0,0,0,0,0,null,null,null,null,"Profiled adjustment wage related totex - WWN - Real",null,"£m",{"$f":" SUM(MRR518:MRX518)","v":0},null,{"$f":" IF(MRR515 = 1, MRR516 * MRR517, 0)","v":0},0,0,0,0,0,0,null,null,null,null,"Profiled adjustment wage related totex - WWN - Real",null,"£m",{"$f":" SUM(MSH518:MSN518)","v":0},null,{"$f":" IF(MSH515 = 1, MSH516 * MSH517, 0)","v":0},0,0,0,0,0,0,null,null,null,null,"Profiled adjustment wage related totex - WWN - Real",null,"£m",{"$f":" SUM(MSX518:MTD518)","v":0},null,{"$f":" IF(MSX515 = 1, MSX516 * MSX517, 0)","v":0},0,0,0,0,0,0,null,null,null,null,"Profiled adjustment wage related totex - WWN - Real",null,"£m",{"$f":" SUM(MTN518:MTT518)","v":0},null,{"$f":" IF(MTN515 = 1, MTN516 * MTN517, 0)","v":0},0,0,0,0,0,0,null,null,null,null,"Profiled adjustment wage related totex - WWN - Real",null,"£m",{"$f":" SUM(MUD518:MUJ518)","v":0},null,{"$f":" IF(MUD515 = 1, MUD516 * MUD517, 0)","v":0},0,0,0,0,0,0,null,null,null,null,"Profiled adjustment wage related totex - WWN - Real",null,"£m",{"$f":" SUM(MUT518:MUZ518)","v":0},null,{"$f":" IF(MUT515 = 1, MUT516 * MUT517, 0)","v":0},0,0,0,0,0,0,null,null,null,null,"Profiled adjustment wage related totex - WWN - Real",null,"£m",{"$f":" SUM(MVJ518:MVP518)","v":0},null,{"$f":" IF(MVJ515 = 1, MVJ516 * MVJ517, 0)","v":0},0,0,0,0,0,0,null,null,null,null,"Profiled adjustment wage related totex - WWN - Real",null,"£m",{"$f":" SUM(MVZ518:MWF518)","v":0},null,{"$f":" IF(MVZ515 = 1, MVZ516 * MVZ517, 0)","v":0},0,0,0,0,0,0,null,null,null,null,"Profiled adjustment wage related totex - WWN - Real",null,"£m",{"$f":" SUM(MWP518:MWV518)","v":0},null,{"$f":" IF(MWP515 = 1, MWP516 * MWP517, 0)","v":0},0,0,0,0,0,0,null,null,null,null,"Profiled adjustment wage related totex - WWN - Real",null,"£m",{"$f":" SUM(MXF518:MXL518)","v":0},null,{"$f":" IF(MXF515 = 1, MXF516 * MXF517, 0)","v":0},0,0,0,0,0,0,null,null,null,null,"Profiled adjustment wage related totex - WWN - Real",null,"£m",{"$f":" SUM(MXV518:MYB518)","v":0},null,{"$f":" IF(MXV515 = 1, MXV516 * MXV517, 0)","v":0},0,0,0,0,0,0,null,null,null,null,"Profiled adjustment wage related totex - WWN - Real",null,"£m",{"$f":" SUM(MYL518:MYR518)","v":0},null,{"$f":" IF(MYL515 = 1, MYL516 * MYL517, 0)","v":0},0,0,0,0,0,0,null,null,null,null,"Profiled adjustment wage related totex - WWN - Real",null,"£m",{"$f":" SUM(MZB518:MZH518)","v":0},null,{"$f":" IF(MZB515 = 1, MZB516 * MZB517, 0)","v":0},0,0,0,0,0,0,null,null,null,null,"Profiled adjustment wage related totex - WWN - Real",null,"£m",{"$f":" SUM(MZR518:MZX518)","v":0},null,{"$f":" IF(MZR515 = 1, MZR516 * MZR517, 0)","v":0},0,0,0,0,0,0,null,null,null,null,"Profiled adjustment wage related totex - WWN - Real",null,"£m",{"$f":" SUM(NAH518:NAN518)","v":0},null,{"$f":" IF(NAH515 = 1, NAH516 * NAH517, 0)","v":0},0,0,0,0,0,0,null,null,null,null,"Profiled adjustment wage related totex - WWN - Real",null,"£m",{"$f":" SUM(NAX518:NBD518)","v":0},null,{"$f":" IF(NAX515 = 1, NAX516 * NAX517, 0)","v":0},0,0,0,0,0,0,null,null,null,null,"Profiled adjustment wage related totex - WWN - Real",null,"£m",{"$f":" SUM(NBN518:NBT518)","v":0},null,{"$f":" IF(NBN515 = 1, NBN516 * NBN517, 0)","v":0},0,0,0,0,0,0,null,null,null,null,"Profiled adjustment wage related totex - WWN - Real",null,"£m",{"$f":" SUM(NCD518:NCJ518)","v":0},null,{"$f":" IF(NCD515 = 1, NCD516 * NCD517, 0)","v":0},0,0,0,0,0,0,null,null,null,null,"Profiled adjustment wage related totex - WWN - Real",null,"£m",{"$f":" SUM(NCT518:NCZ518)","v":0},null,{"$f":" IF(NCT515 = 1, NCT516 * NCT517, 0)","v":0},0,0,0,0,0,0,null,null,null,null,"Profiled adjustment wage related totex - WWN - Real",null,"£m",{"$f":" SUM(NDJ518:NDP518)","v":0},null,{"$f":" IF(NDJ515 = 1, NDJ516 * NDJ517, 0)","v":0},0,0,0,0,0,0,null,null,null,null,"Profiled adjustment wage related totex - WWN - Real",null,"£m",{"$f":" SUM(NDZ518:NEF518)","v":0},null,{"$f":" IF(NDZ515 = 1, NDZ516 * NDZ517, 0)","v":0},0,0,0,0,0,0,null,null,null,null,"Profiled adjustment wage related totex - WWN - Real",null,"£m",{"$f":" SUM(NEP518:NEV518)","v":0},null,{"$f":" IF(NEP515 = 1, NEP516 * NEP517, 0)","v":0},0,0,0,0,0,0,null,null,null,null,"Profiled adjustment wage related totex - WWN - Real",null,"£m",{"$f":" SUM(NFF518:NFL518)","v":0},null,{"$f":" IF(NFF515 = 1, NFF516 * NFF517, 0)","v":0},0,0,0,0,0,0,null,null,null,null,"Profiled adjustment wage related totex - WWN - Real",null,"£m",{"$f":" SUM(NFV518:NGB518)","v":0},null,{"$f":" IF(NFV515 = 1, NFV516 * NFV517, 0)","v":0},0,0,0,0,0,0,null,null,null,null,"Profiled adjustment wage related totex - WWN - Real",null,"£m",{"$f":" SUM(NGL518:NGR518)","v":0},null,{"$f":" IF(NGL515 = 1, NGL516 * NGL517, 0)","v":0},0,0,0,0,0,0,null,null,null,null,"Profiled adjustment wage related totex - WWN - Real",null,"£m",{"$f":" SUM(NHB518:NHH518)","v":0},null,{"$f":" IF(NHB515 = 1, NHB516 * NHB517, 0)","v":0},0,0,0,0,0,0,null,null,null,null,"Profiled adjustment wage related totex - WWN - Real",null,"£m",{"$f":" SUM(NHR518:NHX518)","v":0},null,{"$f":" IF(NHR515 = 1, NHR516 * NHR517, 0)","v":0},0,0,0,0,0,0,null,null,null,null,"Profiled adjustment wage related totex - WWN - Real",null,"£m",{"$f":" SUM(NIH518:NIN518)","v":0},null,{"$f":" IF(NIH515 = 1, NIH516 * NIH517, 0)","v":0},0,0,0,0,0,0,null,null,null,null,"Profiled adjustment wage related totex - WWN - Real",null,"£m",{"$f":" SUM(NIX518:NJD518)","v":0},null,{"$f":" IF(NIX515 = 1, NIX516 * NIX517, 0)","v":0},0,0,0,0,0,0,null,null,null,null,"Profiled adjustment wage related totex - WWN - Real",null,"£m",{"$f":" SUM(NJN518:NJT518)","v":0},null,{"$f":" IF(NJN515 = 1, NJN516 * NJN517, 0)","v":0},0,0,0,0,0,0,null,null,null,null,"Profiled adjustment wage related totex - WWN - Real",null,"£m",{"$f":" SUM(NKD518:NKJ518)","v":0},null,{"$f":" IF(NKD515 = 1, NKD516 * NKD517, 0)","v":0},0,0,0,0,0,0,null,null,null,null,"Profiled adjustment wage related totex - WWN - Real",null,"£m",{"$f":" SUM(NKT518:NKZ518)","v":0},null,{"$f":" IF(NKT515 = 1, NKT516 * NKT517, 0)","v":0},0,0,0,0,0,0,null,null,null,null,"Profiled adjustment wage related totex - WWN - Real",null,"£m",{"$f":" SUM(NLJ518:NLP518)","v":0},null,{"$f":" IF(NLJ515 = 1, NLJ516 * NLJ517, 0)","v":0},0,0,0,0,0,0,null,null,null,null,"Profiled adjustment wage related totex - WWN - Real",null,"£m",{"$f":" SUM(NLZ518:NMF518)","v":0},null,{"$f":" IF(NLZ515 = 1, NLZ516 * NLZ517, 0)","v":0},0,0,0,0,0,0,null,null,null,null,"Profiled adjustment wage related totex - WWN - Real",null,"£m",{"$f":" SUM(NMP518:NMV518)","v":0},null,{"$f":" IF(NMP515 = 1, NMP516 * NMP517, 0)","v":0},0,0,0,0,0,0,null,null,null,null,"Profiled adjustment wage related totex - WWN - Real",null,"£m",{"$f":" SUM(NNF518:NNL518)","v":0},null,{"$f":" IF(NNF515 = 1, NNF516 * NNF517, 0)","v":0},0,0,0,0,0,0,null,null,null,null,"Profiled adjustment wage related totex - WWN - Real",null,"£m",{"$f":" SUM(NNV518:NOB518)","v":0},null,{"$f":" IF(NNV515 = 1, NNV516 * NNV517, 0)","v":0},0,0,0,0,0,0,null,null,null,null,"Profiled adjustment wage related totex - WWN - Real",null,"£m",{"$f":" SUM(NOL518:NOR518)","v":0},null,{"$f":" IF(NOL515 = 1, NOL516 * NOL517, 0)","v":0},0,0,0,0,0,0,null,null,null,null,"Profiled adjustment wage related totex - WWN - Real",null,"£m",{"$f":" SUM(NPB518:NPH518)","v":0},null,{"$f":" IF(NPB515 = 1, NPB516 * NPB517, 0)","v":0},0,0,0,0,0,0,null,null,null,null,"Profiled adjustment wage related totex - WWN - Real",null,"£m",{"$f":" SUM(NPR518:NPX518)","v":0},null,{"$f":" IF(NPR515 = 1, NPR516 * NPR517, 0)","v":0},0,0,0,0,0,0,null,null,null,null,"Profiled adjustment wage related totex - WWN - Real",null,"£m",{"$f":" SUM(NQH518:NQN518)","v":0},null,{"$f":" IF(NQH515 = 1, NQH516 * NQH517, 0)","v":0},0,0,0,0,0,0,null,null,null,null,"Profiled adjustment wage related totex - WWN - Real",null,"£m",{"$f":" SUM(NQX518:NRD518)","v":0},null,{"$f":" IF(NQX515 = 1, NQX516 * NQX517, 0)","v":0},0,0,0,0,0,0,null,null,null,null,"Profiled adjustment wage related totex - WWN - Real",null,"£m",{"$f":" SUM(NRN518:NRT518)","v":0},null,{"$f":" IF(NRN515 = 1, NRN516 * NRN517, 0)","v":0},0,0,0,0,0,0,null,null,null,null,"Profiled adjustment wage related totex - WWN - Real",null,"£m",{"$f":" SUM(NSD518:NSJ518)","v":0},null,{"$f":" IF(NSD515 = 1, NSD516 * NSD517, 0)","v":0},0,0,0,0,0,0,null,null,null,null,"Profiled adjustment wage related totex - WWN - Real",null,"£m",{"$f":" SUM(NST518:NSZ518)","v":0},null,{"$f":" IF(NST515 = 1, NST516 * NST517, 0)","v":0},0,0,0,0,0,0,null,null,null,null,"Profiled adjustment wage related totex - WWN - Real",null,"£m",{"$f":" SUM(NTJ518:NTP518)","v":0},null,{"$f":" IF(NTJ515 = 1, NTJ516 * NTJ517, 0)","v":0},0,0,0,0,0,0,null,null,null,null,"Profiled adjustment wage related totex - WWN - Real",null,"£m",{"$f":" SUM(NTZ518:NUF518)","v":0},null,{"$f":" IF(NTZ515 = 1, NTZ516 * NTZ517, 0)","v":0},0,0,0,0,0,0,null,null,null,null,"Profiled adjustment wage related totex - WWN - Real",null,"£m",{"$f":" SUM(NUP518:NUV518)","v":0},null,{"$f":" IF(NUP515 = 1, NUP516 * NUP517, 0)","v":0},0,0,0,0,0,0,null,null,null,null,"Profiled adjustment wage related totex - WWN - Real",null,"£m",{"$f":" SUM(NVF518:NVL518)","v":0},null,{"$f":" IF(NVF515 = 1, NVF516 * NVF517, 0)","v":0},0,0,0,0,0,0,null,null,null,null,"Profiled adjustment wage related totex - WWN - Real",null,"£m",{"$f":" SUM(NVV518:NWB518)","v":0},null,{"$f":" IF(NVV515 = 1, NVV516 * NVV517, 0)","v":0},0,0,0,0,0,0,null,null,null,null,"Profiled adjustment wage related totex - WWN - Real",null,"£m",{"$f":" SUM(NWL518:NWR518)","v":0},null,{"$f":" IF(NWL515 = 1, NWL516 * NWL517, 0)","v":0},0,0,0,0,0,0,null,null,null,null,"Profiled adjustment wage related totex - WWN - Real",null,"£m",{"$f":" SUM(NXB518:NXH518)","v":0},null,{"$f":" IF(NXB515 = 1, NXB516 * NXB517, 0)","v":0},0,0,0,0,0,0,null,null,null,null,"Profiled adjustment wage related totex - WWN - Real",null,"£m",{"$f":" SUM(NXR518:NXX518)","v":0},null,{"$f":" IF(NXR515 = 1, NXR516 * NXR517, 0)","v":0},0,0,0,0,0,0,null,null,null,null,"Profiled adjustment wage related totex - WWN - Real",null,"£m",{"$f":" SUM(NYH518:NYN518)","v":0},null,{"$f":" IF(NYH515 = 1, NYH516 * NYH517, 0)","v":0},0,0,0,0,0,0,null,null,null,null,"Profiled adjustment wage related totex - WWN - Real",null,"£m",{"$f":" SUM(NYX518:NZD518)","v":0},null,{"$f":" IF(NYX515 = 1, NYX516 * NYX517, 0)","v":0},0,0,0,0,0,0,null,null,null,null,"Profiled adjustment wage related totex - WWN - Real",null,"£m",{"$f":" SUM(NZN518:NZT518)","v":0},null,{"$f":" IF(NZN515 = 1, NZN516 * NZN517, 0)","v":0},0,0,0,0,0,0,null,null,null,null,"Profiled adjustment wage related totex - WWN - Real",null,"£m",{"$f":" SUM(OAD518:OAJ518)","v":0},null,{"$f":" IF(OAD515 = 1, OAD516 * OAD517, 0)","v":0},0,0,0,0,0,0,null,null,null,null,"Profiled adjustment wage related totex - WWN - Real",null,"£m",{"$f":" SUM(OAT518:OAZ518)","v":0},null,{"$f":" IF(OAT515 = 1, OAT516 * OAT517, 0)","v":0},0,0,0,0,0,0,null,null,null,null,"Profiled adjustment wage related totex - WWN - Real",null,"£m",{"$f":" SUM(OBJ518:OBP518)","v":0},null,{"$f":" IF(OBJ515 = 1, OBJ516 * OBJ517, 0)","v":0},0,0,0,0,0,0,null,null,null,null,"Profiled adjustment wage related totex - WWN - Real",null,"£m",{"$f":" SUM(OBZ518:OCF518)","v":0},null,{"$f":" IF(OBZ515 = 1, OBZ516 * OBZ517, 0)","v":0},0,0,0,0,0,0,null,null,null,null,"Profiled adjustment wage related totex - WWN - Real",null,"£m",{"$f":" SUM(OCP518:OCV518)","v":0},null,{"$f":" IF(OCP515 = 1, OCP516 * OCP517, 0)","v":0},0,0,0,0,0,0,null,null,null,null,"Profiled adjustment wage related totex - WWN - Real",null,"£m",{"$f":" SUM(ODF518:ODL518)","v":0},null,{"$f":" IF(ODF515 = 1, ODF516 * ODF517, 0)","v":0},0,0,0,0,0,0,null,null,null,null,"Profiled adjustment wage related totex - WWN - Real",null,"£m",{"$f":" SUM(ODV518:OEB518)","v":0},null,{"$f":" IF(ODV515 = 1, ODV516 * ODV517, 0)","v":0},0,0,0,0,0,0,null,null,null,null,"Profiled adjustment wage related totex - WWN - Real",null,"£m",{"$f":" SUM(OEL518:OER518)","v":0},null,{"$f":" IF(OEL515 = 1, OEL516 * OEL517, 0)","v":0},0,0,0,0,0,0,null,null,null,null,"Profiled adjustment wage related totex - WWN - Real",null,"£m",{"$f":" SUM(OFB518:OFH518)","v":0},null,{"$f":" IF(OFB515 = 1, OFB516 * OFB517, 0)","v":0},0,0,0,0,0,0,null,null,null,null,"Profiled adjustment wage related totex - WWN - Real",null,"£m",{"$f":" SUM(OFR518:OFX518)","v":0},null,{"$f":" IF(OFR515 = 1, OFR516 * OFR517, 0)","v":0},0,0,0,0,0,0,null,null,null,null,"Profiled adjustment wage related totex - WWN - Real",null,"£m",{"$f":" SUM(OGH518:OGN518)","v":0},null,{"$f":" IF(OGH515 = 1, OGH516 * OGH517, 0)","v":0},0,0,0,0,0,0,null,null,null,null,"Profiled adjustment wage related totex - WWN - Real",null,"£m",{"$f":" SUM(OGX518:OHD518)","v":0},null,{"$f":" IF(OGX515 = 1, OGX516 * OGX517, 0)","v":0},0,0,0,0,0,0,null,null,null,null,"Profiled adjustment wage related totex - WWN - Real",null,"£m",{"$f":" SUM(OHN518:OHT518)","v":0},null,{"$f":" IF(OHN515 = 1, OHN516 * OHN517, 0)","v":0},0,0,0,0,0,0,null,null,null,null,"Profiled adjustment wage related totex - WWN - Real",null,"£m",{"$f":" SUM(OID518:OIJ518)","v":0},null,{"$f":" IF(OID515 = 1, OID516 * OID517, 0)","v":0},0,0,0,0,0,0,null,null,null,null,"Profiled adjustment wage related totex - WWN - Real",null,"£m",{"$f":" SUM(OIT518:OIZ518)","v":0},null,{"$f":" IF(OIT515 = 1, OIT516 * OIT517, 0)","v":0},0,0,0,0,0,0,null,null,null,null,"Profiled adjustment wage related totex - WWN - Real",null,"£m",{"$f":" SUM(OJJ518:OJP518)","v":0},null,{"$f":" IF(OJJ515 = 1, OJJ516 * OJJ517, 0)","v":0},0,0,0,0,0,0,null,null,null,null,"Profiled adjustment wage related totex - WWN - Real",null,"£m",{"$f":" SUM(OJZ518:OKF518)","v":0},null,{"$f":" IF(OJZ515 = 1, OJZ516 * OJZ517, 0)","v":0},0,0,0,0,0,0,null,null,null,null,"Profiled adjustment wage related totex - WWN - Real",null,"£m",{"$f":" SUM(OKP518:OKV518)","v":0},null,{"$f":" IF(OKP515 = 1, OKP516 * OKP517, 0)","v":0},0,0,0,0,0,0,null,null,null,null,"Profiled adjustment wage related totex - WWN - Real",null,"£m",{"$f":" SUM(OLF518:OLL518)","v":0},null,{"$f":" IF(OLF515 = 1, OLF516 * OLF517, 0)","v":0},0,0,0,0,0,0,null,null,null,null,"Profiled adjustment wage related totex - WWN - Real",null,"£m",{"$f":" SUM(OLV518:OMB518)","v":0},null,{"$f":" IF(OLV515 = 1, OLV516 * OLV517, 0)","v":0},0,0,0,0,0,0,null,null,null,null,"Profiled adjustment wage related totex - WWN - Real",null,"£m",{"$f":" SUM(OML518:OMR518)","v":0},null,{"$f":" IF(OML515 = 1, OML516 * OML517, 0)","v":0},0,0,0,0,0,0,null,null,null,null,"Profiled adjustment wage related totex - WWN - Real",null,"£m",{"$f":" SUM(ONB518:ONH518)","v":0},null,{"$f":" IF(ONB515 = 1, ONB516 * ONB517, 0)","v":0},0,0,0,0,0,0,null,null,null,null,"Profiled adjustment wage related totex - WWN - Real",null,"£m",{"$f":" SUM(ONR518:ONX518)","v":0},null,{"$f":" IF(ONR515 = 1, ONR516 * ONR517, 0)","v":0},0,0,0,0,0,0,null,null,null,null,"Profiled adjustment wage related totex - WWN - Real",null,"£m",{"$f":" SUM(OOH518:OON518)","v":0},null,{"$f":" IF(OOH515 = 1, OOH516 * OOH517, 0)","v":0},0,0,0,0,0,0,null,null,null,null,"Profiled adjustment wage related totex - WWN - Real",null,"£m",{"$f":" SUM(OOX518:OPD518)","v":0},null,{"$f":" IF(OOX515 = 1, OOX516 * OOX517, 0)","v":0},0,0,0,0,0,0,null,null,null,null,"Profiled adjustment wage related totex - WWN - Real",null,"£m",{"$f":" SUM(OPN518:OPT518)","v":0},null,{"$f":" IF(OPN515 = 1, OPN516 * OPN517, 0)","v":0},0,0,0,0,0,0,null,null,null,null,"Profiled adjustment wage related totex - WWN - Real",null,"£m",{"$f":" SUM(OQD518:OQJ518)","v":0},null,{"$f":" IF(OQD515 = 1, OQD516 * OQD517, 0)","v":0},0,0,0,0,0,0,null,null,null,null,"Profiled adjustment wage related totex - WWN - Real",null,"£m",{"$f":" SUM(OQT518:OQZ518)","v":0},null,{"$f":" IF(OQT515 = 1, OQT516 * OQT517, 0)","v":0},0,0,0,0,0,0,null,null,null,null,"Profiled adjustment wage related totex - WWN - Real",null,"£m",{"$f":" SUM(ORJ518:ORP518)","v":0},null,{"$f":" IF(ORJ515 = 1, ORJ516 * ORJ517, 0)","v":0},0,0,0,0,0,0,null,null,null,null,"Profiled adjustment wage related totex - WWN - Real",null,"£m",{"$f":" SUM(ORZ518:OSF518)","v":0},null,{"$f":" IF(ORZ515 = 1, ORZ516 * ORZ517, 0)","v":0},0,0,0,0,0,0,null,null,null,null,"Profiled adjustment wage related totex - WWN - Real",null,"£m",{"$f":" SUM(OSP518:OSV518)","v":0},null,{"$f":" IF(OSP515 = 1, OSP516 * OSP517, 0)","v":0},0,0,0,0,0,0,null,null,null,null,"Profiled adjustment wage related totex - WWN - Real",null,"£m",{"$f":" SUM(OTF518:OTL518)","v":0},null,{"$f":" IF(OTF515 = 1, OTF516 * OTF517, 0)","v":0},0,0,0,0,0,0,null,null,null,null,"Profiled adjustment wage related totex - WWN - Real",null,"£m",{"$f":" SUM(OTV518:OUB518)","v":0},null,{"$f":" IF(OTV515 = 1, OTV516 * OTV517, 0)","v":0},0,0,0,0,0,0,null,null,null,null,"Profiled adjustment wage related totex - WWN - Real",null,"£m",{"$f":" SUM(OUL518:OUR518)","v":0},null,{"$f":" IF(OUL515 = 1, OUL516 * OUL517, 0)","v":0},0,0,0,0,0,0,null,null,null,null,"Profiled adjustment wage related totex - WWN - Real",null,"£m",{"$f":" SUM(OVB518:OVH518)","v":0},null,{"$f":" IF(OVB515 = 1, OVB516 * OVB517, 0)","v":0},0,0,0,0,0,0,null,null,null,null,"Profiled adjustment wage related totex - WWN - Real",null,"£m",{"$f":" SUM(OVR518:OVX518)","v":0},null,{"$f":" IF(OVR515 = 1, OVR516 * OVR517, 0)","v":0},0,0,0,0,0,0,null,null,null,null,"Profiled adjustment wage related totex - WWN - Real",null,"£m",{"$f":" SUM(OWH518:OWN518)","v":0},null,{"$f":" IF(OWH515 = 1, OWH516 * OWH517, 0)","v":0},0,0,0,0,0,0,null,null,null,null,"Profiled adjustment wage related totex - WWN - Real",null,"£m",{"$f":" SUM(OWX518:OXD518)","v":0},null,{"$f":" IF(OWX515 = 1, OWX516 * OWX517, 0)","v":0},0,0,0,0,0,0,null,null,null,null,"Profiled adjustment wage related totex - WWN - Real",null,"£m",{"$f":" SUM(OXN518:OXT518)","v":0},null,{"$f":" IF(OXN515 = 1, OXN516 * OXN517, 0)","v":0},0,0,0,0,0,0,null,null,null,null,"Profiled adjustment wage related totex - WWN - Real",null,"£m",{"$f":" SUM(OYD518:OYJ518)","v":0},null,{"$f":" IF(OYD515 = 1, OYD516 * OYD517, 0)","v":0},0,0,0,0,0,0,null,null,null,null,"Profiled adjustment wage related totex - WWN - Real",null,"£m",{"$f":" SUM(OYT518:OYZ518)","v":0},null,{"$f":" IF(OYT515 = 1, OYT516 * OYT517, 0)","v":0},0,0,0,0,0,0,null,null,null,null,"Profiled adjustment wage related totex - WWN - Real",null,"£m",{"$f":" SUM(OZJ518:OZP518)","v":0},null,{"$f":" IF(OZJ515 = 1, OZJ516 * OZJ517, 0)","v":0},0,0,0,0,0,0,null,null,null,null,"Profiled adjustment wage related totex - WWN - Real",null,"£m",{"$f":" SUM(OZZ518:PAF518)","v":0},null,{"$f":" IF(OZZ515 = 1, OZZ516 * OZZ517, 0)","v":0},0,0,0,0,0,0,null,null,null,null,"Profiled adjustment wage related totex - WWN - Real",null,"£m",{"$f":" SUM(PAP518:PAV518)","v":0},null,{"$f":" IF(PAP515 = 1, PAP516 * PAP517, 0)","v":0},0,0,0,0,0,0,null,null,null,null,"Profiled adjustment wage related totex - WWN - Real",null,"£m",{"$f":" SUM(PBF518:PBL518)","v":0},null,{"$f":" IF(PBF515 = 1, PBF516 * PBF517, 0)","v":0},0,0,0,0,0,0,null,null,null,null,"Profiled adjustment wage related totex - WWN - Real",null,"£m",{"$f":" SUM(PBV518:PCB518)","v":0},null,{"$f":" IF(PBV515 = 1, PBV516 * PBV517, 0)","v":0},0,0,0,0,0,0,null,null,null,null,"Profiled adjustment wage related totex - WWN - Real",null,"£m",{"$f":" SUM(PCL518:PCR518)","v":0},null,{"$f":" IF(PCL515 = 1, PCL516 * PCL517, 0)","v":0},0,0,0,0,0,0,null,null,null,null,"Profiled adjustment wage related totex - WWN - Real",null,"£m",{"$f":" SUM(PDB518:PDH518)","v":0},null,{"$f":" IF(PDB515 = 1, PDB516 * PDB517, 0)","v":0},0,0,0,0,0,0,null,null,null,null,"Profiled adjustment wage related totex - WWN - Real",null,"£m",{"$f":" SUM(PDR518:PDX518)","v":0},null,{"$f":" IF(PDR515 = 1, PDR516 * PDR517, 0)","v":0},0,0,0,0,0,0,null,null,null,null,"Profiled adjustment wage related totex - WWN - Real",null,"£m",{"$f":" SUM(PEH518:PEN518)","v":0},null,{"$f":" IF(PEH515 = 1, PEH516 * PEH517, 0)","v":0},0,0,0,0,0,0,null,null,null,null,"Profiled adjustment wage related totex - WWN - Real",null,"£m",{"$f":" SUM(PEX518:PFD518)","v":0},null,{"$f":" IF(PEX515 = 1, PEX516 * PEX517, 0)","v":0},0,0,0,0,0,0,null,null,null,null,"Profiled adjustment wage related totex - WWN - Real",null,"£m",{"$f":" SUM(PFN518:PFT518)","v":0},null,{"$f":" IF(PFN515 = 1, PFN516 * PFN517, 0)","v":0},0,0,0,0,0,0,null,null,null,null,"Profiled adjustment wage related totex - WWN - Real",null,"£m",{"$f":" SUM(PGD518:PGJ518)","v":0},null,{"$f":" IF(PGD515 = 1, PGD516 * PGD517, 0)","v":0},0,0,0,0,0,0,null,null,null,null,"Profiled adjustment wage related totex - WWN - Real",null,"£m",{"$f":" SUM(PGT518:PGZ518)","v":0},null,{"$f":" IF(PGT515 = 1, PGT516 * PGT517, 0)","v":0},0,0,0,0,0,0,null,null,null,null,"Profiled adjustment wage related totex - WWN - Real",null,"£m",{"$f":" SUM(PHJ518:PHP518)","v":0},null,{"$f":" IF(PHJ515 = 1, PHJ516 * PHJ517, 0)","v":0},0,0,0,0,0,0,null,null,null,null,"Profiled adjustment wage related totex - WWN - Real",null,"£m",{"$f":" SUM(PHZ518:PIF518)","v":0},null,{"$f":" IF(PHZ515 = 1, PHZ516 * PHZ517, 0)","v":0},0,0,0,0,0,0,null,null,null,null,"Profiled adjustment wage related totex - WWN - Real",null,"£m",{"$f":" SUM(PIP518:PIV518)","v":0},null,{"$f":" IF(PIP515 = 1, PIP516 * PIP517, 0)","v":0},0,0,0,0,0,0,null,null,null,null,"Profiled adjustment wage related totex - WWN - Real",null,"£m",{"$f":" SUM(PJF518:PJL518)","v":0},null,{"$f":" IF(PJF515 = 1, PJF516 * PJF517, 0)","v":0},0,0,0,0,0,0,null,null,null,null,"Profiled adjustment wage related totex - WWN - Real",null,"£m",{"$f":" SUM(PJV518:PKB518)","v":0},null,{"$f":" IF(PJV515 = 1, PJV516 * PJV517, 0)","v":0},0,0,0,0,0,0,null,null,null,null,"Profiled adjustment wage related totex - WWN - Real",null,"£m",{"$f":" SUM(PKL518:PKR518)","v":0},null,{"$f":" IF(PKL515 = 1, PKL516 * PKL517, 0)","v":0},0,0,0,0,0,0,null,null,null,null,"Profiled adjustment wage related totex - WWN - Real",null,"£m",{"$f":" SUM(PLB518:PLH518)","v":0},null,{"$f":" IF(PLB515 = 1, PLB516 * PLB517, 0)","v":0},0,0,0,0,0,0,null,null,null,null,"Profiled adjustment wage related totex - WWN - Real",null,"£m",{"$f":" SUM(PLR518:PLX518)","v":0},null,{"$f":" IF(PLR515 = 1, PLR516 * PLR517, 0)","v":0},0,0,0,0,0,0,null,null,null,null,"Profiled adjustment wage related totex - WWN - Real",null,"£m",{"$f":" SUM(PMH518:PMN518)","v":0},null,{"$f":" IF(PMH515 = 1, PMH516 * PMH517, 0)","v":0},0,0,0,0,0,0,null,null,null,null,"Profiled adjustment wage related totex - WWN - Real",null,"£m",{"$f":" SUM(PMX518:PND518)","v":0},null,{"$f":" IF(PMX515 = 1, PMX516 * PMX517, 0)","v":0},0,0,0,0,0,0,null,null,null,null,"Profiled adjustment wage related totex - WWN - Real",null,"£m",{"$f":" SUM(PNN518:PNT518)","v":0},null,{"$f":" IF(PNN515 = 1, PNN516 * PNN517, 0)","v":0},0,0,0,0,0,0,null,null,null,null,"Profiled adjustment wage related totex - WWN - Real",null,"£m",{"$f":" SUM(POD518:POJ518)","v":0},null,{"$f":" IF(POD515 = 1, POD516 * POD517, 0)","v":0},0,0,0,0,0,0,null,null,null,null,"Profiled adjustment wage related totex - WWN - Real",null,"£m",{"$f":" SUM(POT518:POZ518)","v":0},null,{"$f":" IF(POT515 = 1, POT516 * POT517, 0)","v":0},0,0,0,0,0,0,null,null,null,null,"Profiled adjustment wage related totex - WWN - Real",null,"£m",{"$f":" SUM(PPJ518:PPP518)","v":0},null,{"$f":" IF(PPJ515 = 1, PPJ516 * PPJ517, 0)","v":0},0,0,0,0,0,0,null,null,null,null,"Profiled adjustment wage related totex - WWN - Real",null,"£m",{"$f":" SUM(PPZ518:PQF518)","v":0},null,{"$f":" IF(PPZ515 = 1, PPZ516 * PPZ517, 0)","v":0},0,0,0,0,0,0,null,null,null,null,"Profiled adjustment wage related totex - WWN - Real",null,"£m",{"$f":" SUM(PQP518:PQV518)","v":0},null,{"$f":" IF(PQP515 = 1, PQP516 * PQP517, 0)","v":0},0,0,0,0,0,0,null,null,null,null,"Profiled adjustment wage related totex - WWN - Real",null,"£m",{"$f":" SUM(PRF518:PRL518)","v":0},null,{"$f":" IF(PRF515 = 1, PRF516 * PRF517, 0)","v":0},0,0,0,0,0,0,null,null,null,null,"Profiled adjustment wage related totex - WWN - Real",null,"£m",{"$f":" SUM(PRV518:PSB518)","v":0},null,{"$f":" IF(PRV515 = 1, PRV516 * PRV517, 0)","v":0},0,0,0,0,0,0,null,null,null,null,"Profiled adjustment wage related totex - WWN - Real",null,"£m",{"$f":" SUM(PSL518:PSR518)","v":0},null,{"$f":" IF(PSL515 = 1, PSL516 * PSL517, 0)","v":0},0,0,0,0,0,0,null,null,null,null,"Profiled adjustment wage related totex - WWN - Real",null,"£m",{"$f":" SUM(PTB518:PTH518)","v":0},null,{"$f":" IF(PTB515 = 1, PTB516 * PTB517, 0)","v":0},0,0,0,0,0,0,null,null,null,null,"Profiled adjustment wage related totex - WWN - Real",null,"£m",{"$f":" SUM(PTR518:PTX518)","v":0},null,{"$f":" IF(PTR515 = 1, PTR516 * PTR517, 0)","v":0},0,0,0,0,0,0,null,null,null,null,"Profiled adjustment wage related totex - WWN - Real",null,"£m",{"$f":" SUM(PUH518:PUN518)","v":0},null,{"$f":" IF(PUH515 = 1, PUH516 * PUH517, 0)","v":0},0,0,0,0,0,0,null,null,null,null,"Profiled adjustment wage related totex - WWN - Real",null,"£m",{"$f":" SUM(PUX518:PVD518)","v":0},null,{"$f":" IF(PUX515 = 1, PUX516 * PUX517, 0)","v":0},0,0,0,0,0,0,null,null,null,null,"Profiled adjustment wage related totex - WWN - Real",null,"£m",{"$f":" SUM(PVN518:PVT518)","v":0},null,{"$f":" IF(PVN515 = 1, PVN516 * PVN517, 0)","v":0},0,0,0,0,0,0,null,null,null,null,"Profiled adjustment wage related totex - WWN - Real",null,"£m",{"$f":" SUM(PWD518:PWJ518)","v":0},null,{"$f":" IF(PWD515 = 1, PWD516 * PWD517, 0)","v":0},0,0,0,0,0,0,null,null,null,null,"Profiled adjustment wage related totex - WWN - Real",null,"£m",{"$f":" SUM(PWT518:PWZ518)","v":0},null,{"$f":" IF(PWT515 = 1, PWT516 * PWT517, 0)","v":0},0,0,0,0,0,0,null,null,null,null,"Profiled adjustment wage related totex - WWN - Real",null,"£m",{"$f":" SUM(PXJ518:PXP518)","v":0},null,{"$f":" IF(PXJ515 = 1, PXJ516 * PXJ517, 0)","v":0},0,0,0,0,0,0,null,null,null,null,"Profiled adjustment wage related totex - WWN - Real",null,"£m",{"$f":" SUM(PXZ518:PYF518)","v":0},null,{"$f":" IF(PXZ515 = 1, PXZ516 * PXZ517, 0)","v":0},0,0,0,0,0,0,null,null,null,null,"Profiled adjustment wage related totex - WWN - Real",null,"£m",{"$f":" SUM(PYP518:PYV518)","v":0},null,{"$f":" IF(PYP515 = 1, PYP516 * PYP517, 0)","v":0},0,0,0,0,0,0,null,null,null,null,"Profiled adjustment wage related totex - WWN - Real",null,"£m",{"$f":" SUM(PZF518:PZL518)","v":0},null,{"$f":" IF(PZF515 = 1, PZF516 * PZF517, 0)","v":0},0,0,0,0,0,0,null,null,null,null,"Profiled adjustment wage related totex - WWN - Real",null,"£m",{"$f":" SUM(PZV518:QAB518)","v":0},null,{"$f":" IF(PZV515 = 1, PZV516 * PZV517, 0)","v":0},0,0,0,0,0,0,null,null,null,null,"Profiled adjustment wage related totex - WWN - Real",null,"£m",{"$f":" SUM(QAL518:QAR518)","v":0},null,{"$f":" IF(QAL515 = 1, QAL516 * QAL517, 0)","v":0},0,0,0,0,0,0,null,null,null,null,"Profiled adjustment wage related totex - WWN - Real",null,"£m",{"$f":" SUM(QBB518:QBH518)","v":0},null,{"$f":" IF(QBB515 = 1, QBB516 * QBB517, 0)","v":0},0,0,0,0,0,0,null,null,null,null,"Profiled adjustment wage related totex - WWN - Real",null,"£m",{"$f":" SUM(QBR518:QBX518)","v":0},null,{"$f":" IF(QBR515 = 1, QBR516 * QBR517, 0)","v":0},0,0,0,0,0,0,null,null,null,null,"Profiled adjustment wage related totex - WWN - Real",null,"£m",{"$f":" SUM(QCH518:QCN518)","v":0},null,{"$f":" IF(QCH515 = 1, QCH516 * QCH517, 0)","v":0},0,0,0,0,0,0,null,null,null,null,"Profiled adjustment wage related totex - WWN - Real",null,"£m",{"$f":" SUM(QCX518:QDD518)","v":0},null,{"$f":" IF(QCX515 = 1, QCX516 * QCX517, 0)","v":0},0,0,0,0,0,0,null,null,null,null,"Profiled adjustment wage related totex - WWN - Real",null,"£m",{"$f":" SUM(QDN518:QDT518)","v":0},null,{"$f":" IF(QDN515 = 1, QDN516 * QDN517, 0)","v":0},0,0,0,0,0,0,null,null,null,null,"Profiled adjustment wage related totex - WWN - Real",null,"£m",{"$f":" SUM(QED518:QEJ518)","v":0},null,{"$f":" IF(QED515 = 1, QED516 * QED517, 0)","v":0},0,0,0,0,0,0,null,null,null,null,"Profiled adjustment wage related totex - WWN - Real",null,"£m",{"$f":" SUM(QET518:QEZ518)","v":0},null,{"$f":" IF(QET515 = 1, QET516 * QET517, 0)","v":0},0,0,0,0,0,0,null,null,null,null,"Profiled adjustment wage related totex - WWN - Real",null,"£m",{"$f":" SUM(QFJ518:QFP518)","v":0},null,{"$f":" IF(QFJ515 = 1, QFJ516 * QFJ517, 0)","v":0},0,0,0,0,0,0,null,null,null,null,"Profiled adjustment wage related totex - WWN - Real",null,"£m",{"$f":" SUM(QFZ518:QGF518)","v":0},null,{"$f":" IF(QFZ515 = 1, QFZ516 * QFZ517, 0)","v":0},0,0,0,0,0,0,null,null,null,null,"Profiled adjustment wage related totex - WWN - Real",null,"£m",{"$f":" SUM(QGP518:QGV518)","v":0},null,{"$f":" IF(QGP515 = 1, QGP516 * QGP517, 0)","v":0},0,0,0,0,0,0,null,null,null,null,"Profiled adjustment wage related totex - WWN - Real",null,"£m",{"$f":" SUM(QHF518:QHL518)","v":0},null,{"$f":" IF(QHF515 = 1, QHF516 * QHF517, 0)","v":0},0,0,0,0,0,0,null,null,null,null,"Profiled adjustment wage related totex - WWN - Real",null,"£m",{"$f":" SUM(QHV518:QIB518)","v":0},null,{"$f":" IF(QHV515 = 1, QHV516 * QHV517, 0)","v":0},0,0,0,0,0,0,null,null,null,null,"Profiled adjustment wage related totex - WWN - Real",null,"£m",{"$f":" SUM(QIL518:QIR518)","v":0},null,{"$f":" IF(QIL515 = 1, QIL516 * QIL517, 0)","v":0},0,0,0,0,0,0,null,null,null,null,"Profiled adjustment wage related totex - WWN - Real",null,"£m",{"$f":" SUM(QJB518:QJH518)","v":0},null,{"$f":" IF(QJB515 = 1, QJB516 * QJB517, 0)","v":0},0,0,0,0,0,0,null,null,null,null,"Profiled adjustment wage related totex - WWN - Real",null,"£m",{"$f":" SUM(QJR518:QJX518)","v":0},null,{"$f":" IF(QJR515 = 1, QJR516 * QJR517, 0)","v":0},0,0,0,0,0,0,null,null,null,null,"Profiled adjustment wage related totex - WWN - Real",null,"£m",{"$f":" SUM(QKH518:QKN518)","v":0},null,{"$f":" IF(QKH515 = 1, QKH516 * QKH517, 0)","v":0},0,0,0,0,0,0,null,null,null,null,"Profiled adjustment wage related totex - WWN - Real",null,"£m",{"$f":" SUM(QKX518:QLD518)","v":0},null,{"$f":" IF(QKX515 = 1, QKX516 * QKX517, 0)","v":0},0,0,0,0,0,0,null,null,null,null,"Profiled adjustment wage related totex - WWN - Real",null,"£m",{"$f":" SUM(QLN518:QLT518)","v":0},null,{"$f":" IF(QLN515 = 1, QLN516 * QLN517, 0)","v":0},0,0,0,0,0,0,null,null,null,null,"Profiled adjustment wage related totex - WWN - Real",null,"£m",{"$f":" SUM(QMD518:QMJ518)","v":0},null,{"$f":" IF(QMD515 = 1, QMD516 * QMD517, 0)","v":0},0,0,0,0,0,0,null,null,null,null,"Profiled adjustment wage related totex - WWN - Real",null,"£m",{"$f":" SUM(QMT518:QMZ518)","v":0},null,{"$f":" IF(QMT515 = 1, QMT516 * QMT517, 0)","v":0},0,0,0,0,0,0,null,null,null,null,"Profiled adjustment wage related totex - WWN - Real",null,"£m",{"$f":" SUM(QNJ518:QNP518)","v":0},null,{"$f":" IF(QNJ515 = 1, QNJ516 * QNJ517, 0)","v":0},0,0,0,0,0,0,null,null,null,null,"Profiled adjustment wage related totex - WWN - Real",null,"£m",{"$f":" SUM(QNZ518:QOF518)","v":0},null,{"$f":" IF(QNZ515 = 1, QNZ516 * QNZ517, 0)","v":0},0,0,0,0,0,0,null,null,null,null,"Profiled adjustment wage related totex - WWN - Real",null,"£m",{"$f":" SUM(QOP518:QOV518)","v":0},null,{"$f":" IF(QOP515 = 1, QOP516 * QOP517, 0)","v":0},0,0,0,0,0,0,null,null,null,null,"Profiled adjustment wage related totex - WWN - Real",null,"£m",{"$f":" SUM(QPF518:QPL518)","v":0},null,{"$f":" IF(QPF515 = 1, QPF516 * QPF517, 0)","v":0},0,0,0,0,0,0,null,null,null,null,"Profiled adjustment wage related totex - WWN - Real",null,"£m",{"$f":" SUM(QPV518:QQB518)","v":0},null,{"$f":" IF(QPV515 = 1, QPV516 * QPV517, 0)","v":0},0,0,0,0,0,0,null,null,null,null,"Profiled adjustment wage related totex - WWN - Real",null,"£m",{"$f":" SUM(QQL518:QQR518)","v":0},null,{"$f":" IF(QQL515 = 1, QQL516 * QQL517, 0)","v":0},0,0,0,0,0,0,null,null,null,null,"Profiled adjustment wage related totex - WWN - Real",null,"£m",{"$f":" SUM(QRB518:QRH518)","v":0},null,{"$f":" IF(QRB515 = 1, QRB516 * QRB517, 0)","v":0},0,0,0,0,0,0,null,null,null,null,"Profiled adjustment wage related totex - WWN - Real",null,"£m",{"$f":" SUM(QRR518:QRX518)","v":0},null,{"$f":" IF(QRR515 = 1, QRR516 * QRR517, 0)","v":0},0,0,0,0,0,0,null,null,null,null,"Profiled adjustment wage related totex - WWN - Real",null,"£m",{"$f":" SUM(QSH518:QSN518)","v":0},null,{"$f":" IF(QSH515 = 1, QSH516 * QSH517, 0)","v":0},0,0,0,0,0,0,null,null,null,null,"Profiled adjustment wage related totex - WWN - Real",null,"£m",{"$f":" SUM(QSX518:QTD518)","v":0},null,{"$f":" IF(QSX515 = 1, QSX516 * QSX517, 0)","v":0},0,0,0,0,0,0,null,null,null,null,"Profiled adjustment wage related totex - WWN - Real",null,"£m",{"$f":" SUM(QTN518:QTT518)","v":0},null,{"$f":" IF(QTN515 = 1, QTN516 * QTN517, 0)","v":0},0,0,0,0,0,0,null,null,null,null,"Profiled adjustment wage related totex - WWN - Real",null,"£m",{"$f":" SUM(QUD518:QUJ518)","v":0},null,{"$f":" IF(QUD515 = 1, QUD516 * QUD517, 0)","v":0},0,0,0,0,0,0,null,null,null,null,"Profiled adjustment wage related totex - WWN - Real",null,"£m",{"$f":" SUM(QUT518:QUZ518)","v":0},null,{"$f":" IF(QUT515 = 1, QUT516 * QUT517, 0)","v":0},0,0,0,0,0,0,null,null,null,null,"Profiled adjustment wage related totex - WWN - Real",null,"£m",{"$f":" SUM(QVJ518:QVP518)","v":0},null,{"$f":" IF(QVJ515 = 1, QVJ516 * QVJ517, 0)","v":0},0,0,0,0,0,0,null,null,null,null,"Profiled adjustment wage related totex - WWN - Real",null,"£m",{"$f":" SUM(QVZ518:QWF518)","v":0},null,{"$f":" IF(QVZ515 = 1, QVZ516 * QVZ517, 0)","v":0},0,0,0,0,0,0,null,null,null,null,"Profiled adjustment wage related totex - WWN - Real",null,"£m",{"$f":" SUM(QWP518:QWV518)","v":0},null,{"$f":" IF(QWP515 = 1, QWP516 * QWP517, 0)","v":0},0,0,0,0,0,0,null,null,null,null,"Profiled adjustment wage related totex - WWN - Real",null,"£m",{"$f":" SUM(QXF518:QXL518)","v":0},null,{"$f":" IF(QXF515 = 1, QXF516 * QXF517, 0)","v":0},0,0,0,0,0,0,null,null,null,null,"Profiled adjustment wage related totex - WWN - Real",null,"£m",{"$f":" SUM(QXV518:QYB518)","v":0},null,{"$f":" IF(QXV515 = 1, QXV516 * QXV517, 0)","v":0},0,0,0,0,0,0,null,null,null,null,"Profiled adjustment wage related totex - WWN - Real",null,"£m",{"$f":" SUM(QYL518:QYR518)","v":0},null,{"$f":" IF(QYL515 = 1, QYL516 * QYL517, 0)","v":0},0,0,0,0,0,0,null,null,null,null,"Profiled adjustment wage related totex - WWN - Real",null,"£m",{"$f":" SUM(QZB518:QZH518)","v":0},null,{"$f":" IF(QZB515 = 1, QZB516 * QZB517, 0)","v":0},0,0,0,0,0,0,null,null,null,null,"Profiled adjustment wage related totex - WWN - Real",null,"£m",{"$f":" SUM(QZR518:QZX518)","v":0},null,{"$f":" IF(QZR515 = 1, QZR516 * QZR517, 0)","v":0},0,0,0,0,0,0,null,null,null,null,"Profiled adjustment wage related totex - WWN - Real",null,"£m",{"$f":" SUM(RAH518:RAN518)","v":0},null,{"$f":" IF(RAH515 = 1, RAH516 * RAH517, 0)","v":0},0,0,0,0,0,0,null,null,null,null,"Profiled adjustment wage related totex - WWN - Real",null,"£m",{"$f":" SUM(RAX518:RBD518)","v":0},null,{"$f":" IF(RAX515 = 1, RAX516 * RAX517, 0)","v":0},0,0,0,0,0,0,null,null,null,null,"Profiled adjustment wage related totex - WWN - Real",null,"£m",{"$f":" SUM(RBN518:RBT518)","v":0},null,{"$f":" IF(RBN515 = 1, RBN516 * RBN517, 0)","v":0},0,0,0,0,0,0,null,null,null,null,"Profiled adjustment wage related totex - WWN - Real",null,"£m",{"$f":" SUM(RCD518:RCJ518)","v":0},null,{"$f":" IF(RCD515 = 1, RCD516 * RCD517, 0)","v":0},0,0,0,0,0,0,null,null,null,null,"Profiled adjustment wage related totex - WWN - Real",null,"£m",{"$f":" SUM(RCT518:RCZ518)","v":0},null,{"$f":" IF(RCT515 = 1, RCT516 * RCT517, 0)","v":0},0,0,0,0,0,0,null,null,null,null,"Profiled adjustment wage related totex - WWN - Real",null,"£m",{"$f":" SUM(RDJ518:RDP518)","v":0},null,{"$f":" IF(RDJ515 = 1, RDJ516 * RDJ517, 0)","v":0},0,0,0,0,0,0,null,null,null,null,"Profiled adjustment wage related totex - WWN - Real",null,"£m",{"$f":" SUM(RDZ518:REF518)","v":0},null,{"$f":" IF(RDZ515 = 1, RDZ516 * RDZ517, 0)","v":0},0,0,0,0,0,0,null,null,null,null,"Profiled adjustment wage related totex - WWN - Real",null,"£m",{"$f":" SUM(REP518:REV518)","v":0},null,{"$f":" IF(REP515 = 1, REP516 * REP517, 0)","v":0},0,0,0,0,0,0,null,null,null,null,"Profiled adjustment wage related totex - WWN - Real",null,"£m",{"$f":" SUM(RFF518:RFL518)","v":0},null,{"$f":" IF(RFF515 = 1, RFF516 * RFF517, 0)","v":0},0,0,0,0,0,0,null,null,null,null,"Profiled adjustment wage related totex - WWN - Real",null,"£m",{"$f":" SUM(RFV518:RGB518)","v":0},null,{"$f":" IF(RFV515 = 1, RFV516 * RFV517, 0)","v":0},0,0,0,0,0,0,null,null,null,null,"Profiled adjustment wage related totex - WWN - Real",null,"£m",{"$f":" SUM(RGL518:RGR518)","v":0},null,{"$f":" IF(RGL515 = 1, RGL516 * RGL517, 0)","v":0},0,0,0,0,0,0,null,null,null,null,"Profiled adjustment wage related totex - WWN - Real",null,"£m",{"$f":" SUM(RHB518:RHH518)","v":0},null,{"$f":" IF(RHB515 = 1, RHB516 * RHB517, 0)","v":0},0,0,0,0,0,0,null,null,null,null,"Profiled adjustment wage related totex - WWN - Real",null,"£m",{"$f":" SUM(RHR518:RHX518)","v":0},null,{"$f":" IF(RHR515 = 1, RHR516 * RHR517, 0)","v":0},0,0,0,0,0,0,null,null,null,null,"Profiled adjustment wage related totex - WWN - Real",null,"£m",{"$f":" SUM(RIH518:RIN518)","v":0},null,{"$f":" IF(RIH515 = 1, RIH516 * RIH517, 0)","v":0},0,0,0,0,0,0,null,null,null,null,"Profiled adjustment wage related totex - WWN - Real",null,"£m",{"$f":" SUM(RIX518:RJD518)","v":0},null,{"$f":" IF(RIX515 = 1, RIX516 * RIX517, 0)","v":0},0,0,0,0,0,0,null,null,null,null,"Profiled adjustment wage related totex - WWN - Real",null,"£m",{"$f":" SUM(RJN518:RJT518)","v":0},null,{"$f":" IF(RJN515 = 1, RJN516 * RJN517, 0)","v":0},0,0,0,0,0,0,null,null,null,null,"Profiled adjustment wage related totex - WWN - Real",null,"£m",{"$f":" SUM(RKD518:RKJ518)","v":0},null,{"$f":" IF(RKD515 = 1, RKD516 * RKD517, 0)","v":0},0,0,0,0,0,0,null,null,null,null,"Profiled adjustment wage related totex - WWN - Real",null,"£m",{"$f":" SUM(RKT518:RKZ518)","v":0},null,{"$f":" IF(RKT515 = 1, RKT516 * RKT517, 0)","v":0},0,0,0,0,0,0,null,null,null,null,"Profiled adjustment wage related totex - WWN - Real",null,"£m",{"$f":" SUM(RLJ518:RLP518)","v":0},null,{"$f":" IF(RLJ515 = 1, RLJ516 * RLJ517, 0)","v":0},0,0,0,0,0,0,null,null,null,null,"Profiled adjustment wage related totex - WWN - Real",null,"£m",{"$f":" SUM(RLZ518:RMF518)","v":0},null,{"$f":" IF(RLZ515 = 1, RLZ516 * RLZ517, 0)","v":0},0,0,0,0,0,0,null,null,null,null,"Profiled adjustment wage related totex - WWN - Real",null,"£m",{"$f":" SUM(RMP518:RMV518)","v":0},null,{"$f":" IF(RMP515 = 1, RMP516 * RMP517, 0)","v":0},0,0,0,0,0,0,null,null,null,null,"Profiled adjustment wage related totex - WWN - Real",null,"£m",{"$f":" SUM(RNF518:RNL518)","v":0},null,{"$f":" IF(RNF515 = 1, RNF516 * RNF517, 0)","v":0},0,0,0,0,0,0,null,null,null,null,"Profiled adjustment wage related totex - WWN - Real",null,"£m",{"$f":" SUM(RNV518:ROB518)","v":0},null,{"$f":" IF(RNV515 = 1, RNV516 * RNV517, 0)","v":0},0,0,0,0,0,0,null,null,null,null,"Profiled adjustment wage related totex - WWN - Real",null,"£m",{"$f":" SUM(ROL518:ROR518)","v":0},null,{"$f":" IF(ROL515 = 1, ROL516 * ROL517, 0)","v":0},0,0,0,0,0,0,null,null,null,null,"Profiled adjustment wage related totex - WWN - Real",null,"£m",{"$f":" SUM(RPB518:RPH518)","v":0},null,{"$f":" IF(RPB515 = 1, RPB516 * RPB517, 0)","v":0},0,0,0,0,0,0,null,null,null,null,"Profiled adjustment wage related totex - WWN - Real",null,"£m",{"$f":" SUM(RPR518:RPX518)","v":0},null,{"$f":" IF(RPR515 = 1, RPR516 * RPR517, 0)","v":0},0,0,0,0,0,0,null,null,null,null,"Profiled adjustment wage related totex - WWN - Real",null,"£m",{"$f":" SUM(RQH518:RQN518)","v":0},null,{"$f":" IF(RQH515 = 1, RQH516 * RQH517, 0)","v":0},0,0,0,0,0,0,null,null,null,null,"Profiled adjustment wage related totex - WWN - Real",null,"£m",{"$f":" SUM(RQX518:RRD518)","v":0},null,{"$f":" IF(RQX515 = 1, RQX516 * RQX517, 0)","v":0},0,0,0,0,0,0,null,null,null,null,"Profiled adjustment wage related totex - WWN - Real",null,"£m",{"$f":" SUM(RRN518:RRT518)","v":0},null,{"$f":" IF(RRN515 = 1, RRN516 * RRN517, 0)","v":0},0,0,0,0,0,0,null,null,null,null,"Profiled adjustment wage related totex - WWN - Real",null,"£m",{"$f":" SUM(RSD518:RSJ518)","v":0},null,{"$f":" IF(RSD515 = 1, RSD516 * RSD517, 0)","v":0},0,0,0,0,0,0,null,null,null,null,"Profiled adjustment wage related totex - WWN - Real",null,"£m",{"$f":" SUM(RST518:RSZ518)","v":0},null,{"$f":" IF(RST515 = 1, RST516 * RST517, 0)","v":0},0,0,0,0,0,0,null,null,null,null,"Profiled adjustment wage related totex - WWN - Real",null,"£m",{"$f":" SUM(RTJ518:RTP518)","v":0},null,{"$f":" IF(RTJ515 = 1, RTJ516 * RTJ517, 0)","v":0},0,0,0,0,0,0,null,null,null,null,"Profiled adjustment wage related totex - WWN - Real",null,"£m",{"$f":" SUM(RTZ518:RUF518)","v":0},null,{"$f":" IF(RTZ515 = 1, RTZ516 * RTZ517, 0)","v":0},0,0,0,0,0,0,null,null,null,null,"Profiled adjustment wage related totex - WWN - Real",null,"£m",{"$f":" SUM(RUP518:RUV518)","v":0},null,{"$f":" IF(RUP515 = 1, RUP516 * RUP517, 0)","v":0},0,0,0,0,0,0,null,null,null,null,"Profiled adjustment wage related totex - WWN - Real",null,"£m",{"$f":" SUM(RVF518:RVL518)","v":0},null,{"$f":" IF(RVF515 = 1, RVF516 * RVF517, 0)","v":0},0,0,0,0,0,0,null,null,null,null,"Profiled adjustment wage related totex - WWN - Real",null,"£m",{"$f":" SUM(RVV518:RWB518)","v":0},null,{"$f":" IF(RVV515 = 1, RVV516 * RVV517, 0)","v":0},0,0,0,0,0,0,null,null,null,null,"Profiled adjustment wage related totex - WWN - Real",null,"£m",{"$f":" SUM(RWL518:RWR518)","v":0},null,{"$f":" IF(RWL515 = 1, RWL516 * RWL517, 0)","v":0},0,0,0,0,0,0,null,null,null,null,"Profiled adjustment wage related totex - WWN - Real",null,"£m",{"$f":" SUM(RXB518:RXH518)","v":0},null,{"$f":" IF(RXB515 = 1, RXB516 * RXB517, 0)","v":0},0,0,0,0,0,0,null,null,null,null,"Profiled adjustment wage related totex - WWN - Real",null,"£m",{"$f":" SUM(RXR518:RXX518)","v":0},null,{"$f":" IF(RXR515 = 1, RXR516 * RXR517, 0)","v":0},0,0,0,0,0,0,null,null,null,null,"Profiled adjustment wage related totex - WWN - Real",null,"£m",{"$f":" SUM(RYH518:RYN518)","v":0},null,{"$f":" IF(RYH515 = 1, RYH516 * RYH517, 0)","v":0},0,0,0,0,0,0,null,null,null,null,"Profiled adjustment wage related totex - WWN - Real",null,"£m",{"$f":" SUM(RYX518:RZD518)","v":0},null,{"$f":" IF(RYX515 = 1, RYX516 * RYX517, 0)","v":0},0,0,0,0,0,0,null,null,null,null,"Profiled adjustment wage related totex - WWN - Real",null,"£m",{"$f":" SUM(RZN518:RZT518)","v":0},null,{"$f":" IF(RZN515 = 1, RZN516 * RZN517, 0)","v":0},0,0,0,0,0,0,null,null,null,null,"Profiled adjustment wage related totex - WWN - Real",null,"£m",{"$f":" SUM(SAD518:SAJ518)","v":0},null,{"$f":" IF(SAD515 = 1, SAD516 * SAD517, 0)","v":0},0,0,0,0,0,0,null,null,null,null,"Profiled adjustment wage related totex - WWN - Real",null,"£m",{"$f":" SUM(SAT518:SAZ518)","v":0},null,{"$f":" IF(SAT515 = 1, SAT516 * SAT517, 0)","v":0},0,0,0,0,0,0,null,null,null,null,"Profiled adjustment wage related totex - WWN - Real",null,"£m",{"$f":" SUM(SBJ518:SBP518)","v":0},null,{"$f":" IF(SBJ515 = 1, SBJ516 * SBJ517, 0)","v":0},0,0,0,0,0,0,null,null,null,null,"Profiled adjustment wage related totex - WWN - Real",null,"£m",{"$f":" SUM(SBZ518:SCF518)","v":0},null,{"$f":" IF(SBZ515 = 1, SBZ516 * SBZ517, 0)","v":0},0,0,0,0,0,0,null,null,null,null,"Profiled adjustment wage related totex - WWN - Real",null,"£m",{"$f":" SUM(SCP518:SCV518)","v":0},null,{"$f":" IF(SCP515 = 1, SCP516 * SCP517, 0)","v":0},0,0,0,0,0,0,null,null,null,null,"Profiled adjustment wage related totex - WWN - Real",null,"£m",{"$f":" SUM(SDF518:SDL518)","v":0},null,{"$f":" IF(SDF515 = 1, SDF516 * SDF517, 0)","v":0},0,0,0,0,0,0,null,null,null,null,"Profiled adjustment wage related totex - WWN - Real",null,"£m",{"$f":" SUM(SDV518:SEB518)","v":0},null,{"$f":" IF(SDV515 = 1, SDV516 * SDV517, 0)","v":0},0,0,0,0,0,0,null,null,null,null,"Profiled adjustment wage related totex - WWN - Real",null,"£m",{"$f":" SUM(SEL518:SER518)","v":0},null,{"$f":" IF(SEL515 = 1, SEL516 * SEL517, 0)","v":0},0,0,0,0,0,0,null,null,null,null,"Profiled adjustment wage related totex - WWN - Real",null,"£m",{"$f":" SUM(SFB518:SFH518)","v":0},null,{"$f":" IF(SFB515 = 1, SFB516 * SFB517, 0)","v":0},0,0,0,0,0,0,null,null,null,null,"Profiled adjustment wage related totex - WWN - Real",null,"£m",{"$f":" SUM(SFR518:SFX518)","v":0},null,{"$f":" IF(SFR515 = 1, SFR516 * SFR517, 0)","v":0},0,0,0,0,0,0,null,null,null,null,"Profiled adjustment wage related totex - WWN - Real",null,"£m",{"$f":" SUM(SGH518:SGN518)","v":0},null,{"$f":" IF(SGH515 = 1, SGH516 * SGH517, 0)","v":0},0,0,0,0,0,0,null,null,null,null,"Profiled adjustment wage related totex - WWN - Real",null,"£m",{"$f":" SUM(SGX518:SHD518)","v":0},null,{"$f":" IF(SGX515 = 1, SGX516 * SGX517, 0)","v":0},0,0,0,0,0,0,null,null,null,null,"Profiled adjustment wage related totex - WWN - Real",null,"£m",{"$f":" SUM(SHN518:SHT518)","v":0},null,{"$f":" IF(SHN515 = 1, SHN516 * SHN517, 0)","v":0},0,0,0,0,0,0,null,null,null,null,"Profiled adjustment wage related totex - WWN - Real",null,"£m",{"$f":" SUM(SID518:SIJ518)","v":0},null,{"$f":" IF(SID515 = 1, SID516 * SID517, 0)","v":0},0,0,0,0,0,0,null,null,null,null,"Profiled adjustment wage related totex - WWN - Real",null,"£m",{"$f":" SUM(SIT518:SIZ518)","v":0},null,{"$f":" IF(SIT515 = 1, SIT516 * SIT517, 0)","v":0},0,0,0,0,0,0,null,null,null,null,"Profiled adjustment wage related totex - WWN - Real",null,"£m",{"$f":" SUM(SJJ518:SJP518)","v":0},null,{"$f":" IF(SJJ515 = 1, SJJ516 * SJJ517, 0)","v":0},0,0,0,0,0,0,null,null,null,null,"Profiled adjustment wage related totex - WWN - Real",null,"£m",{"$f":" SUM(SJZ518:SKF518)","v":0},null,{"$f":" IF(SJZ515 = 1, SJZ516 * SJZ517, 0)","v":0},0,0,0,0,0,0,null,null,null,null,"Profiled adjustment wage related totex - WWN - Real",null,"£m",{"$f":" SUM(SKP518:SKV518)","v":0},null,{"$f":" IF(SKP515 = 1, SKP516 * SKP517, 0)","v":0},0,0,0,0,0,0,null,null,null,null,"Profiled adjustment wage related totex - WWN - Real",null,"£m",{"$f":" SUM(SLF518:SLL518)","v":0},null,{"$f":" IF(SLF515 = 1, SLF516 * SLF517, 0)","v":0},0,0,0,0,0,0,null,null,null,null,"Profiled adjustment wage related totex - WWN - Real",null,"£m",{"$f":" SUM(SLV518:SMB518)","v":0},null,{"$f":" IF(SLV515 = 1, SLV516 * SLV517, 0)","v":0},0,0,0,0,0,0,null,null,null,null,"Profiled adjustment wage related totex - WWN - Real",null,"£m",{"$f":" SUM(SML518:SMR518)","v":0},null,{"$f":" IF(SML515 = 1, SML516 * SML517, 0)","v":0},0,0,0,0,0,0,null,null,null,null,"Profiled adjustment wage related totex - WWN - Real",null,"£m",{"$f":" SUM(SNB518:SNH518)","v":0},null,{"$f":" IF(SNB515 = 1, SNB516 * SNB517, 0)","v":0},0,0,0,0,0,0,null,null,null,null,"Profiled adjustment wage related totex - WWN - Real",null,"£m",{"$f":" SUM(SNR518:SNX518)","v":0},null,{"$f":" IF(SNR515 = 1, SNR516 * SNR517, 0)","v":0},0,0,0,0,0,0,null,null,null,null,"Profiled adjustment wage related totex - WWN - Real",null,"£m",{"$f":" SUM(SOH518:SON518)","v":0},null,{"$f":" IF(SOH515 = 1, SOH516 * SOH517, 0)","v":0},0,0,0,0,0,0,null,null,null,null,"Profiled adjustment wage related totex - WWN - Real",null,"£m",{"$f":" SUM(SOX518:SPD518)","v":0},null,{"$f":" IF(SOX515 = 1, SOX516 * SOX517, 0)","v":0},0,0,0,0,0,0,null,null,null,null,"Profiled adjustment wage related totex - WWN - Real",null,"£m",{"$f":" SUM(SPN518:SPT518)","v":0},null,{"$f":" IF(SPN515 = 1, SPN516 * SPN517, 0)","v":0},0,0,0,0,0,0,null,null,null,null,"Profiled adjustment wage related totex - WWN - Real",null,"£m",{"$f":" SUM(SQD518:SQJ518)","v":0},null,{"$f":" IF(SQD515 = 1, SQD516 * SQD517, 0)","v":0},0,0,0,0,0,0,null,null,null,null,"Profiled adjustment wage related totex - WWN - Real",null,"£m",{"$f":" SUM(SQT518:SQZ518)","v":0},null,{"$f":" IF(SQT515 = 1, SQT516 * SQT517, 0)","v":0},0,0,0,0,0,0,null,null,null,null,"Profiled adjustment wage related totex - WWN - Real",null,"£m",{"$f":" SUM(SRJ518:SRP518)","v":0},null,{"$f":" IF(SRJ515 = 1, SRJ516 * SRJ517, 0)","v":0},0,0,0,0,0,0,null,null,null,null,"Profiled adjustment wage related totex - WWN - Real",null,"£m",{"$f":" SUM(SRZ518:SSF518)","v":0},null,{"$f":" IF(SRZ515 = 1, SRZ516 * SRZ517, 0)","v":0},0,0,0,0,0,0,null,null,null,null,"Profiled adjustment wage related totex - WWN - Real",null,"£m",{"$f":" SUM(SSP518:SSV518)","v":0},null,{"$f":" IF(SSP515 = 1, SSP516 * SSP517, 0)","v":0},0,0,0,0,0,0,null,null,null,null,"Profiled adjustment wage related totex - WWN - Real",null,"£m",{"$f":" SUM(STF518:STL518)","v":0},null,{"$f":" IF(STF515 = 1, STF516 * STF517, 0)","v":0},0,0,0,0,0,0,null,null,null,null,"Profiled adjustment wage related totex - WWN - Real",null,"£m",{"$f":" SUM(STV518:SUB518)","v":0},null,{"$f":" IF(STV515 = 1, STV516 * STV517, 0)","v":0},0,0,0,0,0,0,null,null,null,null,"Profiled adjustment wage related totex - WWN - Real",null,"£m",{"$f":" SUM(SUL518:SUR518)","v":0},null,{"$f":" IF(SUL515 = 1, SUL516 * SUL517, 0)","v":0},0,0,0,0,0,0,null,null,null,null,"Profiled adjustment wage related totex - WWN - Real",null,"£m",{"$f":" SUM(SVB518:SVH518)","v":0},null,{"$f":" IF(SVB515 = 1, SVB516 * SVB517, 0)","v":0},0,0,0,0,0,0,null,null,null,null,"Profiled adjustment wage related totex - WWN - Real",null,"£m",{"$f":" SUM(SVR518:SVX518)","v":0},null,{"$f":" IF(SVR515 = 1, SVR516 * SVR517, 0)","v":0},0,0,0,0,0,0,null,null,null,null,"Profiled adjustment wage related totex - WWN - Real",null,"£m",{"$f":" SUM(SWH518:SWN518)","v":0},null,{"$f":" IF(SWH515 = 1, SWH516 * SWH517, 0)","v":0},0,0,0,0,0,0,null,null,null,null,"Profiled adjustment wage related totex - WWN - Real",null,"£m",{"$f":" SUM(SWX518:SXD518)","v":0},null,{"$f":" IF(SWX515 = 1, SWX516 * SWX517, 0)","v":0},0,0,0,0,0,0,null,null,null,null,"Profiled adjustment wage related totex - WWN - Real",null,"£m",{"$f":" SUM(SXN518:SXT518)","v":0},null,{"$f":" IF(SXN515 = 1, SXN516 * SXN517, 0)","v":0},0,0,0,0,0,0,null,null,null,null,"Profiled adjustment wage related totex - WWN - Real",null,"£m",{"$f":" SUM(SYD518:SYJ518)","v":0},null,{"$f":" IF(SYD515 = 1, SYD516 * SYD517, 0)","v":0},0,0,0,0,0,0,null,null,null,null,"Profiled adjustment wage related totex - WWN - Real",null,"£m",{"$f":" SUM(SYT518:SYZ518)","v":0},null,{"$f":" IF(SYT515 = 1, SYT516 * SYT517, 0)","v":0},0,0,0,0,0,0,null,null,null,null,"Profiled adjustment wage related totex - WWN - Real",null,"£m",{"$f":" SUM(SZJ518:SZP518)","v":0},null,{"$f":" IF(SZJ515 = 1, SZJ516 * SZJ517, 0)","v":0},0,0,0,0,0,0,null,null,null,null,"Profiled adjustment wage related totex - WWN - Real",null,"£m",{"$f":" SUM(SZZ518:TAF518)","v":0},null,{"$f":" IF(SZZ515 = 1, SZZ516 * SZZ517, 0)","v":0},0,0,0,0,0,0,null,null,null,null,"Profiled adjustment wage related totex - WWN - Real",null,"£m",{"$f":" SUM(TAP518:TAV518)","v":0},null,{"$f":" IF(TAP515 = 1, TAP516 * TAP517, 0)","v":0},0,0,0,0,0,0,null,null,null,null,"Profiled adjustment wage related totex - WWN - Real",null,"£m",{"$f":" SUM(TBF518:TBL518)","v":0},null,{"$f":" IF(TBF515 = 1, TBF516 * TBF517, 0)","v":0},0,0,0,0,0,0,null,null,null,null,"Profiled adjustment wage related totex - WWN - Real",null,"£m",{"$f":" SUM(TBV518:TCB518)","v":0},null,{"$f":" IF(TBV515 = 1, TBV516 * TBV517, 0)","v":0},0,0,0,0,0,0,null,null,null,null,"Profiled adjustment wage related totex - WWN - Real",null,"£m",{"$f":" SUM(TCL518:TCR518)","v":0},null,{"$f":" IF(TCL515 = 1, TCL516 * TCL517, 0)","v":0},0,0,0,0,0,0,null,null,null,null,"Profiled adjustment wage related totex - WWN - Real",null,"£m",{"$f":" SUM(TDB518:TDH518)","v":0},null,{"$f":" IF(TDB515 = 1, TDB516 * TDB517, 0)","v":0},0,0,0,0,0,0,null,null,null,null,"Profiled adjustment wage related totex - WWN - Real",null,"£m",{"$f":" SUM(TDR518:TDX518)","v":0},null,{"$f":" IF(TDR515 = 1, TDR516 * TDR517, 0)","v":0},0,0,0,0,0,0,null,null,null,null,"Profiled adjustment wage related totex - WWN - Real",null,"£m",{"$f":" SUM(TEH518:TEN518)","v":0},null,{"$f":" IF(TEH515 = 1, TEH516 * TEH517, 0)","v":0},0,0,0,0,0,0,null,null,null,null,"Profiled adjustment wage related totex - WWN - Real",null,"£m",{"$f":" SUM(TEX518:TFD518)","v":0},null,{"$f":" IF(TEX515 = 1, TEX516 * TEX517, 0)","v":0},0,0,0,0,0,0,null,null,null,null,"Profiled adjustment wage related totex - WWN - Real",null,"£m",{"$f":" SUM(TFN518:TFT518)","v":0},null,{"$f":" IF(TFN515 = 1, TFN516 * TFN517, 0)","v":0},0,0,0,0,0,0,null,null,null,null,"Profiled adjustment wage related totex - WWN - Real",null,"£m",{"$f":" SUM(TGD518:TGJ518)","v":0},null,{"$f":" IF(TGD515 = 1, TGD516 * TGD517, 0)","v":0},0,0,0,0,0,0,null,null,null,null,"Profiled adjustment wage related totex - WWN - Real",null,"£m",{"$f":" SUM(TGT518:TGZ518)","v":0},null,{"$f":" IF(TGT515 = 1, TGT516 * TGT517, 0)","v":0},0,0,0,0,0,0,null,null,null,null,"Profiled adjustment wage related totex - WWN - Real",null,"£m",{"$f":" SUM(THJ518:THP518)","v":0},null,{"$f":" IF(THJ515 = 1, THJ516 * THJ517, 0)","v":0},0,0,0,0,0,0,null,null,null,null,"Profiled adjustment wage related totex - WWN - Real",null,"£m",{"$f":" SUM(THZ518:TIF518)","v":0},null,{"$f":" IF(THZ515 = 1, THZ516 * THZ517, 0)","v":0},0,0,0,0,0,0,null,null,null,null,"Profiled adjustment wage related totex - WWN - Real",null,"£m",{"$f":" SUM(TIP518:TIV518)","v":0},null,{"$f":" IF(TIP515 = 1, TIP516 * TIP517, 0)","v":0},0,0,0,0,0,0,null,null,null,null,"Profiled adjustment wage related totex - WWN - Real",null,"£m",{"$f":" SUM(TJF518:TJL518)","v":0},null,{"$f":" IF(TJF515 = 1, TJF516 * TJF517, 0)","v":0},0,0,0,0,0,0,null,null,null,null,"Profiled adjustment wage related totex - WWN - Real",null,"£m",{"$f":" SUM(TJV518:TKB518)","v":0},null,{"$f":" IF(TJV515 = 1, TJV516 * TJV517, 0)","v":0},0,0,0,0,0,0,null,null,null,null,"Profiled adjustment wage related totex - WWN - Real",null,"£m",{"$f":" SUM(TKL518:TKR518)","v":0},null,{"$f":" IF(TKL515 = 1, TKL516 * TKL517, 0)","v":0},0,0,0,0,0,0,null,null,null,null,"Profiled adjustment wage related totex - WWN - Real",null,"£m",{"$f":" SUM(TLB518:TLH518)","v":0},null,{"$f":" IF(TLB515 = 1, TLB516 * TLB517, 0)","v":0},0,0,0,0,0,0,null,null,null,null,"Profiled adjustment wage related totex - WWN - Real",null,"£m",{"$f":" SUM(TLR518:TLX518)","v":0},null,{"$f":" IF(TLR515 = 1, TLR516 * TLR517, 0)","v":0},0,0,0,0,0,0,null,null,null,null,"Profiled adjustment wage related totex - WWN - Real",null,"£m",{"$f":" SUM(TMH518:TMN518)","v":0},null,{"$f":" IF(TMH515 = 1, TMH516 * TMH517, 0)","v":0},0,0,0,0,0,0,null,null,null,null,"Profiled adjustment wage related totex - WWN - Real",null,"£m",{"$f":" SUM(TMX518:TND518)","v":0},null,{"$f":" IF(TMX515 = 1, TMX516 * TMX517, 0)","v":0},0,0,0,0,0,0,null,null,null,null,"Profiled adjustment wage related totex - WWN - Real",null,"£m",{"$f":" SUM(TNN518:TNT518)","v":0},null,{"$f":" IF(TNN515 = 1, TNN516 * TNN517, 0)","v":0},0,0,0,0,0,0,null,null,null,null,"Profiled adjustment wage related totex - WWN - Real",null,"£m",{"$f":" SUM(TOD518:TOJ518)","v":0},null,{"$f":" IF(TOD515 = 1, TOD516 * TOD517, 0)","v":0},0,0,0,0,0,0,null,null,null,null,"Profiled adjustment wage related totex - WWN - Real",null,"£m",{"$f":" SUM(TOT518:TOZ518)","v":0},null,{"$f":" IF(TOT515 = 1, TOT516 * TOT517, 0)","v":0},0,0,0,0,0,0,null,null,null,null,"Profiled adjustment wage related totex - WWN - Real",null,"£m",{"$f":" SUM(TPJ518:TPP518)","v":0},null,{"$f":" IF(TPJ515 = 1, TPJ516 * TPJ517, 0)","v":0},0,0,0,0,0,0,null,null,null,null,"Profiled adjustment wage related totex - WWN - Real",null,"£m",{"$f":" SUM(TPZ518:TQF518)","v":0},null,{"$f":" IF(TPZ515 = 1, TPZ516 * TPZ517, 0)","v":0},0,0,0,0,0,0,null,null,null,null,"Profiled adjustment wage related totex - WWN - Real",null,"£m",{"$f":" SUM(TQP518:TQV518)","v":0},null,{"$f":" IF(TQP515 = 1, TQP516 * TQP517, 0)","v":0},0,0,0,0,0,0,null,null,null,null,"Profiled adjustment wage related totex - WWN - Real",null,"£m",{"$f":" SUM(TRF518:TRL518)","v":0},null,{"$f":" IF(TRF515 = 1, TRF516 * TRF517, 0)","v":0},0,0,0,0,0,0,null,null,null,null,"Profiled adjustment wage related totex - WWN - Real",null,"£m",{"$f":" SUM(TRV518:TSB518)","v":0},null,{"$f":" IF(TRV515 = 1, TRV516 * TRV517, 0)","v":0},0,0,0,0,0,0,null,null,null,null,"Profiled adjustment wage related totex - WWN - Real",null,"£m",{"$f":" SUM(TSL518:TSR518)","v":0},null,{"$f":" IF(TSL515 = 1, TSL516 * TSL517, 0)","v":0},0,0,0,0,0,0,null,null,null,null,"Profiled adjustment wage related totex - WWN - Real",null,"£m",{"$f":" SUM(TTB518:TTH518)","v":0},null,{"$f":" IF(TTB515 = 1, TTB516 * TTB517, 0)","v":0},0,0,0,0,0,0,null,null,null,null,"Profiled adjustment wage related totex - WWN - Real",null,"£m",{"$f":" SUM(TTR518:TTX518)","v":0},null,{"$f":" IF(TTR515 = 1, TTR516 * TTR517, 0)","v":0},0,0,0,0,0,0,null,null,null,null,"Profiled adjustment wage related totex - WWN - Real",null,"£m",{"$f":" SUM(TUH518:TUN518)","v":0},null,{"$f":" IF(TUH515 = 1, TUH516 * TUH517, 0)","v":0},0,0,0,0,0,0,null,null,null,null,"Profiled adjustment wage related totex - WWN - Real",null,"£m",{"$f":" SUM(TUX518:TVD518)","v":0},null,{"$f":" IF(TUX515 = 1, TUX516 * TUX517, 0)","v":0},0,0,0,0,0,0,null,null,null,null,"Profiled adjustment wage related totex - WWN - Real",null,"£m",{"$f":" SUM(TVN518:TVT518)","v":0},null,{"$f":" IF(TVN515 = 1, TVN516 * TVN517, 0)","v":0},0,0,0,0,0,0,null,null,null,null,"Profiled adjustment wage related totex - WWN - Real",null,"£m",{"$f":" SUM(TWD518:TWJ518)","v":0},null,{"$f":" IF(TWD515 = 1, TWD516 * TWD517, 0)","v":0},0,0,0,0,0,0,null,null,null,null,"Profiled adjustment wage related totex - WWN - Real",null,"£m",{"$f":" SUM(TWT518:TWZ518)","v":0},null,{"$f":" IF(TWT515 = 1, TWT516 * TWT517, 0)","v":0},0,0,0,0,0,0,null,null,null,null,"Profiled adjustment wage related totex - WWN - Real",null,"£m",{"$f":" SUM(TXJ518:TXP518)","v":0},null,{"$f":" IF(TXJ515 = 1, TXJ516 * TXJ517, 0)","v":0},0,0,0,0,0,0,null,null,null,null,"Profiled adjustment wage related totex - WWN - Real",null,"£m",{"$f":" SUM(TXZ518:TYF518)","v":0},null,{"$f":" IF(TXZ515 = 1, TXZ516 * TXZ517, 0)","v":0},0,0,0,0,0,0,null,null,null,null,"Profiled adjustment wage related totex - WWN - Real",null,"£m",{"$f":" SUM(TYP518:TYV518)","v":0},null,{"$f":" IF(TYP515 = 1, TYP516 * TYP517, 0)","v":0},0,0,0,0,0,0,null,null,null,null,"Profiled adjustment wage related totex - WWN - Real",null,"£m",{"$f":" SUM(TZF518:TZL518)","v":0},null,{"$f":" IF(TZF515 = 1, TZF516 * TZF517, 0)","v":0},0,0,0,0,0,0,null,null,null,null,"Profiled adjustment wage related totex - WWN - Real",null,"£m",{"$f":" SUM(TZV518:UAB518)","v":0},null,{"$f":" IF(TZV515 = 1, TZV516 * TZV517, 0)","v":0},0,0,0,0,0,0,null,null,null,null,"Profiled adjustment wage related totex - WWN - Real",null,"£m",{"$f":" SUM(UAL518:UAR518)","v":0},null,{"$f":" IF(UAL515 = 1, UAL516 * UAL517, 0)","v":0},0,0,0,0,0,0,null,null,null,null,"Profiled adjustment wage related totex - WWN - Real",null,"£m",{"$f":" SUM(UBB518:UBH518)","v":0},null,{"$f":" IF(UBB515 = 1, UBB516 * UBB517, 0)","v":0},0,0,0,0,0,0,null,null,null,null,"Profiled adjustment wage related totex - WWN - Real",null,"£m",{"$f":" SUM(UBR518:UBX518)","v":0},null,{"$f":" IF(UBR515 = 1, UBR516 * UBR517, 0)","v":0},0,0,0,0,0,0,null,null,null,null,"Profiled adjustment wage related totex - WWN - Real",null,"£m",{"$f":" SUM(UCH518:UCN518)","v":0},null,{"$f":" IF(UCH515 = 1, UCH516 * UCH517, 0)","v":0},0,0,0,0,0,0,null,null,null,null,"Profiled adjustment wage related totex - WWN - Real",null,"£m",{"$f":" SUM(UCX518:UDD518)","v":0},null,{"$f":" IF(UCX515 = 1, UCX516 * UCX517, 0)","v":0},0,0,0,0,0,0,null,null,null,null,"Profiled adjustment wage related totex - WWN - Real",null,"£m",{"$f":" SUM(UDN518:UDT518)","v":0},null,{"$f":" IF(UDN515 = 1, UDN516 * UDN517, 0)","v":0},0,0,0,0,0,0,null,null,null,null,"Profiled adjustment wage related totex - WWN - Real",null,"£m",{"$f":" SUM(UED518:UEJ518)","v":0},null,{"$f":" IF(UED515 = 1, UED516 * UED517, 0)","v":0},0,0,0,0,0,0,null,null,null,null,"Profiled adjustment wage related totex - WWN - Real",null,"£m",{"$f":" SUM(UET518:UEZ518)","v":0},null,{"$f":" IF(UET515 = 1, UET516 * UET517, 0)","v":0},0,0,0,0,0,0,null,null,null,null,"Profiled adjustment wage related totex - WWN - Real",null,"£m",{"$f":" SUM(UFJ518:UFP518)","v":0},null,{"$f":" IF(UFJ515 = 1, UFJ516 * UFJ517, 0)","v":0},0,0,0,0,0,0,null,null,null,null,"Profiled adjustment wage related totex - WWN - Real",null,"£m",{"$f":" SUM(UFZ518:UGF518)","v":0},null,{"$f":" IF(UFZ515 = 1, UFZ516 * UFZ517, 0)","v":0},0,0,0,0,0,0,null,null,null,null,"Profiled adjustment wage related totex - WWN - Real",null,"£m",{"$f":" SUM(UGP518:UGV518)","v":0},null,{"$f":" IF(UGP515 = 1, UGP516 * UGP517, 0)","v":0},0,0,0,0,0,0,null,null,null,null,"Profiled adjustment wage related totex - WWN - Real",null,"£m",{"$f":" SUM(UHF518:UHL518)","v":0},null,{"$f":" IF(UHF515 = 1, UHF516 * UHF517, 0)","v":0},0,0,0,0,0,0,null,null,null,null,"Profiled adjustment wage related totex - WWN - Real",null,"£m",{"$f":" SUM(UHV518:UIB518)","v":0},null,{"$f":" IF(UHV515 = 1, UHV516 * UHV517, 0)","v":0},0,0,0,0,0,0,null,null,null,null,"Profiled adjustment wage related totex - WWN - Real",null,"£m",{"$f":" SUM(UIL518:UIR518)","v":0},null,{"$f":" IF(UIL515 = 1, UIL516 * UIL517, 0)","v":0},0,0,0,0,0,0,null,null,null,null,"Profiled adjustment wage related totex - WWN - Real",null,"£m",{"$f":" SUM(UJB518:UJH518)","v":0},null,{"$f":" IF(UJB515 = 1, UJB516 * UJB517, 0)","v":0},0,0,0,0,0,0,null,null,null,null,"Profiled adjustment wage related totex - WWN - Real",null,"£m",{"$f":" SUM(UJR518:UJX518)","v":0},null,{"$f":" IF(UJR515 = 1, UJR516 * UJR517, 0)","v":0},0,0,0,0,0,0,null,null,null,null,"Profiled adjustment wage related totex - WWN - Real",null,"£m",{"$f":" SUM(UKH518:UKN518)","v":0},null,{"$f":" IF(UKH515 = 1, UKH516 * UKH517, 0)","v":0},0,0,0,0,0,0,null,null,null,null,"Profiled adjustment wage related totex - WWN - Real",null,"£m",{"$f":" SUM(UKX518:ULD518)","v":0},null,{"$f":" IF(UKX515 = 1, UKX516 * UKX517, 0)","v":0},0,0,0,0,0,0,null,null,null,null,"Profiled adjustment wage related totex - WWN - Real",null,"£m",{"$f":" SUM(ULN518:ULT518)","v":0},null,{"$f":" IF(ULN515 = 1, ULN516 * ULN517, 0)","v":0},0,0,0,0,0,0,null,null,null,null,"Profiled adjustment wage related totex - WWN - Real",null,"£m",{"$f":" SUM(UMD518:UMJ518)","v":0},null,{"$f":" IF(UMD515 = 1, UMD516 * UMD517, 0)","v":0},0,0,0,0,0,0,null,null,null,null,"Profiled adjustment wage related totex - WWN - Real",null,"£m",{"$f":" SUM(UMT518:UMZ518)","v":0},null,{"$f":" IF(UMT515 = 1, UMT516 * UMT517, 0)","v":0},0,0,0,0,0,0,null,null,null,null,"Profiled adjustment wage related totex - WWN - Real",null,"£m",{"$f":" SUM(UNJ518:UNP518)","v":0},null,{"$f":" IF(UNJ515 = 1, UNJ516 * UNJ517, 0)","v":0},0,0,0,0,0,0,null,null,null,null,"Profiled adjustment wage related totex - WWN - Real",null,"£m",{"$f":" SUM(UNZ518:UOF518)","v":0},null,{"$f":" IF(UNZ515 = 1, UNZ516 * UNZ517, 0)","v":0},0,0,0,0,0,0,null,null,null,null,"Profiled adjustment wage related totex - WWN - Real",null,"£m",{"$f":" SUM(UOP518:UOV518)","v":0},null,{"$f":" IF(UOP515 = 1, UOP516 * UOP517, 0)","v":0},0,0,0,0,0,0,null,null,null,null,"Profiled adjustment wage related totex - WWN - Real",null,"£m",{"$f":" SUM(UPF518:UPL518)","v":0},null,{"$f":" IF(UPF515 = 1, UPF516 * UPF517, 0)","v":0},0,0,0,0,0,0,null,null,null,null,"Profiled adjustment wage related totex - WWN - Real",null,"£m",{"$f":" SUM(UPV518:UQB518)","v":0},null,{"$f":" IF(UPV515 = 1, UPV516 * UPV517, 0)","v":0},0,0,0,0,0,0,null,null,null,null,"Profiled adjustment wage related totex - WWN - Real",null,"£m",{"$f":" SUM(UQL518:UQR518)","v":0},null,{"$f":" IF(UQL515 = 1, UQL516 * UQL517, 0)","v":0},0,0,0,0,0,0,null,null,null,null,"Profiled adjustment wage related totex - WWN - Real",null,"£m",{"$f":" SUM(URB518:URH518)","v":0},null,{"$f":" IF(URB515 = 1, URB516 * URB517, 0)","v":0},0,0,0,0,0,0,null,null,null,null,"Profiled adjustment wage related totex - WWN - Real",null,"£m",{"$f":" SUM(URR518:URX518)","v":0},null,{"$f":" IF(URR515 = 1, URR516 * URR517, 0)","v":0},0,0,0,0,0,0,null,null,null,null,"Profiled adjustment wage related totex - WWN - Real",null,"£m",{"$f":" SUM(USH518:USN518)","v":0},null,{"$f":" IF(USH515 = 1, USH516 * USH517, 0)","v":0},0,0,0,0,0,0,null,null,null,null,"Profiled adjustment wage related totex - WWN - Real",null,"£m",{"$f":" SUM(USX518:UTD518)","v":0},null,{"$f":" IF(USX515 = 1, USX516 * USX517, 0)","v":0},0,0,0,0,0,0,null,null,null,null,"Profiled adjustment wage related totex - WWN - Real",null,"£m",{"$f":" SUM(UTN518:UTT518)","v":0},null,{"$f":" IF(UTN515 = 1, UTN516 * UTN517, 0)","v":0},0,0,0,0,0,0,null,null,null,null,"Profiled adjustment wage related totex - WWN - Real",null,"£m",{"$f":" SUM(UUD518:UUJ518)","v":0},null,{"$f":" IF(UUD515 = 1, UUD516 * UUD517, 0)","v":0},0,0,0,0,0,0,null,null,null,null,"Profiled adjustment wage related totex - WWN - Real",null,"£m",{"$f":" SUM(UUT518:UUZ518)","v":0},null,{"$f":" IF(UUT515 = 1, UUT516 * UUT517, 0)","v":0},0,0,0,0,0,0,null,null,null,null,"Profiled adjustment wage related totex - WWN - Real",null,"£m",{"$f":" SUM(UVJ518:UVP518)","v":0},null,{"$f":" IF(UVJ515 = 1, UVJ516 * UVJ517, 0)","v":0},0,0,0,0,0,0,null,null,null,null,"Profiled adjustment wage related totex - WWN - Real",null,"£m",{"$f":" SUM(UVZ518:UWF518)","v":0},null,{"$f":" IF(UVZ515 = 1, UVZ516 * UVZ517, 0)","v":0},0,0,0,0,0,0,null,null,null,null,"Profiled adjustment wage related totex - WWN - Real",null,"£m",{"$f":" SUM(UWP518:UWV518)","v":0},null,{"$f":" IF(UWP515 = 1, UWP516 * UWP517, 0)","v":0},0,0,0,0,0,0,null,null,null,null,"Profiled adjustment wage related totex - WWN - Real",null,"£m",{"$f":" SUM(UXF518:UXL518)","v":0},null,{"$f":" IF(UXF515 = 1, UXF516 * UXF517, 0)","v":0},0,0,0,0,0,0,null,null,null,null,"Profiled adjustment wage related totex - WWN - Real",null,"£m",{"$f":" SUM(UXV518:UYB518)","v":0},null,{"$f":" IF(UXV515 = 1, UXV516 * UXV517, 0)","v":0},0,0,0,0,0,0,null,null,null,null,"Profiled adjustment wage related totex - WWN - Real",null,"£m",{"$f":" SUM(UYL518:UYR518)","v":0},null,{"$f":" IF(UYL515 = 1, UYL516 * UYL517, 0)","v":0},0,0,0,0,0,0,null,null,null,null,"Profiled adjustment wage related totex - WWN - Real",null,"£m",{"$f":" SUM(UZB518:UZH518)","v":0},null,{"$f":" IF(UZB515 = 1, UZB516 * UZB517, 0)","v":0},0,0,0,0,0,0,null,null,null,null,"Profiled adjustment wage related totex - WWN - Real",null,"£m",{"$f":" SUM(UZR518:UZX518)","v":0},null,{"$f":" IF(UZR515 = 1, UZR516 * UZR517, 0)","v":0},0,0,0,0,0,0,null,null,null,null,"Profiled adjustment wage related totex - WWN - Real",null,"£m",{"$f":" SUM(VAH518:VAN518)","v":0},null,{"$f":" IF(VAH515 = 1, VAH516 * VAH517, 0)","v":0},0,0,0,0,0,0,null,null,null,null,"Profiled adjustment wage related totex - WWN - Real",null,"£m",{"$f":" SUM(VAX518:VBD518)","v":0},null,{"$f":" IF(VAX515 = 1, VAX516 * VAX517, 0)","v":0},0,0,0,0,0,0,null,null,null,null,"Profiled adjustment wage related totex - WWN - Real",null,"£m",{"$f":" SUM(VBN518:VBT518)","v":0},null,{"$f":" IF(VBN515 = 1, VBN516 * VBN517, 0)","v":0},0,0,0,0,0,0,null,null,null,null,"Profiled adjustment wage related totex - WWN - Real",null,"£m",{"$f":" SUM(VCD518:VCJ518)","v":0},null,{"$f":" IF(VCD515 = 1, VCD516 * VCD517, 0)","v":0},0,0,0,0,0,0,null,null,null,null,"Profiled adjustment wage related totex - WWN - Real",null,"£m",{"$f":" SUM(VCT518:VCZ518)","v":0},null,{"$f":" IF(VCT515 = 1, VCT516 * VCT517, 0)","v":0},0,0,0,0,0,0,null,null,null,null,"Profiled adjustment wage related totex - WWN - Real",null,"£m",{"$f":" SUM(VDJ518:VDP518)","v":0},null,{"$f":" IF(VDJ515 = 1, VDJ516 * VDJ517, 0)","v":0},0,0,0,0,0,0,null,null,null,null,"Profiled adjustment wage related totex - WWN - Real",null,"£m",{"$f":" SUM(VDZ518:VEF518)","v":0},null,{"$f":" IF(VDZ515 = 1, VDZ516 * VDZ517, 0)","v":0},0,0,0,0,0,0,null,null,null,null,"Profiled adjustment wage related totex - WWN - Real",null,"£m",{"$f":" SUM(VEP518:VEV518)","v":0},null,{"$f":" IF(VEP515 = 1, VEP516 * VEP517, 0)","v":0},0,0,0,0,0,0,null,null,null,null,"Profiled adjustment wage related totex - WWN - Real",null,"£m",{"$f":" SUM(VFF518:VFL518)","v":0},null,{"$f":" IF(VFF515 = 1, VFF516 * VFF517, 0)","v":0},0,0,0,0,0,0,null,null,null,null,"Profiled adjustment wage related totex - WWN - Real",null,"£m",{"$f":" SUM(VFV518:VGB518)","v":0},null,{"$f":" IF(VFV515 = 1, VFV516 * VFV517, 0)","v":0},0,0,0,0,0,0,null,null,null,null,"Profiled adjustment wage related totex - WWN - Real",null,"£m",{"$f":" SUM(VGL518:VGR518)","v":0},null,{"$f":" IF(VGL515 = 1, VGL516 * VGL517, 0)","v":0},0,0,0,0,0,0,null,null,null,null,"Profiled adjustment wage related totex - WWN - Real",null,"£m",{"$f":" SUM(VHB518:VHH518)","v":0},null,{"$f":" IF(VHB515 = 1, VHB516 * VHB517, 0)","v":0},0,0,0,0,0,0,null,null,null,null,"Profiled adjustment wage related totex - WWN - Real",null,"£m",{"$f":" SUM(VHR518:VHX518)","v":0},null,{"$f":" IF(VHR515 = 1, VHR516 * VHR517, 0)","v":0},0,0,0,0,0,0,null,null,null,null,"Profiled adjustment wage related totex - WWN - Real",null,"£m",{"$f":" SUM(VIH518:VIN518)","v":0},null,{"$f":" IF(VIH515 = 1, VIH516 * VIH517, 0)","v":0},0,0,0,0,0,0,null,null,null,null,"Profiled adjustment wage related totex - WWN - Real",null,"£m",{"$f":" SUM(VIX518:VJD518)","v":0},null,{"$f":" IF(VIX515 = 1, VIX516 * VIX517, 0)","v":0},0,0,0,0,0,0,null,null,null,null,"Profiled adjustment wage related totex - WWN - Real",null,"£m",{"$f":" SUM(VJN518:VJT518)","v":0},null,{"$f":" IF(VJN515 = 1, VJN516 * VJN517, 0)","v":0},0,0,0,0,0,0,null,null,null,null,"Profiled adjustment wage related totex - WWN - Real",null,"£m",{"$f":" SUM(VKD518:VKJ518)","v":0},null,{"$f":" IF(VKD515 = 1, VKD516 * VKD517, 0)","v":0},0,0,0,0,0,0,null,null,null,null,"Profiled adjustment wage related totex - WWN - Real",null,"£m",{"$f":" SUM(VKT518:VKZ518)","v":0},null,{"$f":" IF(VKT515 = 1, VKT516 * VKT517, 0)","v":0},0,0,0,0,0,0,null,null,null,null,"Profiled adjustment wage related totex - WWN - Real",null,"£m",{"$f":" SUM(VLJ518:VLP518)","v":0},null,{"$f":" IF(VLJ515 = 1, VLJ516 * VLJ517, 0)","v":0},0,0,0,0,0,0,null,null,null,null,"Profiled adjustment wage related totex - WWN - Real",null,"£m",{"$f":" SUM(VLZ518:VMF518)","v":0},null,{"$f":" IF(VLZ515 = 1, VLZ516 * VLZ517, 0)","v":0},0,0,0,0,0,0,null,null,null,null,"Profiled adjustment wage related totex - WWN - Real",null,"£m",{"$f":" SUM(VMP518:VMV518)","v":0},null,{"$f":" IF(VMP515 = 1, VMP516 * VMP517, 0)","v":0},0,0,0,0,0,0,null,null,null,null,"Profiled adjustment wage related totex - WWN - Real",null,"£m",{"$f":" SUM(VNF518:VNL518)","v":0},null,{"$f":" IF(VNF515 = 1, VNF516 * VNF517, 0)","v":0},0,0,0,0,0,0,null,null,null,null,"Profiled adjustment wage related totex - WWN - Real",null,"£m",{"$f":" SUM(VNV518:VOB518)","v":0},null,{"$f":" IF(VNV515 = 1, VNV516 * VNV517, 0)","v":0},0,0,0,0,0,0,null,null,null,null,"Profiled adjustment wage related totex - WWN - Real",null,"£m",{"$f":" SUM(VOL518:VOR518)","v":0},null,{"$f":" IF(VOL515 = 1, VOL516 * VOL517, 0)","v":0},0,0,0,0,0,0,null,null,null,null,"Profiled adjustment wage related totex - WWN - Real",null,"£m",{"$f":" SUM(VPB518:VPH518)","v":0},null,{"$f":" IF(VPB515 = 1, VPB516 * VPB517, 0)","v":0},0,0,0,0,0,0,null,null,null,null,"Profiled adjustment wage related totex - WWN - Real",null,"£m",{"$f":" SUM(VPR518:VPX518)","v":0},null,{"$f":" IF(VPR515 = 1, VPR516 * VPR517, 0)","v":0},0,0,0,0,0,0,null,null,null,null,"Profiled adjustment wage related totex - WWN - Real",null,"£m",{"$f":" SUM(VQH518:VQN518)","v":0},null,{"$f":" IF(VQH515 = 1, VQH516 * VQH517, 0)","v":0},0,0,0,0,0,0,null,null,null,null,"Profiled adjustment wage related totex - WWN - Real",null,"£m",{"$f":" SUM(VQX518:VRD518)","v":0},null,{"$f":" IF(VQX515 = 1, VQX516 * VQX517, 0)","v":0},0,0,0,0,0,0,null,null,null,null,"Profiled adjustment wage related totex - WWN - Real",null,"£m",{"$f":" SUM(VRN518:VRT518)","v":0},null,{"$f":" IF(VRN515 = 1, VRN516 * VRN517, 0)","v":0},0,0,0,0,0,0,null,null,null,null,"Profiled adjustment wage related totex - WWN - Real",null,"£m",{"$f":" SUM(VSD518:VSJ518)","v":0},null,{"$f":" IF(VSD515 = 1, VSD516 * VSD517, 0)","v":0},0,0,0,0,0,0,null,null,null,null,"Profiled adjustment wage related totex - WWN - Real",null,"£m",{"$f":" SUM(VST518:VSZ518)","v":0},null,{"$f":" IF(VST515 = 1, VST516 * VST517, 0)","v":0},0,0,0,0,0,0,null,null,null,null,"Profiled adjustment wage related totex - WWN - Real",null,"£m",{"$f":" SUM(VTJ518:VTP518)","v":0},null,{"$f":" IF(VTJ515 = 1, VTJ516 * VTJ517, 0)","v":0},0,0,0,0,0,0,null,null,null,null,"Profiled adjustment wage related totex - WWN - Real",null,"£m",{"$f":" SUM(VTZ518:VUF518)","v":0},null,{"$f":" IF(VTZ515 = 1, VTZ516 * VTZ517, 0)","v":0},0,0,0,0,0,0,null,null,null,null,"Profiled adjustment wage related totex - WWN - Real",null,"£m",{"$f":" SUM(VUP518:VUV518)","v":0},null,{"$f":" IF(VUP515 = 1, VUP516 * VUP517, 0)","v":0},0,0,0,0,0,0,null,null,null,null,"Profiled adjustment wage related totex - WWN - Real",null,"£m",{"$f":" SUM(VVF518:VVL518)","v":0},null,{"$f":" IF(VVF515 = 1, VVF516 * VVF517, 0)","v":0},0,0,0,0,0,0,null,null,null,null,"Profiled adjustment wage related totex - WWN - Real",null,"£m",{"$f":" SUM(VVV518:VWB518)","v":0},null,{"$f":" IF(VVV515 = 1, VVV516 * VVV517, 0)","v":0},0,0,0,0,0,0,null,null,null,null,"Profiled adjustment wage related totex - WWN - Real",null,"£m",{"$f":" SUM(VWL518:VWR518)","v":0},null,{"$f":" IF(VWL515 = 1, VWL516 * VWL517, 0)","v":0},0,0,0,0,0,0,null,null,null,null,"Profiled adjustment wage related totex - WWN - Real",null,"£m",{"$f":" SUM(VXB518:VXH518)","v":0},null,{"$f":" IF(VXB515 = 1, VXB516 * VXB517, 0)","v":0},0,0,0,0,0,0,null,null,null,null,"Profiled adjustment wage related totex - WWN - Real",null,"£m",{"$f":" SUM(VXR518:VXX518)","v":0},null,{"$f":" IF(VXR515 = 1, VXR516 * VXR517, 0)","v":0},0,0,0,0,0,0,null,null,null,null,"Profiled adjustment wage related totex - WWN - Real",null,"£m",{"$f":" SUM(VYH518:VYN518)","v":0},null,{"$f":" IF(VYH515 = 1, VYH516 * VYH517, 0)","v":0},0,0,0,0,0,0,null,null,null,null,"Profiled adjustment wage related totex - WWN - Real",null,"£m",{"$f":" SUM(VYX518:VZD518)","v":0},null,{"$f":" IF(VYX515 = 1, VYX516 * VYX517, 0)","v":0},0,0,0,0,0,0,null,null,null,null,"Profiled adjustment wage related totex - WWN - Real",null,"£m",{"$f":" SUM(VZN518:VZT518)","v":0},null,{"$f":" IF(VZN515 = 1, VZN516 * VZN517, 0)","v":0},0,0,0,0,0,0,null,null,null,null,"Profiled adjustment wage related totex - WWN - Real",null,"£m",{"$f":" SUM(WAD518:WAJ518)","v":0},null,{"$f":" IF(WAD515 = 1, WAD516 * WAD517, 0)","v":0},0,0,0,0,0,0,null,null,null,null,"Profiled adjustment wage related totex - WWN - Real",null,"£m",{"$f":" SUM(WAT518:WAZ518)","v":0},null,{"$f":" IF(WAT515 = 1, WAT516 * WAT517, 0)","v":0},0,0,0,0,0,0,null,null,null,null,"Profiled adjustment wage related totex - WWN - Real",null,"£m",{"$f":" SUM(WBJ518:WBP518)","v":0},null,{"$f":" IF(WBJ515 = 1, WBJ516 * WBJ517, 0)","v":0},0,0,0,0,0,0,null,null,null,null,"Profiled adjustment wage related totex - WWN - Real",null,"£m",{"$f":" SUM(WBZ518:WCF518)","v":0},null,{"$f":" IF(WBZ515 = 1, WBZ516 * WBZ517, 0)","v":0},0,0,0,0,0,0,null,null,null,null,"Profiled adjustment wage related totex - WWN - Real",null,"£m",{"$f":" SUM(WCP518:WCV518)","v":0},null,{"$f":" IF(WCP515 = 1, WCP516 * WCP517, 0)","v":0},0,0,0,0,0,0,null,null,null,null,"Profiled adjustment wage related totex - WWN - Real",null,"£m",{"$f":" SUM(WDF518:WDL518)","v":0},null,{"$f":" IF(WDF515 = 1, WDF516 * WDF517, 0)","v":0},0,0,0,0,0,0,null,null,null,null,"Profiled adjustment wage related totex - WWN - Real",null,"£m",{"$f":" SUM(WDV518:WEB518)","v":0},null,{"$f":" IF(WDV515 = 1, WDV516 * WDV517, 0)","v":0},0,0,0,0,0,0,null,null,null,null,"Profiled adjustment wage related totex - WWN - Real",null,"£m",{"$f":" SUM(WEL518:WER518)","v":0},null,{"$f":" IF(WEL515 = 1, WEL516 * WEL517, 0)","v":0},0,0,0,0,0,0,null,null,null,null,"Profiled adjustment wage related totex - WWN - Real",null,"£m",{"$f":" SUM(WFB518:WFH518)","v":0},null,{"$f":" IF(WFB515 = 1, WFB516 * WFB517, 0)","v":0},0,0,0,0,0,0,null,null,null,null,"Profiled adjustment wage related totex - WWN - Real",null,"£m",{"$f":" SUM(WFR518:WFX518)","v":0},null,{"$f":" IF(WFR515 = 1, WFR516 * WFR517, 0)","v":0},0,0,0,0,0,0,null,null,null,null,"Profiled adjustment wage related totex - WWN - Real",null,"£m",{"$f":" SUM(WGH518:WGN518)","v":0},null,{"$f":" IF(WGH515 = 1, WGH516 * WGH517, 0)","v":0},0,0,0,0,0,0,null,null,null,null,"Profiled adjustment wage related totex - WWN - Real",null,"£m",{"$f":" SUM(WGX518:WHD518)","v":0},null,{"$f":" IF(WGX515 = 1, WGX516 * WGX517, 0)","v":0},0,0,0,0,0,0,null,null,null,null,"Profiled adjustment wage related totex - WWN - Real",null,"£m",{"$f":" SUM(WHN518:WHT518)","v":0},null,{"$f":" IF(WHN515 = 1, WHN516 * WHN517, 0)","v":0},0,0,0,0,0,0,null,null,null,null,"Profiled adjustment wage related totex - WWN - Real",null,"£m",{"$f":" SUM(WID518:WIJ518)","v":0},null,{"$f":" IF(WID515 = 1, WID516 * WID517, 0)","v":0},0,0,0,0,0,0,null,null,null,null,"Profiled adjustment wage related totex - WWN - Real",null,"£m",{"$f":" SUM(WIT518:WIZ518)","v":0},null,{"$f":" IF(WIT515 = 1, WIT516 * WIT517, 0)","v":0},0,0,0,0,0,0,null,null,null,null,"Profiled adjustment wage related totex - WWN - Real",null,"£m",{"$f":" SUM(WJJ518:WJP518)","v":0},null,{"$f":" IF(WJJ515 = 1, WJJ516 * WJJ517, 0)","v":0},0,0,0,0,0,0,null,null,null,null,"Profiled adjustment wage related totex - WWN - Real",null,"£m",{"$f":" SUM(WJZ518:WKF518)","v":0},null,{"$f":" IF(WJZ515 = 1, WJZ516 * WJZ517, 0)","v":0},0,0,0,0,0,0,null,null,null,null,"Profiled adjustment wage related totex - WWN - Real",null,"£m",{"$f":" SUM(WKP518:WKV518)","v":0},null,{"$f":" IF(WKP515 = 1, WKP516 * WKP517, 0)","v":0},0,0,0,0,0,0,null,null,null,null,"Profiled adjustment wage related totex - WWN - Real",null,"£m",{"$f":" SUM(WLF518:WLL518)","v":0},null,{"$f":" IF(WLF515 = 1, WLF516 * WLF517, 0)","v":0},0,0,0,0,0,0,null,null,null,null,"Profiled adjustment wage related totex - WWN - Real",null,"£m",{"$f":" SUM(WLV518:WMB518)","v":0},null,{"$f":" IF(WLV515 = 1, WLV516 * WLV517, 0)","v":0},0,0,0,0,0,0,null,null,null,null,"Profiled adjustment wage related totex - WWN - Real",null,"£m",{"$f":" SUM(WML518:WMR518)","v":0},null,{"$f":" IF(WML515 = 1, WML516 * WML517, 0)","v":0},0,0,0,0,0,0,null,null,null,null,"Profiled adjustment wage related totex - WWN - Real",null,"£m",{"$f":" SUM(WNB518:WNH518)","v":0},null,{"$f":" IF(WNB515 = 1, WNB516 * WNB517, 0)","v":0},0,0,0,0,0,0,null,null,null,null,"Profiled adjustment wage related totex - WWN - Real",null,"£m",{"$f":" SUM(WNR518:WNX518)","v":0},null,{"$f":" IF(WNR515 = 1, WNR516 * WNR517, 0)","v":0},0,0,0,0,0,0,null,null,null,null,"Profiled adjustment wage related totex - WWN - Real",null,"£m",{"$f":" SUM(WOH518:WON518)","v":0},null,{"$f":" IF(WOH515 = 1, WOH516 * WOH517, 0)","v":0},0,0,0,0,0,0,null,null,null,null,"Profiled adjustment wage related totex - WWN - Real",null,"£m",{"$f":" SUM(WOX518:WPD518)","v":0},null,{"$f":" IF(WOX515 = 1, WOX516 * WOX517, 0)","v":0},0,0,0,0,0,0,null,null,null,null,"Profiled adjustment wage related totex - WWN - Real",null,"£m",{"$f":" SUM(WPN518:WPT518)","v":0},null,{"$f":" IF(WPN515 = 1, WPN516 * WPN517, 0)","v":0},0,0,0,0,0,0,null,null,null,null,"Profiled adjustment wage related totex - WWN - Real",null,"£m",{"$f":" SUM(WQD518:WQJ518)","v":0},null,{"$f":" IF(WQD515 = 1, WQD516 * WQD517, 0)","v":0},0,0,0,0,0,0,null,null,null,null,"Profiled adjustment wage related totex - WWN - Real",null,"£m",{"$f":" SUM(WQT518:WQZ518)","v":0},null,{"$f":" IF(WQT515 = 1, WQT516 * WQT517, 0)","v":0},0,0,0,0,0,0,null,null,null,null,"Profiled adjustment wage related totex - WWN - Real",null,"£m",{"$f":" SUM(WRJ518:WRP518)","v":0},null,{"$f":" IF(WRJ515 = 1, WRJ516 * WRJ517, 0)","v":0},0,0,0,0,0,0,null,null,null,null,"Profiled adjustment wage related totex - WWN - Real",null,"£m",{"$f":" SUM(WRZ518:WSF518)","v":0},null,{"$f":" IF(WRZ515 = 1, WRZ516 * WRZ517, 0)","v":0},0,0,0,0,0,0,null,null,null,null,"Profiled adjustment wage related totex - WWN - Real",null,"£m",{"$f":" SUM(WSP518:WSV518)","v":0},null,{"$f":" IF(WSP515 = 1, WSP516 * WSP517, 0)","v":0},0,0,0,0,0,0,null,null,null,null,"Profiled adjustment wage related totex - WWN - Real",null,"£m",{"$f":" SUM(WTF518:WTL518)","v":0},null,{"$f":" IF(WTF515 = 1, WTF516 * WTF517, 0)","v":0},0,0,0,0,0,0,null,null,null,null,"Profiled adjustment wage related totex - WWN - Real",null,"£m",{"$f":" SUM(WTV518:WUB518)","v":0},null,{"$f":" IF(WTV515 = 1, WTV516 * WTV517, 0)","v":0},0,0,0,0,0,0,null,null,null,null,"Profiled adjustment wage related totex - WWN - Real",null,"£m",{"$f":" SUM(WUL518:WUR518)","v":0},null,{"$f":" IF(WUL515 = 1, WUL516 * WUL517, 0)","v":0},0,0,0,0,0,0,null,null,null,null,"Profiled adjustment wage related totex - WWN - Real",null,"£m",{"$f":" SUM(WVB518:WVH518)","v":0},null,{"$f":" IF(WVB515 = 1, WVB516 * WVB517, 0)","v":0},0,0,0,0,0,0,null,null,null,null,"Profiled adjustment wage related totex - WWN - Real",null,"£m",{"$f":" SUM(WVR518:WVX518)","v":0},null,{"$f":" IF(WVR515 = 1, WVR516 * WVR517, 0)","v":0},0,0,0,0,0,0,null,null,null,null,"Profiled adjustment wage related totex - WWN - Real",null,"£m",{"$f":" SUM(WWH518:WWN518)","v":0},null,{"$f":" IF(WWH515 = 1, WWH516 * WWH517, 0)","v":0},0,0,0,0,0,0,null,null,null,null,"Profiled adjustment wage related totex - WWN - Real",null,"£m",{"$f":" SUM(WWX518:WXD518)","v":0},null,{"$f":" IF(WWX515 = 1, WWX516 * WWX517, 0)","v":0},0,0,0,0,0,0,null,null,null,null,"Profiled adjustment wage related totex - WWN - Real",null,"£m",{"$f":" SUM(WXN518:WXT518)","v":0},null,{"$f":" IF(WXN515 = 1, WXN516 * WXN517, 0)","v":0},0,0,0,0,0,0,null,null,null,null,"Profiled adjustment wage related totex - WWN - Real",null,"£m",{"$f":" SUM(WYD518:WYJ518)","v":0},null,{"$f":" IF(WYD515 = 1, WYD516 * WYD517, 0)","v":0},0,0,0,0,0,0,null,null,null,null,"Profiled adjustment wage related totex - WWN - Real",null,"£m",{"$f":" SUM(WYT518:WYZ518)","v":0},null,{"$f":" IF(WYT515 = 1, WYT516 * WYT517, 0)","v":0},0,0,0,0,0,0,null,null,null,null,"Profiled adjustment wage related totex - WWN - Real",null,"£m",{"$f":" SUM(WZJ518:WZP518)","v":0},null,{"$f":" IF(WZJ515 = 1, WZJ516 * WZJ517, 0)","v":0},0,0,0,0,0,0,null,null,null,null,"Profiled adjustment wage related totex - WWN - Real",null,"£m",{"$f":" SUM(WZZ518:XAF518)","v":0},null,{"$f":" IF(WZZ515 = 1, WZZ516 * WZZ517, 0)","v":0},0,0,0,0,0,0,null,null,null,null,"Profiled adjustment wage related totex - WWN - Real",null,"£m",{"$f":" SUM(XAP518:XAV518)","v":0},null,{"$f":" IF(XAP515 = 1, XAP516 * XAP517, 0)","v":0},0,0,0,0,0,0,null,null,null,null,"Profiled adjustment wage related totex - WWN - Real",null,"£m",{"$f":" SUM(XBF518:XBL518)","v":0},null,{"$f":" IF(XBF515 = 1, XBF516 * XBF517, 0)","v":0},0,0,0,0,0,0,null,null,null,null,"Profiled adjustment wage related totex - WWN - Real",null,"£m",{"$f":" SUM(XBV518:XCB518)","v":0},null,{"$f":" IF(XBV515 = 1, XBV516 * XBV517, 0)","v":0},0,0,0,0,0,0,null,null,null,null,"Profiled adjustment wage related totex - WWN - Real",null,"£m",{"$f":" SUM(XCL518:XCR518)","v":0},null,{"$f":" IF(XCL515 = 1, XCL516 * XCL517, 0)","v":0},0,0,0,0,0,0,null,null,null,null,"Profiled adjustment wage related totex - WWN - Real",null,"£m",{"$f":" SUM(XDB518:XDH518)","v":0},null,{"$f":" IF(XDB515 = 1, XDB516 * XDB517, 0)","v":0},0,0,0,0,0,0,null,null,null,null,"Profiled adjustment wage related totex - WWN - Real",null,"£m",{"$f":" SUM(XDR518:XDX518)","v":0},null,{"$f":" IF(XDR515 = 1, XDR516 * XDR517, 0)","v":0},0,0,0,0,0,0,null,null,null,null,"Profiled adjustment wage related totex - WWN - Real",null,"£m",{"$f":" SUM(XEH518:XEN518)","v":0},null,{"$f":" IF(XEH515 = 1, XEH516 * XEH517, 0)","v":0},0,0,0,0,0,0,null,null,null,null,"Profiled adjustment wage related totex - WWN - Real",null,"£m",{"$f":" SUM(XEX518:XFD518)","v":0},null,{"$f":" IF(XEX515 = 1, XEX516 * XEX517, 0)","v":0},0,0,0,0,0,0]

{"sheet":"Abstraction & Rates","index":10,"n_rows":224,"n_cols":16,"rows_kept":224,"cut":false,"hidden":false,"merged":[]}
[{"$f":" RIGHT(CELL(\"filename\", $A$1), LEN(CELL(\"filename\", $A$1)) - SEARCH(\"]\", CELL(\"filename\", $A$1)))&\" Uncertainty Mechanism\"","v":"Abstraction & Rates Uncertainty Mechanism"}]
[null,null,null,null,{"$f":"Time!E$22","v":"Model Period BEG"},null,null,null,null,{"$f":"Time!J$22","v":"2019-04-01"},{"$f":"Time!K$22","v":"2020-04-01"},{"$f":"Time!L$22","v":"2021-04-01"},{"$f":"Time!M$22","v":"2022-04-01"},{"$f":"Time!N$22","v":"2023-04-01"},{"$f":"Time!O$22","v":"2024-04-01"},{"$f":"Time!P$22","v":"2025-04-01"}]
[null,null,null,null,{"$f":"Time!E$23","v":"Model Period END"},{"$f":"Check!F$8","v":0},"Error chks",null,null,{"$f":"Time!J$23","v":"2020-03-31"},{"$f":"Time!K$23","v":"2021-03-31"},{"$f":"Time!L$23","v":"2022-03-31"},{"$f":"Time!M$23","v":"2023-03-31"},{"$f":"Time!N$23","v":"2024-03-31"},{"$f":"Time!O$23","v":"2025-03-31"},{"$f":"Time!P$23","v":"2026-03-31"}]
[null,null,null,null,{"$f":"Time!E$59","v":"Pre Forecast vs Forecast"},null,null,null,null,{"$f":"Time!J$59","v":"Pre Fcst"},{"$f":"Time!K$59","v":"Forecast"},{"$f":"Time!L$59","v":"Forecast"},{"$f":"Time!M$59","v":"Forecast"},{"$f":"Time!N$59","v":"Forecast"},{"$f":"Time!O$59","v":"Forecast"},{"$f":"Time!P$59","v":"Post-Fcst"}]
[null,null,null,null,{"$f":"Time!E$101","v":"Financial Year Ending"},null,null,null,null,{"$f":"Time!J$101","v":2020},{"$f":"Time!K$101","v":2021},{"$f":"Time!L$101","v":2022},{"$f":"Time!M$101","v":2023},{"$f":"Time!N$101","v":2024},{"$f":"Time!O$101","v":2025},{"$f":"Time!P$101","v":2026}]
[null,null,null,null,{"$f":"Time!E$11","v":"Model column counter"},"Constant","Unit","Total",null,{"$f":"Time!J$11","v":1},{"$f":"Time!K$11","v":2},{"$f":"Time!L$11","v":3},{"$f":"Time!M$11","v":4},{"$f":"Time!N$11","v":5},{"$f":"Time!O$11","v":6},{"$f":"Time!P$11","v":7}]
[]
["WATER RESOURCES"]
[]
[null,null,"Uncertainty mechanism for business rates and abstraction"]
[]
[null,null,null,"Business rates & abstraction charges totex"]
[null,null,null,null,{"$f":"InpActive!E$47","v":"Business rates - Forecast - WR - Real"},{"$f":"InpActive!F$47","v":0},{"$f":"InpActive!G$47","v":"£m"}]
[null,null,null,null,{"$f":"InpActive!E$48","v":"Abstraction charges - Forecast - WR - Real"},{"$f":"InpActive!F$48","v":0},{"$f":"InpActive!G$48","v":"£m"}]
[null,null,null,null,"Business rates & abstraction - Forecast - WR - Real",{"$f":" SUM(F13:F14)","v":0},"£m"]
[]
[null,null,null,"Profile total forecast business rates and abstraction charges"]
[null,null,null,null,{"$f":" E$15","v":"Business rates & abstraction - Forecast - WR - Real"},{"$f":" F$15","v":0},{"$f":" G$15","v":"£m"}]
[null,null,null,null,{"$f":"InpActive!E$38","v":"Business Rates & Abstraction Charges forecast profile - WR"},{"$f":"InpActive!F$38","v":0},{"$f":"InpActive!G$38","v":"%"},{"$f":"InpActive!H$38","v":0},{"$f":"InpActive!I$38","v":0},{"$f":"InpActive!J$38","v":0},{"$f":"InpActive!K$38","v":0.2},{"$f":"InpActive!L$38","v":0.2},{"$f":"InpActive!M$38","v":0.2},{"$f":"InpActive!N$38","v":0.2},{"$f":"InpActive!O$38","v":0.2},{"$f":"InpActive!P$38","v":0}]
[null,null,null,null,"Business rates & abstraction - Forecast Profiled - WR - Real",null,"£m ",{"$f":" SUM(J20:P20)","v":0},null,{"$f":" J19 * $F18","v":0},0,0,0,0,0,0]
[]
[null,null,null,null,{"$f":" InpActive!E$50","v":"Business rates - Actual - WR - Nominal"},{"$f":" InpActive!F$50","v":0},{"$f":" InpActive!G$50","v":"£m"},{"$f":" InpActive!H$50","v":0},{"$f":" InpActive!I$50","v":0},{"$f":" InpActive!J$50","v":0},{"$f":" InpActive!K$50","v":0},{"$f":" InpActive!L$50","v":0},{"$f":" InpActive!M$50","v":0},{"$f":" InpActive!N$50","v":0},{"$f":" InpActive!O$50","v":0},{"$f":" InpActive!P$50","v":0}]
[null,null,null,null,{"$f":" InpActive!E$51","v":"Abstraction charges - Actual - WR - Nominal"},{"$f":" InpActive!F$51","v":0},{"$f":" InpActive!G$51","v":"£m"},{"$f":" InpActive!H$51","v":0},{"$f":" InpActive!I$51","v":0},{"$f":" InpActive!J$51","v":0},{"$f":" InpActive!K$51","v":0},{"$f":" InpActive!L$51","v":0},{"$f":" InpActive!M$51","v":0},{"$f":" InpActive!N$51","v":0},{"$f":" InpActive!O$51","v":0},{"$f":" InpActive!P$51","v":0}]
[null,null,null,null,"Business rates & abstraction - Outturn - WR - Nominal",{"$f":" SUM(F22:F23)","v":0},"£m",{"$f":" SUM(J24:P24)","v":0},null,{"$f":" SUM(J22:J23)","v":0},0,0,0,0,0,0]
[]
[null,null,null,null,{"$f":" E$24","v":"Business rates & abstraction - Outturn - WR - Nominal"},{"$f":" F$24","v":0},"£m",0,0,0,0,0,0,0,0,0]
[null,null,null,null,{"$f":"Index!E$43","v":"CPI(H): Fin year average - inflate from base year 2017-18 average - CALC"},{"$f":"Index!F$43","v":0},{"$f":"Index!G$43","v":"%"},{"$f":"Index!H$43","v":0},{"$f":"Index!I$43","v":0},{"$f":"Index!J$43","v":1.0416029201511179},{"$f":"Index!K$43","v":1.0622616980779827},{"$f":"Index!L$43","v":1.0835515290872799},{"$f":"Index!M$43","v":1.1060365794841869},{"$f":"Index!N$43","v":1.1292633476533553},{"$f":"Index!O$43","v":1.1529778779540774},{"$f":"Index!P$43","v":1.1760374355131578}]
[null,null,null,null,"Business rates & abstraction - Outturn - WR - Real",null,"£m",null,null,{"$f":" J26 / J27","v":0},{"$f":" K26 / K27","v":0},{"$f":" L26 / L27","v":0},0,0,0,0]
[]
[null,null,null,"Variance to forecast business rates and abstraction charges"]
[null,null,null,null,{"$f":" E$28","v":"Business rates & abstraction - Outturn - WR - Real"},{"$f":" F$28","v":0},"£m",0,0,0,0,0,0,0,0,0]
[null,null,null,null,{"$f":" E$20","v":"Business rates & abstraction - Forecast Profiled - WR - Real"},0,"£m ",0,0,0,0,0,0,0,0,0]
[null,null,null,null,"Variance between forecast and outturn business rates & abstraction charges - WR - Real",null,"£m",{"$f":" SUM(J33:P33)","v":0},null,{"$f":" J31 - J32","v":0},0,0,0,0,0,0]
[]
[null,null,null,"Variance to forecast business rates and abstraction charges – Time adjusted"]
[null,null,null,null,{"$f":" E$33","v":"Variance between forecast and outturn business rates & abstraction charges - WR - Real"},0,"£m",0,0,0,0,0,0,0,0,0]
[null,null,null,null,{"$f":"'Cost sharing calculations'!E$129","v":"Time value of money factor - WR"},{"$f":"'Cost sharing calculations'!F$129","v":0},{"$f":"'Cost sharing calculations'!G$129","v":"Factor"},{"$f":"'Cost sharing calculations'!H$129","v":0},{"$f":"'Cost sharing calculations'!I$129","v":0},{"$f":"'Cost sharing calculations'!J$129","v":1},{"$f":"'Cost sharing calculations'!K$129","v":1},{"$f":"'Cost sharing calculations'!L$129","v":1},{"$f":"'Cost sharing calculations'!M$129","v":1},{"$f":"'Cost sharing calculations'!N$129","v":1},{"$f":"'Cost sharing calculations'!O$129","v":1},{"$f":"'Cost sharing calculations'!P$129","v":1}]
[null,null,null,null,"Variance on business rates & abstraction charges time value adjusted- WR - Real",null,"£m",{"$f":" SUM(J38:P38)","v":0},null,{"$f":" J36 * J37","v":0},0,0,0,0,0,0]
[null,null,null,null,"Adjustment for busines rates & abstraction for cost sharing - WR - Real",{"$f":" H$38","v":0},"£m"]
[]
[null,null,null,"Under / Overperformance business rates and abstraction charges"]
[null,null,null,null,{"$f":" InpActive!E$210","v":"Cost sharing rates Abstraction and Business rates - Overperformance"},{"$f":" InpActive!F$210","v":0},{"$f":" InpActive!G$210","v":"%"}]
[null,null,null,null,{"$f":"E$39","v":"Adjustment for busines rates & abstraction for cost sharing - WR - Real"},{"$f":"F$39","v":0},{"$f":"G$39","v":"£m"}]
[null,null,null,null,"Business Rates & Abstraction Outperformance Adjustment - WR - Real",{"$f":" IF( F43 < 0, $F$43 *  (1 - F42), 0)","v":0},"£m"]
[]
[null,null,null,null,{"$f":" InpActive!E$211","v":"Cost sharing rates Abstraction and Business rates - Underperformance"},{"$f":" InpActive!F$211","v":0},{"$f":" InpActive!G$211","v":"%"}]
[null,null,null,null,{"$f":"E$39","v":"Adjustment for busines rates & abstraction for cost sharing - WR - Real"},{"$f":"F$39","v":0},{"$f":"G$39","v":"£m"}]
[null,null,null,null,"Business Rates & Abstraction Underperformance Adjustment - WR - Real",{"$f":" IF( F47 > 0, $F$47 *  (1 - F46), 0)","v":0},"£m"]
[]
[null,null,null,null,{"$f":"E$44","v":"Business Rates & Abstraction Outperformance Adjustment - WR - Real"},{"$f":"F$44","v":0},{"$f":"G$44","v":"£m"}]
[null,null,null,null,{"$f":"E$48","v":"Business Rates & Abstraction Underperformance Adjustment - WR - Real"},{"$f":"F$48","v":0},{"$f":"G$48","v":"£m"}]
[null,null,null,null,"Active adjustment for business rates and abstraction charges uncertainty mechanism - WR - Real",{"$f":" IF(F50 <> 0, F50, F51)","v":0},"£m"]
[]
[null,null,null,null,{"$f":" E$52","v":"Active adjustment for business rates and abstraction charges uncertainty mechanism - WR - Real"},{"$f":" F$52","v":0},"£m"]
[null,null,null,null,{"$f":"InpActive!E$53","v":"Weighted average PAYG rate - WR"},{"$f":"InpActive!F$53","v":0},{"$f":"InpActive!G$53","v":"%"}]
[null,null,null,null,"Revenue adjustment business rates and abstraction - WR - Real",{"$f":" F54 * $F$55","v":0},"£m"]
[]
[null,null,null,null,{"$f":" E$52","v":"Active adjustment for business rates and abstraction charges uncertainty mechanism - WR - Real"},{"$f":" F$52","v":0},"£m"]
[null,null,null,null,{"$f":"InpActive!E$53","v":"Weighted average PAYG rate - WR"},{"$f":"InpActive!F$53","v":0},{"$f":"InpActive!G$53","v":"%"}]
[null,null,null,null,"RCV adjustment business rates and abstraction - WR - Real",{"$f":" F58 * (1 - $F$59)","v":0},"£m"]
[]
["WATER NETWORK"]
[]
[null,null,"Uncertainty mechanism for business rates and abstraction"]
[]
[null,null,null,"Business rates & abstraction charges totex"]
[null,null,null,null,{"$f":"InpActive!E$82","v":"Business rates - Forecast - WN  - Real"},{"$f":"InpActive!F$82","v":0},{"$f":"InpActive!G$82","v":"£m"}]
[null,null,null,null,{"$f":"InpActive!E$83","v":"Abstraction charges - Forecast - WN - Real"},{"$f":"InpActive!F$83","v":0},{"$f":"InpActive!G$83","v":"£m"}]
[null,null,null,null,"Business rates & abstraction - Forecast - WN - Real",{"$f":" SUM(F67:F68)","v":0},"£m"]
[]
[null,null,null,"Profile total forecast business rates and abstraction charges"]
[null,null,null,null,{"$f":" E$69","v":"Business rates & abstraction - Forecast - WN - Real"},{"$f":" F$69","v":0},{"$f":" G$69","v":"£m"}]
[null,null,null,null,{"$f":"InpActive!E$73","v":"Business Rates & Abstraction Charges forecast profile - WN"},{"$f":"InpActive!F$73","v":0},{"$f":"InpActive!G$73","v":"%"},{"$f":"InpActive!H$73","v":0},{"$f":"InpActive!I$73","v":0},{"$f":"InpActive!J$73","v":0},{"$f":"InpActive!K$73","v":0.2},{"$f":"InpActive!L$73","v":0.2},{"$f":"InpActive!M$73","v":0.2},{"$f":"InpActive!N$73","v":0.2},{"$f":"InpActive!O$73","v":0.2},{"$f":"InpActive!P$73","v":0}]
[null,null,null,null,"Business rates & abstraction - Forecast Profiled - WN - Real",null,"£m ",{"$f":" SUM(J74:P74)","v":0},null,{"$f":" J73 * $F72","v":0},0,0,0,0,0,0]
[]
[null,null,null,null,{"$f":" InpActive!E$85","v":"Business rates - Actual - WN - Nominal"},{"$f":" InpActive!F$85","v":0},{"$f":" InpActive!G$85","v":"£m"},{"$f":" InpActive!H$85","v":0},{"$f":" InpActive!I$85","v":0},{"$f":" InpActive!J$85","v":0},{"$f":" InpActive!K$85","v":0},{"$f":" InpActive!L$85","v":0},{"$f":" InpActive!M$85","v":0},{"$f":" InpActive!N$85","v":0},{"$f":" InpActive!O$85","v":0},{"$f":" InpActive!P$85","v":0}]
[null,null,null,null,{"$f":" InpActive!E$86","v":"Abstraction charges - Actual - WN - Nominal"},{"$f":" InpActive!F$86","v":0},{"$f":" InpActive!G$86","v":"£m"},{"$f":" InpActive!H$86","v":0},{"$f":" InpActive!I$86","v":0},{"$f":" InpActive!J$86","v":0},{"$f":" InpActive!K$86","v":0},{"$f":" InpActive!L$86","v":0},{"$f":" InpActive!M$86","v":0},{"$f":" InpActive!N$86","v":0},{"$f":" InpActive!O$86","v":0},{"$f":" InpActive!P$86","v":0}]
[null,null,null,null,"Business rates & abstraction - Outturn - WN - Nominal",null,"£m",{"$f":" SUM(J78:P78)","v":0},null,{"$f":" SUM(J76:J77)","v":0},0,0,0,0,0,0]
[]
[null,null,null,null,{"$f":" E$78","v":"Business rates & abstraction - Outturn - WN - Nominal"},{"$f":" F$78","v":0},"£m",0,0,0,0,0,0,0,0,0]
[null,null,null,null,{"$f":"Index!E$43","v":"CPI(H): Fin year average - inflate from base year 2017-18 average - CALC"},{"$f":"Index!F$43","v":0},{"$f":"Index!G$43","v":"%"},{"$f":"Index!H$43","v":0},{"$f":"Index!I$43","v":0},{"$f":"Index!J$43","v":1.0416029201511179},{"$f":"Index!K$43","v":1.0622616980779827},{"$f":"Index!L$43","v":1.0835515290872799},{"$f":"Index!M$43","v":1.1060365794841869},{"$f":"Index!N$43","v":1.1292633476533553},{"$f":"Index!O$43","v":1.1529778779540774},{"$f":"Index!P$43","v":1.1760374355131578}]
[null,null,null,null,"Business rates & abstraction - Outturn - WN - Real",null,"£m",null,null,{"$f":" J80 / J81","v":0},{"$f":" K80 / K81","v":0},{"$f":" L80 / L81","v":0},{"$f":" M80 / M81","v":0},{"$f":" N80 / N81","v":0},{"$f":" O80 / O81","v":0},{"$f":" P80 / P81","v":0}]
[]
[null,null,null,"Variance to forecast business rates and abstraction charges"]
[null,null,null,null,{"$f":" E$82","v":"Business rates & abstraction - Outturn - WN - Real"},{"$f":" F$82","v":0},"£m",0,0,0,0,0,0,0,0,0]
[null,null,null,null,{"$f":" E$74","v":"Business rates & abstraction - Forecast Profiled - WN - Real"},0,"£m ",0,0,0,0,0,0,0,0,0]
[null,null,null,null,"Variance between forecast and outturn business rates & abstraction charges - WN - Real",null,"£m",{"$f":" SUM(J87:P87)","v":0},null,{"$f":" J85 - J86","v":0},0,0,0,0,0,0]
[]
[null,null,null,"Variance to forecast business rates and abstraction charges – Time adjusted"]
[null,null,null,null,{"$f":" E$87","v":"Variance between forecast and outturn business rates & abstraction charges - WN - Real"},0,"£m",0,0,0,0,0,0,0,0,0]
[null,null,null,null,{"$f":" 'Cost sharing calculations'!E$269","v":"Time value of money factor - WN"},{"$f":" 'Cost sharing calculations'!F$269","v":0},{"$f":" 'Cost sharing calculations'!G$269","v":"Factor"},{"$f":" 'Cost sharing calculations'!H$269","v":0},{"$f":" 'Cost sharing calculations'!I$269","v":0},{"$f":" 'Cost sharing calculations'!J$269","v":1},{"$f":" 'Cost sharing calculations'!K$269","v":1},{"$f":" 'Cost sharing calculations'!L$269","v":1},{"$f":" 'Cost sharing calculations'!M$269","v":1},{"$f":" 'Cost sharing calculations'!N$269","v":1},{"$f":" 'Cost sharing calculations'!O$269","v":1},{"$f":" 'Cost sharing calculations'!P$269","v":1}]
[null,null,null,null,"Variance on business rates & abstraction charges time value adjusted- WN - Real",null,"£m",{"$f":" SUM(J92:P92)","v":0},null,{"$f":" J90 * J91","v":0},0,0,0,0,0,0]
[null,null,null,null,"Adjustment for busines rates & abstraction for cost sharing - WN - Real",{"$f":" H$92","v":0},"£m"]
[]
[null,null,null,"Under / Overperformance business rates and abstraction charges"]
[null,null,null,null,{"$f":" InpActive!E$210","v":"Cost sharing rates Abstraction and Business rates - Overperformance"},{"$f":" InpActive!F$210","v":0},{"$f":" InpActive!G$210","v":"%"}]
[null,null,null,null,{"$f":"E$93","v":"Adjustment for busines rates & abstraction for cost sharing - WN - Real"},{"$f":"F$93","v":0},{"$f":"G$93","v":"£m"}]
[null,null,null,null,"Business Rates & Abstraction Outperformance Adjustment - WN - Real",{"$f":" IF( F97 < 0, $F$97 *  (1 - F96), 0)","v":0},"£m"]
[]
[null,null,null,null,{"$f":" InpActive!E$211","v":"Cost sharing rates Abstraction and Business rates - Underperformance"},{"$f":" InpActive!F$211","v":0},{"$f":" InpActive!G$211","v":"%"}]
[null,null,null,null,{"$f":"E$93","v":"Adjustment for busines rates & abstraction for cost sharing - WN - Real"},{"$f":"F$93","v":0},{"$f":"G$93","v":"£m"}]
[null,null,null,null,"Business Rates & Abstraction Underperformance Adjustment - WN - Real",{"$f":" IF( F101 > 0, $F$101 *  (1 -F100), 0)","v":0},"£m"]
[]
[null,null,null,null,{"$f":"E$98","v":"Business Rates & Abstraction Outperformance Adjustment - WN - Real"},{"$f":"F$98","v":0},{"$f":"G$98","v":"£m"}]
[null,null,null,null,{"$f":"E$102","v":"Business Rates & Abstraction Underperformance Adjustment - WN - Real"},{"$f":"F$102","v":0},{"$f":"G$102","v":"£m"}]
[null,null,null,null,"Active adjustment for business rates and abstraction charges uncertainty mechanism - WN - Real",{"$f":" IF(F104 <> 0, F104, F105)","v":0},"£m"]
[]
[null,null,null,null,{"$f":" E$106","v":"Active adjustment for business rates and abstraction charges uncertainty mechanism - WN - Real"},{"$f":" F$106","v":0},"£m"]
[null,null,null,null,{"$f":"InpActive!E$88","v":"Weighted average PAYG rate - WN"},{"$f":"InpActive!F$88","v":0},{"$f":"InpActive!G$88","v":"%"}]
[null,null,null,null,"Revenue adjustment business rates and abstraction - WN - Real",{"$f":" F108 * $F$109","v":0},"£m"]
[]
[null,null,null,null,{"$f":" E$106","v":"Active adjustment for business rates and abstraction charges uncertainty mechanism - WN - Real"},{"$f":" F$106","v":0},"£m"]
[null,null,null,null,{"$f":"InpActive!E$88","v":"Weighted average PAYG rate - WN"},{"$f":"InpActive!F$88","v":0},{"$f":"InpActive!G$88","v":"%"}]
[null,null,null,null,"RCV adjustment business rates and abstraction - WN - Real",{"$f":" F112 * (1 - $F$113)","v":0},"£m"]
[]
["WASTEWATER NETWORK"]
[]
[null,null,"Uncertainty mechanism for business rates and abstraction"]
[]
[null,null,null,"Business rates & abstraction charges totex"]
[null,null,null,null,{"$f":"InpActive!E$117","v":"Business rates - Forecast - WWN - Real"},{"$f":"InpActive!F$117","v":0},{"$f":"InpActive!G$117","v":"£m"}]
[null,null,null,null,{"$f":"InpActive!E$118","v":"Abstraction charges - Forecast - WWN - Real"},{"$f":"InpActive!F$118","v":0},{"$f":"InpActive!G$118","v":"£m"}]
[null,null,null,null,"Business rates & abstraction - Forecast - WWN - Real",{"$f":" SUM(F121:F122)","v":0},"£m"]
[]
[null,null,null,"Profile total forecast business rates and abstraction charges"]
[null,null,null,null,{"$f":" E$123","v":"Business rates & abstraction - Forecast - WWN - Real"},{"$f":" F$123","v":0},{"$f":" G$123","v":"£m"}]
[null,null,null,null,{"$f":"InpActive!E$108","v":"Business Rates & Abstraction Charges forecast profile - WWN"},{"$f":"InpActive!F$108","v":0},{"$f":"InpActive!G$108","v":"%"},{"$f":"InpActive!H$108","v":0},{"$f":"InpActive!I$108","v":0},{"$f":"InpActive!J$108","v":0},{"$f":"InpActive!K$108","v":0},{"$f":"InpActive!L$108","v":0},{"$f":"InpActive!M$108","v":0},{"$f":"InpActive!N$108","v":0},{"$f":"InpActive!O$108","v":0},{"$f":"InpActive!P$108","v":0}]
[null,null,null,null,"Business rates & abstraction - Forecast Profiled - WWN - Real",null,"£m ",{"$f":" SUM(J128:P128)","v":0},null,{"$f":" J127 * $F126","v":0},0,0,0,0,0,0]
[]
[null,null,null,null,{"$f":" InpActive!E$120","v":"Business rates - Actual - WWN - Nominal"},{"$f":" InpActive!F$120","v":0},{"$f":" InpActive!G$120","v":"£m"},{"$f":" InpActive!H$120","v":0},{"$f":" InpActive!I$120","v":0},{"$f":" InpActive!J$120","v":0},{"$f":" InpActive!K$120","v":0},{"$f":" InpActive!L$120","v":0},{"$f":" InpActive!M$120","v":0},{"$f":" InpActive!N$120","v":0},{"$f":" InpActive!O$120","v":0},{"$f":" InpActive!P$120","v":0}]
[null,null,null,null,{"$f":" InpActive!E$121","v":"Abstraction charges - Actual - WWN - Nominal"},{"$f":" InpActive!F$121","v":0},{"$f":" InpActive!G$121","v":"£m"},{"$f":" InpActive!H$121","v":0},{"$f":" InpActive!I$121","v":0},{"$f":" InpActive!J$121","v":0},{"$f":" InpActive!K$121","v":0},{"$f":" InpActive!L$121","v":0},{"$f":" InpActive!M$121","v":0},{"$f":" InpActive!N$121","v":0},{"$f":" InpActive!O$121","v":0},{"$f":" InpActive!P$121","v":0}]
[null,null,null,null,"Business rates & abstraction - Outturn - WWN - Nominal",{"$f":" SUM(F130:F131)","v":0},"£m",{"$f":" SUM(J132:P132)","v":0},null,{"$f":" SUM(J130:J131)","v":0},0,0,0,0,0,0]
[]
[null,null,null,null,{"$f":" E$132","v":"Business rates & abstraction - Outturn - WWN - Nominal"},{"$f":" F$132","v":0},"£m",0,0,0,0,0,0,0,0,0]
[null,null,null,null,{"$f":"Index!E$43","v":"CPI(H): Fin year average - inflate from base year 2017-18 average - CALC"},{"$f":"Index!F$43","v":0},{"$f":"Index!G$43","v":"%"},{"$f":"Index!H$43","v":0},{"$f":"Index!I$43","v":0},{"$f":"Index!J$43","v":1.0416029201511179},{"$f":"Index!K$43","v":1.0622616980779827},{"$f":"Index!L$43","v":1.0835515290872799},{"$f":"Index!M$43","v":1.1060365794841869},{"$f":"Index!N$43","v":1.1292633476533553},{"$f":"Index!O$43","v":1.1529778779540774},{"$f":"Index!P$43","v":1.1760374355131578}]
[null,null,null,null,"Business rates & abstraction - Outturn - WWN - Real",null,"£m",null,null,{"$f":" J134 / J135","v":0},{"$f":" K134 / K135","v":0},{"$f":" L134 / L135","v":0},{"$f":" M134 / M135","v":0},{"$f":" N134 / N135","v":0},{"$f":" O134 / O135","v":0},{"$f":" P134 / P135","v":0}]
[]
[null,null,null,"Variance to forecast business rates and abstraction charges"]
[null,null,null,null,{"$f":" E$136","v":"Business rates & abstraction - Outturn - WWN - Real"},{"$f":" F$136","v":0},"£m",0,0,0,0,0,0,0,0,0]
[null,null,null,null,{"$f":" E$128","v":"Business rates & abstraction - Forecast Profiled - WWN - Real"},{"$f":" F$128","v":0},"£m ",0,0,0,0,0,0,0,0,0]
[null,null,null,null,"Variance between forecast and outturn business rates & abstraction charges - WWN - Real",null,"£m",{"$f":" SUM(J141:P141)","v":0},null,{"$f":" J139 - J140","v":0},0,0,0,0,0,0]
[]
[null,null,null,"Variance to forecast business rates and abstraction charges - Time adjusted"]
[null,null,null,null,{"$f":" E$141","v":"Variance between forecast and outturn business rates & abstraction charges - WWN - Real"},0,"£m",0,0,0,0,0,0,0,0,0]
[null,null,null,null,{"$f":" 'Cost sharing calculations'!E$410","v":"Time value of money factor - WWN"},{"$f":" 'Cost sharing calculations'!F$410","v":0},{"$f":" 'Cost sharing calculations'!G$410","v":"Factor"},{"$f":" 'Cost sharing calculations'!H$410","v":0},{"$f":" 'Cost sharing calculations'!I$410","v":0},{"$f":" 'Cost sharing calculations'!J$410","v":1},{"$f":" 'Cost sharing calculations'!K$410","v":1},{"$f":" 'Cost sharing calculations'!L$410","v":1},{"$f":" 'Cost sharing calculations'!M$410","v":1},{"$f":" 'Cost sharing calculations'!N$410","v":1},{"$f":" 'Cost sharing calculations'!O$410","v":1},{"$f":" 'Cost sharing calculations'!P$410","v":1}]
[null,null,null,null,"Variance on business rates & abstraction charges time value adjusted- WWN - Real",null,"£m",{"$f":" SUM(J146:P146)","v":0},null,{"$f":" J144 * J145","v":0},0,0,0,0,0,0]
[null,null,null,null,"Adjustment for busines rates & abstraction for cost sharing - WWN - Real",{"$f":" H$146","v":0},"£m"]
[]
[null,null,null,"Under / Overperformance business rates and abstraction charges"]
[null,null,null,null,{"$f":" InpActive!E$210","v":"Cost sharing rates Abstraction and Business rates - Overperformance"},{"$f":" InpActive!F$210","v":0},{"$f":" InpActive!G$210","v":"%"}]
[null,null,null,null,{"$f":"E$147","v":"Adjustment for busines rates & abstraction for cost sharing - WWN - Real"},{"$f":"F$147","v":0},{"$f":"G$147","v":"£m"}]
[null,null,null,null,"Business Rates & Abstraction Outperformance Adjustment - WWN - Real",{"$f":" IF( F151 < 0, $F$151 *  (1 - F150), 0)","v":0},"£m"]
[]
[null,null,null,null,{"$f":" InpActive!E$211","v":"Cost sharing rates Abstraction and Business rates - Underperformance"},{"$f":" InpActive!F$211","v":0},{"$f":" InpActive!G$211","v":"%"}]
[null,null,null,null,{"$f":"E$147","v":"Adjustment for busines rates & abstraction for cost sharing - WWN - Real"},{"$f":"F$147","v":0},{"$f":"G$147","v":"£m"}]
[null,null,null,null,"Business Rates & Abstraction Underperformance Adjustment - WWN - Real",{"$f":" IF( F155 > 0, $F$155 *  (1 - F154), 0)","v":0},"£m"]
[]
[null,null,null,null,{"$f":" E$152","v":"Business Rates & Abstraction Outperformance Adjustment - WWN - Real"},{"$f":" F$152","v":0},{"$f":" G$152","v":"£m"}]
[null,null,null,null,{"$f":" E$156","v":"Business Rates & Abstraction Underperformance Adjustment - WWN - Real"},{"$f":" F$156","v":0},{"$f":" G$156","v":"£m"}]
[null,null,null,null,"Active adjustment for business rates and abstraction charges uncertainty mechanism - WWN - Real",{"$f":" IF(F158 <> 0, F158, F159)","v":0},"£m"]
[]
[null,null,null,null,{"$f":" E$160","v":"Active adjustment for business rates and abstraction charges uncertainty mechanism - WWN - Real"},{"$f":" F$160","v":0},"£m"]
[null,null,null,null,{"$f":"InpActive!E$123","v":"Weighted average PAYG rate - WWN"},{"$f":"InpActive!F$123","v":0},{"$f":"InpActive!G$123","v":"%"}]
[null,null,null,null,"Revenue adjustment business rates and abstraction - WWN - Real",{"$f":" F162 * $F$163","v":0},"£m"]
[]
[null,null,null,null,{"$f":" E$160","v":"Active adjustment for business rates and abstraction charges uncertainty mechanism - WWN - Real"},{"$f":" F$160","v":0},"£m"]
[null,null,null,null,{"$f":"InpActive!E$123","v":"Weighted average PAYG rate - WWN"},{"$f":"InpActive!F$123","v":0},{"$f":"InpActive!G$123","v":"%"}]
[null,null,null,null,"RCV adjustment business rates and abstraction - WWN - Real",{"$f":" F166 * (1 - $F$167)","v":0},"£m"]
[]
["BIORESOURCES"]
[]
[null,null,"Uncertainty mechanism for business rates and abstraction"]
[]
[null,null,null,"Business rates & abstraction charges totex"]
[null,null,null,null,{"$f":"InpActive!E$139","v":"Business rates - Forecast - BIO - Real"},{"$f":"InpActive!F$139","v":0},{"$f":"InpActive!G$139","v":"£m"}]
[null,null,null,null,{"$f":"InpActive!E$140","v":"Abstraction charges - Forecast - BIO - Real"},{"$f":"InpActive!F$140","v":0},{"$f":"InpActive!G$140","v":"£m"}]
[null,null,null,null,"Business rates & abstraction - Forecast - BIO - Real",{"$f":" SUM(F175:F176)","v":0},"£m"]
[]
[null,null,null,"Profile total forecast business rates and abstraction charges"]
[null,null,null,null,{"$f":" E$177","v":"Business rates & abstraction - Forecast - BIO - Real"},{"$f":" F$177","v":0},"£m"]
[null,null,null,null,{"$f":"InpActive!E$145","v":"Business Rates & Abstraction Charges forecast profile - BIO"},{"$f":"InpActive!F$145","v":0},{"$f":"InpActive!G$145","v":"%"},{"$f":"InpActive!H$145","v":0},{"$f":"InpActive!I$145","v":0},{"$f":"InpActive!J$145","v":0},{"$f":"InpActive!K$145","v":0.2},{"$f":"InpActive!L$145","v":0.2},{"$f":"InpActive!M$145","v":0.2},{"$f":"InpActive!N$145","v":0.2},{"$f":"InpActive!O$145","v":0.2},{"$f":"InpActive!P$145","v":0}]
[null,null,null,null,"Business rates & abstraction - Forecast Profiled - BIO - Real",null,"£m ",{"$f":" SUM(J182:P182)","v":0},null,{"$f":" J181 * $F180","v":0},0,0,0,0,0,0]
[]
[null,null,null,null,{"$f":" InpActive!E$142","v":"Business rates - Actual - BIO - Nominal"},{"$f":" InpActive!F$142","v":0},{"$f":" InpActive!G$142","v":"£m"},{"$f":" InpActive!H$142","v":0},{"$f":" InpActive!I$142","v":0},{"$f":" InpActive!J$142","v":0},{"$f":" InpActive!K$142","v":0},{"$f":" InpActive!L$142","v":0},{"$f":" InpActive!M$142","v":0},{"$f":" InpActive!N$142","v":0},{"$f":" InpActive!O$142","v":0},{"$f":" InpActive!P$142","v":0}]
[null,null,null,null,{"$f":" InpActive!E$143","v":"Abstraction charges - Actual - BIO - Nominal"},{"$f":" InpActive!F$143","v":0},{"$f":" InpActive!G$143","v":"£m"},{"$f":" InpActive!H$143","v":0},{"$f":" InpActive!I$143","v":0},{"$f":" InpActive!J$143","v":0},{"$f":" InpActive!K$143","v":0},{"$f":" InpActive!L$143","v":0},{"$f":" InpActive!M$143","v":0},{"$f":" InpActive!N$143","v":0},{"$f":" InpActive!O$143","v":0},{"$f":" InpActive!P$143","v":0}]
[null,null,null,null,"Business rates & abstraction - Outturn - BIO - Nominal",{"$f":" SUM(F184:F185)","v":0},"£m",{"$f":" SUM(J186:P186)","v":0},null,{"$f":" SUM(J184:J185)","v":0},0,0,0,0,0,0]
[]
[null,null,null,null,{"$f":" E$186","v":"Business rates & abstraction - Outturn - BIO - Nominal"},{"$f":" F$186","v":0},"£m",0,0,0,0,0,0,0,0,0]
[null,null,null,null,{"$f":"Index!E$43","v":"CPI(H): Fin year average - inflate from base year 2017-18 average - CALC"},{"$f":"Index!F$43","v":0},{"$f":"Index!G$43","v":"%"},{"$f":"Index!H$43","v":0},{"$f":"Index!I$43","v":0},{"$f":"Index!J$43","v":1.0416029201511179},{"$f":"Index!K$43","v":1.0622616980779827},{"$f":"Index!L$43","v":1.0835515290872799},{"$f":"Index!M$43","v":1.1060365794841869},{"$f":"Index!N$43","v":1.1292633476533553},{"$f":"Index!O$43","v":1.1529778779540774},{"$f":"Index!P$43","v":1.1760374355131578}]
[null,null,null,null,"Business rates & abstraction - Outturn - BIO - Real",null,"£m",null,null,{"$f":" J188 / J189","v":0},{"$f":" K188 / K189","v":0},{"$f":" L188 / L189","v":0},{"$f":" M188 / M189","v":0},{"$f":" N188 / N189","v":0},{"$f":" O188 / O189","v":0},{"$f":" P188 / P189","v":0}]
[]
[null,null,null,"Variance to forecast business rates and abstraction charges"]
[null,null,null,null,{"$f":" E$190","v":"Business rates & abstraction - Outturn - BIO - Real"},{"$f":" F$190","v":0},"£m",0,0,0,0,0,0,0,0,0]
[null,null,null,null,{"$f":" E$182","v":"Business rates & abstraction - Forecast Profiled - BIO - Real"},{"$f":" F$182","v":0},"£m ",0,0,0,0,0,0,0,0,0]
[null,null,null,null,"Variance between forecast and outturn business rates & abstraction charges - BIO - Real",null,"£m",{"$f":" SUM(J195:P195)","v":0},null,{"$f":" J193 - J194","v":0},0,0,0,0,0,0]
[]
[null,null,null,"Variance to forecast business rates and abstraction charges - Time adjusted"]
[null,null,null,null,{"$f":" E$195","v":"Variance between forecast and outturn business rates & abstraction charges - BIO - Real"},0,"£m",0,0,0,0,0,0,0,0,0]
[null,null,null,null,{"$f":"'Bioresources wage growth'!E$49","v":"Time value of money factor - BIO"},{"$f":"'Bioresources wage growth'!F$49","v":0},{"$f":"'Bioresources wage growth'!G$49","v":"Factor"},{"$f":"'Bioresources wage growth'!H$49","v":0},{"$f":"'Bioresources wage growth'!I$49","v":0},{"$f":"'Bioresources wage growth'!J$49","v":1},{"$f":"'Bioresources wage growth'!K$49","v":1},{"$f":"'Bioresources wage growth'!L$49","v":1},{"$f":"'Bioresources wage growth'!M$49","v":1},{"$f":"'Bioresources wage growth'!N$49","v":1},{"$f":"'Bioresources wage growth'!O$49","v":1},{"$f":"'Bioresources wage growth'!P$49","v":1}]
[null,null,null,null,"Variance on business rates & abstraction charges time value adjusted- BIO - Real",null,"£m",{"$f":" SUM(J200:P200)","v":0},null,{"$f":" J198 * J199","v":0},0,0,0,0,0,0]
[null,null,null,null,"Adjustment for busines rates & abstraction for cost sharing - BIO - Real",{"$f":" H$200","v":0},"£m"]
[]
[null,null,null,"Under / Overperformance business rates and abstraction charges"]
[null,null,null,null,{"$f":" InpActive!E$210","v":"Cost sharing rates Abstraction and Business rates - Overperformance"},{"$f":" InpActive!F$210","v":0},{"$f":" InpActive!G$210","v":"%"}]
[null,null,null,null,{"$f":"E$201","v":"Adjustment for busines rates & abstraction for cost sharing - BIO - Real"},{"$f":"F$201","v":0},{"$f":"G$201","v":"£m"}]
[null,null,null,null,"Business Rates & Abstraction Outperformance Adjustment - BIO - Real",{"$f":" IF( F205 < 0, $F$205 *  (1 - F204), 0)","v":0},"£m"]
[]
[null,null,null,null,{"$f":" InpActive!E$211","v":"Cost sharing rates Abstraction and Business rates - Underperformance"},{"$f":" InpActive!F$211","v":0},{"$f":" InpActive!G$211","v":"%"}]
[null,null,null,null,{"$f":"E$201","v":"Adjustment for busines rates & abstraction for cost sharing - BIO - Real"},{"$f":"F$201","v":0},{"$f":"G$201","v":"£m"}]
[null,null,null,null,"Business Rates & Abstraction Underperformance Adjustment - BIO - Real",{"$f":" IF( F209 > 0, $F$209 *  (1 - F208), 0)","v":0},"£m"]
[]
[null,null,null,null,{"$f":" E$206","v":"Business Rates & Abstraction Outperformance Adjustment - BIO - Real"},{"$f":" F$206","v":0},"£m"]
[null,null,null,null,{"$f":" E$210","v":"Business Rates & Abstraction Underperformance Adjustment - BIO - Real"},{"$f":" F$210","v":0},"£m"]
[null,null,null,null,"Active adjustment for business rates and abstraction charges uncertainty mechanism - BIO - Real",{"$f":" IF(F212 <> 0, F212, F213)","v":0},"£m"]
[]
[null,null,null,null,{"$f":" E$214","v":"Active adjustment for business rates and abstraction charges uncertainty mechanism - BIO - Real"},{"$f":" F$214","v":0},"£m"]
[null,null,null,null,{"$f":"InpActive!E$147","v":"Weighted average PAYG rate - BIO"},{"$f":"InpActive!F$147","v":0},{"$f":"InpActive!G$147","v":"%"}]
[null,null,null,null,"Revenue adjustment business rates and abstraction - BIO - Real",{"$f":" F216 * $F$217","v":0},"£m"]
[]
[null,null,null,null,{"$f":" E$214","v":"Active adjustment for business rates and abstraction charges uncertainty mechanism - BIO - Real"},{"$f":" F$214","v":0},{"$f":" G$214","v":"£m"}]
[null,null,null,null,{"$f":"InpActive!E$147","v":"Weighted average PAYG rate - BIO"},{"$f":"InpActive!F$147","v":0},{"$f":"InpActive!G$147","v":"%"}]
[null,null,null,null,"RCV adjustment business rates and abstraction - BIO - Real",{"$f":" F220 * (1 - $F$221)","v":0},"£m"]
[]
["END OF SHEET"]

{"sheet":"Bioresources wage growth","index":11,"n_rows":58,"n_cols":17,"rows_kept":58,"cut":false,"hidden":false,"merged":[]}
[{"$f":" RIGHT(CELL(\"filename\", $A$1), LEN(CELL(\"filename\", $A$1)) - SEARCH(\"]\", CELL(\"filename\", $A$1)))","v":"Bioresources wage growth"}]
[null,null,null,null,{"$f":"Time!E$22","v":"Model Period BEG"},null,null,null,null,{"$f":"Time!J$22","v":"2019-04-01"},{"$f":"Time!K$22","v":"2020-04-01"},{"$f":"Time!L$22","v":"2021-04-01"},{"$f":"Time!M$22","v":"2022-04-01"},{"$f":"Time!N$22","v":"2023-04-01"},{"$f":"Time!O$22","v":"2024-04-01"},{"$f":"Time!P$22","v":"2025-04-01"}]
[null,null,null,null,{"$f":"Time!E$23","v":"Model Period END"},{"$f":"Check!F$8","v":0},"Error chks",null,null,{"$f":"Time!J$23","v":"2020-03-31"},{"$f":"Time!K$23","v":"2021-03-31"},{"$f":"Time!L$23","v":"2022-03-31"},{"$f":"Time!M$23","v":"2023-03-31"},{"$f":"Time!N$23","v":"2024-03-31"},{"$f":"Time!O$23","v":"2025-03-31"},{"$f":"Time!P$23","v":"2026-03-31"}]
[null,null,null,null,{"$f":"Time!E$59","v":"Pre Forecast vs Forecast"},null,null,null,null,{"$f":"Time!J$59","v":"Pre Fcst"},{"$f":"Time!K$59","v":"Forecast"},{"$f":"Time!L$59","v":"Forecast"},{"$f":"Time!M$59","v":"Forecast"},{"$f":"Time!N$59","v":"Forecast"},{"$f":"Time!O$59","v":"Forecast"},{"$f":"Time!P$59","v":"Post-Fcst"}]
[null,null,null,null,{"$f":"Time!E$101","v":"Financial Year Ending"},null,null,null,null,{"$f":"Time!J$101","v":2020},{"$f":"Time!K$101","v":2021},{"$f":"Time!L$101","v":2022},{"$f":"Time!M$101","v":2023},{"$f":"Time!N$101","v":2024},{"$f":"Time!O$101","v":2025},{"$f":"Time!P$101","v":2026}]
[null,null,null,null,{"$f":"Time!E$11","v":"Model column counter"},"Constant","Unit","Total",null,{"$f":"Time!J$11","v":1},{"$f":"Time!K$11","v":2},{"$f":"Time!L$11","v":3},{"$f":"Time!M$11","v":4},{"$f":"Time!N$11","v":5},{"$f":"Time!O$11","v":6},{"$f":"Time!P$11","v":7}]
[]
["BIORESOURCES"]
[]
[null,null,"Adjustment For Wage Growth"]
[]
[null,null,null,"Totex for wage adjustment"]
[null,null,null,null,{"$f":"InpActive!E$133","v":"Base Costs - BIO - Real"},{"$f":"InpActive!F$133","v":0},{"$f":"InpActive!G$133","v":"£m"}]
[null,null,null,null,{"$f":"InpActive!E$134","v":"WINEP / NEP ~ In-the-Round - BIO - Real"},{"$f":"InpActive!F$134","v":0},{"$f":"InpActive!G$134","v":"£m"}]
[null,null,null,null,"Totex available for wage indexation adjustment - BIO - Real",{"$f":" SUM(F13:F14)","v":0},"£m"]
[]
[null,null,null,"Profile for totex for wage adjustment"]
[null,null,null,null,{"$f":"InpActive!E$136","v":"Opex Split Profile - Base costs - BIO"},{"$f":"InpActive!F$136","v":0},{"$f":"InpActive!G$136","v":"%"},{"$f":"InpActive!H$136","v":0},{"$f":"InpActive!I$136","v":0},{"$f":"InpActive!J$136","v":0},{"$f":"InpActive!K$136","v":0},{"$f":"InpActive!L$136","v":0},{"$f":"InpActive!M$136","v":0},{"$f":"InpActive!N$136","v":0},{"$f":"InpActive!O$136","v":0},{"$f":"InpActive!P$136","v":0}]
[null,null,null,null,{"$f":"InpActive!E$137","v":"Capex Split Profile - Base costs - BIO"},{"$f":"InpActive!F$137","v":0},{"$f":"InpActive!G$137","v":"%"},{"$f":"InpActive!H$137","v":0},{"$f":"InpActive!I$137","v":0},{"$f":"InpActive!J$137","v":0},{"$f":"InpActive!K$137","v":0},{"$f":"InpActive!L$137","v":0},{"$f":"InpActive!M$137","v":0},{"$f":"InpActive!N$137","v":0},{"$f":"InpActive!O$137","v":0},{"$f":"InpActive!P$137","v":0}]
[null,null,null,null,"Totex profile - BIO",null,"%",{"$f":" SUM(J20:P20)","v":0},null,{"$f":" SUM(J18:J19)","v":0},0,0,0,0,0,0]
[null,null,null,null,"Totex profile - 5 year percentage - BIO",{"$f":"H$20","v":0},"%"]
[]
[null,null,null,null,{"$f":" E$21","v":"Totex profile - 5 year percentage - BIO"},{"$f":" F$21","v":0},{"$f":" G$21","v":"%"}]
[null,null,null,null,"WWN Totex profile 100% check",{"$f":" IF(OR($F$23 = 1, F23 = 0), 0, 1)","v":0},"Check"]
[]
[null,null,null,null,{"$f":" E$15","v":"Totex available for wage indexation adjustment - BIO - Real"},{"$f":" F$15","v":0},{"$f":" G$15","v":"£m"}]
[null,null,null,null,{"$f":"Time!E$54","v":"Forecast Period Flag"},{"$f":"Time!F$54","v":0},{"$f":"Time!G$54","v":"flag"},{"$f":"Time!H$54","v":5},{"$f":"Time!I$54","v":0},{"$f":"Time!J$54","v":0},{"$f":"Time!K$54","v":1},{"$f":"Time!L$54","v":1},{"$f":"Time!M$54","v":1},{"$f":"Time!N$54","v":1},{"$f":"Time!O$54","v":1},{"$f":"Time!P$54","v":0}]
[null,null,null,null,{"$f":" E$20","v":"Totex profile - BIO"},0,"%",0,0,0,0,0,0,0,0,0]
[null,null,null,null,"Profiled Totex available for wage indexation adjustment - BIO - Real",null,"£m",{"$f":" SUM(J29:P29)","v":0},null,{"$f":" IF(J27 = 1, J28 * $F26, 0)","v":0},0,0,0,0,0,0]
[]
[null,null,null,"Totex applicable for wage adjustment by year"]
[null,null,null,null,{"$f":"InpActive!E$194","v":"Percentage totex linked to wage growth - BIO"},{"$f":"InpActive!F$194","v":0.38600000000000001},{"$f":"InpActive!G$194","v":"%"}]
[null,null,null,null,{"$f":"E29","v":"Profiled Totex available for wage indexation adjustment - BIO - Real"},0,"£m",0,0,0,0,0,0,0,0,0]
[null,null,null,null,"Profiled Net totex available for wage adj - BIO - Real",null,"£m",{"$f":" SUM(J34:P34)","v":0},null,{"$f":" J33 * $F32","v":0},0,0,0,0,0,0]
[]
[null,null,null,"Adjustment factor for wage linked totex"]
[null,null,null,null,{"$f":"Time!E$54","v":"Forecast Period Flag"},{"$f":"Time!F$54","v":0},{"$f":"Time!G$54","v":"flag"},{"$f":"Time!H$54","v":5},{"$f":"Time!I$54","v":0},{"$f":"Time!J$54","v":0},{"$f":"Time!K$54","v":1},{"$f":"Time!L$54","v":1},{"$f":"Time!M$54","v":1},{"$f":"Time!N$54","v":1},{"$f":"Time!O$54","v":1},{"$f":"Time!P$54","v":0}]
[null,null,null,null,{"$f":" E$34","v":"Profiled Net totex available for wage adj - BIO - Real"},0,"£m",0,0,0,0,0,0,0,0,0]
[null,null,null,null,{"$f":" 'Cost sharing calculations'!E$26","v":"Real adjustment factor for wages"},{"$f":" 'Cost sharing calculations'!F$26","v":0},{"$f":" 'Cost sharing calculations'!G$26","v":"%"},{"$f":" 'Cost sharing calculations'!H$26","v":0},{"$f":" 'Cost sharing calculations'!I$26","v":0},{"$f":" 'Cost sharing calculations'!J$26","v":0},{"$f":" 'Cost sharing calculations'!K$26","v":0},{"$f":" 'Cost sharing calculations'!L$26","v":0},{"$f":" 'Cost sharing calculations'!M$26","v":0},{"$f":" 'Cost sharing calculations'!N$26","v":0},{"$f":" 'Cost sharing calculations'!O$26","v":0},{"$f":" 'Cost sharing calculations'!P$26","v":0}]
[null,null,null,null,"Profiled adjustment wage related totex - BIO - Real",null,"£m",{"$f":" SUM(J40:P40)","v":0},null,{"$f":" IF(J37 = 1, J38 * J39, 0)","v":0},0,0,0,0,0,0]
[]
[null,null,null,"Variance to forecast wage linked totex "]
[null,null,null,null,{"$f":" E$40","v":"Profiled adjustment wage related totex - BIO - Real"},0,"£m",0,0,0,0,0,0,0,0,0,{"$f":" 'Cost sharing calculations'!Q$360","v":0}]
[null,null,null,null,{"$f":" E$34","v":"Profiled Net totex available for wage adj - BIO - Real"},0,"£m",0,0,0,0,0,0,0,0,0,{"$f":" 'Cost sharing calculations'!Q$354","v":0}]
[null,null,null,null,"Variance to forecast totex for wage adjustment- BIO",null,"£m",{"$f":" SUM(J45:P45)","v":0},null,{"$f":" J43 - J44","v":0},0,0,0,0,0,0,0]
[]
[null,null,null,null,{"$f":" InpActive!E$217","v":"Financing cost index"},{"$f":" InpActive!F$217","v":0},{"$f":" InpActive!G$217","v":"Index"},{"$f":" InpActive!H$217","v":0},{"$f":" InpActive!I$217","v":0},{"$f":" InpActive!J$217","v":0},{"$f":" InpActive!K$217","v":4},{"$f":" InpActive!L$217","v":3},{"$f":" InpActive!M$217","v":2},{"$f":" InpActive!N$217","v":1},{"$f":" InpActive!O$217","v":0},{"$f":" InpActive!P$217","v":0}]
[null,null,null,null,{"$f":" InpActive!E$222","v":"Real WACC CPIH Deflated - BIO"},{"$f":" InpActive!F$222","v":0},{"$f":" InpActive!G$222","v":"%"}]
[null,null,null,null,"Time value of money factor - BIO",null,"Factor",null,null,{"$f":"(1+$F48) ^ J47","v":1},1,1,1,1,1,1]
[]
[null,null,null,"Wage totex overfunded/unfunded at PR19"]
[null,null,null,null,{"$f":" E$45","v":"Variance to forecast totex for wage adjustment- BIO"},0,"£m",0,0,0,0,0,0,0,0,0,{"$f":" 'Cost sharing calculations'!Q$365","v":0}]
[null,null,null,null,{"$f":"E49","v":"Time value of money factor - BIO"},0,"Factor",0,0,1,1,1,1,1,1,1,{"$f":"'Cost sharing calculations'!Q492","v":0}]
[null,null,null,null,"Variance to forecast totex for wage adjustment - NPV adjusted - BIO",null,"£m",{"$f":" SUM(J54:P54)","v":0},null,{"$f":" J52*J53","v":0},0,0,0,0,0,0,0]
[null,null,null,null,"Total adjustment for wage related totex - BIO - Real",{"$f":" H54","v":0},"£m"]
[]
[]
["END OF SHEET"]

{"sheet":"Outputs-->","index":12,"n_rows":0,"n_cols":0,"rows_kept":0,"cut":false,"hidden":false,"merged":[]}

{"sheet":"Outputs","index":13,"n_rows":60,"n_cols":16,"rows_kept":60,"cut":false,"hidden":false,"merged":[]}
[{"$f":" RIGHT(CELL(\"filename\", $A$1), LEN(CELL(\"filename\", $A$1)) - SEARCH(\"]\", CELL(\"filename\", $A$1)))","v":"Outputs"}]
[null,null,null,null,{"$f":"Time!E$22","v":"Model Period BEG"},null,null,null,null,{"$f":"Time!J$22","v":"2019-04-01"},{"$f":"Time!K$22","v":"2020-04-01"},{"$f":"Time!L$22","v":"2021-04-01"},{"$f":"Time!M$22","v":"2022-04-01"},{"$f":"Time!N$22","v":"2023-04-01"},{"$f":"Time!O$22","v":"2024-04-01"},{"$f":"Time!P$22","v":"2025-04-01"}]
[null,null,null,null,{"$f":"Time!E$23","v":"Model Period END"},{"$f":"Check!F$8","v":0},"Error chks",null,null,{"$f":"Time!J$23","v":"2020-03-31"},{"$f":"Time!K$23","v":"2021-03-31"},{"$f":"Time!L$23","v":"2022-03-31"},{"$f":"Time!M$23","v":"2023-03-31"},{"$f":"Time!N$23","v":"2024-03-31"},{"$f":"Time!O$23","v":"2025-03-31"},{"$f":"Time!P$23","v":"2026-03-31"}]
[null,null,null,null,{"$f":"Time!E$59","v":"Pre Forecast vs Forecast"},null,null,null,null,{"$f":"Time!J$59","v":"Pre Fcst"},{"$f":"Time!K$59","v":"Forecast"},{"$f":"Time!L$59","v":"Forecast"},{"$f":"Time!M$59","v":"Forecast"},{"$f":"Time!N$59","v":"Forecast"},{"$f":"Time!O$59","v":"Forecast"},{"$f":"Time!P$59","v":"Post-Fcst"}]
[null,null,null,null,{"$f":"Time!E$101","v":"Financial Year Ending"},null,null,null,null,{"$f":"Time!J$101","v":2020},{"$f":"Time!K$101","v":2021},{"$f":"Time!L$101","v":2022},{"$f":"Time!M$101","v":2023},{"$f":"Time!N$101","v":2024},{"$f":"Time!O$101","v":2025},{"$f":"Time!P$101","v":2026}]
[null,null,null,null,{"$f":"Time!E$11","v":"Model column counter"},"Constant","Unit","Total",null,{"$f":"Time!J$11","v":1},{"$f":"Time!K$11","v":2},{"$f":"Time!L$11","v":3},{"$f":"Time!M$11","v":4},{"$f":"Time!N$11","v":5},{"$f":"Time!O$11","v":6},{"$f":"Time!P$11","v":7}]
[]
["WATER RESOURCES"]
[]
[null,"Cost sharing"]
[null,null,null,null,{"$f":"'Cost sharing calculations'!E$153","v":"Total adjustment for cost sharing after ex ante allowance & wage adjustment - WR - Real"},{"$f":"'Cost sharing calculations'!F$153","v":0},{"$f":"'Cost sharing calculations'!G$153","v":"£m"}]
[null,null,null,null,{"$f":"'Cost sharing calculations'!E$171","v":"Wholesaler bad debt adjustment - WR"},{"$f":"'Cost sharing calculations'!F$171","v":0},{"$f":"'Cost sharing calculations'!G$171","v":"£m"}]
[null,null,null,null,{"$f":"'Cost sharing calculations'!E$181","v":"Cost sharing revenue adjustment - WR - Real"},{"$f":"'Cost sharing calculations'!F$181","v":0},{"$f":"'Cost sharing calculations'!G$181","v":"£m"}]
[null,null,null,null,{"$f":"'Cost sharing calculations'!E$185","v":"Cost sharing RCV adjustment - WR - Real"},{"$f":"'Cost sharing calculations'!F$185","v":0},{"$f":"'Cost sharing calculations'!G$185","v":"£m"}]
[null,null,null,null,"Water Resources cost sharing 100% check",{"$f":" IF(SUM(F11:F12) <> SUM(F13:F14), 1, 0)","v":0},"Check"]
[]
[null,"Abstracttion & Business Rates uncertainty mechanism"]
[null,null,null,null,{"$f":"'Abstraction & Rates'!E52","v":"Active adjustment for business rates and abstraction charges uncertainty mechanism - WR - Real"},{"$f":"'Abstraction & Rates'!F52","v":0},{"$f":"'Abstraction & Rates'!G52","v":"£m"}]
[null,null,null,null,{"$f":"'Abstraction & Rates'!E56","v":"Revenue adjustment business rates and abstraction - WR - Real"},{"$f":"'Abstraction & Rates'!F56","v":0},{"$f":"'Abstraction & Rates'!G56","v":"£m"}]
[null,null,null,null,{"$f":"'Abstraction & Rates'!E60","v":"RCV adjustment business rates and abstraction - WR - Real"},{"$f":"'Abstraction & Rates'!F60","v":0},{"$f":"'Abstraction & Rates'!G60","v":"£m"}]
[]
["WATER NETWORK"]
[]
[null,"Cost sharing"]
[null,null,null,null,{"$f":"'Cost sharing calculations'!E$293","v":"Total adjustment for cost sharing after ex ante allowance - WN - Real"},{"$f":"'Cost sharing calculations'!F$293","v":0},{"$f":"'Cost sharing calculations'!G$293","v":"£m"}]
[null,null,null,null,{"$f":"'Cost sharing calculations'!E$311","v":"Wholesaler bad debt adjustment - WN"},{"$f":"'Cost sharing calculations'!F$311","v":0},{"$f":"'Cost sharing calculations'!G$311","v":"£m"}]
[null,null,null,null,{"$f":"'Cost sharing calculations'!E$321","v":"Cost sharing revenue adjustment - WN - Real"},{"$f":"'Cost sharing calculations'!F$321","v":0},{"$f":"'Cost sharing calculations'!G$321","v":"£m"}]
[null,null,null,null,{"$f":"'Cost sharing calculations'!E$325","v":"Cost sharing RCV adjustment - WN - Real"},{"$f":"'Cost sharing calculations'!F$325","v":0},{"$f":"'Cost sharing calculations'!G$325","v":"£m"}]
[null,null,null,null,"Water Network cost sharing 100% check",{"$f":" IF(SUM(F25:F26) <> SUM(F27:F28), 1, 0)","v":0},"Check"]
[]
[null,"Abstracttion & Business Rates uncertainty mechanism"]
[null,null,null,null,{"$f":"'Abstraction & Rates'!E$106","v":"Active adjustment for business rates and abstraction charges uncertainty mechanism - WN - Real"},{"$f":"'Abstraction & Rates'!F$106","v":0},{"$f":"'Abstraction & Rates'!G$106","v":"£m"}]
[null,null,null,null,{"$f":"'Abstraction & Rates'!E$110","v":"Revenue adjustment business rates and abstraction - WN - Real"},{"$f":"'Abstraction & Rates'!F$110","v":0},{"$f":"'Abstraction & Rates'!G$110","v":"£m"}]
[null,null,null,null,{"$f":"'Abstraction & Rates'!E$114","v":"RCV adjustment business rates and abstraction - WN - Real"},{"$f":"'Abstraction & Rates'!F$114","v":0},{"$f":"'Abstraction & Rates'!G$114","v":"£m"}]
[]
["WASTEWATER NETWORK"]
[]
[null,"Cost sharing"]
[null,null,null,null,{"$f":"'Cost sharing calculations'!E$440","v":"Total adjustment for cost sharing after ex ante allowance - WWN - Real"},{"$f":"'Cost sharing calculations'!F$440","v":0},{"$f":"'Cost sharing calculations'!G$440","v":"£m"}]
[null,null,null,null,{"$f":"'Cost sharing calculations'!E$458","v":"Wholesaler bad debt adjustment - WWN"},{"$f":"'Cost sharing calculations'!F$458","v":0},{"$f":"'Cost sharing calculations'!G$458","v":"£m"}]
[null,null,null,null,{"$f":"'Cost sharing calculations'!E$468","v":"Cost sharing revenue adjustment - WWN - Real"},{"$f":"'Cost sharing calculations'!F$468","v":0},{"$f":"'Cost sharing calculations'!G$468","v":"£m"}]
[null,null,null,null,{"$f":"'Cost sharing calculations'!E$472","v":"Cost sharing RCV adjustment - WWN - Real"},{"$f":"'Cost sharing calculations'!F$472","v":0},{"$f":"'Cost sharing calculations'!G$472","v":"£m"}]
[null,null,null,null,"Wastewater Network cost sharing 100% check",{"$f":" IF(SUM(F39:F40) <> SUM(F41:F42), 1, 0)","v":0},"Check"]
[]
[null,"Abstracttion & Business Rates uncertainty mechanism"]
[null,null,null,null,{"$f":"'Abstraction & Rates'!E$160","v":"Active adjustment for business rates and abstraction charges uncertainty mechanism - WWN - Real"},{"$f":"'Abstraction & Rates'!F$160","v":0},{"$f":"'Abstraction & Rates'!G$160","v":"£m"}]
[null,null,null,null,{"$f":"'Abstraction & Rates'!E$164","v":"Revenue adjustment business rates and abstraction - WWN - Real"},{"$f":"'Abstraction & Rates'!F$164","v":0},{"$f":"'Abstraction & Rates'!G$164","v":"£m"}]
[null,null,null,null,{"$f":"'Abstraction & Rates'!E$168","v":"RCV adjustment business rates and abstraction - WWN - Real"},{"$f":"'Abstraction & Rates'!F$168","v":0},{"$f":"'Abstraction & Rates'!G$168","v":"£m"}]
[]
["BIORESOURCES"]
[]
[null,"Wage growth adjustment"]
[null,null,null,null,{"$f":"'Bioresources wage growth'!E$55","v":"Total adjustment for wage related totex - BIO - Real"},{"$f":"'Bioresources wage growth'!F$55","v":0},{"$f":"'Bioresources wage growth'!G$55","v":"£m"}]
[]
[null,"Abstracttion & Business Rates uncertainty mechanism"]
[null,null,null,null,{"$f":"'Abstraction & Rates'!E$214","v":"Active adjustment for business rates and abstraction charges uncertainty mechanism - BIO - Real"},{"$f":"'Abstraction & Rates'!F$214","v":0},{"$f":"'Abstraction & Rates'!G$214","v":"£m"}]
[null,null,null,null,{"$f":"'Abstraction & Rates'!E$218","v":"Revenue adjustment business rates and abstraction - BIO - Real"},{"$f":"'Abstraction & Rates'!F$218","v":0},{"$f":"'Abstraction & Rates'!G$218","v":"£m"}]
[null,null,null,null,{"$f":"'Abstraction & Rates'!E$222","v":"RCV adjustment business rates and abstraction - BIO - Real"},{"$f":"'Abstraction & Rates'!F$222","v":0},{"$f":"'Abstraction & Rates'!G$222","v":"£m"}]
[]
["END OF SHEET"]

{"sheet":"Integrity checks-->","index":14,"n_rows":0,"n_cols":0,"rows_kept":0,"cut":false,"hidden":false,"merged":[]}

{"sheet":"Check","index":15,"n_rows":25,"n_cols":16,"rows_kept":25,"cut":false,"hidden":false,"merged":[]}
[{"$f":" RIGHT(CELL(\"filename\", $A$1), LEN(CELL(\"filename\", $A$1)) - SEARCH(\"]\", CELL(\"filename\", $A$1)))","v":"Check"}]
[null,null,null,null,{"$f":"Time!E$22","v":"Model Period BEG"},null,null,null,null,{"$f":"Time!J$22","v":"2019-04-01"},{"$f":"Time!K$22","v":"2020-04-01"},{"$f":"Time!L$22","v":"2021-04-01"},{"$f":"Time!M$22","v":"2022-04-01"},{"$f":"Time!N$22","v":"2023-04-01"},{"$f":"Time!O$22","v":"2024-04-01"},{"$f":"Time!P$22","v":"2025-04-01"}]
[null,null,null,null,{"$f":"Time!E$23","v":"Model Period END"},{"$f":"Check!F$8","v":0},"Error chks",null,null,{"$f":"Time!J$23","v":"2020-03-31"},{"$f":"Time!K$23","v":"2021-03-31"},{"$f":"Time!L$23","v":"2022-03-31"},{"$f":"Time!M$23","v":"2023-03-31"},{"$f":"Time!N$23","v":"2024-03-31"},{"$f":"Time!O$23","v":"2025-03-31"},{"$f":"Time!P$23","v":"2026-03-31"}]
[null,null,null,null,{"$f":"Time!E$59","v":"Pre Forecast vs Forecast"},null,null,null,null,{"$f":"Time!J$59","v":"Pre Fcst"},{"$f":"Time!K$59","v":"Forecast"},{"$f":"Time!L$59","v":"Forecast"},{"$f":"Time!M$59","v":"Forecast"},{"$f":"Time!N$59","v":"Forecast"},{"$f":"Time!O$59","v":"Forecast"},{"$f":"Time!P$59","v":"Post-Fcst"}]
[null,null,null,null,{"$f":"Time!E$101","v":"Financial Year Ending"},null,null,null,null,{"$f":"Time!J$101","v":2020},{"$f":"Time!K$101","v":2021},{"$f":"Time!L$101","v":2022},{"$f":"Time!M$101","v":2023},{"$f":"Time!N$101","v":2024},{"$f":"Time!O$101","v":2025},{"$f":"Time!P$101","v":2026}]
[null,null,null,null,{"$f":"Time!E$11","v":"Model column counter"},"Constant","Unit","Total",null,{"$f":"Time!J$11","v":1},{"$f":"Time!K$11","v":2},{"$f":"Time!L$11","v":3},{"$f":"Time!M$11","v":4},{"$f":"Time!N$11","v":5},{"$f":"Time!O$11","v":6},{"$f":"Time!P$11","v":7}]
[]
[null,null,null,null,"Total error checks",{"$f":" SUM(F10:F23)","v":0},"check"]
[]
["[Do not delete]"]
[]
[null,null,null,null,{"$f":"'Cost sharing calculations'!E63","v":"WR Totex profile 100% check"},{"$f":"'Cost sharing calculations'!F63","v":0},{"$f":"'Cost sharing calculations'!G63","v":"Check"}]
[null,null,null,null,{"$f":"'Cost sharing calculations'!E110","v":"WR Totex profile - Cost sharing 100% check"},{"$f":"'Cost sharing calculations'!F110","v":0},{"$f":"'Cost sharing calculations'!G110","v":"Check"}]
[null,null,null,null,{"$f":"'Cost sharing calculations'!E203","v":"WN Totex profile - Base costs 100% check"},{"$f":"'Cost sharing calculations'!F203","v":0},{"$f":"'Cost sharing calculations'!G203","v":"Check"}]
[null,null,null,null,{"$f":"'Cost sharing calculations'!E250","v":"WN Totex profile - Cost Sharing 100% check"},{"$f":"'Cost sharing calculations'!F250","v":0},{"$f":"'Cost sharing calculations'!G250","v":"Check"}]
[null,null,null,null,{"$f":"'Cost sharing calculations'!E344","v":"WWN Totex profile 100% check"},{"$f":"'Cost sharing calculations'!F344","v":0},{"$f":"'Cost sharing calculations'!G344","v":"Check"}]
[null,null,null,null,{"$f":"'Cost sharing calculations'!E391","v":"WWN Totex profile - Cost Sharing 100% check"},{"$f":"'Cost sharing calculations'!F391","v":0},{"$f":"'Cost sharing calculations'!G391","v":"Check"}]
[null,null,null,null,{"$f":"'Bioresources wage growth'!E24","v":"WWN Totex profile 100% check"},{"$f":"'Bioresources wage growth'!F24","v":0},{"$f":"'Bioresources wage growth'!G24","v":"Check"}]
[null,null,null,null,{"$f":"Outputs!E15","v":"Water Resources cost sharing 100% check"},{"$f":"Outputs!F15","v":0},{"$f":"Outputs!G15","v":"Check"}]
[null,null,null,null,{"$f":"Outputs!E29","v":"Water Network cost sharing 100% check"},{"$f":"Outputs!F29","v":0},{"$f":"Outputs!G29","v":"Check"}]
[null,null,null,null,{"$f":"Outputs!E43","v":"Wastewater Network cost sharing 100% check"},{"$f":"Outputs!F43","v":0},{"$f":"Outputs!G43","v":"Check"}]
[]
["[Do not delete]"]
[]
["END OF SHEET"]